{"text_format":"1","workbook":"xlsx","n_sheets":24,"sheets":["План ФХД 2017","План ФХД 2018","План ФХД 2019","Закупка ТРУ","Раб.таблица 2017","СГОЗ 2018-2019","Бюджет 2017-2019","212 командировки","221 связь","223 коммуналка","225 сод.имущ.","226 пр.работы, услуги","226.995 медосмотры","226.956 подписка","290.962 пр.расходы","290.963 КММ","340.983 питание","310,340 смета ТМЦ","340.981,985","доходы 2017","платные услуги","платные услуги (с января)","Разв. дошк. обр-я","Энергосбережение"],"not_rendered":{"charts":0,"images":0,"macros":0,"external_links":18,"defined_names":1018,"comments":8,"pivot_tables":0},"unopened":[],"bounds":{"document_bytes":16777216,"sheet_cells":100000,"rows_first":2000,"rows_last":500,"rows_between":2000,"halvings":0,"cell_chars":16384,"cell_head_chars":4096},"cells_cut":0,"cells_raw":0,"read":"whole","date_system":"1900"}

{"sheet":"План ФХД 2017","index":0,"n_rows":39,"n_cols":14,"rows_kept":39,"cut":false,"hidden":false,"merged":[[1,0,1,11],[2,0,2,11],[4,0,6,0],[4,1,6,1],[4,2,6,2],[4,3,6,3],[4,4,4,9],[4,10,5,11],[5,4,5,5],[5,6,5,7],[26,0,27,0],[26,1,27,1],[5,8,5,9],[9,12,15,12],[9,13,15,13],[17,12,25,12],[23,0,24,0],[23,1,24,1],[23,13,24,13]]}
[null,null,null,null,null,null,null,null,null,null,null,"Таблица 2"]
["Показатели по поступлениям и выплатам учреждения на 2017 год (по состоянию на 01.01.2017)"]
["МБДОУ \"Детский сад № 90 \"Цветик-семицветик\""]
["рубли",null,null,{"$f":"D17-K17","v":68354330}]
["Наименование показателя","Код строки","Код по бюджетной классификации","ВСЕГО","Объем финансового обеспечения, руб.",null,null,null,null,null,"Поступления от оказания услуг (выполнения работ) на платной основе и от иной приносящей доход деятельности"]
[null,null,null,null,"Субсидия на финансовое обеспечение выполнения муниципального задания\n",null,"Субсидии, предоставляемые в соответствии с абзацем вторым пункта 1 статьи 78.1 Бюджетного кодекса Российской Федерации",null,"Субсидии на осуществление капитальных вложений\n"]
[null,null,null,null,"Местный \nбюджет","Краевой \nбюджет","Местный \nбюджет","Краевой \nбюджет","Местный \nбюджет","Краевой \nбюджет","Всего","Из них гранты"]
[1,2,3,4,5,6,7,8,9,10,11,12,"МЗ+ИЦ","проверка с вкладкой \"Бюджет 2017-2019\""]
["Поступления от доходов, всего:",100,"х",{"$f":"SUM(D10:D15)","v":75362820},{"$f":"SUM(E10:E15)","v":18552330},{"$f":"SUM(F10:F15)","v":46614300},{"$f":"SUM(G10:G15)","v":1197600},{"$f":"SUM(H10:H15)","v":1990100},"х","х",{"$f":"SUM(K10:K15)","v":7008490},{"$f":"SUM(L10:L15)","v":0},{"$f":"SUM(E9:H9)","v":68354330},{"$f":"M9-'Бюджет 2017-2019'!O4","v":0}]
["в том числе: доходы от собственности",110,null,{"$f":"SUM(E10:K10)","v":0},"х","х","х","х","х","х","х","х","Пост. от 05.02.2016 № 84\nв графе 3 по строкам 110 - 180, 300 - 420 указываются коды классификации операций сектора государственного управления (КОСГУ)\n","Расходный КОСГУ: \n130: ДопЭК 810+мун.задание\n140: пени, штрафы (например, за нарушение сроков поставки удерживают с поставщика)\n180: ДопЭК 820+иные цели"]
["доходы от оказания услуг, работ ",120,130,72175120,{"$f":"E17","v":18552330},{"$f":"F17","v":46614300},"х","х","х","х",{"$f":"K17","v":7008490},"х"]
["доходы от штрафов, пеней, иных сумм принудительного изъятия",130,140,0,"х","х","х","х","х","х",null,"х"]
["безвозмездные поступления от наднациональных организаций, правительств иностранных государств, международных финансовых организаций",140,null,{"$f":"SUM(E13:K13)","v":0},"х","х","х","х","х","х","х","х"]
["иные субсидии, предоставленные из бюджета",150,180,{"$f":"SUM(E14:K14)","v":3187700},"х","х",{"$f":"G17","v":1197600},{"$f":"H17","v":1990100},"х","х","х","х"]
["прочие доходы",160,180,0,"х","х","х","х","х","х",{"$f":"'Раб.таблица 2017'!D11","v":0}]
["доходы от операций с активами",180,null,0,"х","х","х","х","х","х",null,"х"]
["ВЫПЛАТЫ по расходам, всего:",200,"х",{"$f":"SUM(D18,D23,D24,D25,D26,D27,D28,D29)","v":75362820},{"$f":"SUM(E18,E23,E24,E25,E26,E27,E28,E29)","v":18552330},{"$f":"SUM(F18,F23,F24,F25,F26,F27,F28,F29)","v":46614300},{"$f":"SUM(G18,G23,G24,G25,G26,G27,G28,G29)","v":1197600},{"$f":"SUM(H18,H23,H24,H25,H26,H27,H28,H29)","v":1990100},"х","х",{"$f":"SUM(K18,K23,K24,K25,K26,K27,K28,K29)","v":7008490},{"$f":"SUM(L18,L23,L24,L25,L26,L27,L28,L29)","v":0}]
["в том числе на: выплаты персоналу, всего:",210,null,{"$f":"SUM(E18:K18)","v":59127830},{"$f":"SUM(E19,E22)","v":10969430},{"$f":"SUM(F19,F22)","v":45190000},{"$f":"SUM(G19,G22)","v":1095200},{"$f":"SUM(H19,H22)","v":1873200},"х","х",{"$f":"SUM(K19,K22)","v":0},{"$f":"SUM(L19,L22)","v":0},"Пост. от 05.02.2016 № 84\nпо строкам 210 - 280 указываются коды видов расходов бюджетов \nТ.к. расходная часть плана, то ставлю расходный КВР"]
["из них: оплата труда и начисления на выплаты по оплате труда:",211,null,55910600,{"$f":"SUM(E20:E21)","v":10791600},{"$f":"SUM(F20:F21)","v":45119000},{"$f":"SUM(G20:G21)","v":0},{"$f":"SUM(H20:H21)","v":0},"х","х",{"$f":"SUM(K20:K21)","v":0},{"$f":"SUM(L20:L21)","v":0}]
["- оплата труда",null,111,43209200,8326000,34883200,null,null,"х","х",null,null,null,"ДопКР 991"]
["- начисления на выплаты по оплате труда",null,119,12701400,2465600,10235800,null,null,"х","х",null,null,null,"ДопКР 992"]
["иные выплаты персоналу учреждений, за исключением фонда оплаты труда",212,112,3217230,177830,71000,1095200,1873200,"х","х",null,null,null,"ДопКР 911,912,913,917,918,919,921,923,924,952"]
["социальные и иные выплаты населению, всего",220,null,0,"х","х","х","х","х","х","х","х"]
["уплата налогов, сборов и иных платежей, всего",230,112,{"$f":"SUM(E24:K24)","v":0},null,null,null,"х","х","х",null,null,null,"ДопКР 962"]
[null,null,244,24500,{"$f":"'Раб.таблица 2017'!F211","v":0},{"$f":"'Раб.таблица 2017'!F311","v":24500},{"$f":"'Раб.таблица 2017'!F532","v":0},"х","х","х"]
["безвозмездные перечисления организациям",240,null,0,"х","х","х","х","х","х","х","х"]
[" прочие расходы (кроме расходов на закупку товаров, работ, услуг)",250,244,0,{"$f":"'Раб.таблица 2017'!F201","v":0},"х","х","х","х","х",null,null,null,"ДопКР 958"]
[null,null,321,0,"х","х","х","х","х","х","х","х",null,"ДопКР 993"]
["расходы на закупку товаров, работ, услуг, всего",260,244,16210490,{"$f":"'Раб.таблица 2017'!D7","v":7582900},{"$f":"'Раб.таблица 2017'!D8+'Раб.таблица 2017'!D9","v":1399800},{"$f":"'Раб.таблица 2017'!D12","v":102400},{"$f":"'Раб.таблица 2017'!D13","v":116900},"х","х",{"$f":"'Раб.таблица 2017'!D10+'Раб.таблица 2017'!D11","v":7008490},null,null,"ДопКР 922,925,931,932,933,941,942,943,944,947,951,\n953,954,955,956,957,963,971,981,982,983,984,985,995,996"]
["Остаток средств на начало года",500,"Х",{"$f":"SUM(E30:K30)","v":0},{"$f":"'Раб.таблица 2017'!D14","v":0},{"$f":"'Раб.таблица 2017'!D15+'Раб.таблица 2017'!D16","v":0},{"$f":"'Раб.таблица 2017'!D19","v":0},{"$f":"'Раб.таблица 2017'!D20","v":0},"х","х",{"$f":"'Раб.таблица 2017'!D17+'Раб.таблица 2017'!D18","v":0}]
["Остаток средств на конец года",600,"Х",{"$f":"SUM(E31:K31)","v":0},null,null,null,null,"х","х"]
[]
[]
["Заместитель начальника по экономике и финансам",null,null,null,null,null,null,null,"Е.Г. Трофимова"]
["Директор МКУ \"ОК УОиДО\"",null,null,null,null,null,null,null,"Л.Э. Ерохина"]
[]
[]
["Засядько Н.В. "]
["43-72-00*3225"]

{"sheet":"План ФХД 2018","index":1,"n_rows":39,"n_cols":14,"rows_kept":39,"cut":false,"hidden":false,"merged":[[1,0,1,11],[2,0,2,11],[4,0,6,0],[4,1,6,1],[4,2,6,2],[4,3,6,3],[4,4,4,9],[4,10,5,11],[5,4,5,5],[5,6,5,7],[26,0,27,0],[26,1,27,1],[5,8,5,9],[9,12,15,12],[9,13,15,13],[17,12,25,12],[23,0,24,0],[23,1,24,1],[23,13,24,13]]}
[null,null,null,null,null,null,null,null,null,null,null,"Таблица 2"]
["Показатели по поступлениям и выплатам учреждения на 2018 год (по состоянию на 01.01.2017)"]
[{"$f":"'План ФХД 2017'!A3:L3","v":"МБДОУ \"Детский сад № 90 \"Цветик-семицветик\""}]
["рубли",null,null,{"$f":"D17-K17","v":68601730}]
["Наименование показателя","Код строки","Код по бюджетной классификации","ВСЕГО","Объем финансового обеспечения, руб.",null,null,null,null,null,"Поступления от оказания услуг (выполнения работ) на платной основе и от иной приносящей доход деятельности"]
[null,null,null,null,"Субсидия на финансовое обеспечение выполнения муниципального задания\n",null,"Субсидии, предоставляемые в соответствии с абзацем вторым пункта 1 статьи 78.1 Бюджетного кодекса Российской Федерации",null,"Субсидии на осуществление капитальных вложений\n"]
[null,null,null,null,"Местный \nбюджет","Краевой \nбюджет","Местный \nбюджет","Краевой \nбюджет","Местный \nбюджет","Краевой \nбюджет","Всего","Из них гранты"]
[1,2,3,4,5,6,7,8,9,10,11,12,"МЗ+ИЦ ","проверка с вкладкой \"Бюджет 2017-2019\""]
["Поступления от доходов, всего:",100,"х",{"$f":"SUM(D10:D15)","v":75732020},{"$f":"SUM(E10:E15)","v":18030130},{"$f":"SUM(F10:F15)","v":46614300},{"$f":"SUM(G10:G15)","v":1967200},{"$f":"SUM(H10:H15)","v":1990100},"х","х",{"$f":"SUM(K10:K15)","v":7130290},{"$f":"SUM(L10:L15)","v":0},{"$f":"SUM(E9:H9)","v":68601730},{"$f":"M9-'Бюджет 2017-2019'!P4","v":0}]
["в том числе: доходы от собственности",110,null,{"$f":"SUM(E10:K10)","v":0},"х","х","х","х","х","х","х","х","Пост. от 05.02.2016 № 84\nв графе 3 по строкам 110 - 180, 300 - 420 указываются коды классификации операций сектора государственного управления (КОСГУ)\n","Расходный КОСГУ: \n130: ДопЭК 810+мун.задание\n140: пени, штрафы (например, за нарушение сроков поставки удерживают с поставщика)\n180: ДопЭК 820+иные цели"]
["доходы от оказания услуг, работ ",120,130,71774720,{"$f":"E17","v":18030130},{"$f":"F17","v":46614300},"х","х","х","х",{"$f":"K17","v":7130290},"х"]
["доходы от штрафов, пеней, иных сумм принудительного изъятия",130,140,0,"х","х","х","х","х","х",null,"х"]
["безвозмездные поступления от наднациональных организаций, правительств иностранных государств, международных финансовых организаций",140,null,{"$f":"SUM(E13:K13)","v":0},"х","х","х","х","х","х","х","х"]
["иные субсидии, предоставленные из бюджета",150,180,{"$f":"SUM(E14:K14)","v":3957300},"х","х",{"$f":"G17","v":1967200},{"$f":"H17","v":1990100},"х","х","х","х"]
["прочие доходы",160,180,0,"х","х","х","х","х","х",{"$f":"'Раб.таблица 2017'!D11","v":0}]
["доходы от операций с активами",180,null,0,"х","х","х","х","х","х",null,"х"]
["ВЫПЛАТЫ по расходам, всего:",200,"х",{"$f":"SUM(D18,D23,D24,D25,D26,D27,D28,D29)","v":75732020},{"$f":"SUM(E18,E23,E24,E25,E26,E27,E28,E29)","v":18030130},{"$f":"SUM(F18,F23,F24,F25,F26,F27,F28,F29)","v":46614300},{"$f":"SUM(G18,G23,G24,G25,G26,G27,G28,G29)","v":1967200},{"$f":"SUM(H18,H23,H24,H25,H26,H27,H28,H29)","v":1990100},"х","х",{"$f":"SUM(K18,K23,K24,K25,K26,K27,K28,K29)","v":7130290},{"$f":"SUM(L18,L23,L24,L25,L26,L27,L28,L29)","v":0}]
["в том числе на: выплаты персоналу, всего:",210,null,{"$f":"SUM(E18:K18)","v":59236730},{"$f":"SUM(E19,E22)","v":11078330},{"$f":"SUM(F19,F22)","v":45190000},{"$f":"SUM(G19,G22)","v":1095200},{"$f":"SUM(H19,H22)","v":1873200},"х","х",{"$f":"SUM(K19,K22)","v":0},{"$f":"SUM(L19,L22)","v":0},"Пост. от 05.02.2016 № 84\nпо строкам 210 - 280 указываются коды видов расходов бюджетов \nТ.к. расходная часть плана, то ставлю расходный КВР"]
["из них: оплата труда и начисления на выплаты по оплате труда:",211,null,56019500,{"$f":"SUM(E20:E21)","v":10900500},{"$f":"SUM(F20:F21)","v":45119000},{"$f":"SUM(G20:G21)","v":0},{"$f":"SUM(H20:H21)","v":0},"х","х",{"$f":"SUM(K20:K21)","v":0},{"$f":"SUM(L20:L21)","v":0}]
["- оплата труда",null,111,43293600,8410400,34883200,null,null,"х","х",null,null,null,"ДопКР 991"]
["- начисления на выплаты по оплате труда",null,119,12725900,2490100,10235800,null,null,"х","х",null,null,null,"ДопКР 992"]
["иные выплаты персоналу учреждений, за исключением фонда оплаты труда",212,112,3217230,177830,71000,1095200,1873200,"х","х",null,null,null,"ДопКР 911,912,913,917,918,919,921,923,924,952"]
["социальные и иные выплаты населению, всего",220,null,0,"х","х","х","х","х","х","х","х"]
["уплата налогов, сборов и иных платежей, всего",230,112,{"$f":"SUM(E24:K24)","v":0},null,null,null,"х","х","х",null,null,null,"ДопКР 962"]
[null,null,244,24500,{"$f":"'СГОЗ 2018-2019'!E204","v":0},{"$f":"'СГОЗ 2018-2019'!E304","v":24500},{"$f":"'СГОЗ 2018-2019'!E525","v":0},"х","х","х"]
["безвозмездные перечисления организациям",240,null,0,"х","х","х","х","х","х","х","х"]
[" прочие расходы (кроме расходов на закупку товаров, работ, услуг)",250,244,0,{"$f":"'СГОЗ 2018-2019'!E194","v":0},"х","х","х","х","х",null,null,null,"ДопКР 958"]
[null,null,321,0,"х","х","х","х","х","х","х","х",null,"ДопКР 993"]
["расходы на закупку товаров, работ, услуг, всего",260,244,16470790,{"$f":"'СГОЗ 2018-2019'!D7","v":6951800},{"$f":"'СГОЗ 2018-2019'!D8+'СГОЗ 2018-2019'!D9","v":1399800},{"$f":"'СГОЗ 2018-2019'!D12","v":872000},{"$f":"'СГОЗ 2018-2019'!D13","v":116900},"х","х",{"$f":"'СГОЗ 2018-2019'!D10+'СГОЗ 2018-2019'!D11","v":7130290},null,null,"ДопКР 922,925,931,932,933,941,942,943,944,947,951,\n953,954,955,956,957,963,971,981,982,983,984,985,995,996"]
["Остаток средств на начало года",500,"Х",null,null,null,null,null,"х","х"]
["Остаток средств на конец года",600,"Х",null,null,null,null,null,"х","х"]
[]
[]
[{"$f":"'План ФХД 2017'!A34","v":"Заместитель начальника по экономике и финансам"},null,null,null,null,null,null,null,{"$f":"'План ФХД 2017'!I34","v":"Е.Г. Трофимова"}]
[{"$f":"'План ФХД 2017'!A35","v":"Директор МКУ \"ОК УОиДО\""},null,null,null,null,null,null,null,{"$f":"'План ФХД 2017'!I35","v":"Л.Э. Ерохина"}]
[]
[]
["Засядько Н.В. "]
["43-72-00*3225"]

{"sheet":"План ФХД 2019","index":2,"n_rows":39,"n_cols":14,"rows_kept":39,"cut":false,"hidden":false,"merged":[[1,0,1,11],[2,0,2,11],[4,0,6,0],[4,1,6,1],[4,2,6,2],[4,3,6,3],[4,4,4,9],[4,10,5,11],[5,4,5,5],[5,6,5,7],[26,0,27,0],[26,1,27,1],[5,8,5,9],[9,12,15,12],[9,13,15,13],[17,12,25,12],[23,0,24,0],[23,1,24,1],[23,13,24,13]]}
[null,null,null,null,null,null,null,null,null,null,null,"Таблица 2"]
["Показатели по поступлениям и выплатам учреждения на 2019 год (по состоянию на 01.01.2017)"]
[{"$f":"'План ФХД 2017'!A3:L3","v":"МБДОУ \"Детский сад № 90 \"Цветик-семицветик\""}]
["рубли",null,null,{"$f":"D17-K17","v":67849330}]
["Наименование показателя","Код строки","Код по бюджетной классификации","ВСЕГО","Объем финансового обеспечения, руб.",null,null,null,null,null,"Поступления от оказания услуг (выполнения работ) на платной основе и от иной приносящей доход деятельности"]
[null,null,null,null,"Субсидия на финансовое обеспечение выполнения муниципального задания\n",null,"Субсидии, предоставляемые в соответствии с абзацем вторым пункта 1 статьи 78.1 Бюджетного кодекса Российской Федерации",null,"Субсидии на осуществление капитальных вложений\n"]
[null,null,null,null,"Местный \nбюджет","Краевой \nбюджет","Местный \nбюджет","Краевой \nбюджет","Местный \nбюджет","Краевой \nбюджет","Всего","Из них гранты"]
[1,2,3,4,5,6,7,8,9,10,11,12,"МЗ+ИЦ","проверка с вкладкой \"Бюджет 2017-2019\""]
["Поступления от доходов, всего:",100,"х",{"$f":"SUM(D10:D15)","v":74979620},{"$f":"SUM(E10:E15)","v":18030130},{"$f":"SUM(F10:F15)","v":46614300},{"$f":"SUM(G10:G15)","v":1214800},{"$f":"SUM(H10:H15)","v":1990100},"х","х",{"$f":"SUM(K10:K15)","v":7130290},{"$f":"SUM(L10:L15)","v":0},{"$f":"SUM(E9:H9)","v":67849330},{"$f":"M9-'Бюджет 2017-2019'!Q4","v":0}]
["в том числе: доходы от собственности",110,null,{"$f":"SUM(E10:K10)","v":0},"х","х","х","х","х","х","х","х","Пост. от 05.02.2016 № 84\nв графе 3 по строкам 110 - 180, 300 - 420 указываются коды классификации операций сектора государственного управления (КОСГУ)\n","Расходный КОСГУ: \n130: ДопЭК 810+мун.задание\n140: пени, штрафы (например, за нарушение сроков поставки удерживают с поставщика)\n180: ДопЭК 820+иные цели"]
["доходы от оказания услуг, работ ",120,130,71774720,{"$f":"E17","v":18030130},{"$f":"F17","v":46614300},"х","х","х","х",{"$f":"K17","v":7130290},"х"]
["доходы от штрафов, пеней, иных сумм принудительного изъятия",130,140,0,"х","х","х","х","х","х",null,"х"]
["безвозмездные поступления от наднациональных организаций, правительств иностранных государств, международных финансовых организаций",140,null,{"$f":"SUM(E13:K13)","v":0},"х","х","х","х","х","х","х","х"]
["иные субсидии, предоставленные из бюджета",150,180,{"$f":"SUM(E14:K14)","v":3204900},"х","х",{"$f":"G17","v":1214800},{"$f":"H17","v":1990100},"х","х","х","х"]
["прочие доходы",160,180,0,"х","х","х","х","х","х",{"$f":"'Раб.таблица 2017'!D11","v":0}]
["доходы от операций с активами",180,null,0,"х","х","х","х","х","х",null,"х"]
["ВЫПЛАТЫ по расходам, всего:",200,"х",{"$f":"SUM(D18,D23,D24,D25,D26,D27,D28,D29)","v":74979620},{"$f":"SUM(E18,E23,E24,E25,E26,E27,E28,E29)","v":18030130},{"$f":"SUM(F18,F23,F24,F25,F26,F27,F28,F29)","v":46614300},{"$f":"SUM(G18,G23,G24,G25,G26,G27,G28,G29)","v":1214800},{"$f":"SUM(H18,H23,H24,H25,H26,H27,H28,H29)","v":1990100},"х","х",{"$f":"SUM(K18,K23,K24,K25,K26,K27,K28,K29)","v":7130290},{"$f":"SUM(L18,L23,L24,L25,L26,L27,L28,L29)","v":0}]
["в том числе на: выплаты персоналу, всего:",210,null,{"$f":"SUM(E18:K18)","v":59236730},{"$f":"SUM(E19,E22)","v":11078330},{"$f":"SUM(F19,F22)","v":45190000},{"$f":"SUM(G19,G22)","v":1095200},{"$f":"SUM(H19,H22)","v":1873200},"х","х",{"$f":"SUM(K19,K22)","v":0},{"$f":"SUM(L19,L22)","v":0},"Пост. от 05.02.2016 № 84\nпо строкам 210 - 280 указываются коды видов расходов бюджетов \nТ.к. расходная часть плана, то ставлю расходный КВР"]
["из них: оплата труда и начисления на выплаты по оплате труда:",211,null,56019500,{"$f":"SUM(E20:E21)","v":10900500},{"$f":"SUM(F20:F21)","v":45119000},{"$f":"SUM(G20:G21)","v":0},{"$f":"SUM(H20:H21)","v":0},"х","х",{"$f":"SUM(K20:K21)","v":0},{"$f":"SUM(L20:L21)","v":0}]
["- оплата труда",null,111,43293600,8410400,34883200,null,null,"х","х",null,null,null,"ДопКР 991"]
["- начисления на выплаты по оплате труда",null,119,12725900,2490100,10235800,null,null,"х","х",null,null,null,"ДопКР 992"]
["иные выплаты персоналу учреждений, за исключением фонда оплаты труда",212,112,3217230,177830,71000,1095200,1873200,"х","х",null,null,null,"ДопКР 911,912,913,917,918,919,921,923,924,952"]
["социальные и иные выплаты населению, всего",220,null,0,"х","х","х","х","х","х","х","х"]
["уплата налогов, сборов и иных платежей, всего",230,112,{"$f":"SUM(E24:K24)","v":0},null,null,null,"х","х","х",null,null,null,"ДопКР 962"]
[null,null,244,24500,{"$f":"'СГОЗ 2018-2019'!F204","v":0},{"$f":"'СГОЗ 2018-2019'!F304","v":24500},{"$f":"'СГОЗ 2018-2019'!F525","v":0},"х","х","х"]
["безвозмездные перечисления организациям",240,null,0,"х","х","х","х","х","х","х","х"]
[" прочие расходы (кроме расходов на закупку товаров, работ, услуг)",250,244,0,{"$f":"'СГОЗ 2018-2019'!F194","v":0},"х","х","х","х","х",null,null,null,"ДопКР 958"]
[null,null,321,0,"х","х","х","х","х","х","х","х",null,"ДопКР 993"]
["расходы на закупку товаров, работ, услуг, всего",260,244,{"$f":"SUM(E29:K29)","v":15718390},{"$f":"'СГОЗ 2018-2019'!E7","v":6951800},{"$f":"'СГОЗ 2018-2019'!E8+'СГОЗ 2018-2019'!E9","v":1399800},{"$f":"'СГОЗ 2018-2019'!E12","v":119600},{"$f":"'СГОЗ 2018-2019'!E13","v":116900},"х","х",{"$f":"'СГОЗ 2018-2019'!E10+'СГОЗ 2018-2019'!E11","v":7130290},null,null,"ДопКР 922,925,931,932,933,941,942,943,944,947,951,\n953,954,955,956,957,963,971,981,982,983,984,985,995,996"]
["Остаток средств на начало года",500,"Х",null,null,null,null,null,"х","х"]
["Остаток средств на конец года",600,"Х",null,null,null,null,null,"х","х"]
[]
[]
[{"$f":"'План ФХД 2017'!A34","v":"Заместитель начальника по экономике и финансам"},null,null,null,null,null,null,null,{"$f":"'План ФХД 2017'!I34","v":"Е.Г. Трофимова"}]
[{"$f":"'План ФХД 2017'!A35","v":"Директор МКУ \"ОК УОиДО\""},null,null,null,null,null,null,null,{"$f":"'План ФХД 2017'!I35","v":"Л.Э. Ерохина"}]
[]
[]
["Засядько Н.В. "]
["43-72-00*3225"]

{"sheet":"Закупка ТРУ","index":3,"n_rows":18,"n_cols":16,"rows_kept":18,"cut":false,"hidden":false,"merged":[[12,13,13,17],[13,0,13,3],[3,0,3,11],[9,13,9,15],[1,0,1,11],[2,0,2,11],[5,0,8,0],[5,1,8,1],[5,2,8,2],[5,3,5,11],[6,3,7,5],[6,6,6,11],[7,6,7,8],[7,9,7,11],[7,13,7,15]]}
[null,null,null,null,null,null,null,null,null,null,null,"Таблица 2.1"]
["Показатели выплат по расходам"]
["на закупку товаров, работ, услуг учреждения на 2017-2019 гг."]
[{"$f":"'[13]План ФХД 2017'!A3:L3","v":"МБДОУ \"Детский сад № 90 \"Цветик-семицветик\""}]
[]
["Наименование показателя","Код строки","Год начала закупки","Сумма выплат по расходам на закупку товаров, работ и услуг, руб. (с точностью до двух знаков после запятой - 0,00)"]
[null,null,null,"всего на закупки",null,null,"в том числе:"]
[null,null,null,null,null,null,"в соответствии с Федеральным законом от 05.04.2013 N 44-ФЗ \"О контрактной системе в сфере закупок товаров, работ, услуг для обеспечения государственных и муниципальных нужд\"",null,null,"в соответствии с Федеральным законом от 18.07.2011 N 223-ФЗ \"О закупках товаров, работ, услуг отдельными видами юридических лиц\"",null,null,null,"всего на закупки"]
[null,null,null,"на 2017 г. \nочередной финансовый год","на 2018 г. \n1-й год планового периода","на 2019 г. \n2-й год планового периода","на 2017 г. \nочередной финансовый год","на 2018 г. \n1-й год планового периода","на 2019 г. \n2-й год планового периода","на 2017 г. \nочередной финансовый год","на 2018 г. \n1-й год планового периода","на 2019 г. \n1-й год планового периода",null,"на 2017 г. \nочередной финансовый год","на 2018 г. \n1-й год планового периода","на 2019 г. \n2-й год планового периода"]
[1,2,3,4,5,6,7,8,9,10,11,12,null,"КОНТРОЛЬНЫЕ СУММЫ!!!"]
["Выплаты по расходам на закупку товаров, работ, услуг всего:","0001","X",{"$f":"D12+D13","v":16210490},16470790,15718390,16210490,16470790,15718390,0,0,0,null,{"$f":"'[13]План ФХД 2017'!D29+'[13]План ФХД 2017'!D30","v":16210490},16470790,15718390]
["в том числе: на оплату контрактов, заключенных до начала очередного финансового года",1001,2016,{"$f":"SUM(G12,J12)","v":4610878.6900000004},3522283.73,1412748.93,4610878.6900000004,3522283.73,1412748.93,null,null,null,null,"Постановление Администрации города Норильска от 05.02.2016 № 84:"]
["на закупку товаров работ, услуг по году начала закупки",2001,2017,11599611.309999999,12948506.27,14305641.07,{"$f":"N11-G12","v":11599611.309999999},{"$f":"O11-H12","v":12948506.27},{"$f":"P11-I12","v":14305641.07},null,null,null,null,"Раздел 2. Требования к составлению Плана\nПункт 2.5.1. В Таблице 2:\nАбзац 5: При этом, плановые показатели по расходам по строке 260 графы 4 на соответствующий финансовый год должны быть равны показателям граф 4-6 по строке 0001 Таблицы 2.1."]
["Заведующий МБДОУ \"Детский сад № 90 \"Цветик-семицветик\"",null,null,null,null,null,null,null,"З.Н. Кисаева"]
[]
[]
["Татарникова Ю.В."]
["42-98-29"]

{"sheet":"Раб.таблица 2017","index":4,"n_rows":541,"n_cols":26,"rows_kept":541,"cut":false,"hidden":false,"merged":[[332,2,333,2],[234,6,235,6],[234,7,235,7],[332,3,333,3],[332,5,333,5],[486,8,486,11],[487,8,487,10],[486,7,489,7],[332,7,333,7],[234,4,235,4],[486,5,489,5],[486,6,489,6],[234,5,235,5],[15,0,15,2],[14,0,14,2],[332,4,333,4],[332,6,333,6],[19,0,19,2],[234,3,235,3],[234,0,235,0],[332,0,333,0],[23,0,23,6],[234,1,235,1],[234,2,235,2],[25,3,26,3],[25,0,26,0],[25,1,26,1],[25,2,26,2],[332,1,333,1],[486,0,489,0],[486,1,489,1],[486,2,489,2],[486,3,489,3],[486,4,489,4],[1,0,1,3],[4,0,4,3],[5,0,5,2],[6,0,6,2],[22,0,22,6],[7,0,7,2],[8,0,8,2],[9,0,9,2],[11,0,11,2],[10,0,10,2],[18,0,18,2],[17,0,17,2],[20,0,20,2],[16,0,16,2],[12,0,12,2],[13,0,13,2],[25,4,26,4],[25,5,26,5],[436,9,436,25],[25,9,25,25],[332,8,333,8],[332,9,332,25],[25,6,26,6],[234,9,234,25],[25,8,26,8],[234,8,235,8],[25,7,26,7]]}
["1. !!! ДОБАВЛЯТЬ И УДАЛЯТЬ СТРОКИ СТРОГО ЗАПРЕЩЕНО"]
["2. При акцептовании счета, указывать КЦСР+ДопКР, по которому должна быть произведена оплата "]
["3. Расчеты представлены по состоянию на 01.01.2017 "]
[]
["Вспомогательныя таблица для формирования СГОЗ (за исключением ДопКР 912,921,923,924,952,958,962,993)"]
["ИТОГО сумма для СГОЗ на 2017 год",null,null,{"$f":"SUM(D7:D19)","v":16210490}]
["Местный бюджет (субсидия на выполнение мун. задания)",null,null,{"$f":"$F$30","v":7582900}]
["Краевой бюджет  в части обеспечения деятельности административного и учебно-вспомогательного персонала (субсидия на выполнение мун. задания)",null,null,{"$f":"$F$239","v":623800}]
["Краевой бюджет в части обеспечения деятельности педагогического персонала и воспитанников (субсидия на выполнение мун. задания)",null,null,{"$f":"$F$337","v":776000}]
["Поступления от оказания услуг (выполнения работ) на платной основе и от иной приносящей доход деятельности, Код доп.ЭК 810",null,null,{"$f":"$F$440","v":7008490}]
["Безвозмездные поступления, Код доп.ЭК 820",null,null,{"$f":"$I$440","v":0}]
["Субсидии на иные цели (местный бюджет)",null,null,{"$f":"$H$493+$I$493+$J$493","v":102400}]
["Субсидии на иные цели (краевой бюджет)",null,null,{"$f":"$L$493","v":116900}]
["Остатки пр. лет, мун. задание (местный бюджет) ",null,null,{"$f":"$G$30","v":0}]
["Остатки пр. лет, мун. задание (краевой бюджет АУП+УВП) ",null,null,{"$f":"$G$239","v":0}]
["Остатки пр. лет, мун. задание (краевой бюджет пед. персонал) ",null,null,{"$f":"$G$337","v":0}]
["Остатки пр. лет (доходы от оказания платных услуг, Код доп.ЭК 810)",null,null,{"$f":"$G$440","v":0}]
["Остатки пр. лет (безвозмездные поступления, Код доп.ЭК 820)",null,null,{"$f":"$H$440","v":0}]
["Остатки пр. лет, субсидия на иные цели (местный бюджет)",null,null,{"$f":"$G$493","v":0}]
["Остатки пр. лет, субсидия на иные цели (краевой бюджет)",null,null,{"$f":"$H$493","v":0},"МЗ+ИЦ (проверка с вкладкой \"Бюджет 2017-2019\")"]
["ИТОГО МЗ+ИЦ",null,null,{"$f":"D7+D8+D9+D12+D13","v":9202000},{"$f":"D21-'Бюджет 2017-2019'!O5","v":0}]
[]
["Рабочая таблица по финансовым обьемам, предоставленным на 2017 год "]
[{"$f":"'План ФХД 2017'!A3:L3","v":"МБДОУ \"Детский сад № 90 \"Цветик-семицветик\""}]
["I блок - Субсидии на выполнение мун. задания (местный бюджет)"]
["Наименование показателя","КОСГУ","Доп. КР","КБК","!!!! Не изменять показатели данной графы\nУтвержденные ассигнования на 2017 год, местный бюджет\nСубсидии на финансовое обеспечение выполнения муниципального задания\nКод доп.ЭК 000, доп.ФК 70000, КЦСР 0210101110","!!! Изменения между услугами вносить в данной графе\nАссигнования с учетом изменений на 2017 год, местный бюджет\nСубсидии на финансовое обеспечение выполнения муниципального задания\nКод доп.ЭК 000, доп.ФК 70000, КЦСР 0210101110","Финансирование на начало года (переходящие остатки прошлых лет на лицевых счетах)\nКод доп.ЭК 831","Сумма по заключенному договору","Экономия/\nдефицит по заключенному договору, +/-\nграфа 6 + графа 7 - графа 8","!!! Счета, акцептованные руководителем и переданные бухгалтеру на оплату"]
[null,null,null,null,null,null,null,null,null,"Январь","Февраль","Март","ИТОГО\nI квартал","Апрель","Май","Июнь","ИТОГО\nII квартал","Июль","Август","Сентябрь","ИТОГО\nIII квартал","Октябрь","Ноябрь","Декабрь","ИТОГО\nIV квартал","Остаток денежных средств (без учета приобретений ТМЦ - КОСГУ 310, 340)"]
[1,2,3,4,5,6,7,8,9,10,11,12,13,14,15,16,17,18,19,20,21,22,23,24,25,26]
["ВЫПЛАТЫ ВСЕГО",null,null,null,{"$f":"E31+E226","v":7689000},{"$f":"F31+F226","v":7689000},{"$f":"G31+G226","v":0},{"$f":"H31","v":1798823.52},0,{"$f":"J31","v":0},{"$f":"K31","v":0},{"$f":"L31","v":0},0,0,0,0,0,0,0,0,0,0,0,0,0,{"$f":"Z31","v":6439000}]
["ВЫПЛАТЫ ВСЕГО для СГОЗ",null,null,null,{"$f":"E39+E58+E60+E64+E66+E142+E143+E154+E199+E200+E202+E206+E223+E227+E229+E198","v":7582900},{"$f":"F39+F58+F60+F64+F66+F142+F143+F154+F199+F200+F202+F206+F223+F227+F229+F198","v":7582900},{"$f":"G39+G58+G60+G64+G66+G142+G143+G154+G199+G200+G202+G206+G223+G227+G229+G198","v":0},"х","х","х","х","х","х","х","х","х","х","х","х","х","х","х","х","х","х","х"]
[null,200,null,null,{"$f":"E32+E207+E210","v":6439000},6439000,0,1798823.52,0,0,0,{"$f":"L32+L207+L210","v":0},0,0,0,0,0,0,0,0,0,0,{"$f":"W32+W207+W210","v":0},0,0,{"$f":"F31-Y31-U31-Q31-M31","v":6439000}]
["Оплата работ, услуг, всего, из них:",220,null,null,{"$f":"E33+E39+E58+E60+E64+E66+E141","v":6427000},6427000,0,1798823.52,0,0,0,0,0,0,0,0,0,0,0,0,0,0,0,0,0,{"$f":"F32-Y32-U32-Q32-M32","v":6427000}]
["Прочие выплаты, в том числе:",212,null,null,{"$f":"SUM(E34:E38)","v":106100},106100,0,0,0,0,0,0,0,0,0,0,0,0,0,0,0,0,0,0,0,{"$f":"F33-Y33-U33-Q33-M33","v":106100}]
["Возмещение работникам (сотрудникам) расходов, связанных со служебными командировками (суточные при служебных командировках)",null,912,"06507010210101110112",{"$f":"'212 командировки'!$F$13","v":0},{"$f":"E34","v":0},null,null,null,null,null,null,{"$f":"SUM(J34:L34)","v":0},null,null,null,{"$f":"SUM(N34:P34)","v":0},null,null,null,{"$f":"SUM(R34:T34)","v":0},null,null,null,{"$f":"SUM(V34:X34)","v":0},{"$f":"F34-Y34-U34-Q34-M34","v":0}]
["Оплата проезда по служебным командировкам (в т.ч. студентам, обучающимся по заочной форме обучения, при проезде к месту нахождения учебного заведения)",null,921,"06507010210101110112",{"$f":"'212 командировки'!$H$13","v":106100},{"$f":"E35","v":106100},null,null,null,null,null,null,{"$f":"SUM(J35:L35)","v":0},null,null,null,{"$f":"SUM(N35:P35)","v":0},null,null,null,{"$f":"SUM(R35:T35)","v":0},null,null,null,{"$f":"SUM(V35:X35)","v":0},106100]
["Оплата услуг по перевозке несовершеннолетних и сопровождающих их лиц",null,923,"06507010210101110112",null,{"$f":"E36","v":0},null,null,null,null,null,null,{"$f":"SUM(J36:L36)","v":0},null,null,null,{"$f":"SUM(N36:P36)","v":0},null,null,null,{"$f":"SUM(R36:T36)","v":0},null,null,null,{"$f":"SUM(V36:X36)","v":0},0]
["Оплата проезда сопровождающих лиц, являющихся штатными сотрудниками учреждений",null,924,"06507010210101110112",null,{"$f":"E37","v":0},null,null,null,null,null,null,{"$f":"SUM(J37:L37)","v":0},null,null,null,{"$f":"SUM(N37:P37)","v":0},null,null,null,{"$f":"SUM(R37:T37)","v":0},null,null,null,{"$f":"SUM(V37:X37)","v":0},0]
["Проживание в служебных командировках",null,952,"06507010210101110112",{"$f":"'212 командировки'!$K$13","v":0},{"$f":"E38","v":0},null,null,null,null,null,null,{"$f":"SUM(J38:L38)","v":0},null,null,null,{"$f":"SUM(N38:P38)","v":0},null,null,null,{"$f":"SUM(R38:T38)","v":0},null,null,null,{"$f":"SUM(V38:X38)","v":0},0]
["Услуги связи, в том числе:",221,null,null,{"$f":"E40","v":0},{"$f":"F40","v":0},{"$f":"G40","v":0},{"$f":"H40","v":80200},{"$f":"I40","v":0},{"$f":"J40","v":0},0,0,{"$f":"M40","v":0},0,0,0,0,0,0,0,0,0,0,0,0,{"$f":"F39-Y39-U39-Q39-M39","v":0}]
["Услуги связи, в том числе:",null,925,"06507010210101110244",{"$f":"SUM(E41:E57)","v":0},0,0,80200,0,0,0,0,0,0,0,0,0,0,0,0,0,0,0,0,0,0]
["Телекоммуникационные услуги связи (ГТС)",null,null,null,null,{"$f":"E41","v":0},null,null,null,null,null,null,{"$f":"SUM(J41:L41)","v":0},null,null,null,{"$f":"SUM(N41:P41)","v":0},null,null,null,{"$f":"SUM(R41:T41)","v":0},null,null,null,{"$f":"SUM(V41:X41)","v":0},0]
["Услуги внутризоновой телефонной связи",null,null,null,null,{"$f":"E42","v":0},null,32200,null,null,null,null,{"$f":"SUM(J42:L42)","v":0},null,null,null,0,null,null,null,0,null,null,null,{"$f":"SUM(V42:X42)","v":0},0]
["Услуги автоматической междугородней и международней телефонной связи",null,null,null,null,0,null,null,null,null,null,null,0,null,null,null,0,null,null,null,0,null,null,null,0,0]
["Услуги связи по тарифному плану \"Квалифицированный Голд\"",null,null,null,null,{"$f":"E44","v":0},null,null,null,null,null,null,0,null,null,null,0,null,null,null,0,null,null,null,0,0]
["Услуги сотовой связи",null,null,null,null,0,null,null,null,null,null,null,0,null,null,null,0,null,null,null,0,null,null,null,0,0]
["Прочие расходы (восстан-е линии связи, уст-ка доп. телефонов, предост-е доступа к мест. телеф. связи и др.)",null,null,null,null,0,null,null,null,null,null,null,0,null,null,null,0,null,null,null,0,null,null,null,0,0]
["Марочная продукция (маркированные конверты)",null,null,null,null,{"$f":"E47","v":0},null,null,null,null,null,null,0,null,null,null,0,null,null,null,0,null,null,null,0,0]
["Предоплата за пользование ячейкой абонементного почтового шкафа",null,null,null,null,{"$f":"E48","v":0},null,null,null,null,null,null,0,null,null,null,0,null,null,null,0,null,null,null,0,0]
["Прочие услуги (экспресс-почта, бандероли, ценные посылки, телеграммы и др.)",null,null,null,null,0,null,null,null,null,null,null,0,null,null,null,0,null,null,null,0,null,null,null,0,0]
["Заказные письма",null,null,null,null,0,null,null,null,null,null,null,0,null,null,null,0,null,null,null,0,null,null,null,0,0]
["Абон. обслужив-е (электронный документооборот)",null,null,null,null,0,null,null,null,null,null,null,0,null,null,null,0,null,null,null,0,null,null,null,0,0]
["Подключение к глобальной информационной сети Интернет, абонентская плата",null,null,null,null,0,null,48000,null,null,null,null,0,null,null,null,0,null,null,null,0,null,null,null,0,0]
[null,null,null,null,null,0,null,null,null,null,null,null,0,null,null,null,0,null,null,null,0,null,null,null,0,0]
[null,null,null,null,null,0,null,null,null,null,null,null,0,null,null,null,0,null,null,null,0,null,null,null,0,0]
[null,null,null,null,null,0,null,null,null,null,null,null,0,null,null,null,0,null,null,null,0,null,null,null,0,0]
[null,null,null,null,null,0,null,null,null,null,null,null,0,null,null,null,0,null,null,null,0,null,null,null,0,0]
[null,null,null,null,null,0,null,null,null,null,null,null,0,null,null,null,0,null,null,null,0,null,null,null,0,0]
["Транспортные услуги, в том числе:",222,null,null,{"$f":"SUM(E59:E59)","v":0},0,0,0,0,0,0,0,0,0,0,0,0,0,0,0,0,0,0,0,{"$f":"SUM(Y59:Y59)","v":0},{"$f":"F58-Y58-U58-Q58-M58","v":0}]
["Прочие транспортные расходы",null,922,"06507010210101110244",null,{"$f":"E59","v":0},null,null,null,null,null,null,0,null,null,null,0,null,null,null,0,null,null,null,0,{"$f":"F59-Y59-U59-Q59-M59","v":0}]
["Коммунальные услуги, в том числе:",223,null,null,{"$f":"SUM(E61:E63)","v":2573400},{"$f":"SUM(F61:F63)","v":2573400},{"$f":"SUM(G61:G63)","v":0},{"$f":"SUM(H61:H63)","v":1504832.88},{"$f":"SUM(I61:I63)","v":0},{"$f":"SUM(J61:J63)","v":0},0,0,0,0,0,0,0,0,0,0,0,{"$f":"SUM(V61:V63)","v":0},0,0,0,{"$f":"F60-Y60-U60-Q60-M60","v":2573400}]
["Оплата отопления и технологических нужд, а также горячего водоснабжения",null,931,"06507010210101110244",{"$f":"'223 коммуналка'!$E$10","v":1102000},{"$f":"E61","v":1102000},null,null,null,null,null,null,0,null,null,null,0,null,null,null,0,null,null,null,0,1102000]
["Потребление электроэнергии",null,932,"06507010210101110244",{"$f":"'223 коммуналка'!$E$19","v":376800},{"$f":"E62","v":376800},null,420316,null,null,null,null,0,null,null,null,0,null,null,null,0,null,null,null,0,376800]
["Водоснабжение, канализация",null,933,"06507010210101110244",{"$f":"'223 коммуналка'!$E$27","v":1094600},{"$f":"E63","v":1094600},null,{"$f":"475006.63+609510.25","v":1084516.8799999999},null,null,null,null,0,null,null,null,0,null,null,null,0,null,null,null,0,1094600]
["Арендная плата за пользование имуществом, в том числе:",224,null,null,{"$f":"E65","v":0},{"$f":"F65","v":0},{"$f":"G65","v":0},{"$f":"H65","v":0},0,0,0,0,0,0,0,0,0,0,0,0,0,0,0,0,0,{"$f":"F64-Y64-U64-Q64-M64","v":0}]
["Арендная плата за пользование имуществом",null,926,"06507010210101110244",null,{"$f":"E65","v":0},null,null,null,null,null,null,0,null,null,null,0,null,null,null,0,null,null,null,0,0]
["Работы, услуги по содержанию имущества, в том числе:",225,null,null,{"$f":"E67+E95+E111+E112+E113","v":2453300},2453300,0,213790.64,0,0,0,0,0,0,0,0,0,0,0,0,0,0,0,0,0,{"$f":"F66-Y66-U66-Q66-M66","v":2453300}]
["Содержание и техническое обслуживание помещений, в том числе:",null,941,"06507010210101110244",{"$f":"SUM(E68,E69,E77:E94)","v":1700000},{"$f":"SUM(F68,F69,F77:F94)","v":1700000},{"$f":"SUM(G68,G69,G77:G94)","v":0},33538,0,0,0,0,0,0,0,0,0,0,0,0,0,0,0,0,0,{"$f":"F67-Y67-U67-Q67-M67","v":1700000}]
["ТО АУТВР",null,null,null,{"$f":"'225 сод.имущ.'!$I$11","v":155000},{"$f":"E68","v":155000},null,33538,null,null,null,null,0,null,null,null,0,null,null,null,0,null,null,null,0,155000]
["Комплексное техническое обслуживание инженерных систем и систем видеонаблюдения, в том числе:",null,null,null,{"$f":"CEILING(SUM(E70:E76),100)","v":1308900},{"$f":"E69","v":1308900},null,null,null,null,null,null,null,null,null,null,null,null,null,null,null,null,null,null,null,1308900]
["ТО систем видеонаблюдения",null,null,null,{"$f":"'225 сод.имущ.'!$I$20","v":140158.1226},140158.1226,null,null,null,null,null,null,0,null,null,null,0,null,null,null,0,null,null,null,0,140158.1226]
["ТО АСУВ (автоматизированная система управления вентиляцией)",null,null,null,{"$f":"'225 сод.имущ.'!$I$24","v":0},0,null,null,null,null,null,null,0,null,null,null,0,null,null,null,0,null,null,null,0,0]
["Ведение технической документации",null,null,null,{"$f":"'225 сод.имущ.'!$I$25","v":119397.28284},119397.28284,null,null,null,null,null,null,0,null,null,null,0,null,null,null,0,null,null,null,0,119397.28284]
["ТО инженерных сетей (внутренние системы тепловодоснабжения и канализации, электроснабжения, аварийное обслуживание)",null,null,null,{"$f":"'225 сод.имущ.'!$I$26","v":990268.30385999999},990268.30385999999,null,null,null,null,null,null,0,null,null,null,0,null,null,null,0,null,null,null,0,990268.30385999999]
["ТО светильников наружного освещения",null,null,null,{"$f":"'225 сод.имущ.'!$I$27","v":24317.204000000002},24317.204000000002,null,null,null,null,null,null,0,null,null,null,0,null,null,null,0,null,null,null,0,24317.204000000002]
["ТО кабельных линий наружного освещения",null,null,null,{"$f":"'225 сод.имущ.'!$I$28","v":1776.13482},1776.13482,null,null,null,null,null,null,0,null,null,null,0,null,null,null,0,null,null,null,0,1776.13482]
["ТО систем вентиляции",null,null,null,{"$f":"'225 сод.имущ.'!$I$29","v":32957.907399999996},32957.907399999996,null,null,null,null,null,null,0,null,null,null,0,null,null,null,0,null,null,null,0,32957.907399999996]
["Очистка кровли от снега и наледи",null,null,null,{"$f":"'225 сод.имущ.'!$I$47","v":27500},27500,null,null,null,null,null,null,0,null,null,null,0,null,null,null,0,null,null,null,0,27500]
["Зимнее содержание территорий",null,null,null,{"$f":"'225 сод.имущ.'!$I$52","v":0},{"$f":"E78","v":0},null,null,null,null,null,null,0,null,null,null,0,null,null,null,0,null,null,null,0,0]
["Эксплуатационные услуги",null,null,null,{"$f":"'225 сод.имущ.'!$I$56","v":0},0,null,null,null,null,null,null,0,null,null,null,0,null,null,null,0,null,null,null,0,0]
["Вывоз пищевых отходов (сады)",null,null,null,{"$f":"'225 сод.имущ.'!$I$59","v":112600},112600,null,null,null,null,null,null,0,null,null,null,0,null,null,null,0,null,null,null,0,112600]
["Услуга по очистке жироуловителя (откачивание сепарированных жировых отходов)",null,null,null,{"$f":"'225 сод.имущ.'!$I$62","v":0},0,null,null,null,null,null,null,0,null,null,null,0,null,null,null,0,null,null,null,0,0]
["Техническое обслуживание систем водоподготовки бассейнов (сады)",null,null,null,{"$f":"'225 сод.имущ.'!$I$66","v":0},0,null,null,null,null,null,null,0,null,null,null,0,null,null,null,0,null,null,null,0,0]
["Услуга по обследованию здания и геотехническому мониторингу",null,null,null,{"$f":"'225 сод.имущ.'!$I$69","v":49800},49800,null,null,null,null,null,null,0,null,null,null,0,null,null,null,0,null,null,null,0,49800]
["ТО лифтов",null,null,null,{"$f":"'225 сод.имущ.'!$I$81","v":0},0,null,null,null,null,null,null,0,null,null,null,0,null,null,null,0,null,null,null,0,0]
["Дератизация",null,null,null,{"$f":"'225 сод.имущ.'!$I$87","v":5300},5300,null,null,null,null,null,null,0,null,null,null,0,null,null,null,0,null,null,null,0,5300]
["Дезинсекция",null,null,null,{"$f":"'225 сод.имущ.'!$I$89","v":32600},32600,null,null,null,null,null,null,0,null,null,null,0,null,null,null,0,null,null,null,0,32600]
["Дезинфекция",null,null,null,{"$f":"'225 сод.имущ.'!$I$91","v":8300},8300,null,null,null,null,null,null,0,null,null,null,0,null,null,null,0,null,null,null,0,8300]
["Прочие расходы (аварийно-восстанов. работы, замена оборудования, приборов учета ТЭР и др.)",null,null,null,{"$f":"'225 сод.имущ.'!$I$93","v":0},0,null,null,null,null,null,null,0,null,null,null,0,null,null,null,0,null,null,null,0,0]
["Услуги мусоровоза, бульдозера (п. Снежногорск)",null,null,null,{"$f":"'225 сод.имущ.'!$I$94","v":0},0,null,null,null,null,null,null,0,null,null,null,0,null,null,null,0,null,null,null,0,0]
[null,null,null,null,null,0,null,null,null,null,null,null,0,null,null,null,0,null,null,null,0,null,null,null,0,0]
[null,null,null,null,null,0,null,null,null,null,null,null,0,null,null,null,0,null,null,null,0,null,null,null,0,0]
[null,null,null,null,null,0,null,null,null,null,null,null,0,null,null,null,0,null,null,null,0,null,null,null,0,0]
[null,null,null,null,null,0,null,null,null,null,null,null,0,null,null,null,0,null,null,null,0,null,null,null,0,0]
[null,null,null,null,null,0,null,null,null,null,null,null,0,null,null,null,0,null,null,null,0,null,null,null,0,0]
["Текущий ремонт оборудования, в том числе:",null,942,"06507010210101110244",{"$f":"SUM(E96:E110)","v":251600},251600,0,180252.64,0,0,0,0,0,0,0,0,0,0,0,0,0,0,0,0,0,{"$f":"F95-Y95-U95-Q95-M95","v":251600}]
["ТО и ремонт систем видеонаблюдения (п. Снежногорск)",null,null,null,{"$f":"'225 сод.имущ.'!$I$100","v":0},{"$f":"E96","v":0},null,null,null,null,null,null,{"$f":"SUM(J96:L96)","v":0},null,null,null,0,null,null,null,0,null,null,null,0,0]
["ТО и ремонт торгово-технологического и холодильного оборудования",null,null,null,{"$f":"'225 сод.имущ.'!$I$109","v":251600},251600,null,180252.64,null,null,null,null,0,null,null,null,0,null,null,null,0,null,null,null,0,251600]
["ТО изделий медицинской техники",null,null,null,{"$f":"'225 сод.имущ.'!$I$165","v":0},0,null,null,null,null,null,null,0,null,null,null,0,null,null,null,0,null,null,null,0,{"$f":"F98-Y98-U98-Q98-M98","v":0}]
["Ремонт и техн. обслуживание оргтехники и копировально-множительного оборудования, музыкал. оборудования и инструментов, используемых работниками, обучающимися; ремонт ученической мебели, рабочего места работника",null,null,null,{"$f":"'225 сод.имущ.'!$I$201","v":0},0,null,null,null,null,null,null,0,null,null,null,0,null,null,null,0,null,null,null,0,0]
["Прочие расходы (ремонт бытовой техники, бытовых холодильников, стирального оборудования, изделий медтехники, средств измерений и др.)",null,null,null,{"$f":"'225 сод.имущ.'!$I$202","v":0},0,null,null,null,null,null,null,0,null,null,null,0,null,null,null,0,null,null,null,0,0]
[null,null,null,null,null,0,null,null,null,null,null,null,0,null,null,null,0,null,null,null,0,null,null,null,0,0]
[null,null,null,null,null,0,null,null,null,null,null,null,0,null,null,null,0,null,null,null,0,null,null,null,0,0]
[null,null,null,null,null,0,null,null,null,null,null,null,0,null,null,null,0,null,null,null,0,null,null,null,0,0]
[null,null,null,null,null,0,null,null,null,null,null,null,0,null,null,null,0,null,null,null,0,null,null,null,0,0]
[null,null,null,null,null,0,null,null,null,null,null,null,0,null,null,null,{"$f":"SUM(N105:P105)","v":0},null,null,null,{"$f":"SUM(R105:T105)","v":0},null,null,null,0,0]
[null,null,null,null,null,0,null,null,null,null,null,null,0,null,null,null,0,null,null,null,0,null,null,null,{"$f":"SUM(V106:X106)","v":0},0]
[null,null,null,null,null,0,null,null,null,null,null,null,0,null,null,null,0,null,null,null,0,null,null,null,0,0]
[null,null,null,null,null,0,null,null,null,null,null,null,0,null,null,null,0,null,null,null,0,null,null,null,0,0]
[null,null,null,null,null,0,null,null,null,null,null,null,0,null,null,null,0,null,null,null,0,null,null,null,0,0]
[null,null,null,null,null,0,null,null,null,null,null,null,0,null,null,null,0,null,null,null,0,null,null,null,0,0]
["Текущий ремонт зданий",null,943,"06507010210101110244",null,0,null,null,null,null,null,null,0,null,null,null,0,null,null,null,0,null,null,null,{"$f":"SUM(V111:X111)","v":0},0]
["Капитальный ремонт имущества",null,944,"06507010210101110244",null,0,null,null,null,null,null,null,0,null,null,null,0,null,null,null,0,null,null,null,0,0]
["Прочие расходы по содержанию имущества, в том числе:",null,947,"06507010210101110244",{"$f":"SUM(E114:E140)","v":501700},{"$f":"SUM(F114:F140)","v":501700},{"$f":"SUM(G114:G140)","v":0},{"$f":"SUM(H114:H140)","v":0},0,0,0,0,0,0,0,0,0,0,0,0,0,0,0,0,0,501700]
["ТО и ремонт систем охранно-пожарной сигнализации и противопожарной автоматики (ОПС и ППА)",null,null,null,{"$f":"'225 сод.имущ.'!$I$213","v":231100},231100,null,null,null,null,null,null,0,null,null,null,0,null,null,null,0,null,null,null,0,231100]
["ТО и перезарядка огнетушителей",null,null,null,{"$f":"'225 сод.имущ.'!$I$217","v":3700},3700,null,null,null,null,null,null,0,null,null,null,0,null,null,null,0,null,null,null,0,3700]
["Испытание электрооборудования здания",null,null,null,{"$f":"'225 сод.имущ.'!$I$241","v":0},0,null,null,null,null,null,null,0,null,null,null,0,null,null,null,0,null,null,null,0,0]
["Испытание электрооборудования пищеблока",null,null,null,{"$f":"'225 сод.имущ.'!$I$251","v":6800},6800,null,null,null,null,null,null,0,null,null,null,0,null,null,null,0,null,null,null,0,6800]
["Эксплуатационное испытание электрооборудования елочных гирлянд",null,null,null,{"$f":"'225 сод.имущ.'!$I$256","v":900},900,null,null,null,null,null,null,0,null,null,null,0,null,null,null,0,null,null,null,0,900]
["Экспертиза пригодности ТМЦ",null,null,null,{"$f":"'225 сод.имущ.'!$I$257","v":5000},5000,null,null,null,null,null,null,0,null,null,null,0,null,null,null,0,null,null,null,0,5000]
["Обслуживание игрового оборудования детских площадок",null,null,null,{"$f":"'225 сод.имущ.'!$I$258","v":60300},60300,null,null,null,null,null,null,0,null,null,null,0,null,null,null,0,null,null,null,0,60300]
["Техническое обслуживание \"теплого пола\" (сады)",null,null,null,{"$f":"'225 сод.имущ.'!$I$259","v":0},0,null,null,null,null,null,null,0,null,null,null,0,null,null,null,0,null,null,null,0,0]
["Замер температурного режима жарочных шкафов в пищеблоке ",null,null,null,{"$f":"'225 сод.имущ.'!$I$260","v":2400},2400,null,null,null,null,null,null,0,null,null,null,0,null,null,null,0,null,null,null,0,2400]
["Камерная дезинфекция вещей",null,null,null,{"$f":"'225 сод.имущ.'!$I$261","v":36200},36200,null,null,null,null,null,null,0,null,null,null,0,null,null,null,0,null,null,null,0,36200]
["Прачечные услуги",null,null,null,{"$f":"'225 сод.имущ.'!$I$262","v":24800},24800,null,null,null,null,null,null,0,null,null,null,0,null,null,null,0,null,null,null,0,24800]
["Поверка средств измерений",null,null,null,{"$f":"'225 сод.имущ.'!$I$266","v":19900},19900,null,null,null,null,null,null,0,null,null,null,0,null,null,null,0,null,null,null,0,19900]
["Испытание металлического кровельного ограждения и металлических наружных пожарных лестниц",null,null,null,{"$f":"'225 сод.имущ.'!$I$297","v":100000},100000,null,null,null,null,null,null,0,null,null,null,0,null,null,null,0,null,null,null,0,100000]
["Заправка и восстановление картриджей, диагностика и определение неисправности компьютерного оборудования, используемого работниками, обучающимися",null,null,null,{"$f":"'225 сод.имущ.'!$I$298","v":0},0,null,null,null,null,null,null,0,null,null,null,0,null,null,null,0,null,null,null,0,0]
["Прочие расходы по устранению замечаний надзорных органов (огнезащитная обработка штор, установка пр/пожарных дверей и люков, укладка керамической плитки, линолеума и др.)",null,null,null,{"$f":"'225 сод.имущ.'!$I$299","v":10600},10600,null,null,null,null,null,null,0,null,null,null,0,null,null,null,0,null,null,null,0,10600]
["ТО тревожной сигнализации (МБОУ \"СШ № 14\")",null,null,null,{"$f":"'225 сод.имущ.'!$I$300","v":0},0,null,null,null,null,null,null,0,null,null,null,0,null,null,null,0,null,null,null,0,0]
["Услуга по очистке стеклопакетов фасада здания (МАДОУ №№ 1,2,5)",null,null,null,{"$f":"'225 сод.имущ.'!$I$301","v":0},0,null,null,null,null,null,null,0,null,null,null,0,null,null,null,0,null,null,null,0,0]
[null,null,null,null,null,0,null,null,null,null,null,null,0,null,null,null,0,null,null,null,0,null,null,null,0,0]
[null,null,null,null,null,0,null,null,null,null,null,null,0,null,null,null,0,null,null,null,0,null,null,null,0,0]
[null,null,null,null,null,0,null,null,null,null,null,null,0,null,null,null,0,null,null,null,0,null,null,null,0,0]
[null,null,null,null,null,0,null,null,null,null,null,null,0,null,null,null,0,null,null,null,0,null,null,null,0,0]
[null,null,null,null,null,0,null,null,null,null,null,null,0,null,null,null,0,null,null,null,0,null,null,null,0,0]
[null,null,null,null,null,0,null,null,null,null,null,null,0,null,null,null,0,null,null,null,0,null,null,null,0,0]
[null,null,null,null,null,0,null,null,null,null,null,null,0,null,null,null,0,null,null,null,0,null,null,null,0,0]
[null,null,null,null,null,0,null,null,null,null,null,null,0,null,null,null,0,null,null,null,0,null,null,null,0,0]
[null,null,null,null,null,0,null,null,null,null,null,null,0,null,null,null,0,null,null,null,0,null,null,null,0,0]
[null,null,null,null,null,0,null,null,null,null,null,null,0,null,null,null,0,null,null,null,0,null,null,null,0,0]
["Прочие работы, услуги, в том числе:",226,null,null,{"$f":"E142+E143+E154+E198+E199+E200+E201+E202+E206","v":1294200},1294200,0,0,0,0,0,0,0,0,0,0,0,0,0,0,0,0,0,0,0,{"$f":"F141-Y141-U141-Q141-M141","v":1294200}]
["Страхование жизни, здоровья, имущества (в том числе гражданской ответственности владельцев транспортных средств)",null,951,"06507010210101110244",{"$f":"'226 пр.работы, услуги'!$F$128*1000","v":0},{"$f":"E142","v":0},{"$f":"'226 пр.работы, услуги'!H128*1000","v":0},null,null,null,null,null,0,null,null,null,0,null,null,null,0,null,null,null,0,0]
["Вневедомственная (в том числе пожарная) охрана, охранная и пожарная сигнализация (установка, наладка и эксплуатация), в том числе:",null,953,"06507010210101110244",{"$f":"CEILING(SUM(E144:E153),100)","v":721300},{"$f":"CEILING(SUM(F144:F153),100)","v":721300},{"$f":"SUM(G144:G153)","v":0},0,0,0,0,0,0,0,0,0,0,0,0,0,0,0,0,0,0,721300]
["Охрана общественного порядка (физ. охрана)",null,null,null,{"$f":"'226 пр.работы, услуги'!$F$16*1000","v":667219.19999999995},{"$f":"E144","v":667219.19999999995},null,null,null,null,null,null,0,null,null,null,0,null,null,null,0,null,null,null,0,667219.19999999995]
["Мониторинговые услуги  по приемке, обработке сигналов, поступающих на центральный радиопульт",null,null,null,{"$f":"'226 пр.работы, услуги'!$F$17*1000","v":30000},30000,null,null,null,null,null,null,0,null,null,null,0,null,null,null,0,null,null,null,0,30000]
["Услуги по централизованному наблюдению за объектом и реагировании на тревожные сообщения (с использованием канала сотовой связи GSM)",null,null,null,{"$f":"'226 пр.работы, услуги'!$F$18*1000","v":24000},24000,null,null,null,null,null,null,0,null,null,null,0,null,null,null,0,null,null,null,0,24000]
["Охрана объектов средствами охранно-пожарной сигнализации (ОПС)",null,null,null,{"$f":"'226 пр.работы, услуги'!$F$19*1000","v":0},0,null,null,null,null,null,null,0,null,null,null,0,null,null,null,0,null,null,null,0,0]
["Охрана объектов средствами тревожной сигнализации (ТС)",null,null,null,{"$f":"'226 пр.работы, услуги'!$F$20*1000","v":0},0,null,null,null,null,null,null,0,null,null,null,0,null,null,null,0,null,null,null,0,0]
[null,null,null,null,null,0,null,null,null,null,null,null,0,null,null,null,0,null,null,null,0,null,null,null,0,0]
[null,null,null,null,null,0,null,null,null,null,null,null,0,null,null,null,0,null,null,null,0,null,null,null,0,0]
[null,null,null,null,null,0,null,null,null,null,null,null,0,null,null,null,0,null,null,null,0,null,null,null,0,0]
[null,null,null,null,null,0,null,null,null,null,null,null,0,null,null,null,0,null,null,null,0,null,null,null,0,0]
[null,null,null,null,null,0,null,null,null,null,null,null,0,null,null,null,0,null,null,null,0,null,null,null,0,0]
["Прочие услуги, в том числе:",null,954,"06507010210101110244",{"$f":"CEILING(SUM(E155:E197),100)","v":435600},{"$f":"CEILING(SUM(F155:F197),100)","v":435600},{"$f":"SUM(G155:G197)","v":0},{"$f":"SUM(H155:H197)","v":0},0,0,0,0,0,0,0,0,0,0,0,0,0,0,0,0,0,435600]
["Утилизация (захоронение) твердых бытовых отходов",null,null,null,{"$f":"'226 пр.работы, услуги'!$F$22*1000","v":22241.466},{"$f":"E155","v":22241.466},null,null,null,null,null,null,0,null,null,null,0,null,null,null,0,null,null,null,0,22241.466]
["Утилизация (захоронение) крупногабаритного мусора (попадающего под IV и V классы опасности)",null,null,null,{"$f":"'226 пр.работы, услуги'!$F$23*1000","v":2132.85},2132.85,null,null,null,null,null,null,0,null,null,null,0,null,null,null,0,null,null,null,0,2132.85]
["Утилизация ртутьсодержащих отходов",null,null,null,{"$f":"'226 пр.работы, услуги'!$F$24*1000","v":12313.299999999997},12313.299999999997,null,null,null,null,null,null,0,null,null,null,{"$f":"SUM(N157:P157)","v":0},null,null,null,{"$f":"SUM(R157:T157)","v":0},null,null,null,{"$f":"SUM(V157:X157)","v":0},12313.299999999997]
["Изготовление полиграфической продукции (банеров, вывесок, табличек, визиток, бланочной продукции, номерков, флагов)",null,null,null,{"$f":"'226 пр.работы, услуги'!$F$27*1000","v":10000},10000,null,null,null,null,null,null,{"$f":"SUM(J158:L158)","v":0},null,null,null,0,null,null,null,0,null,null,null,0,10000]
["Специальная оценка условий труда",null,null,null,{"$f":"'226 пр.работы, услуги'!$F$28*1000","v":0},0,null,null,null,null,null,null,0,null,null,null,0,null,null,null,0,null,null,null,0,0]
["Изготовление дополнительного сертификата ЭЦП для сдачи отчетн.в ФСС в режиме \"Обслуж.бухгалтерия\"",null,null,null,{"$f":"'226 пр.работы, услуги'!$F$29*1000","v":1500},1500,null,null,null,null,null,null,0,null,null,null,0,null,null,null,0,null,null,null,0,1500]
["Отчет по определению тепловых нагрузок и расходов горячей и холодной воды",null,null,null,{"$f":"'226 пр.работы, услуги'!$F$30*1000","v":0},0,null,null,null,null,null,null,0,null,null,null,0,null,null,null,0,null,null,null,0,0]
["Протокол о составе и свойствах сточных вод",null,null,null,{"$f":"'226 пр.работы, услуги'!$F$31*1000","v":30000},30000,null,null,null,null,null,null,0,null,null,null,0,null,null,null,0,null,null,null,0,{"$f":"F162-Y162-U162-Q162-M162","v":30000}]
["Проект нормативов образования отходов и лимитов на их размещение",null,null,null,{"$f":"'226 пр.работы, услуги'!$F$32*1000","v":0},0,null,null,null,null,null,null,0,null,null,null,0,null,null,null,0,null,null,null,0,0]
["Городские культурномассовые мероприятия (звукосветотехническое сопровождение, изготовление плакеток)",null,null,null,{"$f":"'226 пр.работы, услуги'!$F$33*1000","v":0},0,null,null,null,null,null,null,0,null,null,null,0,null,null,null,0,null,null,null,0,0]
["Изготовление паспортов БТИ",null,null,null,{"$f":"'226 пр.работы, услуги'!$F$34*1000","v":0},0,null,null,null,null,null,null,0,null,null,null,0,null,null,null,0,null,null,null,0,0]
["Оформление пакета документов по обоснованию отнесения отходов к I - V классам опасности для окружающей среды",null,null,null,{"$f":"'226 пр.работы, услуги'!$F$35*1000","v":0},0,null,null,null,null,null,null,0,null,null,null,0,null,null,null,0,null,null,null,0,0]
["Расчет оценки пожарного риска",null,null,null,{"$f":"'226 пр.работы, услуги'!$F$36*1000","v":0},0,null,null,null,null,null,null,0,null,null,null,0,null,null,null,0,null,null,null,0,0]
["Приобретение и обслуживание программного обеспечения",null,null,null,{"$f":"'226 пр.работы, услуги'!$F$37*1000","v":0},0,null,null,null,null,null,null,0,null,null,null,0,null,null,null,0,null,null,null,0,0]
["Исследование воды и смывов плавательных бассейнов",null,null,null,{"$f":"('226 пр.работы, услуги'!$F$45+'226 пр.работы, услуги'!$F$51+'226 пр.работы, услуги'!$F$55)*1000","v":109874.98019999998},109874.98019999998,null,null,null,null,null,null,0,null,null,null,0,null,null,null,0,null,null,null,0,109874.98019999998]
["Исследование питьевой воды",null,null,null,{"$f":"'226 пр.работы, услуги'!$F$59*1000","v":8347.6503999999986},8347.6503999999986,null,null,null,null,null,null,0,null,null,null,0,null,null,null,0,null,null,null,0,8347.6503999999986]
["Исследование почвы, песка",null,null,null,{"$f":"'226 пр.работы, услуги'!$F$70*1000","v":3312.9089999999997},3312.9089999999997,null,null,null,null,null,null,0,null,null,null,0,null,null,null,0,null,null,null,0,3312.9089999999997]
["Исследование микроклимата",null,null,null,{"$f":"'226 пр.работы, услуги'!$F$75*1000","v":1815.2057999999997},1815.2057999999997,null,null,null,null,null,null,0,null,null,null,0,null,null,null,0,null,null,null,0,1815.2057999999997]
["Исследование продуктов и готовых блюд",null,null,null,{"$f":"('226 пр.работы, услуги'!$F$80+'226 пр.работы, услуги'!$F$89)*1000","v":59503.258199999997},59503.258199999997,null,null,null,null,null,null,0,null,null,null,0,null,null,null,0,null,null,null,0,59503.258199999997]
["Профессиональная гигиеническая подготовка и аттестация должностных лиц",null,null,null,{"$f":"'226 пр.работы, услуги'!$F$94*1000","v":44700.901600000005},44700.901600000005,null,null,null,null,null,null,0,null,null,null,0,null,null,null,0,null,null,null,0,44700.901600000005]
["Курьерские услуги",null,null,null,{"$f":"'226 пр.работы, услуги'!$F$101*1000","v":0},0,null,null,null,null,null,null,0,null,null,null,0,null,null,null,0,null,null,null,0,0]
["Участие в семинарах, курсах повышения квалификации, конференциях, спортивных мероприятиях",null,null,null,{"$f":"'226 пр.работы, услуги'!$F$106*1000","v":0},0,null,null,null,null,null,null,0,null,null,null,0,null,null,null,0,null,null,null,0,0]
["Услуги инкассации наличных денег полистным пересчетом",null,null,null,{"$f":"'226 пр.работы, услуги'!$F$115*1000","v":24780},24780,null,null,null,null,null,null,0,null,null,null,0,null,null,null,0,null,null,null,0,24780]
["Услуги по обработке учетной (бухгалтерской) информации (ГИВЦ)",null,null,null,{"$f":"'226 пр.работы, услуги'!$F$118*1000","v":5000},5000,null,null,null,null,null,null,0,null,null,null,0,null,null,null,0,null,null,null,0,5000]
["Монтажные (демонтажные, электромонтажные) работы учебно-игрового оборудования; прогулочных площадок, оборудования\n",null,null,null,{"$f":"'226 пр.работы, услуги'!$F$119*1000","v":0},0,null,null,null,null,null,null,0,null,null,null,0,null,null,null,0,null,null,null,0,0]
["Изготовление стендов;                 \nИзготовление и монтаж вертикальных жалюзи             ",null,null,null,{"$f":"'226 пр.работы, услуги'!$F$122*1000","v":0},0,null,null,null,null,null,null,0,null,null,null,0,null,null,null,0,null,null,null,0,0]
["Составление и изготовление планов эвакуации",null,null,null,{"$f":"'226 пр.работы, услуги'!$F$123*1000","v":0},0,null,null,null,null,null,null,0,null,null,null,0,null,null,null,0,null,null,null,0,0]
["Информация (декларация) об энергосбережении и о повышении энергетической эффективности",null,null,null,{"$f":"'226 пр.работы, услуги'!$F$126*1000","v":100000},100000,null,null,null,null,null,null,0,null,null,null,0,null,null,null,0,null,null,null,0,100000]
[null,null,null,null,null,0,null,null,null,null,null,null,0,null,null,null,0,null,null,null,0,null,null,null,0,0]
[null,null,null,null,null,0,null,null,null,null,null,null,0,null,null,null,0,null,null,null,0,null,null,null,0,0]
[null,null,null,null,null,0,null,null,null,null,null,null,0,null,null,null,0,null,null,null,0,null,null,null,0,0]
[null,null,null,null,null,0,null,null,null,null,null,null,0,null,null,null,0,null,null,null,0,null,null,null,0,0]
[null,null,null,null,null,0,null,null,null,null,null,null,0,null,null,null,0,null,null,null,0,null,null,null,0,0]
[null,null,null,null,null,0,null,null,null,null,null,null,0,null,null,null,0,null,null,null,0,null,null,null,0,0]
[null,null,null,null,null,0,null,null,null,null,null,null,0,null,null,null,0,null,null,null,0,null,null,null,0,0]
[null,null,null,null,null,0,null,null,null,null,null,null,0,null,null,null,0,null,null,null,0,null,null,null,0,0]
[null,null,null,null,null,0,null,null,null,null,null,null,0,null,null,null,0,null,null,null,0,null,null,null,0,0]
[null,null,null,null,null,0,null,null,null,null,null,null,0,null,null,null,0,null,null,null,0,null,null,null,0,0]
[null,null,null,null,null,0,null,null,null,null,null,null,0,null,null,null,0,null,null,null,0,null,null,null,0,0]
[null,null,null,null,null,0,null,null,null,null,null,null,0,null,null,null,0,null,null,null,0,null,null,null,0,0]
[null,null,null,null,null,0,null,null,null,null,null,null,0,null,null,null,0,null,null,null,0,null,null,null,0,0]
[null,null,null,null,null,0,null,null,null,null,null,null,0,null,null,null,0,null,null,null,0,null,null,null,0,0]
[null,null,null,null,null,0,null,null,null,null,null,null,0,null,null,null,0,null,null,null,0,null,null,null,0,0]
["Вознаграждение по договорам ГПХ с учетом ЕСН",null,955,"06507010210101110244",null,{"$f":"E198","v":0},null,null,null,null,null,null,0,null,null,null,0,null,null,null,0,null,null,null,0,0]
["Приобретение периодических изданий, справочной литературы",null,956,"06507010210101110244",null,{"$f":"E199","v":0},null,null,null,null,null,null,0,null,null,null,0,null,null,null,0,null,null,null,0,0]
["Инженерные изыскания для подготовки проектной документации, строительства, реконструкции, капитального и текущего ремонта объектов; архитектурно-строительное проектирование",null,957,"06507010210101110244",null,{"$f":"E200","v":0},null,null,null,null,null,null,0,null,null,null,0,null,null,null,0,null,null,null,0,0]
["Расходы на оплату проезда, найм жилых помещений для участников соревнований, олимпиад и др. мероприятий",null,958,"06507010210101110244",null,{"$f":"E201","v":0},null,null,null,null,null,null,0,null,null,null,0,null,null,null,0,null,null,null,0,0]
["Медицинские услуги (в том числе диспансеризация, медицинский осмотр и освидетельствование работников (включая предрейсовые осмотры водителей), состоящих в штате учреждения, проведение медицинских анализов), в том числе:",null,995,"06507010210101110244",{"$f":"SUM(E203:E205)","v":137300},{"$f":"SUM(F203:F205)","v":137300},{"$f":"SUM(G203:G205)","v":0},{"$f":"SUM(H203:H205)","v":0},{"$f":"SUM(I203:I205)","v":0},{"$f":"SUM(J203:J205)","v":0},0,0,0,0,0,0,0,0,0,0,0,0,0,0,0,137300]
["АУП, УВП",null,null,null,null,{"$f":"E203","v":0},null,null,null,null,null,null,0,null,null,null,0,null,null,null,0,null,null,null,0,0]
["Педагоги",null,null,null,null,{"$f":"E204","v":0},null,null,null,null,null,null,0,null,null,null,0,null,null,null,0,null,null,null,0,0]
["МОП",null,null,null,{"$f":"'226.995 медосмотры'!$CX$11","v":137300},{"$f":"E205","v":137300},null,null,null,null,null,null,0,null,null,null,0,null,null,null,0,null,null,null,0,137300]
["Оказание услуг по скорой медицинской помощи",null,996,"06507010210101110244",null,{"$f":"E206","v":0},null,null,null,null,null,null,0,null,null,null,0,null,null,null,0,null,null,null,0,0]
["Социальное обеспечение, всего, из них:",260,null,null,{"$f":"E208","v":0},{"$f":"F208","v":0},{"$f":"G208","v":0},{"$f":"H208","v":0},0,0,0,0,0,0,0,0,0,0,0,0,0,0,0,0,0,0]
["Пособия по социальной помощи населению, в том числе:",262,null,null,{"$f":"E209","v":0},0,0,0,0,0,0,0,0,0,0,0,0,0,0,0,0,0,0,0,0,0]
["Пособия по социальной помощи населению",null,993,"06507010210101110321",null,{"$f":"E209","v":0},null,null,null,null,null,null,0,null,null,null,0,null,null,null,0,null,null,null,0,0]
["Прочие расходы, в том числе:",290,null,null,{"$f":"E223+E211","v":12000},{"$f":"F223+F211","v":12000},{"$f":"G223+G211","v":0},{"$f":"H223+H211","v":0},{"$f":"I223+I211","v":0},{"$f":"J223+J211","v":0},0,0,0,0,0,0,0,0,0,0,0,0,0,0,0,12000]
["Прочие расходы, в том числе:",null,962,"06507010210101110244",{"$f":"SUM(E212:E222)","v":0},{"$f":"SUM(F212:F222)","v":0},{"$f":"SUM(G212:G222)","v":0},{"$f":"SUM(H212:H222)","v":0},{"$f":"SUM(I212:I222)","v":0},{"$f":"SUM(J212:J222)","v":0},0,0,{"$f":"SUM(M212:M222)","v":0},0,0,0,{"$f":"SUM(Q212:Q222)","v":0},0,0,0,0,0,0,0,0,0]
["Плата за размещение отходов производства и потребления",null,null,null,null,{"$f":"E212","v":0},null,null,null,null,null,null,{"$f":"SUM(J212:L212)","v":0},null,null,null,{"$f":"SUM(N212:P212)","v":0},null,null,null,{"$f":"SUM(R212:T212)","v":0},null,null,null,{"$f":"SUM(V212:X212)","v":0},{"$f":"F212-Y212-U212-Q212-M212","v":0}]
["Пени (штрафы) на недоимку по страховым взносам ",null,null,null,null,{"$f":"E213","v":0},null,null,null,null,null,null,{"$f":"SUM(J213:L213)","v":0},null,null,null,{"$f":"SUM(N213:P213)","v":0},null,null,null,{"$f":"SUM(R213:T213)","v":0},null,null,null,{"$f":"SUM(V213:X213)","v":0},0]
["Госпошлина и сборы",null,null,null,null,0,null,null,null,null,null,null,0,null,null,null,0,null,null,null,0,null,null,null,0,0]
["Штрафы (по решению надзорных органов)",null,null,null,null,0,null,null,null,null,null,null,{"$f":"SUM(J215:L215)","v":0},null,null,null,0,null,null,null,0,null,null,null,0,0]
["Расходы по исполнительным листам",null,null,null,null,0,null,null,null,null,null,null,0,null,null,null,0,null,null,null,{"$f":"SUM(R216:T216)","v":0},null,null,null,0,0]
["Прочие платежи в бюджеты всех уровней",null,null,null,null,0,null,null,null,null,null,null,0,null,null,null,0,null,null,null,0,null,null,null,{"$f":"SUM(V217:X217)","v":0},0]
["Прочие расходы (неустойки и пр.)",null,null,null,null,0,null,null,null,null,null,null,0,null,null,null,0,null,null,null,0,null,null,null,0,0]
[null,null,null,null,null,0,null,null,null,null,null,null,0,null,null,null,{"$f":"SUM(N219:P219)","v":0},null,null,null,0,null,null,null,0,0]
[null,null,null,null,null,0,null,null,null,null,null,null,{"$f":"SUM(J220:L220)","v":0},null,null,null,{"$f":"SUM(N220:P220)","v":0},null,null,null,0,null,null,null,{"$f":"SUM(V220:X220)","v":0},0]
[null,null,null,null,null,0,null,null,null,null,null,null,0,null,null,null,0,null,null,null,0,null,null,null,0,0]
[null,null,null,null,null,0,null,null,null,null,null,null,0,null,null,null,0,null,null,null,0,null,null,null,0,0]
["Культурно-массовые и спортивно-массовые мероприятия, в том числе:",null,963,"06507010210101110244",{"$f":"E224+E225","v":12000},{"$f":"F224+F225","v":12000},{"$f":"G224+G225","v":0},{"$f":"H224+H225","v":0},{"$f":"I224+I225","v":0},{"$f":"J224+J225","v":0},0,0,{"$f":"M224+M225","v":0},0,0,0,0,0,0,0,0,0,0,0,0,12000]
["Городские мероприятия (приобретение кубков, медалей, ценных подарков, грамот, дипломов, цветов, воздушных шаров и др.)",null,null,null,null,{"$f":"E224","v":0},null,null,null,null,null,null,{"$f":"SUM(J224:L224)","v":0},null,null,null,0,null,null,null,0,null,null,null,0,{"$f":"F224-Y224-U224-Q224-M224","v":0}]
["Внутренние мероприятия (приобретение кубков, медалей, ценных подарков, грамот, дипломов, цветов, воздушных шаров и др.)",null,null,null,{"$f":"'290.963 КММ'!$F$13","v":12000},{"$f":"E225","v":12000},null,null,null,null,null,null,0,null,null,null,0,null,null,null,0,null,null,null,0,{"$f":"F225-Y225-U225-Q225-M225","v":12000}]
["Поступление нефинансовых активов, всего, из них:",300,null,null,{"$f":"E227+E229","v":1250000},{"$f":"F227+F229","v":1250000},{"$f":"G227+G229","v":0},"х","х",{"$f":"J227","v":"х"},"х","х","х",{"$f":"N227","v":"х"},"х","х","х",{"$f":"R227","v":"х"},"х","х","х",{"$f":"V227","v":"х"},"х","х","х","х"]
["Увеличение стоимости основных средств, в том числе:",310,null,null,{"$f":"E228","v":345000},{"$f":"F228","v":345000},{"$f":"G228","v":0},"х","х","х","х","х","х","х","х","х","х","х","х","х","х","х","х","х","х","х"]
["Приобретение основных средств",null,971,"06507010210101110244",{"$f":"'310,340 смета ТМЦ'!$K$167","v":345000},{"$f":"E228","v":345000},null,"х","х","х","х","х","х","х","х","х","х","х","х","х","х","х","х","х","х","х"]
["Увеличение стоимости материальных запасов, в том числе:",340,null,null,{"$f":"SUM(E230:E233)","v":905000},{"$f":"SUM(F230:F233)","v":905000},{"$f":"SUM(G230:G233)","v":0},"х","х",{"$f":"J230","v":"х"},{"$f":"K230","v":"х"},{"$f":"L230","v":"х"},"х",{"$f":"N230","v":"х"},{"$f":"O230","v":"х"},{"$f":"P230","v":"х"},"х",{"$f":"R230","v":"х"},{"$f":"S230","v":"х"},{"$f":"T230","v":"х"},"х",{"$f":"V230","v":"х"},{"$f":"W230","v":"х"},{"$f":"X230","v":"х"},"х","х"]
["Приобретение расходных материалов",null,981,"06507010210101110244",{"$f":"'310,340 смета ТМЦ'!$K$166","v":398000},{"$f":"E230","v":398000},null,"х","х","х","х","х","х","х","х","х","х","х","х","х","х","х","х","х","х","х"]
["Приобретение медикаментов и перевязочных средств",null,982,"06507010210101110244",null,{"$f":"E231","v":0},null,"х","х","х","х","х","х","х","х","х","х","х","х","х","х","х","х","х","х","х"]
["Приобретение продуктов питания (оплата продовольствия), в том числе продовольственных пайков военнослужащим и приравненным к ним лицам",null,983,"06507010210101110244",{"$f":"'340.983 питание'!$I$4","v":454700},{"$f":"E232","v":454700},null,"х","х","х","х","х","х","х","х","х","х","х","х","х","х","х","х","х","х","х"]
["Приобретение мягкого инвентаря",null,985,"06507010210101110244",{"$f":"'310,340 смета ТМЦ'!$K$165","v":52300},{"$f":"E233","v":52300},null,"х","х","х","х","х","х","х","х","х","х","х","х","х","х","х","х","х","х","х"]
["II блок - Субсидии на выполнение мун. задания (краевой бюджет КЦСР 0210074080)"]
["Наименование показателя","КОСГУ","Доп. КР","КБК","!!!! Не изменять показатели данной графы\nУтвержденные ассигнования на 2017 год, краевой бюджет \nСубвенции бюджетам муниципальных образований в части обеспечения деятельности административного и учебно-вспомогательного персонала\nСубсидии на финансовое обеспечение выполнения муниципального задания\n Код доп.ЭК 000, доп.ФК 70000, КЦСР 0210074080\n","!!! Изменения между услугами вносить в данной графе\nАссигнования с учетом изменений на 2017 год, краевой бюджет \nСубвенции бюджетам муниципальных образований в части обеспечения деятельности административного и учебно-вспомогательного персонала\nСубсидии на финансовое обеспечение выполнения муниципального задания\n Код доп.ЭК 000, доп.ФК 70000, КЦСР 0210074080\n","Финансирование на начало года (переходящие остатки прошлых лет на лицевых счетах) \nКод доп.ЭК 831","Сумма по заключенному договору","Экономия/\nдефицит по заключенному договору, +/-\nграфа 6 + графа 7 - графа 8","!!! Счета акцептованные руководителем и переданные бухгалтеру на оплату"]
[null,null,null,null,null,null,null,null,null,"Январь","Февраль","Март","ИТОГО\nI квартал","Апрель","Май","Июнь","ИТОГО\nII квартал","Июль","Август","Сентябрь","ИТОГО\nIII квартал","Октябрь","Ноябрь","Декабрь","ИТОГО\nIV квартал","Остаток денежных средств (без учета приобретений ТМЦ - КОСГУ 310, 340)"]
[1,2,3,4,5,6,7,8,9,10,11,12,13,14,15,16,17,18,19,20,21,22,23,24,25,26]
["ВЫПЛАТЫ ВСЕГО",null,null,null,{"$f":"E240+E326","v":692900},{"$f":"F240+F326","v":692900},{"$f":"G240+G326","v":0},{"$f":"H240","v":0},0,0,0,0,0,0,0,0,0,0,19,0,0,0,0,0,0,{"$f":"Z240","v":466600}]
["ВЫПЛАТЫ ВСЕГО для СГОЗ",null,null,null,{"$f":"E247+E263+E274+E292+E305+E306+E323+E327+E329+E304","v":623800},{"$f":"F247+F263+F274+F292+F305+F306+F323+F327+F329+F304","v":623800},{"$f":"G247+G263+G274+G292+G305+G306+G323+G327+G329+G304","v":0},"х","х","х","х","х","х","х","х","х","х","х","х","х","х","х","х","х","х","х"]
[null,200,null,null,{"$f":"E241+E310","v":466600},466600,0,0,0,0,0,0,0,0,0,0,0,0,{"$f":"S28+S310","v":19},{"$f":"T241+T310","v":0},0,0,0,0,0,{"$f":"F240-Y240-U240-Q240-M240","v":466600}]
["Оплата работ, услуг, всего, из них:",220,null,null,{"$f":"E242+E247+E263+E274+E291","v":442100},442100,0,0,0,0,0,0,0,0,0,0,0,0,0,0,0,0,0,0,0,{"$f":"F241-Y241-U241-Q241-M241","v":442100}]
["Прочие выплаты, в том числе:",212,null,null,{"$f":"SUM(E243:E246)","v":44600},44600,0,0,0,0,0,0,0,0,0,0,0,0,0,0,0,0,0,0,0,{"$f":"F242-Y242-U242-Q242-M242","v":44600}]
["Возмещение работникам (сотрудникам) расходов, связанных со служебными командировками (суточные при служебных командировках)",null,912,"06507010210074080112",{"$f":"'212 командировки'!$F$15","v":3000},{"$f":"E243","v":3000},null,null,null,null,null,null,{"$f":"SUM(J243:L243)","v":0},null,null,null,{"$f":"SUM(N243:P243)","v":0},null,null,null,{"$f":"SUM(R243:T243)","v":0},null,null,null,{"$f":"SUM(V243:X243)","v":0},{"$f":"F243-Y243-U243-Q243-M243","v":3000}]
["Оплата проезда по служебным командировкам (в т.ч. студентам, обучающимся по заочной форме обучения, при проезде к месту нахождения учебного заведения)",null,921,"06507010210074080112",{"$f":"'212 командировки'!$H$15","v":23100},{"$f":"E244","v":23100},null,null,null,null,null,null,{"$f":"SUM(J244:L244)","v":0},null,null,null,{"$f":"SUM(N244:P244)","v":0},null,null,null,{"$f":"SUM(R244:T244)","v":0},null,null,null,{"$f":"SUM(V244:X244)","v":0},{"$f":"F244-Y244-U244-Q244-M244","v":23100}]
["Оплата проезда сопровождающих лиц, являющихся штатными сотрудниками учреждений",null,924,"06507010210074080112",null,{"$f":"E245","v":0},null,null,null,null,null,null,{"$f":"SUM(J245:L245)","v":0},null,null,null,{"$f":"SUM(N245:P245)","v":0},null,null,null,{"$f":"SUM(R245:T245)","v":0},null,null,null,{"$f":"SUM(V245:X245)","v":0},{"$f":"F245-Y245-U245-Q245-M245","v":0}]
["Проживание в служебных командировках",null,952,"06507010210074080112",{"$f":"'212 командировки'!$K$15","v":18500},{"$f":"E246","v":18500},null,null,null,null,null,null,{"$f":"SUM(J246:L246)","v":0},null,null,null,{"$f":"SUM(N246:P246)","v":0},null,null,null,{"$f":"SUM(R246:T246)","v":0},null,null,null,{"$f":"SUM(V246:X246)","v":0},{"$f":"F246-Y246-U246-Q246-M246","v":18500}]
["Услуги связи, в том числе:",221,null,null,{"$f":"E248","v":45600},{"$f":"F248","v":45600},0,0,0,0,0,0,0,0,0,0,0,0,0,0,0,0,0,0,0,45600]
["Услуги связи, в том числе:",null,925,"06507010210074080244",{"$f":"CEILING(SUM(E249:E262),100)","v":45600},{"$f":"CEILING(SUM(F249:F262),100)","v":45600},{"$f":"SUM(G249:G262)","v":0},0,0,0,0,0,0,0,0,0,0,0,0,0,0,0,0,0,0,{"$f":"F248-Y248-U248-Q248-M248","v":45600}]
["Телекоммуникационные услуги связи (ГТС)",null,null,null,{"$f":"'221 связь'!$Q$12","v":32200},{"$f":"E249","v":32200},null,null,null,null,null,null,{"$f":"SUM(J249:L249)","v":0},null,null,null,{"$f":"SUM(N249:P249)","v":0},null,null,null,{"$f":"SUM(R249:T249)","v":0},null,null,null,{"$f":"SUM(V249:X249)","v":0},32200]
["Услуги внутризоновой телефонной связи",null,null,null,{"$f":"'221 связь'!$Q$29","v":0},{"$f":"E250","v":0},null,null,null,null,null,null,{"$f":"SUM(J250:L250)","v":0},null,null,null,0,null,null,null,0,null,null,null,0,0]
["Услуги автоматической междугородней и международней телефонной связи",null,null,null,{"$f":"'221 связь'!$Q$30","v":500},500,null,null,null,null,null,null,0,null,null,null,0,null,null,null,0,null,null,null,0,500]
["Услуги связи по тарифному плану \"Квалифицированный Голд\"",null,null,null,{"$f":"'221 связь'!$Q$31","v":0},0,null,null,null,null,null,null,0,null,null,null,0,null,null,null,0,null,null,null,0,0]
["Прочие расходы (восстан-е линии связи, уст-ка доп. телефонов, предост-е доступа к мест. телеф. связи и др.)",null,null,null,{"$f":"'221 связь'!$Q$33","v":1000},1000,null,null,null,null,null,null,0,null,null,null,0,null,null,null,0,null,null,null,0,1000]
["Марочная продукция (маркированные конверты)",null,null,null,{"$f":"'221 связь'!$Q$35","v":5184},5184,null,null,null,null,null,null,0,null,null,null,0,null,null,null,0,null,null,null,0,5184]
["Прочие услуги (экспресс-почта, бандероли, ценные посылки, телеграммы и др.)",null,null,null,{"$f":"'221 связь'!$Q$33","v":1000},1000,null,null,null,null,null,null,0,null,null,null,0,null,null,null,0,null,null,null,0,1000]
["Заказные письма",null,null,null,{"$f":"'221 связь'!$Q$38","v":5703.2000000000007},5703.2000000000007,null,null,null,null,null,null,0,null,null,null,0,null,null,null,0,null,null,null,0,5703.2000000000007]
["Подключение к глобальной информационной сети Интернет, абонентская плата",null,null,null,null,0,null,null,null,null,null,null,0,null,null,null,0,null,null,null,0,null,null,null,0,0]
[null,null,null,null,null,0,null,null,null,null,null,null,0,null,null,null,0,null,null,null,0,null,null,null,0,0]
[null,null,null,null,null,0,null,null,null,null,null,null,0,null,null,null,0,null,null,null,0,null,null,null,0,0]
[null,null,null,null,null,0,null,null,null,null,null,null,0,null,null,null,0,null,null,null,0,null,null,null,0,0]
[null,null,null,null,null,0,null,null,null,null,null,null,0,null,null,null,0,null,null,null,0,null,null,null,0,{"$f":"F261-Y261-U261-Q261-M261","v":0}]
[null,null,null,null,null,0,null,null,null,null,null,null,0,null,null,null,0,null,null,null,0,null,null,null,0,0]
["Транспортные услуги, в том числе:",222,null,null,{"$f":"E264","v":0},0,0,0,0,0,0,0,0,0,0,0,0,0,0,0,0,0,0,0,0,{"$f":"F263-Y263-U263-Q263-M263","v":0}]
["Прочие транспортные расходы, в том числе:",null,922,"06507010210074080244",{"$f":"SUM(E265:E273)","v":0},0,0,0,0,0,0,0,0,0,0,0,0,0,0,0,0,0,0,0,0,{"$f":"F264-Y264-U264-Q264-M264","v":0}]
["Транспортные расходы на доставку оборудования, необходимого для организации деятельности работников (АУП и УВП)",null,null,null,null,{"$f":"E265","v":0},null,null,null,null,null,null,{"$f":"SUM(J265:L265)","v":0},null,null,null,{"$f":"SUM(N265:P265)","v":0},null,null,null,{"$f":"SUM(R265:T265)","v":0},null,null,null,{"$f":"SUM(V265:X265)","v":0},{"$f":"F265-Y265-U265-Q265-M265","v":0}]
["Транспортные расходы на доставку мебели, необходимой для организации деятельности работников (АУП и УВП)",null,null,null,null,0,null,null,null,null,null,null,0,null,null,null,0,null,null,null,0,null,null,null,0,{"$f":"F266-Y266-U266-Q266-M266","v":0}]
["Транспортные расходы на доставку средств вычислительной техники, копировально-множительной техники, связи и телекоммуникаций, необходимых для организации деятельности работников (АУП и УВП)",null,null,null,null,0,null,null,null,null,null,null,0,null,null,null,0,null,null,null,0,null,null,null,0,0]
["Расходы по доставке периодических изданий, необходимых для организации деятельности работников (АУП и УВП)",null,null,null,null,0,null,null,null,null,null,null,0,null,null,null,0,null,null,null,0,null,null,null,0,0]
[null,null,null,null,null,null,null,null,null,null,null,null,null,null,null,null,null,null,null,null,null,null,null,null,null,0]
[null,null,null,null,null,0,null,null,null,null,null,null,0,null,null,null,0,null,null,null,0,null,null,null,0,0]
[null,null,null,null,null,0,null,null,null,null,null,null,0,null,null,null,0,null,null,null,0,null,null,null,0,0]
[null,null,null,null,null,0,null,null,null,null,null,null,0,null,null,null,0,null,null,null,0,null,null,null,0,0]
[null,null,null,null,null,0,null,null,null,null,null,null,0,null,null,null,0,null,null,null,0,null,null,null,0,0]
["Работы, услуги по содержанию имущества, в том числе:",225,null,null,{"$f":"E275+E283","v":43000},43000,0,0,0,0,0,0,0,0,0,0,0,0,0,0,0,0,0,0,0,43000]
["Текущий ремонт оборудования, в том числе:",null,942,"06507010210074080244",{"$f":"SUM(E276:E282)","v":17200},17200,0,0,0,0,0,0,0,0,0,0,0,0,0,0,0,0,0,0,0,17200]
["Ремонт и техн. обслуживание оргтехники и копировально-множительного оборудования, используемых работниками (АУП и УВП)",null,null,null,{"$f":"'225 сод.имущ.'!$I$204","v":17200},{"$f":"E276","v":17200},null,null,null,null,null,null,{"$f":"SUM(J276:L276)","v":0},null,null,null,{"$f":"SUM(N276:P276)","v":0},null,null,null,{"$f":"SUM(R276:T276)","v":0},null,null,null,{"$f":"SUM(V276:X276)","v":0},17200]
["Услуги по ремонту рабочего места работника (АУП и УВП)",null,null,null,null,0,null,null,null,null,null,null,0,null,null,null,0,null,null,null,0,null,null,null,0,0]
[null,null,null,null,null,0,null,null,null,null,null,null,0,null,null,null,0,null,null,null,0,null,null,null,0,0]
[null,null,null,null,null,0,null,null,null,null,null,null,0,null,null,null,0,null,null,null,0,null,null,null,0,0]
[null,null,null,null,null,0,null,null,null,null,null,null,0,null,null,null,0,null,null,null,0,null,null,null,0,0]
[null,null,null,null,null,0,null,null,null,null,null,null,0,null,null,null,0,null,null,null,0,null,null,null,0,0]
[null,null,null,null,null,0,null,null,null,null,null,null,0,null,null,null,0,null,null,null,0,null,null,null,0,0]
["Прочие расходы по содержанию имущества, в том числе:",null,947,"06507010210074080244",{"$f":"SUM(E284:E290)","v":25800},25800,0,0,0,0,0,0,0,0,0,0,{"$f":"SUM(Q285:Q290)","v":0},{"$f":"SUM(R284:R290)","v":0},0,0,0,0,0,0,0,25800]
["Заправка и восстановление картриджей для оборудования, используемого работниками (АУП и УВП)",null,null,null,{"$f":"'225 сод.имущ.'!$I$303","v":25800},{"$f":"E284","v":25800},null,null,null,null,null,null,0,null,null,null,{"$f":"SUM(N284:P284)","v":0},null,null,null,0,null,null,null,0,{"$f":"F284-Y284-U284-Q285-M284","v":25800}]
["Диагностика и определение неисправности компьютерного оборудования, используемого работниками (АУП и УВП)",null,null,null,null,0,null,null,null,null,null,null,0,null,null,null,0,null,null,null,0,null,null,null,0,{"$f":"F285-Y285-U285-Q286-M285","v":0}]
[null,null,null,null,null,0,null,null,null,null,null,null,0,null,null,null,0,null,null,null,0,null,null,null,0,{"$f":"F286-Y286-U286-Q286-M286","v":0}]
[null,null,null,null,null,0,null,null,null,null,null,null,0,null,null,null,0,null,null,null,0,null,null,null,0,0]
[null,null,null,null,null,0,null,null,null,null,null,null,0,null,null,null,0,null,null,null,0,null,null,null,0,0]
[null,null,null,null,null,0,null,null,null,null,null,null,0,null,null,null,0,null,null,null,0,null,null,null,0,0]
[null,null,null,null,null,0,null,null,null,null,null,null,{"$f":"SUM(J290:L290)","v":0},null,null,null,{"$f":"SUM(N290:P290)","v":0},null,null,null,{"$f":"SUM(R290:T290)","v":0},null,null,null,{"$f":"SUM(V290:X290)","v":0},0]
["Прочие работы, услуги, в том числе:",226,null,null,{"$f":"E292+E304+E305+E306","v":308900},{"$f":"F292+F304+F305+F306","v":308900},0,0,0,0,0,0,0,0,0,0,0,0,0,0,0,0,0,0,0,308900]
["Прочие услуги, в том числе:",null,954,"06507010210074080244",{"$f":"MROUND(SUM(E293:E303),100)","v":163000},{"$f":"MROUND(SUM(F293:F303),100)","v":163000},{"$f":"SUM(G293:G303)","v":0},0,0,0,0,0,0,0,0,0,0,0,0,0,0,0,0,0,0,163000]
["Специальная оценка условий труда на рабочих местах (АУП и УВП)",null,null,null,{"$f":"'226 пр.работы, услуги'!$F$137*1000","v":10620},{"$f":"E293","v":10620},null,null,null,null,null,null,{"$f":"SUM(J293:L293)","v":0},null,null,null,{"$f":"SUM(N293:P293)","v":0},null,null,null,{"$f":"SUM(R293:T293)","v":0},null,null,null,{"$f":"SUM(V293:X293)","v":0},10620]
["Приобретение и сопровождение программного обеспечения для организации деятельности работников (АУП и УВП)",null,null,null,{"$f":"'226 пр.работы, услуги'!$F$138*1000","v":84437.440000000002},84437.440000000002,null,null,null,null,null,null,0,null,null,null,0,null,null,null,0,null,null,null,0,84437.440000000002]
["Участие в семинарах, курсах повышения квалификации, конференциях, спортивных мероприятиях работников и переподготовка работников (АУП и УВП)",null,null,null,{"$f":"'226 пр.работы, услуги'!$F$145*1000","v":67950},67950,null,null,null,null,null,null,0,null,null,null,0,null,null,null,0,null,null,null,0,67950]
["Услуги по организации обучения сотрудников (АУП и УВП)",null,null,null,null,0,null,null,null,null,null,null,0,null,null,null,0,null,null,null,0,null,null,null,0,0]
["Услуги в области информационных технологий (АУП и УВП)",null,null,null,null,0,null,null,null,null,null,null,0,null,null,null,0,null,null,null,0,null,null,null,0,0]
["Нотариальные услуги (АУП и УВП)",null,null,null,null,0,null,null,null,null,null,null,0,null,null,null,0,null,null,null,0,null,null,null,0,0]
[null,null,null,null,null,0,null,null,null,null,null,null,0,null,null,null,0,null,null,null,0,null,null,null,0,0]
[null,null,null,null,null,0,null,null,null,null,null,null,0,null,null,null,0,null,null,null,0,null,null,null,0,0]
[null,null,null,null,null,0,null,null,null,null,null,null,0,null,null,null,0,null,null,null,0,null,null,null,0,0]
[null,null,null,null,null,0,null,null,null,null,null,null,0,null,null,null,0,null,null,null,0,null,null,null,0,0]
[null,null,null,null,null,0,null,null,null,null,null,null,0,null,null,null,0,null,null,null,0,null,null,null,0,0]
["Вознаграждение по договорам ГПХ с учетом ЕСН",null,955,"06507010210074080244",null,0,null,null,null,null,null,null,0,null,null,null,0,null,null,null,0,null,null,null,0,0]
["Приобретение периодических изданий, справочной литературы",null,956,"06507010210074080244",{"$f":"'226.956 подписка'!$D$7","v":25300},25300,null,null,null,null,null,null,0,null,null,null,0,null,null,null,0,null,null,null,0,25300]
["Медицинские услуги (в том числе диспансеризация, медицинский осмотр и освидетельствование работников (включая предрейсовые осмотры водителей), состоящих в штате учреждения, проведение медицинских анализов), в том числе:",null,995,"06507010210074080244",{"$f":"SUM(E307:E309)","v":120600},{"$f":"SUM(F307:F309)","v":120600},0,{"$f":"SUM(H307:H309)","v":0},0,0,0,0,0,0,0,0,0,0,0,0,0,0,0,0,0,120600]
["АУП, УВП",null,null,null,{"$f":"'226.995 медосмотры'!$CX$14","v":120600},{"$f":"E307","v":120600},null,null,null,null,null,null,{"$f":"SUM(J307:L307)","v":0},null,null,null,{"$f":"SUM(N307:P307)","v":0},null,null,null,{"$f":"SUM(R307:T307)","v":0},null,null,null,{"$f":"SUM(V307:X307)","v":0},120600]
["Педагоги",null,null,null,null,{"$f":"E308","v":0},null,null,null,null,null,null,{"$f":"SUM(J308:L308)","v":0},null,null,null,{"$f":"SUM(N308:P308)","v":0},null,null,null,{"$f":"SUM(R308:T308)","v":0},null,null,null,{"$f":"SUM(V308:X308)","v":0},0]
["МОП",null,null,null,null,{"$f":"E309","v":0},null,null,null,null,null,null,{"$f":"SUM(J309:L309)","v":0},null,null,null,{"$f":"SUM(N309:P309)","v":0},null,null,null,{"$f":"SUM(R309:T309)","v":0},null,null,null,{"$f":"SUM(V309:X309)","v":0},0]
["Прочие расходы, в том числе:",290,null,null,{"$f":"E323+E311","v":24500},{"$f":"F323+F311","v":24500},{"$f":"G323+G311","v":0},{"$f":"H323","v":0},0,0,0,0,0,0,0,0,0,0,0,0,0,0,0,0,0,24500]
["Прочие расходы, в том числе:",null,962,"06507010210074080244",{"$f":"CEILING(SUM(E312:E322),100)","v":24500},{"$f":"CEILING(SUM(F312:F322),100)","v":24500},{"$f":"SUM(G312:G322)","v":0},0,0,0,0,0,0,0,0,0,0,0,0,0,0,0,0,0,0,24500]
["Плата за размещение отходов производства и потребления",null,null,null,{"$f":"'290.962 пр.расходы'!$E$7","v":800},{"$f":"E312","v":800},null,null,null,null,null,null,{"$f":"SUM(J312:L312)","v":0},null,null,null,{"$f":"SUM(N312:P312)","v":0},null,null,null,{"$f":"SUM(R312:T312)","v":0},null,null,null,{"$f":"SUM(V312:X312)","v":0},800]
["Пени (штрафы) на недоимку по страховым взносам ",null,null,null,{"$f":"'290.962 пр.расходы'!$E$8","v":5000},5000,null,null,null,null,null,null,0,null,null,null,0,null,null,null,0,null,null,null,0,5000]
["Госпошлина и сборы",null,null,null,{"$f":"'290.962 пр.расходы'!$E$9","v":3500},3500,null,null,null,null,null,null,0,null,null,null,0,null,null,null,0,null,null,null,0,3500]
["Штрафы (по решению надзорных органов)",null,null,null,{"$f":"'290.962 пр.расходы'!$E$10","v":12500},12500,null,null,null,null,null,null,0,null,null,null,0,null,null,null,0,null,null,null,{"$f":"SUM(V315:X315)","v":0},12500]
["Расходы по исполнительным листам",null,null,null,{"$f":"'290.962 пр.расходы'!$E$11","v":2700},2700,null,null,null,null,null,null,0,null,null,null,0,null,null,null,0,null,null,null,0,2700]
["Прочие платежи в бюджеты всех уровней",null,null,null,{"$f":"'290.962 пр.расходы'!$E$12","v":0},0,null,null,null,null,null,null,0,null,null,null,0,null,null,null,0,null,null,null,0,0]
[null,null,null,null,null,0,null,null,null,null,null,null,{"$f":"SUM(J318:L318)","v":0},null,null,null,0,null,null,null,0,null,null,null,0,0]
[null,null,null,null,null,0,null,null,null,null,null,null,0,null,null,null,0,null,null,null,0,null,null,null,0,0]
[null,null,null,null,null,0,null,null,null,null,null,null,0,null,null,null,0,null,null,null,0,null,null,null,0,0]
[null,null,null,null,null,0,null,null,null,null,null,null,0,null,null,null,0,null,null,null,0,null,null,null,0,0]
[null,null,null,null,null,0,null,null,null,null,null,null,0,null,null,null,0,null,null,null,0,null,null,null,0,0]
["Культурно-массовые и спортивно-массовые мероприятия, в том числе:",null,963,"06507010210074080244",{"$f":"SUM(E324:E325)","v":0},0,0,0,0,0,0,0,0,0,0,0,0,0,0,0,0,0,0,0,0,0]
["Городские мероприятия (приобретение кубков, медалей, ценных подарков, грамот, дипломов)",null,null,null,null,{"$f":"E324","v":0},null,null,null,null,null,null,{"$f":"SUM(J324:L324)","v":0},null,null,null,{"$f":"SUM(N324:P324)","v":0},null,null,null,{"$f":"SUM(R324:T324)","v":0},null,null,null,{"$f":"SUM(V324:X324)","v":0},0]
["Внутренние мероприятия (приобретение кубков, медалей, ценных подарков, грамот, дипломов)",null,null,null,null,{"$f":"E325","v":0},null,null,null,null,null,null,{"$f":"SUM(J325:L325)","v":0},null,null,null,{"$f":"SUM(N325:P325)","v":0},null,null,null,{"$f":"SUM(R325:T325)","v":0},null,null,null,{"$f":"SUM(V325:X325)","v":0},0]
["Поступление нефинансовых активов, всего, из них:",300,null,null,{"$f":"E327+E329","v":226300},{"$f":"F327+F329","v":226300},{"$f":"G327+G329","v":0},"х","х",{"$f":"J327","v":"х"},"х","х","х",{"$f":"N327","v":"х"},"х","х","х",{"$f":"R327","v":"х"},"х","х","х",{"$f":"V327","v":"х"},"х","х","х","х"]
["Увеличение стоимости основных средств, в том числе:",310,null,null,{"$f":"E328","v":0},{"$f":"F328","v":0},{"$f":"G328","v":0},"х","х","х","х","х","х","х","х","х","х","х","х","х","х","х","х","х","х","х"]
["Приобретение основных средств",null,971,"06507010210074080244",{"$f":"'310,340 смета ТМЦ'!$K$172","v":0},{"$f":"E328","v":0},null,"х","х","х","х","х","х","х","х","х","х","х","х","х","х","х","х","х","х","х"]
["Увеличение стоимости материальных запасов, в том числе:",340,null,null,{"$f":"SUM(E330:E331)","v":226300},{"$f":"SUM(F330:F331)","v":226300},{"$f":"SUM(G330:G331)","v":0},"х","х",{"$f":"J330","v":"х"},{"$f":"K330","v":"х"},{"$f":"L330","v":"х"},"х",{"$f":"N330","v":"х"},{"$f":"O330","v":"х"},{"$f":"P330","v":"х"},"х",null,null,null,"х",null,null,null,"х","х"]
["Приобретение расходных материалов",null,981,"06507010210074080244",{"$f":"'310,340 смета ТМЦ'!$K$170","v":195900},{"$f":"E330","v":195900},null,"х","х","х","х","х","х","х","х","х","х","х","х","х","х","х","х","х","х","х"]
["Приобретение медикаментов и перевязочных средств",null,982,"06507010210074080244",{"$f":"'310,340 смета ТМЦ'!$K$171","v":30400},{"$f":"E331","v":30400},null,"х","х","х","х","х","х","х","х","х","х","х","х","х","х","х","х","х","х","х"]
["III блок - Субсидии на выполнение мун. задания (краевой бюджет КЦСР 0210075880)"]
["Наименование показателя","КОСГУ","Доп. КР","КБК","!!!! Не изменять показатели данной графы\nУтвержденные ассигнования на 2017 год, краевой бюджет \nСубвенции бюджетам муниципальных образований в части обеспечения деятельности педагогического персонала и воспитанников\nСубсидии на финансовое обеспечение выполнения муниципального задания\nКод доп.ЭК 000, доп.ФК 70000, КЦСР 0210075880\n","!!! Изменения между услугами вносить в данной графе\nАссигнования с учетом изменений на 2017 год, краевой бюджет \nСубвенции бюджетам муниципальных образований в части обеспечения деятельности педагогического персонала и воспитанников\nСубсидии на финансовое обеспечение выполнения муниципального задания\nКод доп.ЭК 000, доп.ФК 70000, КЦСР 0210075880\n","Финансирование на начало года (переходящие остатки прошлых лет на лицевых счетах)\nКод доп.ЭК 831","Сумма по заключенному договору","Экономия/\nдефицит по заключенному договору, +/-\nграфа 6 + графа 7 - графа 8","!!! Счета акцептованные руководителем и переданные бухгалтеру на оплату"]
[null,null,null,null,null,null,null,null,null,"Январь","Февраль","Март","ИТОГО\nI квартал","Апрель","Май","Июнь","ИТОГО\nII квартал","Июль","Август","Сентябрь","ИТОГО\nIII квартал","Октябрь","Ноябрь","Декабрь","ИТОГО\nIV квартал","Остаток денежных средств (без учета приобретений ТМЦ - КОСГУ 310, 340)"]
[1,2,3,4,5,6,7,8,9,10,11,12,13,14,15,16,17,18,19,20,21,22,23,24,25,26]
["ВЫПЛАТЫ ВСЕГО",null,null,null,{"$f":"E338+E430","v":776000},{"$f":"F338+F430","v":776000},{"$f":"G338+G430","v":0},{"$f":"H338","v":0},0,0,0,0,{"$f":"M338","v":0},0,0,0,0,0,0,0,0,0,0,0,0,{"$f":"Z338","v":351100}]
["ВЫПЛАТЫ ВСЕГО для СГОЗ",null,null,null,{"$f":"E345+E361+E376+E396+E409+E410+E427+E431+E433+E408","v":776000},{"$f":"F345+F361+F376+F396+F409+F410+F427+F431+F433+F408","v":776000},{"$f":"G345+G361+G376+G396+G409+G410+G427+G431+G433+G408","v":0},"х","х","х","х","х","х","х","х","х","х","х","х","х","х","х","х","х","х","х"]
[null,200,null,null,{"$f":"E339+E414","v":351100},351100,0,0,0,0,0,0,0,0,0,0,0,0,0,0,0,0,0,0,0,{"$f":"F338-Y338-U338-Q338-M338","v":351100}]
["Оплата работ, услуг, всего, из них:",220,null,null,{"$f":"E340+E345+E361+E376+E395","v":321100},321100,0,0,0,0,0,0,0,0,0,0,0,0,0,0,0,0,0,0,0,{"$f":"F339-Y339-U339-Q339-M339","v":321100}]
["Прочие выплаты, в том числе:",212,null,null,{"$f":"SUM(E341:E344)","v":0},0,0,0,0,0,0,0,0,0,0,0,0,0,0,0,0,0,0,0,0,{"$f":"F340-Y340-U340-Q340-M340","v":0}]
["Возмещение работникам (сотрудникам) расходов, связанных со служебными командировками (суточные при служебных командировках)",null,912,"06507010210074080112",{"$f":"'212 командировки'!$F$16","v":0},{"$f":"E341","v":0},null,null,null,null,null,null,{"$f":"SUM(J341:L341)","v":0},null,null,null,{"$f":"SUM(N341:P341)","v":0},null,null,null,{"$f":"SUM(R341:T341)","v":0},null,null,null,{"$f":"SUM(V341:X341)","v":0},{"$f":"F341-Y341-U341-Q341-M341","v":0}]
["Оплата проезда по служебным командировкам (в т.ч. студентам, обучающимся по заочной форме обучения, при проезде к месту нахождения учебного заведения)",null,921,"06507010210074080112",{"$f":"'212 командировки'!$H$16","v":0},{"$f":"E342","v":0},null,null,null,null,null,null,{"$f":"SUM(J342:L342)","v":0},null,null,null,{"$f":"SUM(N342:P342)","v":0},null,null,null,{"$f":"SUM(R342:T342)","v":0},null,null,null,{"$f":"SUM(V342:X342)","v":0},{"$f":"F342-Y342-U342-Q342-M342","v":0}]
["Оплата проезда сопровождающих лиц, являющихся штатными сотрудниками учреждений",null,924,"06507010210074080112",null,{"$f":"E343","v":0},null,null,null,null,null,null,{"$f":"SUM(J343:L343)","v":0},null,null,null,{"$f":"SUM(N343:P343)","v":0},null,null,null,{"$f":"SUM(R343:T343)","v":0},null,null,null,{"$f":"SUM(V343:X343)","v":0},{"$f":"F343-Y343-U343-Q343-M343","v":0}]
["Проживание в служебных командировках",null,952,"06507010210074080112",{"$f":"'212 командировки'!$K$16","v":0},{"$f":"E344","v":0},null,null,null,null,null,null,{"$f":"SUM(J344:L344)","v":0},null,null,null,{"$f":"SUM(N344:P344)","v":0},null,null,null,{"$f":"SUM(R344:T344)","v":0},null,null,null,{"$f":"SUM(V344:X344)","v":0},{"$f":"F344-Y344-U344-Q344-M344","v":0}]
["Услуги связи, в том числе:",221,null,null,{"$f":"E346","v":48000},48000,0,0,0,0,0,0,0,0,0,0,0,0,0,0,0,0,0,0,0,48000]
["Услуги связи, в том числе:",null,925,"06507010210075880244",{"$f":"SUM(E347:E360)","v":48000},48000,0,0,0,0,0,0,0,0,0,0,0,0,0,0,0,0,0,0,0,48000]
["Телекоммуникационные услуги связи (ГТС)",null,null,null,null,{"$f":"E347","v":0},null,null,null,null,null,null,{"$f":"SUM(J347:L347)","v":0},null,null,null,{"$f":"SUM(N347:P347)","v":0},null,null,null,{"$f":"SUM(R347:T347)","v":0},null,null,null,{"$f":"SUM(V347:X347)","v":0},0]
["Услуги внутризоновой телефонной связи",null,null,null,null,{"$f":"E348","v":0},null,null,null,null,null,null,{"$f":"SUM(J348:L348)","v":0},null,null,null,0,null,null,null,0,null,null,null,0,0]
["Услуги автоматической междугородней и международней телефонной связи",null,null,null,null,0,null,null,null,null,null,null,0,null,null,null,0,null,null,null,0,null,null,null,0,0]
["Услуги связи по тарифному плану \"Квалифицированный Голд\"",null,null,null,null,0,null,null,null,null,null,null,0,null,null,null,0,null,null,null,0,null,null,null,0,0]
["Прочие расходы (восстан-е линии связи, уст-ка доп. телефонов, предост-е доступа к мест. телеф. связи и др.)",null,null,null,null,0,null,null,null,null,null,null,0,null,null,null,0,null,null,null,0,null,null,null,0,0]
["Марочная продукция (маркированные конверты)",null,null,null,null,0,null,null,null,null,null,null,0,null,null,null,0,null,null,null,0,null,null,null,0,0]
["Прочие услуги (экспресс-почта, бандероли, ценные посылки, телеграммы и др.)",null,null,null,null,0,null,null,null,null,null,null,0,null,null,null,0,null,null,null,0,null,null,null,0,0]
["Заказные письма",null,null,null,null,0,null,null,null,null,null,null,0,null,null,null,0,null,null,null,0,null,null,null,0,0]
["Подключение к глобальной информационной сети Интернет, абонентская плата",null,null,null,{"$f":"'221 связь'!$Q$46","v":48000},48000,null,null,null,null,null,null,0,null,null,null,0,null,null,null,0,null,null,null,0,48000]
[null,null,null,null,null,0,null,null,null,null,null,null,0,null,null,null,0,null,null,null,0,null,null,null,0,0]
[null,null,null,null,null,0,null,null,null,null,null,null,0,null,null,null,0,null,null,null,0,null,null,null,0,0]
[null,null,null,null,null,0,null,null,null,null,null,null,0,null,null,null,0,null,null,null,0,null,null,null,0,0]
[null,null,null,null,null,0,null,null,null,null,null,null,0,null,null,null,0,null,null,null,0,null,null,null,0,0]
[null,null,null,null,null,0,null,null,null,null,null,null,0,null,null,null,0,null,null,null,0,null,null,null,0,0]
["Транспортные услуги, в том числе:",222,null,null,{"$f":"E362","v":0},0,0,0,0,0,0,0,0,0,0,0,0,0,0,0,0,0,0,0,0,0]
["Прочие транспортные расходы, в том числе:",null,922,"06507010210074080244",{"$f":"SUM(E363:E375)","v":0},0,0,0,0,0,0,0,0,0,0,0,0,0,0,0,0,0,0,0,0,{"$f":"F362-Y362-U362-Q362-M362","v":0}]
["Транспортные расходы на доставку оборудования, необходимого для организации деятельности пед. работников, воспитанников ",null,null,null,null,{"$f":"E363","v":0},null,null,null,null,null,null,{"$f":"SUM(J363:L363)","v":0},null,null,null,{"$f":"SUM(N363:P363)","v":0},null,null,null,{"$f":"SUM(R363:T363)","v":0},null,null,null,{"$f":"SUM(V363:X363)","v":0},{"$f":"F363-Y363-U363-Q363-M363","v":0}]
["Транспортные расходы на доставку мебели, необходимой для организации деятельности пед. работников, воспитанников",null,null,null,null,{"$f":"E364","v":0},null,null,null,null,null,null,{"$f":"SUM(J364:L364)","v":0},null,null,null,{"$f":"SUM(N364:P364)","v":0},null,null,null,{"$f":"SUM(R364:T364)","v":0},null,null,null,{"$f":"SUM(V364:X364)","v":0},{"$f":"F364-Y364-U364-Q364-M364","v":0}]
["Транспортные расходы на доставку средств вычислительной техники, копировально-множительной техники, связи и телекоммуникаций, необходимых для организации деятельности пед. работников",null,null,null,null,{"$f":"E365","v":0},null,null,null,null,null,null,{"$f":"SUM(J365:L365)","v":0},null,null,null,{"$f":"SUM(N365:P365)","v":0},null,null,null,{"$f":"SUM(R365:T365)","v":0},null,null,null,{"$f":"SUM(V365:X365)","v":0},0]
["Расходы по доставке периодических изданий, необходимых для организации деятельности пед. работников",null,null,null,null,{"$f":"E366","v":0},null,null,null,null,null,null,{"$f":"SUM(J366:L366)","v":0},null,null,null,{"$f":"SUM(N366:P366)","v":0},null,null,null,{"$f":"SUM(R366:T366)","v":0},null,null,null,{"$f":"SUM(V366:X366)","v":0},0]
["Транспортные расходы на доставку спортивного оборудования и инвентаря",null,null,null,null,null,null,null,null,null,null,null,null,null,null,null,null,null,null,null,null,null,null,null,null,0]
["Транспортные расходы на доставку музыкальных инструментов",null,null,null,null,{"$f":"E368","v":0},null,null,null,null,null,null,{"$f":"SUM(J368:L368)","v":0},null,null,null,{"$f":"SUM(N368:P368)","v":0},null,null,null,{"$f":"SUM(R368:T368)","v":0},null,null,null,{"$f":"SUM(V368:X368)","v":0},0]
["Транспортные расходы на доставку наглядных и звуковых пособий (видеокассет, аудиокассет, слайдов и т.д.) и экспонатов",null,null,null,null,0,null,null,null,null,null,null,0,null,null,null,0,null,null,null,0,null,null,null,0,0]
["Транспортные расходы на доставку детской художественной литературы",null,null,null,null,0,null,null,null,null,null,null,0,null,null,null,0,null,null,null,0,null,null,null,0,0]
[null,null,null,null,null,null,null,null,null,null,null,null,null,null,null,null,null,null,null,null,null,null,null,null,null,0]
[null,null,null,null,null,null,null,null,null,null,null,null,null,null,null,null,null,null,null,null,null,null,null,null,null,0]
[null,null,null,null,null,null,null,null,null,null,null,null,null,null,null,null,null,null,null,null,null,null,null,null,null,0]
[null,null,null,null,null,null,null,null,null,null,null,null,null,null,null,null,null,null,null,null,null,null,null,null,null,0]
[null,null,null,null,null,0,null,null,null,null,null,null,0,null,null,null,0,null,null,null,0,null,null,null,0,0]
["Работы, услуги по содержанию имущества, в том числе:",225,null,null,{"$f":"E377+E387","v":0},{"$f":"F377+F387","v":0},0,0,0,0,0,0,0,0,0,0,0,0,0,0,0,0,0,0,0,0]
["Текущий ремонт оборудования, в том числе:",null,942,"06507010210075880244",{"$f":"SUM(E378:E386)","v":0},0,0,0,0,0,0,0,0,0,0,0,0,0,0,0,0,0,0,0,{"$f":"SUM(Y378:Y384)","v":0},0]
["Ремонт и техн. обслуживание оргтехники и копировально-множительного оборудования, используемых пед. работниками",null,null,null,null,{"$f":"E378","v":0},null,null,null,null,null,null,{"$f":"SUM(J378:L378)","v":0},null,null,null,{"$f":"SUM(N378:P378)","v":0},null,null,null,{"$f":"SUM(R378:T378)","v":0},null,null,null,{"$f":"SUM(V378:X378)","v":0},0]
["Услуги по ремонту мебели, используемой воспитанниками, рабочего места пед. работника ",null,null,null,null,0,null,null,null,null,null,null,0,null,null,null,0,null,null,null,0,null,null,null,0,0]
["Ремонт и обслуживание музыкального оборудования и инструментов в части расходов, связанных с организацией деятельности пед. работников, воспитанников",null,null,null,null,0,null,null,null,null,null,null,0,null,null,null,0,null,null,null,0,null,null,null,0,0]
["Текущий ремонт и техн. обслуживание оборудования, приборов и инвентаря, используемого пед. работниками, воспитанниками",null,null,null,null,0,null,null,null,null,null,null,0,null,null,null,0,null,null,null,0,null,null,null,0,0]
[null,null,null,null,null,0,null,null,null,null,null,null,0,null,null,null,0,null,null,null,0,null,null,null,0,0]
[null,null,null,null,null,0,null,null,null,null,null,null,0,null,null,null,0,null,null,null,0,null,null,null,0,0]
[null,null,null,null,null,0,null,null,null,null,null,null,0,null,null,null,0,null,null,null,0,null,null,null,0,0]
[null,null,null,null,null,0,null,null,null,null,null,null,0,null,null,null,0,null,null,null,0,null,null,null,0,0]
[null,null,null,null,null,0,null,null,null,null,null,null,0,null,null,null,0,null,null,null,0,null,null,null,0,0]
["Прочие расходы по содержанию имущества, в том числе:",null,947,"06507010210075880244",{"$f":"SUM(E388:E394)","v":0},{"$f":"SUM(F388:F394)","v":0},0,0,0,0,0,0,0,0,0,0,0,0,0,0,0,0,0,0,0,0]
["Заправка и восстановление картриджей для оборудования, используемого пед. работниками",null,null,null,null,{"$f":"E388","v":0},null,null,null,null,null,null,{"$f":"SUM(J388:L388)","v":0},null,null,null,{"$f":"SUM(N388:P388)","v":0},null,null,null,{"$f":"SUM(R388:T388)","v":0},null,null,null,{"$f":"SUM(V388:X388)","v":0},0]
["Диагностика и определение неисправности компьютерного оборудования, используемого пед. работниками ",null,null,null,null,0,null,null,null,null,null,null,0,null,null,null,0,null,null,null,0,null,null,null,0,0]
[null,null,null,null,null,0,null,null,null,null,null,null,0,null,null,null,0,null,null,null,0,null,null,null,0,0]
[null,null,null,null,null,0,null,null,null,null,null,null,0,null,null,null,0,null,null,null,0,null,null,null,0,0]
[null,null,null,null,null,0,null,null,null,null,null,null,0,null,null,null,0,null,null,null,0,null,null,null,0,0]
[null,null,null,null,null,0,null,null,null,null,null,null,0,null,null,null,0,null,null,null,0,null,null,null,0,0]
[null,null,null,null,null,0,null,null,null,null,null,null,0,null,null,null,0,null,null,null,0,null,null,null,0,0]
["Прочие работы, услуги, в том числе:",226,null,null,{"$f":"E396+E408+E409+E410","v":273100},{"$f":"F396+F408+F409+F410","v":273100},0,0,0,0,0,0,0,0,0,0,0,0,0,0,0,0,0,0,0,273100]
["Прочие услуги, в том числе:",null,954,"06507010210075880244",{"$f":"CEILING(SUM(E397:E407),100)","v":0},{"$f":"CEILING(SUM(F397:F407),100)","v":0},{"$f":"SUM(G397:G407)","v":0},0,0,0,0,0,0,0,0,0,0,0,0,0,0,0,0,0,0,0]
["Специальная оценка условий труда на рабочих местах (пед. работники)",null,null,null,null,{"$f":"E397","v":0},null,null,null,null,null,null,{"$f":"SUM(J397:L397)","v":0},null,null,null,{"$f":"SUM(N397:P397)","v":0},null,null,null,{"$f":"SUM(R397:T397)","v":0},null,null,null,{"$f":"SUM(V397:X397)","v":0},0]
["Приобретение и сопровождение программного обеспечения для организации деятельности пед. работников",null,null,null,null,0,null,null,null,null,null,null,0,null,null,null,0,null,null,null,0,null,null,null,0,0]
["Участие в семинарах, курсах повышения квалификации, конференциях, спортивных мероприятиях пед. работников и переподготовка пед. работников ",null,null,null,null,0,null,null,null,null,null,null,0,null,null,null,0,null,null,null,0,null,null,null,0,0]
["Услуги по организации обучения пед. работников",null,null,null,null,0,null,null,null,null,null,null,0,null,null,null,0,null,null,null,0,null,null,null,0,0]
["Услуги в области информационных технологий (пед. работники)",null,null,null,null,0,null,null,null,null,null,null,0,null,null,null,0,null,null,null,0,null,null,null,0,0]
["Нотариальные услуги (пед. работники)",null,null,null,null,0,null,null,null,null,null,null,0,null,null,null,0,null,null,null,0,null,null,null,0,0]
[null,null,null,null,null,0,null,null,null,null,null,null,0,null,null,null,0,null,null,null,0,null,null,null,0,{"$f":"F403-Y403-U403-Q403-M403","v":0}]
[null,null,null,null,null,0,null,null,null,null,null,null,0,null,null,null,0,null,null,null,0,null,null,null,0,0]
[null,null,null,null,null,0,null,null,null,null,null,null,0,null,null,null,0,null,null,null,0,null,null,null,0,0]
[null,null,null,null,null,0,null,null,null,null,null,null,0,null,null,null,0,null,null,null,0,null,null,null,0,0]
[null,null,null,null,null,0,null,null,null,null,null,null,0,null,null,null,0,null,null,null,0,null,null,null,0,0]
["Вознаграждение по договорам ГПХ с учетом ЕСН",null,955,"06507010210075880244",null,0,null,null,null,null,null,null,0,null,null,null,0,null,null,null,0,null,null,null,0,0]
["Приобретение периодических изданий, справочной литературы",null,956,"06507010210075880244",null,0,null,null,null,null,null,null,0,null,null,null,0,null,null,null,0,null,null,null,0,0]
["Медицинские услуги (в том числе диспансеризация, медицинский осмотр и освидетельствование работников (включая предрейсовые осмотры водителей), состоящих в штате учреждения, проведение медицинских анализов), в том числе:",null,995,"06507010210075880244",{"$f":"SUM(E411:E413)","v":273100},{"$f":"SUM(F411:F413)","v":273100},0,0,0,0,0,0,0,0,0,0,0,0,0,0,0,0,0,0,0,273100]
["АУП, УВП",null,null,null,null,{"$f":"E411","v":0},null,null,null,null,null,null,{"$f":"SUM(J411:L411)","v":0},null,null,null,{"$f":"SUM(N411:P411)","v":0},null,null,null,{"$f":"SUM(R411:T411)","v":0},null,null,null,{"$f":"SUM(V411:X411)","v":0},0]
["Педагоги",null,null,null,{"$f":"'226.995 медосмотры'!$CX$8","v":273100},{"$f":"E412","v":273100},null,null,null,null,null,null,{"$f":"SUM(J412:L412)","v":0},null,null,null,{"$f":"SUM(N412:P412)","v":0},null,null,null,{"$f":"SUM(R412:T412)","v":0},null,null,null,{"$f":"SUM(V412:X412)","v":0},273100]
["МОП",null,null,null,null,{"$f":"E413","v":0},null,null,null,null,null,null,{"$f":"SUM(J413:L413)","v":0},null,null,null,{"$f":"SUM(N413:P413)","v":0},null,null,null,{"$f":"SUM(R413:T413)","v":0},null,null,null,{"$f":"SUM(V413:X413)","v":0},0]
["Прочие расходы, в том числе:",290,null,null,{"$f":"E427+E415","v":30000},{"$f":"F427+F415","v":30000},{"$f":"G427+G415","v":0},{"$f":"H427","v":0},{"$f":"I427","v":0},0,0,0,0,0,0,0,0,0,0,0,0,0,0,0,0,30000]
["Прочие расходы, в том числе:",null,962,"06507010210075880244",{"$f":"SUM(E416:E426)","v":0},{"$f":"SUM(F416:F426)","v":0},0,{"$f":"SUM(H416:H426)","v":0},0,0,0,0,0,0,0,0,0,0,0,0,0,0,0,0,0,0]
["Плата за размещение отходов производства и потребления",null,null,null,null,{"$f":"E416","v":0},null,null,null,null,null,null,{"$f":"SUM(J416:L416)","v":0},null,null,null,{"$f":"SUM(N416:P416)","v":0},null,null,null,{"$f":"SUM(R416:T416)","v":0},null,null,null,{"$f":"SUM(V416:X416)","v":0},0]
["Пени (штрафы) на недоимку по страховым взносам ",null,null,null,null,0,null,null,null,null,null,null,0,null,null,null,0,null,null,null,0,null,null,null,0,0]
["Госпошлина и сборы",null,null,null,null,0,null,null,null,null,null,null,0,null,null,null,0,null,null,null,0,null,null,null,0,0]
["Штрафы (по решению надзорных органов)",null,null,null,null,0,null,null,null,null,null,null,0,null,null,null,0,null,null,null,0,null,null,null,0,0]
["Расходы по исполнительным листам",null,null,null,null,0,null,null,null,null,null,null,0,null,null,null,0,null,null,null,0,null,null,null,0,0]
["Прочие платежи в бюджеты всех уровней",null,null,null,null,0,null,null,null,null,null,null,0,null,null,null,0,null,null,null,0,null,null,null,0,0]
[null,null,null,null,null,0,null,null,null,null,null,null,0,null,null,null,0,null,null,null,0,null,null,null,0,0]
[null,null,null,null,null,0,null,null,null,null,null,null,0,null,null,null,0,null,null,null,0,null,null,null,0,0]
[null,null,null,null,null,0,null,null,null,null,null,null,0,null,null,null,0,null,null,null,0,null,null,null,0,0]
[null,null,null,null,null,0,null,null,null,null,null,null,0,null,null,null,0,null,null,null,0,null,null,null,0,0]
[null,null,null,null,null,0,null,null,null,null,null,null,0,null,null,null,0,null,null,null,0,null,null,null,0,0]
["Культурно-массовые и спортивно-массовые мероприятия, в том числе:",null,963,"06507010210075880244",{"$f":"SUM(E428:E429)","v":30000},30000,0,0,0,0,0,0,0,0,0,0,0,0,0,0,0,0,0,0,0,30000]
["Городские мероприятия (приобретение кубков, медалей, ценных подарков, грамот, дипломов)",null,null,null,{"$f":"'290.963 КММ'!$F$11","v":0},{"$f":"E428","v":0},null,null,null,null,null,null,{"$f":"SUM(J428:L428)","v":0},null,null,null,{"$f":"SUM(N428:P428)","v":0},null,null,null,{"$f":"SUM(R428:T428)","v":0},null,null,null,{"$f":"SUM(V428:X428)","v":0},0]
["Внутренние мероприятия (приобретение кубков, медалей, ценных подарков, грамот, дипломов)",null,null,null,{"$f":"'290.963 КММ'!$H$11","v":30000},{"$f":"E429","v":30000},null,null,null,null,null,null,{"$f":"SUM(J429:L429)","v":0},null,null,null,{"$f":"SUM(N429:P429)","v":0},null,null,null,{"$f":"SUM(R429:T429)","v":0},null,null,null,{"$f":"SUM(V429:X429)","v":0},30000]
["Поступление нефинансовых активов, всего, из них:",300,null,null,{"$f":"E431+E433","v":424900},{"$f":"F431+F433","v":424900},{"$f":"G431+G433","v":0},"х","х","х","х","х","х","х","х","х","х","х","х","х","х","х","х","х","х","х"]
["Увеличение стоимости основных средств, в том числе:",310,null,null,{"$f":"E432","v":276200},276200,0,"х","х","х","х","х",{"$f":"M432","v":"х"},"х","х","х","х","х","х","х","х","х","х","х","х","х"]
["Приобретение основных средств",null,971,"06507010210075880244",{"$f":"'310,340 смета ТМЦ'!$K$169","v":276200},{"$f":"E432","v":276200},null,"х","х","х","х","х","х","х","х","х","х","х","х","х","х","х","х","х","х","х"]
["Увеличение стоимости материальных запасов, в том числе:",340,null,null,{"$f":"SUM(E434:E434)","v":148700},{"$f":"SUM(F434:F435)","v":148700},{"$f":"SUM(G434:G435)","v":0},"х","х","х","х","х","х","х","х","х","х","х","х","х","х","х","х","х","х","х"]
["Приобретение расходных материалов",null,981,"06507010210075880244",{"$f":"'310,340 смета ТМЦ'!$K$168","v":148700},{"$f":"E434","v":148700},null,"х","х","х","х","х","х","х","х","х","х","х","х","х","х","х","х","х","х","х"]
["Приобретение мягкого инвентаря",null,985,"06507010210075880244",null,{"$f":"E435","v":0},null,"х","х","х","х","х","х","х","х","х","х","х","х","х","х","х","х","х","х","х"]
["IV блок - Платные услуги"]
["Наименование показателя","КОСГУ","Доп. КР","КБК","!!!! Не изменять показатели данной графы\nПлановые показатели на 2017 год, \nПоступления от оказания услуг (выполнения работ) на платной основе и от иной приносящей доход деятельности (родит. плата, плата за питание сотрудников, платные услуги)\n Код доп.ЭК 810\n","!!! Изменения между услугами вносить в данной графе\nПлановые показатели с учетом изменений на 2017 год, \nПоступления от оказания услуг (выполнения работ) на платной основе и от иной приносящей доход деятельности (родит. плата, плата за питание сотрудников, платные услуги)\n Код доп.ЭК 810\n","Финансирование на начало года\n(переходящие остатки прошлых лет на лицевых счетах) - родит. плата, плата за питание сотрудников, платные услуги\n Код доп.ЭК 810","Финансирование на начало года\n(переходящие остатки прошлых лет на лицевых счетах) - безвозмездные поступления (в т.ч. гранты)\n Код доп.ЭК 820","Безвозмездные поступления (в т.ч. гранты) муниципальным бюджетным и автономным учреждениям в 2017 году\n Код доп.ЭК 820"]
[1,2,3,4,5,6,7,8,9]
["ВЫПЛАТЫ ВСЕГО",null,null,null,{"$f":"E441+E478","v":7008490},{"$f":"F441+F478","v":7008490},{"$f":"G441+G478","v":0},{"$f":"H441+H478","v":0},{"$f":"I441+I478","v":0}]
["ВЫПЛАТЫ ВСЕГО для СГОЗ",null,null,null,{"$f":"E449+E451+E453+E457+E459+E466+E467+E468+E470+E471+E473+E477+E479+E474+E481+E469","v":7008490},{"$f":"F449+F451+F453+F457+F459+F466+F467+F468+F470+F471+F473+F477+F479+F474+F481+F469","v":7008490},{"$f":"G449+G451+G453+G457+G459+G466+G467+G468+G470+G471+G473+G477+G479+G474+G481+G469","v":0},{"$f":"H449+H451+H453+H457+H459+H466+H467+H468+H470+H471+H473+H477+H479+H474+H481+H469","v":0},{"$f":"I449+I451+I453+I457+I459+I466+I467+I468+I470+I471+I473+I477+I479+I474+I481+I469","v":0}]
[null,200,null,null,{"$f":"E442+E475","v":87300},{"$f":"F442+F475","v":87300},{"$f":"G442+G475","v":0},{"$f":"H442+H475","v":0},{"$f":"I442+I475","v":0}]
["Оплата работ, услуг, всего, из них:",220,null,null,{"$f":"E449+E451+E453+E457+E459+E465","v":87300},{"$f":"F449+F451+F453+F457+F459+F465","v":87300},{"$f":"G449+G451+G453+G457+G459+G465","v":0},{"$f":"H449+H451+H453+H457+H459+H465","v":0},{"$f":"I449+I451+I453+I457+I459+I465","v":0}]
["Прочие выплаты, в том числе:",212,null,null,{"$f":"SUM(E444:E448)","v":0},{"$f":"SUM(F444:F448)","v":0},{"$f":"SUM(G444:G448)","v":0},{"$f":"SUM(H444:H448)","v":0},{"$f":"SUM(I444:I448)","v":0}]
["Возмещение работникам (сотрудникам) расходов, связанных со служебными командировками (суточные при служебных командировках)",null,912,"00000000000000000112",null,{"$f":"E444","v":0}]
["Оплата проезда по служебным командировкам (в т.ч. студентам, обучающимся по заочной форме обучения, при проезде к месту нахождения учебного заведения)",null,921,"00000000000000000112",null,{"$f":"E445","v":0}]
["Оплата услуг по перевозке несовершеннолетних и сопровождающих их лиц",null,923,"00000000000000000112",null,{"$f":"E446","v":0}]
["Оплата проезда сопровождающих лиц, являющихся штатными сотрудниками учреждений",null,924,"00000000000000000112",null,{"$f":"E447","v":0}]
["Проживание в служебных командировках",null,952,"00000000000000000112",null,{"$f":"E448","v":0}]
["Услуги связи, в том числе:",221,null,null,{"$f":"SUM(E450)","v":0},{"$f":"SUM(F450)","v":0},{"$f":"SUM(G450)","v":0},{"$f":"SUM(H450)","v":0},{"$f":"SUM(I450)","v":0}]
["Услуги связи",null,925,"00000000000000000244",0,0]
["Транспортные услуги, в том числе:",212,null,null,{"$f":"SUM(E452)","v":0},{"$f":"SUM(F452)","v":0},{"$f":"SUM(G452)","v":0},{"$f":"SUM(H452)","v":0},{"$f":"SUM(I452)","v":0}]
["Прочие транспортные расходы",null,922,"00000000000000000244",null,{"$f":"E452","v":0}]
["Коммунальные услуги, в том числе:",223,null,null,{"$f":"SUM(E454:E456)","v":27000},{"$f":"SUM(F454:F456)","v":27000},{"$f":"SUM(G454:G456)","v":0},{"$f":"SUM(H454:H456)","v":0},{"$f":"SUM(I454:I456)","v":0}]
["Оплата отопления и технологических нужд, а также горячего водоснабжения",null,931,"00000000000000000244",null,{"$f":"E454","v":0}]
["Потребление электроэнергии",null,932,"00000000000000000244",{"$f":"MROUND('платные услуги'!B53+'платные услуги (с января)'!B38,100)","v":27000},{"$f":"E455","v":27000}]
["Водоснабжение, канализация",null,933,"00000000000000000244",null,{"$f":"E456","v":0}]
["Арендная плата за пользование имуществом, в том числе:",224,null,null,{"$f":"SUM(E458)","v":0},{"$f":"SUM(F458)","v":0},{"$f":"SUM(G458)","v":0},{"$f":"SUM(H458)","v":0},{"$f":"SUM(I458)","v":0}]
["Арендная плата за пользование имуществом",null,926,"00000000000000000244",null,{"$f":"E458","v":0}]
["Работы, услуги по содержанию имущества, в том числе:",225,null,null,{"$f":"SUM(E460:E464)","v":0},{"$f":"SUM(F460:F464)","v":0},{"$f":"SUM(G460:G464)","v":0},{"$f":"SUM(H460:H464)","v":0},{"$f":"SUM(I460:I464)","v":0}]
["Содержание и техническое обслуживание помещений",null,941,"00000000000000000244",null,{"$f":"E460","v":0}]
["Текущий ремонт оборудования",null,942,"00000000000000000244",null,{"$f":"E461","v":0}]
["Текущий ремонт зданий",null,943,"00000000000000000244",null,{"$f":"E462","v":0}]
["Капитальный ремонт имущества",null,944,"00000000000000000244",null,{"$f":"E463","v":0}]
["Прочие расходы по содержанию имущества",null,947,"00000000000000000244",null,{"$f":"E464","v":0}]
["Прочие работы, услуги, в том числе:",226,null,null,{"$f":"SUM(E466:E474)","v":60300},{"$f":"SUM(F466:F474)","v":60300},{"$f":"SUM(G466:G474)","v":0},{"$f":"SUM(H466:H474)","v":0},{"$f":"SUM(I466:I474)","v":0}]
["Страхование жизни, здоровья, имущества (в том числе гражданской ответственности владельцев транспортных средств)",null,951,"00000000000000000244",null,{"$f":"E466","v":0}]
["Вневедомственная (в том числе пожарная) охрана, охранная и пожарная сигнализация (установка, наладка и эксплуатация)",null,953,"00000000000000000244",null,{"$f":"E467","v":0}]
["Прочие услуги",null,954,"00000000000000000244",null,0]
["Вознаграждение по договорам ГПХ с учетом ЕСН",null,955,"00000000000000000244",{"$f":"MROUND('платные услуги'!B51+'платные услуги (с января)'!B36,100)","v":60300},60300]
["Приобретение периодических изданий, справочной литературы",null,956,"00000000000000000244",null,0]
["Инженерные изыскания для подготовки проектной документации, строительства, реконструкции, капитального и текущего ремонта объектов; архитектурно-строительное проектирование",null,957,"00000000000000000244",null,0]
["Расходы на оплату проезда, найм жилых помещений для участников соревнований, олимпиад и др. мероприятий",null,958,"00000000000000000244",null,0]
["Медицинские услуги (в том числе диспансеризация, медицинский осмотр и освидетельствование работников (включая предрейсовые осмотры водителей), состоящих в штате учреждения, проведение медицинских анализов)",null,995,"00000000000000000244",null,0]
["Оказание услуг по скорой медицинской помощи",null,996,"00000000000000000244",null,0]
["Прочие расходы, в том числе:",290,null,null,{"$f":"SUM(E476:E477)","v":0},{"$f":"SUM(F476:F477)","v":0},{"$f":"SUM(G476:G477)","v":0},{"$f":"SUM(H476:H477)","v":0},{"$f":"SUM(I476:I477)","v":0}]
["Прочие расходы",null,962,"00000000000000000244",null,{"$f":"E476","v":0}]
["Культурно-массовые и спортивно-массовые мероприятия",null,963,"00000000000000000244",null,{"$f":"E477","v":0}]
["Поступление нефинансовых активов, всего, из них:",300,null,null,{"$f":"E479+E481","v":6921190},{"$f":"F479+F481","v":6921190},{"$f":"G479+G481","v":0},{"$f":"H479+H481","v":0},{"$f":"I479+I481","v":0}]
["Увеличение стоимости основных средств, в том числе:",310,null,null,{"$f":"SUM(E480)","v":0},{"$f":"SUM(F480)","v":0},{"$f":"SUM(G480)","v":0},{"$f":"SUM(H480)","v":0},{"$f":"SUM(I480)","v":0}]
["Приобретение основных средств",null,971,"00000000000000000244",null,{"$f":"E480","v":0}]
["Увеличение стоимости материальных запасов, в том числе:",340,null,null,{"$f":"SUM(E482:E485)","v":6921190},{"$f":"SUM(F482:F485)","v":6921190},{"$f":"SUM(G482:G485)","v":0},{"$f":"SUM(H482:H485)","v":0},{"$f":"SUM(I482:I485)","v":0}]
["Приобретение расходных материалов",null,981,"00000000000000000244",{"$f":"MROUND('340.981,985'!$M$29+'платные услуги'!B52+'платные услуги'!B55+'платные услуги (с января)'!B37+'платные услуги (с января)'!B40,100)","v":105100},{"$f":"E482","v":105100}]
["Приобретение медикаментов и перевязочных средств",null,982,"00000000000000000244",null,{"$f":"E483","v":0}]
["Приобретение продуктов питания (оплата продовольствия), в том числе продовольственных пайков военнослужащим и приравненным к ним лицам",null,983,"00000000000000000244",{"$f":"'340.983 питание'!F4+'340.983 питание'!$G$5","v":6685890},{"$f":"E484","v":6685890}]
["Приобретение мягкого инвентаря",null,985,"00000000000000000244",{"$f":"'340.981,985'!$M$30","v":130200},{"$f":"E485","v":130200}]
["V блок - Субсидии на иные цели (местный и краевой бюджеты)"]
["Наименование показателя","КОСГУ","Доп. КР","КБК","!!!! Не изменять показатели данной графы\nУтвержденные ассигнования на 2017 год, местный и краевой бюджеты\nСубсидии на иные цели\n","\nАссигнования с учетом изменений на 2017 год, местный и краевой бюджеты\nСубсидии на иные цели\n","Финансирование на начало года (переходящие остатки прошлых лет на лицевых счетах)\n Код доп.ЭК 842 \n(местный бюджет)","Финансирование на начало года (переходящие остатки прошлых лет на лицевых счетах)\n Код доп.ЭК 842\n(краевой бюджет)","!!! Изменения между услугами вносить в данной графе"]
[null,null,null,null,null,null,null,null,"Местный бюджет (Код доп.ЭК 000)",null,null,"Краевой бюджет (Код доп.ЭК 459)"]
[null,null,null,null,null,null,null,null,"Мероприятие: 1.1.1 Организация предоставления общедоступного и бесплатного дошкольного образования, создание условий для осуществления присмотра и ухода за детьми, КЦСР 0210101110, доп.ФК 81000, 81600","Мероприятие 3.1.2. Модернизация узлов учета ТЭР и воды с установкой приборов учета на горячую воду, замена расходомеров ВЭПС-ТИ, КМ, РМ на новую модификацию, КЦСР 0440000120, доп.ФК 81000","Мероприятие 3.1.4. Установка теплообменников на ГВС на муниципальных объектах, КЦСР 0440000150, доп.ФК 81000","Субвенции бюджетам муниципальных образований на обеспечение выделения денежных средств на осуществление присмотра и ухода за детьми-инвалидами, детьми-сиротами и детьми, оставшимися без попечения родителей, а также детьми с туберкулезной интоксикацией, обучающимися в муниципальных образовательных организациях, реализующих образовательную программу дошкольного образования, без взимания родительской платы в рамках подпрограммы «Развитие дошкольного, общего и дополнительного образования» государственной программы Красноярского края «Развитие образования», КЦСР 0210075540, доп.ФК 81000"]
[null,null,null,null,null,null,null,null,"КБК 06507010210101110244","КБК 06507010440000120244","КБК 06507010440000150244","КБК 06507010210075540244"]
[1,2,3,4,5,6,7,8,9,10,11,12]
["ВЫПЛАТЫ ВСЕГО",null,null,null,{"$f":"E494+E534","v":219300},219300,0,{"$f":"H494+H534","v":0},{"$f":"I494+I534","v":102400},0,0,116900]
["ВЫПЛАТЫ ВСЕГО для СГОЗ",null,null,null,{"$f":"E502+E504+E506+E510+E512+E519+E520+E521+E523+E524+E526+E527+E533+E535+E537+E522","v":219300},219300,0,0,102400,0,0,116900]
[null,200,null,null,{"$f":"E495+E528+E531","v":0},{"$f":"F495+F528+F531","v":0},{"$f":"G495+G528+G531","v":0},{"$f":"H495+H528+H531","v":0},{"$f":"I495+I528+I531","v":0},0,0,0]
["Оплата работ, услуг, всего, из них:",220,null,null,{"$f":"E502+E504+E506+E510+E512+E518","v":0},0,0,{"$f":"H502+H504+H506+H510+H512+H518","v":0},{"$f":"I502+I504+I506+I510+I512+I518","v":0},0,0,0]
["Прочие выплаты, в том числе:",212,null,null,{"$f":"SUM(E497:E501)","v":0},{"$f":"SUM(F497:F501)","v":0},0,{"$f":"SUM(H497:H501)","v":0},{"$f":"SUM(I497:I501)","v":0},0,0,0]
["Возмещение работникам (сотрудникам) расходов, связанных со служебными командировками (суточные при служебных командировках)",null,912,null,0,{"$f":"SUM(I497:L497)","v":0}]
["Оплата проезда по служебным командировкам (в т.ч. студентам, обучающимся по заочной форме обучения, при проезде к месту нахождения учебного заведения)",null,921,null,0,{"$f":"SUM(I498:L498)","v":0}]
["Оплата услуг по перевозке несовершеннолетних и сопровождающих их лиц",null,923,null,0,0]
["Оплата проезда сопровождающих лиц, являющихся штатными сотрудниками учреждений",null,924,null,0,0]
["Проживание в служебных командировках",null,952,null,0,0]
["Услуги связи, в том числе:",221,null,null,{"$f":"SUM(E503)","v":0},0,0,0,0,0,0,0]
["Услуги связи",null,925,null,0,0,null,null,0,0,0,0]
["Транспортные услуги, в том числе:",212,null,null,{"$f":"SUM(E505)","v":0},0,0,0,0,0,0,0]
["Прочие транспортные расходы",null,922,null,0,0]
["Коммунальные услуги, в том числе:",223,null,null,{"$f":"SUM(E507:E509)","v":0},0,0,{"$f":"SUM(H507:H509)","v":0},{"$f":"SUM(I507:I509)","v":0},0,0,0]
["Оплата отопления и технологических нужд, а также горячего водоснабжения",null,931,null,0,0]
["Потребление электроэнергии",null,932,null,0,0]
["Водоснабжение, канализация",null,933,null,0,0]
["Арендная плата за пользование имуществом, в том числе:",224,null,null,{"$f":"SUM(E511)","v":0},0,0,0,0,0,0,0]
["Арендная плата за пользование имуществом",null,926,null,0,0]
["Работы, услуги по содержанию имущества, в том числе:",225,null,null,{"$f":"SUM(E513:E517)","v":0},0,0,{"$f":"SUM(H513:H517)","v":0},{"$f":"SUM(I513:I517)","v":0},0,0,0]
["Содержание и техническое обслуживание помещений",null,941,null,0,0,null,null,null,{"$f":"Энергосбережение!D5","v":0}]
["Текущий ремонт оборудования",null,942,null,0,0]
["Текущий ремонт зданий",null,943,null,0,0]
["Капитальный ремонт имущества",null,944,null,0,0]
["Прочие расходы по содержанию имущества",null,947,null,0,0,null,null,null,null,{"$f":"Энергосбережение!J5","v":0}]
["Прочие работы, услуги, в том числе:",226,null,null,{"$f":"SUM(E519:E527)","v":0},0,0,{"$f":"SUM(H519:H527)","v":0},{"$f":"SUM(I519:I527)","v":0},0,0,0]
["Страхование жизни, здоровья, имущества (в том числе гражданской ответственности владельцев транспортных средств)",null,951,null,0,0]
["Вневедомственная (в том числе пожарная) охрана, охранная и пожарная сигнализация (установка, наладка и эксплуатация)",null,953,null,0,0]
["Прочие услуги",null,954,null,0,0]
["Вознаграждение по договорам ГПХ с учетом ЕСН",null,955,null,0,0]
["Приобретение периодических изданий, справочной литературы",null,956,null,0,0]
["Инженерные изыскания для подготовки проектной документации, строительства, реконструкции, капитального и текущего ремонта объектов; архитектурно-строительное проектирование",null,957,null,0,0]
["Расходы на оплату проезда, найм жилых помещений для участников соревнований, олимпиад и др. мероприятий",null,958,null,0,0]
["Медицинские услуги (в том числе диспансеризация, медицинский осмотр и освидетельствование работников (включая предрейсовые осмотры водителей), состоящих в штате учреждения, проведение медицинских анализов)",null,995,null,0,0]
["Оказание услуг по скорой медицинской помощи",null,996,null,0,0]
["Социальное обеспечение, всего",260,null,null,{"$f":"E529","v":0},0,0,0,0,0,0,0]
["из них: Пособия по социальной помощи населению, в том числе:",262,null,null,{"$f":"SUM(E530)","v":0},0,0,0,0,0,0,0]
["Пособия по социальной помощи населению",null,993,null,0,{"$f":"SUM(I530:L530)","v":0}]
["Прочие расходы, в том числе:",290,null,null,{"$f":"SUM(E532:E533)","v":0},0,0,{"$f":"SUM(H532:H533)","v":0},{"$f":"SUM(I532:I533)","v":0},0,0,0]
["Прочие расходы",null,962,null,0,{"$f":"SUM(I532:L532)","v":0}]
["Культурно-массовые и спортивно-массовые мероприятия",null,963,null,0,0]
["Поступление нефинансовых активов, всего, из них:",300,null,null,{"$f":"E535+E537","v":219300},{"$f":"F535+F537","v":219300},0,{"$f":"H535+H537","v":0},{"$f":"I535+I537","v":102400},0,0,116900]
["Увеличение стоимости основных средств, в том числе:",310,null,null,{"$f":"SUM(E536)","v":0},0,0,0,0,0,0,0]
["Приобретение основных средств",null,971,null,0,{"$f":"SUM(I536:L536)","v":0}]
["Увеличение стоимости материальных запасов, в том числе:",340,null,null,{"$f":"SUM(E538:E541)","v":219300},{"$f":"SUM(F538:F541)","v":219300},0,{"$f":"SUM(H538:H541)","v":0},{"$f":"SUM(I538:I541)","v":102400},0,0,116900]
["Приобретение расходных материалов",null,981,null,102400,{"$f":"SUM(I538:L538)","v":102400},null,null,{"$f":"'Разв. дошк. обр-я'!F8","v":102400}]
["Приобретение медикаментов и перевязочных средств",null,982,null,0,0]
["Приобретение продуктов питания (оплата продовольствия), в том числе продовольственных пайков военнослужащим и приравненным к ним лицам",null,983,null,116900,116900,null,null,null,null,null,{"$f":"'340.983 питание'!H4","v":116900}]
["Приобретение мягкого инвентаря",null,985,null,0,0]

{"sheet":"СГОЗ 2018-2019","index":5,"n_rows":533,"n_cols":14,"rows_kept":533,"cut":false,"hidden":false,"merged":[[479,9,481,9],[479,10,479,12],[4,0,4,4],[12,0,12,2],[479,0,481,0],[479,1,481,1],[479,2,481,2],[479,3,481,3],[227,5,228,5],[479,5,479,7],[479,4,481,4],[325,5,326,5],[325,6,326,6],[325,7,325,23],[429,7,429,23],[11,5,11,6],[325,0,326,0],[325,1,326,1],[325,2,326,2],[325,3,326,3],[325,4,326,4],[18,5,19,5],[18,6,19,6],[18,7,18,23],[227,0,228,0],[227,1,228,1],[227,2,228,2],[227,3,228,3],[227,4,228,4],[18,0,19,0],[18,1,19,1],[18,2,19,2],[18,3,19,3],[18,4,19,4],[227,6,228,6],[227,7,227,23],[16,0,16,4],[9,0,9,2],[11,0,11,2],[10,0,10,2],[13,0,13,2],[15,0,15,4],[8,0,8,2],[1,0,1,3],[5,0,5,2],[6,0,6,2],[7,0,7,2]]}
["1. !!! ДОБАВЛЯТЬ И УДАЛЯТЬ СТРОКИ СТРОГО ЗАПРЕЩЕНО"]
["2. При акцептовании счета, указывать КЦСР+ДопКР, по которому должна быть произведена оплата "]
["3. Расчеты представлены по состоянию на 01.01.2017 "]
[null,null,null,"2018 год","2019 год"]
["Вспомогательныя таблица для формирования СГОЗ (за исключением ДопКР 912,921,923,924,952,958,962,993)"]
["ИТОГО сумма для СГОЗ на 2018-2019 гг.",null,null,{"$f":"SUM(D7:D13)","v":16470790},{"$f":"SUM(E7:E13)","v":15718390}]
["Местный бюджет (субсидия на выполнение мун. задания)",null,null,{"$f":"$E$23","v":6951800},{"$f":"$F$23","v":6951800}]
["Краевой бюджет  в части обеспечения деятельности административного и учебно-вспомогательного персонала (субсидия на выполнение мун. задания)",null,null,{"$f":"$E$232","v":623800},{"$f":"$F$232","v":623800}]
["Краевой бюджет в части обеспечения деятельности педагогического персонала и воспитанников (субсидия на выполнение мун. задания)",null,null,{"$f":"$E$330","v":776000},{"$f":"$F$330","v":776000}]
["Поступления от оказания услуг (выполнения работ) на платной основе и от иной приносящей доход деятельности, Код доп.ЭК 810",null,null,{"$f":"$E$433","v":7130290},{"$f":"$F$433","v":7130290}]
["Безвозмездные поступления, Код доп.ЭК 820"]
["Субсидии на иные цели (местный бюджет)",null,null,{"$f":"$F$485+$G$485+$H$485","v":872000},{"$f":"$K$485+$L$485+$M$485","v":119600},"МЗ+ИЦ (проверка с вкладкой \"Бюджет 2017-2019\")"]
["Субсидии на иные цели (краевой бюджет)",null,null,{"$f":"$I$485","v":116900},{"$f":"$N$485","v":116900},2018,2019]
["ИТОГО МЗ+ИЦ",null,null,{"$f":"D7+D8+D9+D12+D13","v":9340500},{"$f":"E7+E8+E9+E12+E13","v":8588100},{"$f":"D14-'Бюджет 2017-2019'!P5","v":0},{"$f":"E14-'Бюджет 2017-2019'!Q5","v":0}]
[]
["Рабочая таблица по финансовым обьемам, предоставленным на 2018-2019 гг."]
[{"$f":"'План ФХД 2017'!A3:L3","v":"МБДОУ \"Детский сад № 90 \"Цветик-семицветик\""}]
["I блок - Субсидии на выполнение мун. задания (местный бюджет)"]
["Наименование показателя","КОСГУ","Доп. КР","КБК","!!!! Не изменять показатели данной графы\nУтвержденные ассигнования на 2018 год, местный бюджет\nСубсидии на финансовое обеспечение выполнения муниципального задания\nКод доп.ЭК 000, доп.ФК 70000, КЦСР 0210101110","!!!! Не изменять показатели данной графы\nУтвержденные ассигнования на 2019 год, местный бюджет\nСубсидии на финансовое обеспечение выполнения муниципального задания\nКод доп.ЭК 000, доп.ФК 70000, КЦСР 0210101110"]
[]
[1,2,3,4,5,6]
["ВЫПЛАТЫ ВСЕГО",null,null,null,{"$f":"E24+E219","v":7057900},{"$f":"F24+F219","v":7057900}]
["ВЫПЛАТЫ ВСЕГО для СГОЗ",null,null,null,{"$f":"E32+E51+E53+E57+E59+E135+E136+E147+E192+E193+E195+E199+E216+E220+E222+E191","v":6951800},{"$f":"F32+F51+F53+F57+F59+F135+F136+F147+F192+F193+F195+F199+F216+F220+F222+F191","v":6951800}]
[null,200,null,null,{"$f":"E25+E200+E203","v":6439000},{"$f":"F25+F200+F203","v":6439000}]
["Оплата работ, услуг, всего, из них:",220,null,null,{"$f":"E26+E32+E51+E53+E57+E59+E134","v":6427000},{"$f":"F26+F32+F51+F53+F57+F59+F134","v":6427000}]
["Прочие выплаты, в том числе:",212,null,null,{"$f":"SUM(E27:E31)","v":106100},{"$f":"SUM(F27:F31)","v":106100}]
["Возмещение работникам (сотрудникам) расходов, связанных со служебными командировками (суточные при служебных командировках)",null,912,"06507010210101110112",{"$f":"'212 командировки'!$F$13","v":0},{"$f":"'212 командировки'!$F$13","v":0}]
["Оплата проезда по служебным командировкам (в т.ч. студентам, обучающимся по заочной форме обучения, при проезде к месту нахождения учебного заведения)",null,921,"06507010210101110112",{"$f":"'212 командировки'!$H$13","v":106100},{"$f":"'212 командировки'!$H$13","v":106100}]
["Оплата услуг по перевозке несовершеннолетних и сопровождающих их лиц",null,923,"06507010210101110112"]
["Оплата проезда сопровождающих лиц, являющихся штатными сотрудниками учреждений",null,924,"06507010210101110112"]
["Проживание в служебных командировках",null,952,"06507010210101110112",{"$f":"'212 командировки'!$K$13","v":0},{"$f":"'212 командировки'!$K$13","v":0}]
["Услуги связи, в том числе:",221,null,null,{"$f":"E33","v":0},{"$f":"F33","v":0}]
["Услуги связи, в том числе:",null,925,"06507010210101110244",{"$f":"SUM(E34:E50)","v":0},{"$f":"SUM(F34:F50)","v":0}]
["Телекоммуникационные услуги связи (ГТС)"]
["Услуги внутризоновой телефонной связи"]
["Услуги автоматической междугородней и международней телефонной связи"]
["Услуги связи по тарифному плану \"Квалифицированный Голд\""]
["Услуги сотовой связи"]
["Прочие расходы (восстан-е линии связи, уст-ка доп. телефонов, предост-е доступа к мест. телеф. связи и др.)"]
["Марочная продукция (маркированные конверты)"]
["Предоплата за пользование ячейкой абонементного почтового шкафа"]
["Прочие услуги (экспресс-почта, бандероли, ценные посылки, телеграммы и др.)"]
["Заказные письма"]
["Абон. обслужив-е (электронный документооборот)"]
["Подключение к глобальной информационной сети Интернет, абонентская плата"]
[]
[]
[]
[]
[]
["Транспортные услуги, в том числе:",222,null,null,{"$f":"SUM(E52:E52)","v":0},0]
["Прочие транспортные расходы",null,922,"06507010210101110244"]
["Коммунальные услуги, в том числе:",223,null,null,{"$f":"SUM(E54:E56)","v":2573400},{"$f":"SUM(F54:F56)","v":2573400}]
["Оплата отопления и технологических нужд, а также горячего водоснабжения",null,931,"06507010210101110244",{"$f":"'223 коммуналка'!$AJ$10","v":1102000},{"$f":"'223 коммуналка'!$AK$10","v":1102000}]
["Потребление электроэнергии",null,932,"06507010210101110244",{"$f":"'223 коммуналка'!$K$19","v":376800},{"$f":"'223 коммуналка'!$L$19","v":376800}]
["Водоснабжение, канализация",null,933,"06507010210101110244",{"$f":"'223 коммуналка'!$Z$27","v":1094600},{"$f":"'223 коммуналка'!$AA$27","v":1094600}]
["Арендная плата за пользование имуществом, в том числе:",224,null,null,{"$f":"E58","v":0},{"$f":"F58","v":0}]
["Арендная плата за пользование имуществом",null,926,"06507010210101110244"]
["Работы, услуги по содержанию имущества, в том числе:",225,null,null,{"$f":"E60+E88+E104+E105+E106","v":2453300},{"$f":"F60+F88+F104+F105+F106","v":2453300}]
["Содержание и техническое обслуживание помещений, в том числе:",null,941,"06507010210101110244",{"$f":"SUM(E61,E62,E70:E87)","v":1700000},{"$f":"SUM(F61,F62,F70:F87)","v":1700000}]
["ТО АУТВР",null,null,null,{"$f":"'225 сод.имущ.'!$I$11","v":155000},{"$f":"'225 сод.имущ.'!$I$11","v":155000}]
["Комплексное техническое обслуживание инженерных систем и систем видеонаблюдения, в том числе:",null,null,null,{"$f":"CEILING(SUM(E63:E69),100)","v":1308900},{"$f":"CEILING(SUM(F63:F69),100)","v":1308900}]
["ТО систем видеонаблюдения",null,null,null,{"$f":"'225 сод.имущ.'!$I$20","v":140158.1226},{"$f":"'225 сод.имущ.'!$I$20","v":140158.1226}]
["ТО АСУВ (автоматизированная система управления вентиляцией)",null,null,null,{"$f":"'225 сод.имущ.'!$I$24","v":0},{"$f":"'225 сод.имущ.'!$I$24","v":0}]
["Ведение технической документации",null,null,null,{"$f":"'225 сод.имущ.'!$I$25","v":119397.28284},{"$f":"'225 сод.имущ.'!$I$25","v":119397.28284}]
["ТО инженерных сетей (внутренние системы тепловодоснабжения и канализации, электроснабжения, аварийное обслуживание)",null,null,null,{"$f":"'225 сод.имущ.'!$I$26","v":990268.30385999999},{"$f":"'225 сод.имущ.'!$I$26","v":990268.30385999999}]
["ТО светильников наружного освещения",null,null,null,{"$f":"'225 сод.имущ.'!$I$27","v":24317.204000000002},{"$f":"'225 сод.имущ.'!$I$27","v":24317.204000000002}]
["ТО кабельных линий наружного освещения",null,null,null,{"$f":"'225 сод.имущ.'!$I$28","v":1776.13482},{"$f":"'225 сод.имущ.'!$I$28","v":1776.13482}]
["ТО систем вентиляции",null,null,null,{"$f":"'225 сод.имущ.'!$I$29","v":32957.907399999996},{"$f":"'225 сод.имущ.'!$I$29","v":32957.907399999996}]
["Очистка кровли от снега и наледи",null,null,null,{"$f":"'225 сод.имущ.'!$I$47","v":27500},{"$f":"'225 сод.имущ.'!$I$47","v":27500}]
["Зимнее содержание территорий",null,null,null,{"$f":"'225 сод.имущ.'!$I$52","v":0},{"$f":"'225 сод.имущ.'!$I$52","v":0}]
["Эксплуатационные услуги",null,null,null,{"$f":"'225 сод.имущ.'!$I$56","v":0},{"$f":"'225 сод.имущ.'!$I$56","v":0}]
["Вывоз пищевых отходов (сады)",null,null,null,{"$f":"'225 сод.имущ.'!$I$59","v":112600},{"$f":"'225 сод.имущ.'!$I$59","v":112600}]
["Услуга по очистке жироуловителя (откачивание сепарированных жировых отходов)",null,null,null,{"$f":"'225 сод.имущ.'!$I$62","v":0},{"$f":"'225 сод.имущ.'!$I$62","v":0}]
["Техническое обслуживание систем водоподготовки бассейнов (сады)",null,null,null,{"$f":"'225 сод.имущ.'!$I$66","v":0},{"$f":"'225 сод.имущ.'!$I$66","v":0}]
["Услуга по обследованию здания и геотехническому мониторингу",null,null,null,{"$f":"'225 сод.имущ.'!$I$69","v":49800},{"$f":"'225 сод.имущ.'!$I$69","v":49800}]
["ТО лифтов",null,null,null,{"$f":"'225 сод.имущ.'!$I$81","v":0},{"$f":"'225 сод.имущ.'!$I$81","v":0}]
["Дератизация",null,null,null,{"$f":"'225 сод.имущ.'!$I$87","v":5300},{"$f":"'225 сод.имущ.'!$I$87","v":5300}]
["Дезинсекция",null,null,null,{"$f":"'225 сод.имущ.'!$I$89","v":32600},{"$f":"'225 сод.имущ.'!$I$89","v":32600}]
["Дезинфекция",null,null,null,{"$f":"'225 сод.имущ.'!$I$91","v":8300},{"$f":"'225 сод.имущ.'!$I$91","v":8300}]
["Прочие расходы (аварийно-восстанов. работы, замена оборудования, приборов учета ТЭР и др.)",null,null,null,{"$f":"'225 сод.имущ.'!$I$93","v":0},{"$f":"'225 сод.имущ.'!$I$93","v":0}]
["Услуги мусоровоза, бульдозера (п. Снежногорск)",null,null,null,{"$f":"'225 сод.имущ.'!$I$94","v":0},{"$f":"'225 сод.имущ.'!$I$94","v":0}]
[]
[]
[]
[]
[]
["Текущий ремонт оборудования, в том числе:",null,942,"06507010210101110244",{"$f":"SUM(E89:E103)","v":251600},{"$f":"SUM(F89:F103)","v":251600}]
["ТО и ремонт систем видеонаблюдения (п. Снежногорск)",null,null,null,{"$f":"'225 сод.имущ.'!$I$100","v":0},{"$f":"'225 сод.имущ.'!$I$100","v":0}]
["ТО и ремонт торгово-технологического и холодильного оборудования",null,null,null,{"$f":"'225 сод.имущ.'!$I$109","v":251600},{"$f":"'225 сод.имущ.'!$I$109","v":251600}]
["ТО изделий медицинской техники",null,null,null,{"$f":"'225 сод.имущ.'!$I$165","v":0},{"$f":"'225 сод.имущ.'!$I$165","v":0}]
["Ремонт и техн. обслуживание оргтехники и копировально-множительного оборудования, музыкал. оборудования и инструментов, используемых работниками, обучающимися; ремонт ученической мебели, рабочего места работника",null,null,null,{"$f":"'225 сод.имущ.'!$I$201","v":0},{"$f":"'225 сод.имущ.'!$I$201","v":0}]
["Прочие расходы (ремонт бытовой техники, бытовых холодильников, стирального оборудования, изделий медтехники, средств измерений и др.)",null,null,null,{"$f":"'225 сод.имущ.'!$I$202","v":0},{"$f":"'225 сод.имущ.'!$I$202","v":0}]
[]
[]
[]
[]
[]
[]
[]
[]
[]
[]
["Текущий ремонт зданий",null,943,"06507010210101110244"]
["Капитальный ремонт имущества",null,944,"06507010210101110244"]
["Прочие расходы по содержанию имущества, в том числе:",null,947,"06507010210101110244",{"$f":"SUM(E107:E133)","v":501700},{"$f":"SUM(F107:F133)","v":501700}]
["ТО и ремонт систем охранно-пожарной сигнализации и противопожарной автоматики (ОПС и ППА)",null,null,null,{"$f":"'225 сод.имущ.'!$I$213","v":231100},{"$f":"'225 сод.имущ.'!$I$213","v":231100}]
["ТО и перезарядка огнетушителей",null,null,null,{"$f":"'225 сод.имущ.'!$I$217","v":3700},{"$f":"'225 сод.имущ.'!$I$217","v":3700}]
["Испытание электрооборудования здания",null,null,null,{"$f":"'225 сод.имущ.'!$I$241","v":0},{"$f":"'225 сод.имущ.'!$I$241","v":0}]
["Испытание электрооборудования пищеблока",null,null,null,{"$f":"'225 сод.имущ.'!$I$251","v":6800},{"$f":"'225 сод.имущ.'!$I$251","v":6800}]
["Эксплуатационное испытание электрооборудования елочных гирлянд",null,null,null,{"$f":"'225 сод.имущ.'!$I$256","v":900},{"$f":"'225 сод.имущ.'!$I$256","v":900}]
["Экспертиза пригодности ТМЦ",null,null,null,{"$f":"'225 сод.имущ.'!$I$257","v":5000},{"$f":"'225 сод.имущ.'!$I$257","v":5000}]
["Обслуживание игрового оборудования детских площадок",null,null,null,{"$f":"'225 сод.имущ.'!$I$258","v":60300},{"$f":"'225 сод.имущ.'!$I$258","v":60300}]
["Техническое обслуживание \"теплого пола\" (сады)",null,null,null,{"$f":"'225 сод.имущ.'!$I$259","v":0},{"$f":"'225 сод.имущ.'!$I$259","v":0}]
["Замер температурного режима жарочных шкафов в пищеблоке ",null,null,null,{"$f":"'225 сод.имущ.'!$I$260","v":2400},{"$f":"'225 сод.имущ.'!$I$260","v":2400}]
["Камерная дезинфекция вещей",null,null,null,{"$f":"'225 сод.имущ.'!$I$261","v":36200},{"$f":"'225 сод.имущ.'!$I$261","v":36200}]
["Прачечные услуги",null,null,null,{"$f":"'225 сод.имущ.'!$I$262","v":24800},{"$f":"'225 сод.имущ.'!$I$262","v":24800}]
["Поверка средств измерений",null,null,null,{"$f":"'225 сод.имущ.'!$I$266","v":19900},{"$f":"'225 сод.имущ.'!$I$266","v":19900}]
["Испытание металлического кровельного ограждения и металлических наружных пожарных лестниц",null,null,null,0,0]
["Заправка и восстановление картриджей, диагностика и определение неисправности компьютерного оборудования, используемого работниками, обучающимися",null,null,null,{"$f":"'225 сод.имущ.'!$I$298","v":0},{"$f":"'225 сод.имущ.'!$I$298","v":0}]
["Прочие расходы по устранению замечаний надзорных органов (огнезащитная обработка штор, установка пр/пожарных дверей и люков, укладка керамической плитки, линолеума и др.)",null,null,null,{"$f":"'225 сод.имущ.'!$I$299+100000","v":110600},{"$f":"'225 сод.имущ.'!$I$299+100000","v":110600}]
["ТО тревожной сигнализации (МБОУ \"СШ № 14\")",null,null,null,{"$f":"'225 сод.имущ.'!$I$300","v":0},{"$f":"'225 сод.имущ.'!$I$300","v":0}]
["Услуга по очистке стеклопакетов фасада здания (МАДОУ №№ 1,2,5)",null,null,null,{"$f":"'225 сод.имущ.'!$I$301","v":0},{"$f":"'225 сод.имущ.'!$I$301","v":0}]
[]
[]
[]
[]
[]
[]
[]
[]
[]
[]
["Прочие работы, услуги, в том числе:",226,null,null,{"$f":"E135+E136+E147+E191+E192+E193+E194+E195+E199","v":1294200},{"$f":"F135+F136+F147+F191+F192+F193+F194+F195+F199","v":1294200}]
["Страхование жизни, здоровья, имущества (в том числе гражданской ответственности владельцев транспортных средств)",null,951,"06507010210101110244",{"$f":"'226 пр.работы, услуги'!$F$128*1000","v":0},{"$f":"'226 пр.работы, услуги'!$F$128*1000","v":0}]
["Вневедомственная (в том числе пожарная) охрана, охранная и пожарная сигнализация (установка, наладка и эксплуатация), в том числе:",null,953,"06507010210101110244",{"$f":"CEILING(SUM(E137:E146),100)","v":721300},{"$f":"CEILING(SUM(F137:F146),100)","v":721300}]
["Охрана общественного порядка (физ. охрана)",null,null,null,{"$f":"'226 пр.работы, услуги'!$F$16*1000","v":667219.19999999995},{"$f":"'226 пр.работы, услуги'!$F$16*1000","v":667219.19999999995}]
["Мониторинговые услуги  по приемке, обработке сигналов, поступающих на центральный радиопульт",null,null,null,{"$f":"'226 пр.работы, услуги'!$F$17*1000","v":30000},{"$f":"'226 пр.работы, услуги'!$F$17*1000","v":30000}]
["Услуги по централизованному наблюдению за объектом и реагировании на тревожные сообщения (с использованием канала сотовой связи GSM)",null,null,null,{"$f":"'226 пр.работы, услуги'!$F$18*1000","v":24000},{"$f":"'226 пр.работы, услуги'!$F$18*1000","v":24000}]
["Охрана объектов средствами охранно-пожарной сигнализации (ОПС)",null,null,null,{"$f":"'226 пр.работы, услуги'!$F$19*1000","v":0},{"$f":"'226 пр.работы, услуги'!$F$19*1000","v":0}]
["Охрана объектов средствами тревожной сигнализации (ТС)",null,null,null,{"$f":"'226 пр.работы, услуги'!$F$20*1000","v":0},{"$f":"'226 пр.работы, услуги'!$F$20*1000","v":0}]
[]
[]
[]
[]
[]
["Прочие услуги, в том числе:",null,954,"06507010210101110244",{"$f":"CEILING(SUM(E148:E190),100)","v":435600},{"$f":"CEILING(SUM(F148:F190),100)","v":435600}]
["Утилизация (захоронение) твердых бытовых отходов",null,null,null,{"$f":"'226 пр.работы, услуги'!$F$22*1000","v":22241.466},{"$f":"'226 пр.работы, услуги'!$F$22*1000","v":22241.466}]
["Утилизация (захоронение) крупногабаритного мусора (попадающего под IV и V классы опасности)",null,null,null,{"$f":"'226 пр.работы, услуги'!$F$23*1000","v":2132.85},{"$f":"'226 пр.работы, услуги'!$F$23*1000","v":2132.85}]
["Утилизация ртутьсодержащих отходов",null,null,null,{"$f":"'226 пр.работы, услуги'!$F$24*1000","v":12313.299999999997},{"$f":"'226 пр.работы, услуги'!$F$24*1000","v":12313.299999999997}]
["Изготовление полиграфической продукции (банеров, вывесок, табличек, визиток, бланочной продукции, номерков, флагов)",null,null,null,{"$f":"'226 пр.работы, услуги'!$F$27*1000","v":10000},{"$f":"'226 пр.работы, услуги'!$F$27*1000","v":10000}]
["Специальная оценка условий труда",null,null,null,{"$f":"'226 пр.работы, услуги'!$F$28*1000","v":0},{"$f":"'226 пр.работы, услуги'!$F$28*1000","v":0}]
["Изготовление дополнительного сертификата ЭЦП для сдачи отчетн.в ФСС в режиме \"Обслуж.бухгалтерия\"",null,null,null,{"$f":"'226 пр.работы, услуги'!$F$29*1000","v":1500},{"$f":"'226 пр.работы, услуги'!$F$29*1000","v":1500}]
["Отчет по определению тепловых нагрузок и расходов горячей и холодной воды",null,null,null,{"$f":"'226 пр.работы, услуги'!$F$30*1000","v":0},{"$f":"'226 пр.работы, услуги'!$F$30*1000","v":0}]
["Протокол о составе и свойствах сточных вод",null,null,null,{"$f":"'226 пр.работы, услуги'!$F$31*1000","v":30000},{"$f":"'226 пр.работы, услуги'!$F$31*1000","v":30000}]
["Проект нормативов образования отходов и лимитов на их размещение",null,null,null,{"$f":"'226 пр.работы, услуги'!$F$32*1000","v":0},{"$f":"'226 пр.работы, услуги'!$F$32*1000","v":0}]
["Городские культурномассовые мероприятия (звукосветотехническое сопровождение, изготовление плакеток)",null,null,null,{"$f":"'226 пр.работы, услуги'!$F$33*1000","v":0},{"$f":"'226 пр.работы, услуги'!$F$33*1000","v":0}]
["Изготовление паспортов БТИ",null,null,null,{"$f":"'226 пр.работы, услуги'!$F$34*1000","v":0},{"$f":"'226 пр.работы, услуги'!$F$34*1000","v":0}]
["Оформление пакета документов по обоснованию отнесения отходов к I - V классам опасности для окружающей среды",null,null,null,{"$f":"'226 пр.работы, услуги'!$F$35*1000","v":0},{"$f":"'226 пр.работы, услуги'!$F$35*1000","v":0}]
["Расчет оценки пожарного риска",null,null,null,{"$f":"'226 пр.работы, услуги'!$F$36*1000","v":0},{"$f":"'226 пр.работы, услуги'!$F$36*1000","v":0}]
["Приобретение и обслуживание программного обеспечения",null,null,null,{"$f":"'226 пр.работы, услуги'!$F$37*1000","v":0},{"$f":"'226 пр.работы, услуги'!$F$37*1000","v":0}]
["Исследование воды и смывов плавательных бассейнов",null,null,null,{"$f":"('226 пр.работы, услуги'!$F$45+'226 пр.работы, услуги'!$F$51+'226 пр.работы, услуги'!$F$55)*1000","v":109874.98019999998},{"$f":"('226 пр.работы, услуги'!$F$45+'226 пр.работы, услуги'!$F$51+'226 пр.работы, услуги'!$F$55)*1000","v":109874.98019999998}]
["Исследование питьевой воды",null,null,null,{"$f":"'226 пр.работы, услуги'!$F$59*1000","v":8347.6503999999986},{"$f":"'226 пр.работы, услуги'!$F$59*1000","v":8347.6503999999986}]
["Исследование почвы, песка",null,null,null,{"$f":"'226 пр.работы, услуги'!$F$70*1000","v":3312.9089999999997},{"$f":"'226 пр.работы, услуги'!$F$70*1000","v":3312.9089999999997}]
["Исследование микроклимата",null,null,null,{"$f":"'226 пр.работы, услуги'!$F$75*1000","v":1815.2057999999997},{"$f":"'226 пр.работы, услуги'!$F$75*1000","v":1815.2057999999997}]
["Исследование продуктов и готовых блюд",null,null,null,{"$f":"('226 пр.работы, услуги'!$F$80+'226 пр.работы, услуги'!$F$89)*1000","v":59503.258199999997},{"$f":"('226 пр.работы, услуги'!$F$80+'226 пр.работы, услуги'!$F$89)*1000","v":59503.258199999997}]
["Профессиональная гигиеническая подготовка и аттестация должностных лиц",null,null,null,{"$f":"'226 пр.работы, услуги'!$F$94*1000","v":44700.901600000005},{"$f":"'226 пр.работы, услуги'!$F$94*1000","v":44700.901600000005}]
["Курьерские услуги",null,null,null,{"$f":"'226 пр.работы, услуги'!$F$101*1000","v":0},{"$f":"'226 пр.работы, услуги'!$F$101*1000","v":0}]
["Участие в семинарах, курсах повышения квалификации, конференциях, спортивных мероприятиях",null,null,null,{"$f":"'226 пр.работы, услуги'!$F$106*1000","v":0},{"$f":"'226 пр.работы, услуги'!$F$106*1000","v":0}]
["Услуги инкассации наличных денег полистным пересчетом",null,null,null,{"$f":"'226 пр.работы, услуги'!$F$115*1000","v":24780},{"$f":"'226 пр.работы, услуги'!$F$115*1000","v":24780}]
["Услуги по обработке учетной (бухгалтерской) информации (ГИВЦ)",null,null,null,{"$f":"'226 пр.работы, услуги'!$F$118*1000","v":5000},{"$f":"'226 пр.работы, услуги'!$F$118*1000","v":5000}]
["Монтажные (демонтажные, электромонтажные) работы учебно-игрового оборудования; прогулочных площадок, оборудования\n",null,null,null,{"$f":"'226 пр.работы, услуги'!$F$119*1000","v":0},{"$f":"'226 пр.работы, услуги'!$F$119*1000","v":0}]
["Изготовление стендов;                 \nИзготовление и монтаж вертикальных жалюзи             ",null,null,null,{"$f":"'226 пр.работы, услуги'!$F$122*1000","v":0},{"$f":"'226 пр.работы, услуги'!$F$122*1000","v":0}]
["Составление и изготовление планов эвакуации",null,null,null,{"$f":"'226 пр.работы, услуги'!$F$123*1000","v":0},{"$f":"'226 пр.работы, услуги'!$F$123*1000","v":0}]
["Информация (декларация) об энергосбережении и о повышении энергетической эффективности",null,null,null,{"$f":"'226 пр.работы, услуги'!$F$126*1000","v":100000},{"$f":"'226 пр.работы, услуги'!$F$126*1000","v":100000}]
[]
[]
[]
[]
[]
[]
[]
[]
[]
[]
[]
[]
[]
[]
[]
["Вознаграждение по договорам ГПХ с учетом ЕСН",null,955,"06507010210101110244"]
["Приобретение периодических изданий, справочной литературы",null,956,"06507010210101110244"]
["Инженерные изыскания для подготовки проектной документации, строительства, реконструкции, капитального и текущего ремонта объектов; архитектурно-строительное проектирование",null,957,"06507010210101110244"]
["Расходы на оплату проезда, найм жилых помещений для участников соревнований, олимпиад и др. мероприятий",null,958,"06507010210101110244"]
["Медицинские услуги (в том числе диспансеризация, медицинский осмотр и освидетельствование работников (включая предрейсовые осмотры водителей), состоящих в штате учреждения, проведение медицинских анализов), в том числе:",null,995,"06507010210101110244",{"$f":"SUM(E196:E198)","v":137300},{"$f":"SUM(F196:F198)","v":137300}]
["АУП, УВП"]
["Педагоги"]
["МОП",null,null,null,{"$f":"'226.995 медосмотры'!$CX$11","v":137300},{"$f":"'226.995 медосмотры'!$CX$11","v":137300}]
["Оказание услуг по скорой медицинской помощи",null,996,"06507010210101110244"]
["Социальное обеспечение, всего, из них:",260,null,null,{"$f":"E201","v":0},{"$f":"F201","v":0}]
["Пособия по социальной помощи населению, в том числе:",262,null,null,{"$f":"E202","v":0},0]
["Пособия по социальной помощи населению",null,993,"06507010210101110321"]
["Прочие расходы, в том числе:",290,null,null,{"$f":"E216+E204","v":12000},{"$f":"F216+F204","v":12000}]
["Прочие расходы, в том числе:",null,962,"06507010210101110244",{"$f":"SUM(E205:E215)","v":0},{"$f":"SUM(F205:F215)","v":0}]
["Плата за размещение отходов производства и потребления"]
["Пени (штрафы) на недоимку по страховым взносам "]
["Госпошлина и сборы"]
["Штрафы (по решению надзорных органов)"]
["Расходы по исполнительным листам"]
["Прочие платежи в бюджеты всех уровней"]
["Прочие расходы (неустойки и пр.)"]
[]
[]
[]
[]
["Культурно-массовые и спортивно-массовые мероприятия, в том числе:",null,963,"06507010210101110244",{"$f":"E217+E218","v":12000},{"$f":"F217+F218","v":12000}]
["Городские мероприятия (приобретение кубков, медалей, ценных подарков, грамот, дипломов, цветов, воздушных шаров и др.)"]
["Внутренние мероприятия (приобретение кубков, медалей, ценных подарков, грамот, дипломов, цветов, воздушных шаров и др.)",null,null,null,{"$f":"'290.963 КММ'!$F$13","v":12000},{"$f":"'290.963 КММ'!$F$13","v":12000}]
["Поступление нефинансовых активов, всего, из них:",300,null,null,{"$f":"E220+E222","v":618900},{"$f":"F220+F222","v":618900}]
["Увеличение стоимости основных средств, в том числе:",310,null,null,{"$f":"E221","v":0},{"$f":"F221","v":0}]
["Приобретение основных средств",null,971,"06507010210101110244",0,0]
["Увеличение стоимости материальных запасов, в том числе:",340,null,null,{"$f":"SUM(E223:E226)","v":618900},{"$f":"SUM(F223:F226)","v":618900}]
["Приобретение расходных материалов",null,981,"06507010210101110244",{"$f":"'310,340 смета ТМЦ'!$L$166","v":167800},{"$f":"'310,340 смета ТМЦ'!$M$166","v":167800}]
["Приобретение медикаментов и перевязочных средств",null,982,"06507010210101110244"]
["Приобретение продуктов питания (оплата продовольствия), в том числе продовольственных пайков военнослужащим и приравненным к ним лицам",null,983,"06507010210101110244",{"$f":"'340.983 питание'!$S$4","v":398800},{"$f":"'340.983 питание'!$S$4","v":398800}]
["Приобретение мягкого инвентаря",null,985,"06507010210101110244",{"$f":"'310,340 смета ТМЦ'!$L$165","v":52300},{"$f":"'310,340 смета ТМЦ'!$M$165","v":52300}]
["II блок - Субсидии на выполнение мун. задания (краевой бюджет КЦСР 0210074080)"]
["Наименование показателя","КОСГУ","Доп. КР","КБК","!!!! Не изменять показатели данной графы\nУтвержденные ассигнования на 2018 год, краевой бюджет \nСубвенции бюджетам муниципальных образований в части обеспечения деятельности административного и учебно-вспомогательного персонала\nСубсидии на финансовое обеспечение выполнения муниципального задания\n Код доп.ЭК 000, доп.ФК 70000, КЦСР 0210074080\n","!!!! Не изменять показатели данной графы\nУтвержденные ассигнования на 2019 год, краевой бюджет \nСубвенции бюджетам муниципальных образований в части обеспечения деятельности административного и учебно-вспомогательного персонала\nСубсидии на финансовое обеспечение выполнения муниципального задания\n Код доп.ЭК 000, доп.ФК 70000, КЦСР 0210074080\n"]
[]
[1,2,3,4,5,6]
["ВЫПЛАТЫ ВСЕГО",null,null,null,{"$f":"E233+E319","v":692900},{"$f":"F233+F319","v":692900}]
["ВЫПЛАТЫ ВСЕГО для СГОЗ",null,null,null,{"$f":"E240+E256+E267+E285+E298+E299+E316+E320+E322+E297","v":623800},{"$f":"F240+F256+F267+F285+F298+F299+F316+F320+F322+F297","v":623800}]
[null,200,null,null,{"$f":"E234+E303","v":466600},466600]
["Оплата работ, услуг, всего, из них:",220,null,null,{"$f":"E235+E240+E256+E267+E284","v":442100},442100]
["Прочие выплаты, в том числе:",212,null,null,{"$f":"SUM(E236:E239)","v":44600},44600]
["Возмещение работникам (сотрудникам) расходов, связанных со служебными командировками (суточные при служебных командировках)",null,912,"06507010210074080112",{"$f":"'212 командировки'!$F$15","v":3000},{"$f":"'212 командировки'!$F$15","v":3000}]
["Оплата проезда по служебным командировкам (в т.ч. студентам, обучающимся по заочной форме обучения, при проезде к месту нахождения учебного заведения)",null,921,"06507010210074080112",{"$f":"'212 командировки'!$H$15","v":23100},{"$f":"'212 командировки'!$H$15","v":23100}]
["Оплата проезда сопровождающих лиц, являющихся штатными сотрудниками учреждений",null,924,"06507010210074080112"]
["Проживание в служебных командировках",null,952,"06507010210074080112",{"$f":"'212 командировки'!$K$15","v":18500},{"$f":"'212 командировки'!$K$15","v":18500}]
["Услуги связи, в том числе:",221,null,null,{"$f":"E241","v":45600},{"$f":"F241","v":45600}]
["Услуги связи, в том числе:",null,925,"06507010210074080244",{"$f":"CEILING(SUM(E242:E255),100)","v":45600},{"$f":"CEILING(SUM(F242:F255),100)","v":45600}]
["Телекоммуникационные услуги связи (ГТС)",null,null,null,{"$f":"'221 связь'!$Q$12","v":32200},{"$f":"'221 связь'!$Q$12","v":32200}]
["Услуги внутризоновой телефонной связи",null,null,null,{"$f":"'221 связь'!$Q$29","v":0},{"$f":"'221 связь'!$Q$29","v":0}]
["Услуги автоматической междугородней и международней телефонной связи",null,null,null,{"$f":"'221 связь'!$Q$30","v":500},{"$f":"'221 связь'!$Q$30","v":500}]
["Услуги связи по тарифному плану \"Квалифицированный Голд\"",null,null,null,{"$f":"'221 связь'!$Q$31","v":0},{"$f":"'221 связь'!$Q$31","v":0}]
["Прочие расходы (восстан-е линии связи, уст-ка доп. телефонов, предост-е доступа к мест. телеф. связи и др.)",null,null,null,{"$f":"'221 связь'!$Q$33","v":1000},{"$f":"'221 связь'!$Q$33","v":1000}]
["Марочная продукция (маркированные конверты)",null,null,null,{"$f":"'221 связь'!$Q$35","v":5184},{"$f":"'221 связь'!$Q$35","v":5184}]
["Прочие услуги (экспресс-почта, бандероли, ценные посылки, телеграммы и др.)",null,null,null,{"$f":"'221 связь'!$Q$33","v":1000},{"$f":"'221 связь'!$Q$33","v":1000}]
["Заказные письма",null,null,null,{"$f":"'221 связь'!$Q$38","v":5703.2000000000007},{"$f":"'221 связь'!$Q$38","v":5703.2000000000007}]
["Подключение к глобальной информационной сети Интернет, абонентская плата"]
[]
[]
[]
[]
[]
["Транспортные услуги, в том числе:",222,null,null,{"$f":"E257","v":0},0]
["Прочие транспортные расходы, в том числе:",null,922,"06507010210074080244",{"$f":"SUM(E258:E266)","v":0},0]
["Транспортные расходы на доставку оборудования, необходимого для организации деятельности работников (АУП и УВП)"]
["Транспортные расходы на доставку мебели, необходимой для организации деятельности работников (АУП и УВП)"]
["Транспортные расходы на доставку средств вычислительной техники, копировально-множительной техники, связи и телекоммуникаций, необходимых для организации деятельности работников (АУП и УВП)"]
["Расходы по доставке периодических изданий, необходимых для организации деятельности работников (АУП и УВП)"]
[]
[]
[]
[]
[]
["Работы, услуги по содержанию имущества, в том числе:",225,null,null,{"$f":"E268+E276","v":43000},43000]
["Текущий ремонт оборудования, в том числе:",null,942,"06507010210074080244",{"$f":"SUM(E269:E275)","v":17200},17200]
["Ремонт и техн. обслуживание оргтехники и копировально-множительного оборудования, используемых работниками (АУП и УВП)",null,null,null,{"$f":"'225 сод.имущ.'!$I$204","v":17200},{"$f":"'225 сод.имущ.'!$I$204","v":17200}]
["Услуги по ремонту рабочего места работника (АУП и УВП)"]
[]
[]
[]
[]
[]
["Прочие расходы по содержанию имущества, в том числе:",null,947,"06507010210074080244",{"$f":"SUM(E277:E283)","v":25800},25800]
["Заправка и восстановление картриджей для оборудования, используемого работниками (АУП и УВП)",null,null,null,{"$f":"'225 сод.имущ.'!$I$303","v":25800},{"$f":"'225 сод.имущ.'!$I$303","v":25800}]
["Диагностика и определение неисправности компьютерного оборудования, используемого работниками (АУП и УВП)"]
[]
[]
[]
[]
[]
["Прочие работы, услуги, в том числе:",226,null,null,{"$f":"E285+E297+E298+E299","v":308900},{"$f":"F285+F297+F298+F299","v":308900}]
["Прочие услуги, в том числе:",null,954,"06507010210074080244",{"$f":"MROUND(SUM(E286:E296),100)","v":163000},{"$f":"MROUND(SUM(F286:F296),100)","v":163000}]
["Специальная оценка условий труда на рабочих местах (АУП и УВП)",null,null,null,{"$f":"'226 пр.работы, услуги'!$F$137*1000","v":10620},{"$f":"'226 пр.работы, услуги'!$F$137*1000","v":10620}]
["Приобретение и сопровождение программного обеспечения для организации деятельности работников (АУП и УВП)",null,null,null,{"$f":"'226 пр.работы, услуги'!$F$138*1000","v":84437.440000000002},{"$f":"'226 пр.работы, услуги'!$F$138*1000","v":84437.440000000002}]
["Участие в семинарах, курсах повышения квалификации, конференциях, спортивных мероприятиях работников и переподготовка работников (АУП и УВП)",null,null,null,{"$f":"'226 пр.работы, услуги'!$F$145*1000","v":67950},{"$f":"'226 пр.работы, услуги'!$F$145*1000","v":67950}]
["Услуги по организации обучения сотрудников (АУП и УВП)"]
["Услуги в области информационных технологий (АУП и УВП)"]
["Нотариальные услуги (АУП и УВП)"]
[]
[]
[]
[]
[]
["Вознаграждение по договорам ГПХ с учетом ЕСН",null,955,"06507010210074080244"]
["Приобретение периодических изданий, справочной литературы",null,956,"06507010210074080244",{"$f":"'226.956 подписка'!$D$7","v":25300},{"$f":"'226.956 подписка'!$D$7","v":25300}]
["Медицинские услуги (в том числе диспансеризация, медицинский осмотр и освидетельствование работников (включая предрейсовые осмотры водителей), состоящих в штате учреждения, проведение медицинских анализов), в том числе:",null,995,"06507010210074080244",{"$f":"SUM(E300:E302)","v":120600},{"$f":"SUM(F300:F302)","v":120600}]
["АУП, УВП",null,null,null,{"$f":"'226.995 медосмотры'!$CX$14","v":120600},{"$f":"'226.995 медосмотры'!$CX$14","v":120600}]
["Педагоги"]
["МОП"]
["Прочие расходы, в том числе:",290,null,null,{"$f":"E316+E304","v":24500},{"$f":"F316+F304","v":24500}]
["Прочие расходы, в том числе:",null,962,"06507010210074080244",{"$f":"CEILING(SUM(E305:E315),100)","v":24500},{"$f":"CEILING(SUM(F305:F315),100)","v":24500}]
["Плата за размещение отходов производства и потребления",null,null,null,{"$f":"'290.962 пр.расходы'!$E$7","v":800},{"$f":"'290.962 пр.расходы'!$E$7","v":800}]
["Пени (штрафы) на недоимку по страховым взносам ",null,null,null,{"$f":"'290.962 пр.расходы'!$E$8","v":5000},{"$f":"'290.962 пр.расходы'!$E$8","v":5000}]
["Госпошлина и сборы",null,null,null,{"$f":"'290.962 пр.расходы'!$E$9","v":3500},{"$f":"'290.962 пр.расходы'!$E$9","v":3500}]
["Штрафы (по решению надзорных органов)",null,null,null,{"$f":"'290.962 пр.расходы'!$E$10","v":12500},{"$f":"'290.962 пр.расходы'!$E$10","v":12500}]
["Расходы по исполнительным листам",null,null,null,{"$f":"'290.962 пр.расходы'!$E$11","v":2700},{"$f":"'290.962 пр.расходы'!$E$11","v":2700}]
["Прочие платежи в бюджеты всех уровней",null,null,null,{"$f":"'290.962 пр.расходы'!$E$12","v":0},{"$f":"'290.962 пр.расходы'!$E$12","v":0}]
[]
[]
[]
[]
[]
["Культурно-массовые и спортивно-массовые мероприятия, в том числе:",null,963,"06507010210074080244",{"$f":"SUM(E317:E318)","v":0},0]
["Городские мероприятия (приобретение кубков, медалей, ценных подарков, грамот, дипломов)"]
["Внутренние мероприятия (приобретение кубков, медалей, ценных подарков, грамот, дипломов)"]
["Поступление нефинансовых активов, всего, из них:",300,null,null,{"$f":"E320+E322","v":226300},{"$f":"F320+F322","v":226300}]
["Увеличение стоимости основных средств, в том числе:",310,null,null,{"$f":"E321","v":0},{"$f":"F321","v":0}]
["Приобретение основных средств",null,971,"06507010210074080244",{"$f":"'310,340 смета ТМЦ'!$K$172","v":0},{"$f":"'310,340 смета ТМЦ'!$K$172","v":0}]
["Увеличение стоимости материальных запасов, в том числе:",340,null,null,{"$f":"SUM(E323:E324)","v":226300},{"$f":"SUM(F323:F324)","v":226300}]
["Приобретение расходных материалов",null,981,"06507010210074080244",{"$f":"'310,340 смета ТМЦ'!$K$170","v":195900},{"$f":"'310,340 смета ТМЦ'!$K$170","v":195900}]
["Приобретение медикаментов и перевязочных средств",null,982,"06507010210074080244",{"$f":"'310,340 смета ТМЦ'!$K$171","v":30400},{"$f":"'310,340 смета ТМЦ'!$K$171","v":30400}]
["III блок - Субсидии на выполнение мун. задания (краевой бюджет КЦСР 0210075880)"]
["Наименование показателя","КОСГУ","Доп. КР","КБК","!!!! Не изменять показатели данной графы\nУтвержденные ассигнования на 2018 год, краевой бюджет \nСубвенции бюджетам муниципальных образований в части обеспечения деятельности педагогического персонала и воспитанников\nСубсидии на финансовое обеспечение выполнения муниципального задания\nКод доп.ЭК 000, доп.ФК 70000, КЦСР 0210075880\n","!!!! Не изменять показатели данной графы\nУтвержденные ассигнования на 2019 год, краевой бюджет \nСубвенции бюджетам муниципальных образований в части обеспечения деятельности педагогического персонала и воспитанников\nСубсидии на финансовое обеспечение выполнения муниципального задания\nКод доп.ЭК 000, доп.ФК 70000, КЦСР 0210075880\n"]
[]
[1,2,3,4,5,6]
["ВЫПЛАТЫ ВСЕГО",null,null,null,{"$f":"E331+E423","v":776000},{"$f":"F331+F423","v":776000}]
["ВЫПЛАТЫ ВСЕГО для СГОЗ",null,null,null,{"$f":"E338+E354+E369+E389+E402+E403+E420+E424+E426+E401","v":776000},{"$f":"F338+F354+F369+F389+F402+F403+F420+F424+F426+F401","v":776000}]
[null,200,null,null,{"$f":"E332+E407","v":351100},351100]
["Оплата работ, услуг, всего, из них:",220,null,null,{"$f":"E333+E338+E354+E369+E388","v":321100},321100]
["Прочие выплаты, в том числе:",212,null,null,{"$f":"SUM(E334:E337)","v":0},{"$f":"SUM(F334:F337)","v":0}]
["Возмещение работникам (сотрудникам) расходов, связанных со служебными командировками (суточные при служебных командировках)",null,912,"06507010210074080112",{"$f":"'212 командировки'!F16","v":0},{"$f":"'212 командировки'!$F$16","v":0}]
["Оплата проезда по служебным командировкам (в т.ч. студентам, обучающимся по заочной форме обучения, при проезде к месту нахождения учебного заведения)",null,921,"06507010210074080112",{"$f":"'212 командировки'!H16","v":0},{"$f":"'212 командировки'!$H$16","v":0}]
["Оплата проезда сопровождающих лиц, являющихся штатными сотрудниками учреждений",null,924,"06507010210074080112"]
["Проживание в служебных командировках",null,952,"06507010210074080112",{"$f":"'212 командировки'!K16","v":0},{"$f":"'212 командировки'!$K$16","v":0}]
["Услуги связи, в том числе:",221,null,null,{"$f":"E339","v":48000},48000]
["Услуги связи, в том числе:",null,925,"06507010210075880244",{"$f":"SUM(E340:E353)","v":48000},{"$f":"SUM(F340:F353)","v":48000}]
["Телекоммуникационные услуги связи (ГТС)"]
["Услуги внутризоновой телефонной связи"]
["Услуги автоматической междугородней и международней телефонной связи"]
["Услуги связи по тарифному плану \"Квалифицированный Голд\""]
["Прочие расходы (восстан-е линии связи, уст-ка доп. телефонов, предост-е доступа к мест. телеф. связи и др.)"]
["Марочная продукция (маркированные конверты)"]
["Прочие услуги (экспресс-почта, бандероли, ценные посылки, телеграммы и др.)"]
["Заказные письма"]
["Подключение к глобальной информационной сети Интернет, абонентская плата",null,null,null,{"$f":"'221 связь'!$Q$46","v":48000},{"$f":"'221 связь'!$Q$46","v":48000}]
[]
[]
[]
[]
[]
["Транспортные услуги, в том числе:",222,null,null,{"$f":"E355","v":0},0]
["Прочие транспортные расходы, в том числе:",null,922,"06507010210074080244",{"$f":"SUM(E356:E368)","v":0},{"$f":"SUM(F356:F368)","v":0}]
["Транспортные расходы на доставку оборудования, необходимого для организации деятельности пед. работников, воспитанников "]
["Транспортные расходы на доставку мебели, необходимой для организации деятельности пед. работников, воспитанников"]
["Транспортные расходы на доставку средств вычислительной техники, копировально-множительной техники, связи и телекоммуникаций, необходимых для организации деятельности пед. работников"]
["Расходы по доставке периодических изданий, необходимых для организации деятельности пед. работников"]
["Транспортные расходы на доставку спортивного оборудования и инвентаря"]
["Транспортные расходы на доставку музыкальных инструментов"]
["Транспортные расходы на доставку наглядных и звуковых пособий (видеокассет, аудиокассет, слайдов и т.д.) и экспонатов"]
["Транспортные расходы на доставку детской художественной литературы"]
[]
[]
[]
[]
[]
["Работы, услуги по содержанию имущества, в том числе:",225,null,null,{"$f":"E370+E380","v":0},{"$f":"F370+F380","v":0}]
["Текущий ремонт оборудования, в том числе:",null,942,"06507010210075880244",{"$f":"SUM(E371:E379)","v":0},0]
["Ремонт и техн. обслуживание оргтехники и копировально-множительного оборудования, используемых пед. работниками"]
["Услуги по ремонту мебели, используемой воспитанниками, рабочего места пед. работника "]
["Ремонт и обслуживание музыкального оборудования и инструментов в части расходов, связанных с организацией деятельности пед. работников, воспитанников"]
["Текущий ремонт и техн. обслуживание оборудования, приборов и инвентаря, используемого пед. работниками, воспитанниками"]
[]
[]
[]
[]
[]
["Прочие расходы по содержанию имущества, в том числе:",null,947,"06507010210075880244",{"$f":"SUM(E381:E387)","v":0},{"$f":"SUM(F381:F387)","v":0}]
["Заправка и восстановление картриджей для оборудования, используемого пед. работниками"]
["Диагностика и определение неисправности компьютерного оборудования, используемого пед. работниками "]
[]
[]
[]
[]
[]
["Прочие работы, услуги, в том числе:",226,null,null,{"$f":"E389+E401+E402+E403","v":273100},{"$f":"F389+F401+F402+F403","v":273100}]
["Прочие услуги, в том числе:",null,954,"06507010210075880244",{"$f":"CEILING(SUM(E390:E400),100)","v":0},{"$f":"CEILING(SUM(F390:F400),100)","v":0}]
["Специальная оценка условий труда на рабочих местах (пед. работники)"]
["Приобретение и сопровождение программного обеспечения для организации деятельности пед. работников"]
["Участие в семинарах, курсах повышения квалификации, конференциях, спортивных мероприятиях пед. работников и переподготовка пед. работников "]
["Услуги по организации обучения пед. работников"]
["Услуги в области информационных технологий (пед. работники)"]
["Нотариальные услуги (пед. работники)"]
[]
[]
[]
[]
[]
["Вознаграждение по договорам ГПХ с учетом ЕСН",null,955,"06507010210075880244"]
["Приобретение периодических изданий, справочной литературы",null,956,"06507010210075880244"]
["Медицинские услуги (в том числе диспансеризация, медицинский осмотр и освидетельствование работников (включая предрейсовые осмотры водителей), состоящих в штате учреждения, проведение медицинских анализов), в том числе:",null,995,"06507010210075880244",{"$f":"SUM(E404:E406)","v":273100},{"$f":"SUM(F404:F406)","v":273100}]
["АУП, УВП"]
["Педагоги",null,null,null,{"$f":"'226.995 медосмотры'!CX8","v":273100},{"$f":"'226.995 медосмотры'!$CX$8","v":273100}]
["МОП"]
["Прочие расходы, в том числе:",290,null,null,{"$f":"E420+E408","v":30000},{"$f":"F420+F408","v":30000}]
["Прочие расходы, в том числе:",null,962,"06507010210075880244",{"$f":"SUM(E409:E419)","v":0},{"$f":"SUM(F409:F419)","v":0}]
["Плата за размещение отходов производства и потребления"]
["Пени (штрафы) на недоимку по страховым взносам "]
["Госпошлина и сборы"]
["Штрафы (по решению надзорных органов)"]
["Расходы по исполнительным листам"]
["Прочие платежи в бюджеты всех уровней"]
[]
[]
[]
[]
[]
["Культурно-массовые и спортивно-массовые мероприятия, в том числе:",null,963,"06507010210075880244",{"$f":"SUM(E421:E422)","v":30000},30000]
["Городские мероприятия (приобретение кубков, медалей, ценных подарков, грамот, дипломов)",null,null,null,{"$f":"'290.963 КММ'!F11","v":0},{"$f":"'290.963 КММ'!$F$11","v":0}]
["Внутренние мероприятия (приобретение кубков, медалей, ценных подарков, грамот, дипломов)",null,null,null,{"$f":"'290.963 КММ'!H11","v":30000},{"$f":"'290.963 КММ'!$H$11","v":30000}]
["Поступление нефинансовых активов, всего, из них:",300,null,null,{"$f":"E424+E426","v":424900},{"$f":"F424+F426","v":424900}]
["Увеличение стоимости основных средств, в том числе:",310,null,null,{"$f":"E425","v":276200},276200]
["Приобретение основных средств",null,971,"06507010210075880244",{"$f":"'310,340 смета ТМЦ'!K169","v":276200},{"$f":"'310,340 смета ТМЦ'!$K$169","v":276200}]
["Увеличение стоимости материальных запасов, в том числе:",340,null,null,{"$f":"SUM(E427:E427)","v":148700},{"$f":"SUM(F427:F427)","v":148700}]
["Приобретение расходных материалов",null,981,"06507010210075880244",{"$f":"'310,340 смета ТМЦ'!K168","v":148700},{"$f":"'310,340 смета ТМЦ'!$K$168","v":148700}]
["Приобретение мягкого инвентаря",null,985,"06507010210075880244"]
["IV блок - Платные услуги"]
["Наименование показателя","КОСГУ","Доп. КР","КБК","!!!! Не изменять показатели данной графы\nПлановые показатели на 2018 год, \nПоступления от оказания услуг (выполнения работ) на платной основе и от иной приносящей доход деятельности (родит. плата, плата за питание сотрудников, платные услуги)\n Код доп.ЭК 810\n","!!!! Не изменять показатели данной графы\nПлановые показатели на 2019 год, \nПоступления от оказания услуг (выполнения работ) на платной основе и от иной приносящей доход деятельности (родит. плата, плата за питание сотрудников, платные услуги)\n Код доп.ЭК 810\n"]
[1,2,3,4,5,6]
["ВЫПЛАТЫ ВСЕГО",null,null,null,{"$f":"E434+E471","v":7130290},{"$f":"F434+F471","v":7130290}]
["ВЫПЛАТЫ ВСЕГО для СГОЗ",null,null,null,{"$f":"E442+E444+E446+E450+E452+E459+E460+E461+E463+E464+E466+E470+E472+E467+E474+E462","v":7130290},{"$f":"F442+F444+F446+F450+F452+F459+F460+F461+F463+F464+F466+F470+F472+F467+F474+F462","v":7130290}]
[null,200,null,null,{"$f":"E435+E468","v":0},{"$f":"F435+F468","v":0}]
["Оплата работ, услуг, всего, из них:",220,null,null,{"$f":"E442+E444+E446+E450+E452+E458","v":0},{"$f":"F442+F444+F446+F450+F452+F458","v":0}]
["Прочие выплаты, в том числе:",212,null,null,{"$f":"SUM(E437:E441)","v":0},{"$f":"SUM(F437:F441)","v":0}]
["Возмещение работникам (сотрудникам) расходов, связанных со служебными командировками (суточные при служебных командировках)",null,912,"00000000000000000112"]
["Оплата проезда по служебным командировкам (в т.ч. студентам, обучающимся по заочной форме обучения, при проезде к месту нахождения учебного заведения)",null,921,"00000000000000000112"]
["Оплата услуг по перевозке несовершеннолетних и сопровождающих их лиц",null,923,"00000000000000000112"]
["Оплата проезда сопровождающих лиц, являющихся штатными сотрудниками учреждений",null,924,"00000000000000000112"]
["Проживание в служебных командировках",null,952,"00000000000000000112"]
["Услуги связи, в том числе:",221,null,null,{"$f":"SUM(E443)","v":0},{"$f":"SUM(F443)","v":0}]
["Услуги связи",null,925,"00000000000000000244",0,0]
["Транспортные услуги, в том числе:",212,null,null,{"$f":"SUM(E445)","v":0},{"$f":"SUM(F445)","v":0}]
["Прочие транспортные расходы",null,922,"00000000000000000244"]
["Коммунальные услуги, в том числе:",223,null,null,{"$f":"SUM(E447:E449)","v":0},{"$f":"SUM(F447:F449)","v":0}]
["Оплата отопления и технологических нужд, а также горячего водоснабжения",null,931,"00000000000000000244"]
["Потребление электроэнергии",null,932,"00000000000000000244"]
["Водоснабжение, канализация",null,933,"00000000000000000244"]
["Арендная плата за пользование имуществом, в том числе:",224,null,null,{"$f":"SUM(E451)","v":0},{"$f":"SUM(F451)","v":0}]
["Арендная плата за пользование имуществом",null,926,"00000000000000000244"]
["Работы, услуги по содержанию имущества, в том числе:",225,null,null,{"$f":"SUM(E453:E457)","v":0},{"$f":"SUM(F453:F457)","v":0}]
["Содержание и техническое обслуживание помещений",null,941,"00000000000000000244"]
["Текущий ремонт оборудования",null,942,"00000000000000000244"]
["Текущий ремонт зданий",null,943,"00000000000000000244"]
["Капитальный ремонт имущества",null,944,"00000000000000000244"]
["Прочие расходы по содержанию имущества",null,947,"00000000000000000244"]
["Прочие работы, услуги, в том числе:",226,null,null,{"$f":"SUM(E459:E467)","v":0},{"$f":"SUM(F459:F467)","v":0}]
["Страхование жизни, здоровья, имущества (в том числе гражданской ответственности владельцев транспортных средств)",null,951,"00000000000000000244"]
["Вневедомственная (в том числе пожарная) охрана, охранная и пожарная сигнализация (установка, наладка и эксплуатация)",null,953,"00000000000000000244"]
["Прочие услуги",null,954,"00000000000000000244"]
["Вознаграждение по договорам ГПХ с учетом ЕСН",null,955,"00000000000000000244"]
["Приобретение периодических изданий, справочной литературы",null,956,"00000000000000000244"]
["Инженерные изыскания для подготовки проектной документации, строительства, реконструкции, капитального и текущего ремонта объектов; архитектурно-строительное проектирование",null,957,"00000000000000000244"]
["Расходы на оплату проезда, найм жилых помещений для участников соревнований, олимпиад и др. мероприятий",null,958,"00000000000000000244"]
["Медицинские услуги (в том числе диспансеризация, медицинский осмотр и освидетельствование работников (включая предрейсовые осмотры водителей), состоящих в штате учреждения, проведение медицинских анализов)",null,995,"00000000000000000244"]
["Оказание услуг по скорой медицинской помощи",null,996,"00000000000000000244"]
["Прочие расходы, в том числе:",290,null,null,{"$f":"SUM(E469:E470)","v":0},{"$f":"SUM(F469:F470)","v":0}]
["Прочие расходы",null,962,"00000000000000000244"]
["Культурно-массовые и спортивно-массовые мероприятия",null,963,"00000000000000000244"]
["Поступление нефинансовых активов, всего, из них:",300,null,null,{"$f":"E472+E474","v":7130290},{"$f":"F472+F474","v":7130290}]
["Увеличение стоимости основных средств, в том числе:",310,null,null,{"$f":"SUM(E473)","v":0},{"$f":"SUM(F473)","v":0}]
["Приобретение основных средств",null,971,"00000000000000000244"]
["Увеличение стоимости материальных запасов, в том числе:",340,null,null,{"$f":"SUM(E475:E478)","v":7130290},{"$f":"SUM(F475:F478)","v":7130290}]
["Приобретение расходных материалов",null,981,"00000000000000000244",{"$f":"'340.981,985'!$M$29","v":92000},{"$f":"'340.981,985'!$M$29","v":92000}]
["Приобретение медикаментов и перевязочных средств",null,982,"00000000000000000244"]
["Приобретение продуктов питания (оплата продовольствия), в том числе продовольственных пайков военнослужащим и приравненным к ним лицам",null,983,"00000000000000000244",{"$f":"'доходы 2017'!$DV$4+'340.983 питание'!$G$5","v":6908090},{"$f":"'доходы 2017'!$DV$4+'340.983 питание'!$G$5","v":6908090}]
["Приобретение мягкого инвентаря",null,985,"00000000000000000244",{"$f":"'340.981,985'!$M$30","v":130200},{"$f":"'340.981,985'!$M$30","v":130200}]
["V блок - Субсидии на иные цели (местный и краевой бюджеты)"]
[null,null,null,null,"!!!! Не изменять показатели данной графы\nУтвержденные ассигнования на 2018 год, местный и краевой бюджеты\nСубсидии на иные цели\n","Местный бюджет (Код доп.ЭК 000)",null,null,"Краевой бюджет (Код доп.ЭК 459)","!!!! Не изменять показатели данной графы\nУтвержденные ассигнования на 2019 год, местный и краевой бюджеты\nСубсидии на иные цели\n","Местный бюджет (Код доп.ЭК 000)",null,null,"Краевой бюджет (Код доп.ЭК 459)"]
[null,null,null,null,null,"Мероприятие: 1.1.1 Организация предоставления общедоступного и бесплатного дошкольного образования, создание условий для осуществления присмотра и ухода за детьми, КЦСР 0210101110, доп.ФК 81000, 81600","Мероприятие 3.1.2. Модернизация узлов учета ТЭР и воды с установкой приборов учета на горячую воду, замена расходомеров ВЭПС-ТИ, КМ, РМ на новую модификацию, КЦСР 0440000120, доп.ФК 81000","Мероприятие 3.1.4. Установка теплообменников на ГВС на муниципальных объектах, КЦСР 0440000150, доп.ФК 81000","Субвенции бюджетам муниципальных образований на обеспечение выделения денежных средств на осуществление присмотра и ухода за детьми-инвалидами, детьми-сиротами и детьми, оставшимися без попечения родителей, а также детьми с туберкулезной интоксикацией, обучающимися в муниципальных образовательных организациях, реализующих образовательную программу дошкольного образования, без взимания родительской платы в рамках подпрограммы «Развитие дошкольного, общего и дополнительного образования» государственной программы Красноярского края «Развитие образования», КЦСР 0210075540, доп.ФК 81000",null,"Мероприятие: 1.1.1 Организация предоставления общедоступного и бесплатного дошкольного образования, создание условий для осуществления присмотра и ухода за детьми, КЦСР 0210101110, доп.ФК 81000, 81600","Мероприятие 3.1.2. Модернизация узлов учета ТЭР и воды с установкой приборов учета на горячую воду, замена расходомеров ВЭПС-ТИ, КМ, РМ на новую модификацию, КЦСР 0440000120, доп.ФК 81000","Мероприятие 3.1.4. Установка теплообменников на ГВС на муниципальных объектах, КЦСР 0440000150, доп.ФК 81000","Субвенции бюджетам муниципальных образований на обеспечение выделения денежных средств на осуществление присмотра и ухода за детьми-инвалидами, детьми-сиротами и детьми, оставшимися без попечения родителей, а также детьми с туберкулезной интоксикацией, обучающимися в муниципальных образовательных организациях, реализующих образовательную программу дошкольного образования, без взимания родительской платы в рамках подпрограммы «Развитие дошкольного, общего и дополнительного образования» государственной программы Красноярского края «Развитие образования», КЦСР 0210075540, доп.ФК 81000"]
[null,null,null,null,null,"КБК 06507010210101110244","КБК 06507010440000120244","КБК 06507010440000150244","КБК 06507010210075540244",null,"КБК 06507010210101110244","КБК 06507010440000120244","КБК 06507010440000150244","КБК 06507010210075540244"]
[1,2,3,4,5,6,7,8,9,10,11,12,13,14]
["ВЫПЛАТЫ ВСЕГО",null,null,null,{"$f":"E486+E526","v":988900},102400,119600,650000,116900,{"$f":"J486+J526","v":236500},0,119600,0,116900]
["ВЫПЛАТЫ ВСЕГО для СГОЗ",null,null,null,{"$f":"E494+E496+E498+E502+E504+E511+E512+E513+E515+E516+E518+E519+E525+E527+E529+E514","v":988900},{"$f":"F494+F496+F498+F502+F504+F511+F512+F513+F515+F516+F518+F519+F525+F527+F529+F514","v":102400},119600,650000,116900,236500,0,119600,0,116900]
[null,200,null,null,{"$f":"E487+E520+E523","v":769600},{"$f":"F487+F520+F523","v":0},119600,650000,0,{"$f":"J487+J520+J523","v":119600},{"$f":"K487+K520+K523","v":0},119600,0,0]
["Оплата работ, услуг, всего, из них:",220,null,null,{"$f":"E494+E496+E498+E502+E504+E510","v":769600},0,119600,650000,0,{"$f":"J494+J496+J498+J502+J504+J510","v":119600},0,119600,0,0]
["Прочие выплаты, в том числе:",212,null,null,{"$f":"SUM(E489:E493)","v":0},0,0,0,0,{"$f":"SUM(J489:J493)","v":0},0,0,0,0]
["Возмещение работникам (сотрудникам) расходов, связанных со служебными командировками (суточные при служебных командировках)",null,912,null,{"$f":"SUM(F489:I489)","v":0},null,null,null,null,{"$f":"SUM(K489:N489)","v":0}]
["Оплата проезда по служебным командировкам (в т.ч. студентам, обучающимся по заочной форме обучения, при проезде к месту нахождения учебного заведения)",null,921,null,{"$f":"SUM(F490:I490)","v":0},null,null,null,null,{"$f":"SUM(K490:N490)","v":0}]
["Оплата услуг по перевозке несовершеннолетних и сопровождающих их лиц",null,923,null,{"$f":"SUM(F491:I491)","v":0},null,null,null,null,{"$f":"SUM(K491:N491)","v":0}]
["Оплата проезда сопровождающих лиц, являющихся штатными сотрудниками учреждений",null,924,null,0,null,null,null,null,0]
["Проживание в служебных командировках",null,952,null,0,null,null,null,null,0]
["Услуги связи, в том числе:",221,null,null,{"$f":"SUM(E495)","v":0},0,0,0,0,0,0,0,0,0]
["Услуги связи",null,925,null,0,0,0,0,0,{"$f":"SUM(K495:N495)","v":0},0,0,0,0]
["Транспортные услуги, в том числе:",212,null,null,{"$f":"SUM(E497)","v":0},0,0,0,0,0,0,0,0,0]
["Прочие транспортные расходы",null,922,null,0,null,null,null,null,{"$f":"SUM(K497:N497)","v":0}]
["Коммунальные услуги, в том числе:",223,null,null,{"$f":"SUM(E499:E501)","v":0},0,0,0,0,{"$f":"SUM(J499:J501)","v":0},0,0,0,0]
["Оплата отопления и технологических нужд, а также горячего водоснабжения",null,931,null,0,null,null,null,null,{"$f":"SUM(K499:N499)","v":0}]
["Потребление электроэнергии",null,932,null,0,null,null,null,null,0]
["Водоснабжение, канализация",null,933,null,0,null,null,null,null,0]
["Арендная плата за пользование имуществом, в том числе:",224,null,null,{"$f":"SUM(E503)","v":0},0,0,0,0,0,0,0,0,0]
["Арендная плата за пользование имуществом",null,926,null,0,null,null,null,null,{"$f":"SUM(K503:N503)","v":0}]
["Работы, услуги по содержанию имущества, в том числе:",225,null,null,{"$f":"SUM(E505:E509)","v":769600},0,119600,650000,0,{"$f":"SUM(J505:J509)","v":119600},0,119600,0,0]
["Содержание и техническое обслуживание помещений",null,941,null,119600,null,{"$f":"Энергосбережение!F5","v":119600},null,null,{"$f":"SUM(K505:N505)","v":119600},null,{"$f":"Энергосбережение!H5","v":119600}]
["Текущий ремонт оборудования",null,942,null,0,null,null,null,null,0]
["Текущий ремонт зданий",null,943,null,0,null,null,null,null,0]
["Капитальный ремонт имущества",null,944,null,0,null,null,null,null,0]
["Прочие расходы по содержанию имущества",null,947,null,650000,null,null,{"$f":"Энергосбережение!L5","v":650000},null,0,null,null,{"$f":"Энергосбережение!N5","v":0}]
["Прочие работы, услуги, в том числе:",226,null,null,{"$f":"SUM(E511:E519)","v":0},0,0,0,0,{"$f":"SUM(J511:J519)","v":0},0,0,0,0]
["Страхование жизни, здоровья, имущества (в том числе гражданской ответственности владельцев транспортных средств)",null,951,null,0,null,null,null,null,{"$f":"SUM(K511:N511)","v":0}]
["Вневедомственная (в том числе пожарная) охрана, охранная и пожарная сигнализация (установка, наладка и эксплуатация)",null,953,null,0,null,null,null,null,0]
["Прочие услуги",null,954,null,0,null,null,null,null,0]
["Вознаграждение по договорам ГПХ с учетом ЕСН",null,955,null,0,null,null,null,null,0]
["Приобретение периодических изданий, справочной литературы",null,956,null,0,null,null,null,null,0]
["Инженерные изыскания для подготовки проектной документации, строительства, реконструкции, капитального и текущего ремонта объектов; архитектурно-строительное проектирование",null,957,null,0,null,null,null,null,0]
["Расходы на оплату проезда, найм жилых помещений для участников соревнований, олимпиад и др. мероприятий",null,958,null,0,null,null,null,null,0]
["Медицинские услуги (в том числе диспансеризация, медицинский осмотр и освидетельствование работников (включая предрейсовые осмотры водителей), состоящих в штате учреждения, проведение медицинских анализов)",null,995,null,{"$f":"SUM(F518:I518)","v":0},null,null,null,null,{"$f":"SUM(K518:N518)","v":0}]
["Оказание услуг по скорой медицинской помощи",null,996,null,0,null,null,null,null,{"$f":"SUM(K519:N519)","v":0}]
["Социальное обеспечение, всего",260,null,null,{"$f":"E521","v":0},0,0,0,0,0,0,0,0,0]
["из них: Пособия по социальной помощи населению, в том числе:",262,null,null,{"$f":"SUM(E522)","v":0},0,0,0,0,0,0,0,0,0]
["Пособия по социальной помощи населению",null,993,null,{"$f":"SUM(F522:I522)","v":0},null,null,null,null,{"$f":"SUM(K522:N522)","v":0}]
["Прочие расходы, в том числе:",290,null,null,{"$f":"SUM(E524:E525)","v":0},0,0,0,0,{"$f":"SUM(J524:J525)","v":0},0,0,0,0]
["Прочие расходы",null,962,null,{"$f":"SUM(F524:I524)","v":0},null,null,null,null,{"$f":"SUM(K524:N524)","v":0}]
["Культурно-массовые и спортивно-массовые мероприятия",null,963,null,0,null,null,null,null,0]
["Поступление нефинансовых активов, всего, из них:",300,null,null,{"$f":"E527+E529","v":219300},{"$f":"F527+F529","v":102400},0,0,116900,{"$f":"J527+J529","v":116900},{"$f":"K527+K529","v":0},0,0,116900]
["Увеличение стоимости основных средств, в том числе:",310,null,null,{"$f":"SUM(E528)","v":0},0,0,0,0,0,0,0,0,0]
["Приобретение основных средств",null,971,null,{"$f":"SUM(F528:I528)","v":0},null,null,null,null,{"$f":"SUM(K528:N528)","v":0}]
["Увеличение стоимости материальных запасов, в том числе:",340,null,null,{"$f":"SUM(E530:E533)","v":219300},{"$f":"SUM(F530:F533)","v":102400},0,0,116900,{"$f":"SUM(J530:J533)","v":116900},{"$f":"SUM(K530:K533)","v":0},0,0,116900]
["Приобретение расходных материалов",null,981,null,{"$f":"SUM(F530:I530)","v":102400},{"$f":"'Разв. дошк. обр-я'!I8","v":102400},null,null,null,{"$f":"SUM(K530:N530)","v":0},{"$f":"'Разв. дошк. обр-я'!L8","v":0}]
["Приобретение медикаментов и перевязочных средств",null,982,null,{"$f":"SUM(F531:I531)","v":0},null,null,null,null,{"$f":"SUM(K531:N531)","v":0}]
["Приобретение продуктов питания (оплата продовольствия), в том числе продовольственных пайков военнослужащим и приравненным к ним лицам",null,983,null,{"$f":"SUM(F532:I532)","v":116900},null,null,null,{"$f":"'340.983 питание'!R4","v":116900},{"$f":"SUM(K532:N532)","v":116900},null,null,null,{"$f":"'340.983 питание'!R4","v":116900}]
["Приобретение мягкого инвентаря",null,985,null,{"$f":"SUM(F533:I533)","v":0},null,null,null,null,{"$f":"SUM(K533:N533)","v":0}]

{"sheet":"Бюджет 2017-2019","index":6,"n_rows":56,"n_cols":19,"rows_kept":56,"cut":false,"hidden":false,"merged":[[1,0,1,5],[0,0,0,5],[3,0,3,11],[4,0,4,11],[4,17,4,18]]}
["КБК = КВСР (3 знака )+ КФСР (4 знака) + КЦСР (10 знаков) + КВР (3 знака) "]
["КВР:\n112 Иные выплаты персоналу учреждений, за исключением фонда оплаты труда (включает в себя: командировочные расходы; оплата стоимости проезда к месту отдыха и обратно; компенсация расходов, связанных с переездом из районов Крайнего Севера; прочие расходы: штрафы, пени, налоги, ДопКР: 911,912,913,917,918,919,921,923,924,952,962);\n244 Прочая закупка товаров, работ и услуг для обеспечения государственных (муниципальных) нужд (включает в себя услуги, не перечисленные в КВР 112 и КВР 321);\n321 Пособия, компенсации и иные социальные выплаты гражданам, кроме публичных нормативных обязательств (включает в себя: пособия по социальной помощи населению, ДопКР 993).\n"]
["рубли"]
["Итого Бюджет 2017-2019",null,null,null,null,null,null,null,null,null,null,null,null,null,{"$f":"SUM(O7:O56)","v":68354330},{"$f":"SUM(P7:P56)","v":68601730},{"$f":"SUM(Q7:Q56)","v":67849330}]
["Итого для СГОЗ",null,null,null,null,null,null,null,null,null,null,null,null,null,9202000,9340500,8588100,"Отклонение"]
["Бюджет","Бюджетополучатель","КВСР","Наименование КВСР","КФСР","Наименование КФСР","КЦСР","Наименование КЦСР","Доп. ФК","Наименование Доп. ФК","Доп. ЭК","Наименование Доп. ЭК","Доп. КР","Наименование Доп. КР","План 2017 год","План 2018 год","План 2019 год","2018","2019"]
["бюджет муниципального образования город Норильск","Субсидия на выполнение муниципального задания  МБДОУ \"Детский сад № 90 \"Цветик-семицветик\"","065","муниципальное учреждение \"Управление общего и дошкольного образования Администрации города Норильска\"","0701","Дошкольное образование","02 1 00 74080","Субвенции бюджетам муниципальных образований на обеспечение государственных гарантий реализации прав на получение общедоступного и бесплатного дошкольного образования в муниципальных дошкольных образовательных организациях, общедоступного и бесплатного дошкольного образования в муниципальных общеобразовательных организациях в части обеспечения деятельности административно-хозяйственного, учебно-вспомогательного персонала и иных категорий работников образовательных организаций, участвующих в реализации общеобразовательных программ в соответствии с федеральными государственными образовательными стандартами, в рамках подпрограммы «Развитие дошкольного, общего и дополнительного образования» государственной программы Красноярского края «Развитие образования»","70000","Муниципальные услуги (работы), оказываемые (выполняемые) муниципальными учреждениями в качестве основных видов деятельности на основе утвержденного ведомственного перечня муниципальных услуг (работ)","475","Субвенции бюджетам муниципальных образований края на обеспечение государственных гарантий реализации прав на получение общедоступного и бесплатного дошкольного образования в муниципальных дошкольных образовательных организациях, общедоступного и бесплатного дошкольного образования в  муниципальных общеобразовательных организациях в соответствии с пунктом 3 части 1 статьи 8 Федерального закона от 29 декабря 2012 года № 273-ФЗ «Об образовании в Российской Федерации», пунктом 5 статьи 8 Закона края от 26 июня 2014 года № 6-2519 «Об образовании в Красноярском крае» на 2017 год и плановый период 2018 - 2019 годов","912","Возмещение работникам (сотрудникам) расходов, связанных со служебными командировками (суточные при служебных командировках)",3000,3000,3000,{"$f":"P7-O7","v":0},{"$f":"Q7-O7","v":0}]
["бюджет муниципального образования город Норильск","Субсидия на выполнение муниципального задания  МБДОУ \"Детский сад № 90 \"Цветик-семицветик\"","065","муниципальное учреждение \"Управление общего и дошкольного образования Администрации города Норильска\"","0701","Дошкольное образование","02 1 00 74080","Субвенции бюджетам муниципальных образований на обеспечение государственных гарантий реализации прав на получение общедоступного и бесплатного дошкольного образования в муниципальных дошкольных образовательных организациях, общедоступного и бесплатного дошкольного образования в муниципальных общеобразовательных организациях в части обеспечения деятельности административно-хозяйственного, учебно-вспомогательного персонала и иных категорий работников образовательных организаций, участвующих в реализации общеобразовательных программ в соответствии с федеральными государственными образовательными стандартами, в рамках подпрограммы «Развитие дошкольного, общего и дополнительного образования» государственной программы Красноярского края «Развитие образования»","70000","Муниципальные услуги (работы), оказываемые (выполняемые) муниципальными учреждениями в качестве основных видов деятельности на основе утвержденного ведомственного перечня муниципальных услуг (работ)","475","Субвенции бюджетам муниципальных образований края на обеспечение государственных гарантий реализации прав на получение общедоступного и бесплатного дошкольного образования в муниципальных дошкольных образовательных организациях, общедоступного и бесплатного дошкольного образования в  муниципальных общеобразовательных организациях в соответствии с пунктом 3 части 1 статьи 8 Федерального закона от 29 декабря 2012 года № 273-ФЗ «Об образовании в Российской Федерации», пунктом 5 статьи 8 Закона края от 26 июня 2014 года № 6-2519 «Об образовании в Красноярском крае» на 2017 год и плановый период 2018 - 2019 годов","921","Возмещение работникам (сотрудникам) расходов, связанных со служебными командировками (проезд к месту служебной командировки и обратно к месту постоянной работы транспортом общего пользования)",23100,23100,23100,{"$f":"P8-O8","v":0},{"$f":"Q8-O8","v":0}]
["бюджет муниципального образования город Норильск","Субсидия на выполнение муниципального задания  МБДОУ \"Детский сад № 90 \"Цветик-семицветик\"","065","муниципальное учреждение \"Управление общего и дошкольного образования Администрации города Норильска\"","0701","Дошкольное образование","02 1 00 74080","Субвенции бюджетам муниципальных образований на обеспечение государственных гарантий реализации прав на получение общедоступного и бесплатного дошкольного образования в муниципальных дошкольных образовательных организациях, общедоступного и бесплатного дошкольного образования в муниципальных общеобразовательных организациях в части обеспечения деятельности административно-хозяйственного, учебно-вспомогательного персонала и иных категорий работников образовательных организаций, участвующих в реализации общеобразовательных программ в соответствии с федеральными государственными образовательными стандартами, в рамках подпрограммы «Развитие дошкольного, общего и дополнительного образования» государственной программы Красноярского края «Развитие образования»","70000","Муниципальные услуги (работы), оказываемые (выполняемые) муниципальными учреждениями в качестве основных видов деятельности на основе утвержденного ведомственного перечня муниципальных услуг (работ)","475","Субвенции бюджетам муниципальных образований края на обеспечение государственных гарантий реализации прав на получение общедоступного и бесплатного дошкольного образования в муниципальных дошкольных образовательных организациях, общедоступного и бесплатного дошкольного образования в  муниципальных общеобразовательных организациях в соответствии с пунктом 3 части 1 статьи 8 Федерального закона от 29 декабря 2012 года № 273-ФЗ «Об образовании в Российской Федерации», пунктом 5 статьи 8 Закона края от 26 июня 2014 года № 6-2519 «Об образовании в Красноярском крае» на 2017 год и плановый период 2018 - 2019 годов","925","Услуги связи",45600,45600,45600,0,0]
["бюджет муниципального образования город Норильск","Субсидия на выполнение муниципального задания  МБДОУ \"Детский сад № 90 \"Цветик-семицветик\"","065","муниципальное учреждение \"Управление общего и дошкольного образования Администрации города Норильска\"","0701","Дошкольное образование","02 1 00 74080","Субвенции бюджетам муниципальных образований на обеспечение государственных гарантий реализации прав на получение общедоступного и бесплатного дошкольного образования в муниципальных дошкольных образовательных организациях, общедоступного и бесплатного дошкольного образования в муниципальных общеобразовательных организациях в части обеспечения деятельности административно-хозяйственного, учебно-вспомогательного персонала и иных категорий работников образовательных организаций, участвующих в реализации общеобразовательных программ в соответствии с федеральными государственными образовательными стандартами, в рамках подпрограммы «Развитие дошкольного, общего и дополнительного образования» государственной программы Красноярского края «Развитие образования»","70000","Муниципальные услуги (работы), оказываемые (выполняемые) муниципальными учреждениями в качестве основных видов деятельности на основе утвержденного ведомственного перечня муниципальных услуг (работ)","475","Субвенции бюджетам муниципальных образований края на обеспечение государственных гарантий реализации прав на получение общедоступного и бесплатного дошкольного образования в муниципальных дошкольных образовательных организациях, общедоступного и бесплатного дошкольного образования в  муниципальных общеобразовательных организациях в соответствии с пунктом 3 части 1 статьи 8 Федерального закона от 29 декабря 2012 года № 273-ФЗ «Об образовании в Российской Федерации», пунктом 5 статьи 8 Закона края от 26 июня 2014 года № 6-2519 «Об образовании в Красноярском крае» на 2017 год и плановый период 2018 - 2019 годов","942","Текущий ремонт оборудования",17200,17200,17200,0,0]
["бюджет муниципального образования город Норильск","Субсидия на выполнение муниципального задания  МБДОУ \"Детский сад № 90 \"Цветик-семицветик\"","065","муниципальное учреждение \"Управление общего и дошкольного образования Администрации города Норильска\"","0701","Дошкольное образование","02 1 00 74080","Субвенции бюджетам муниципальных образований на обеспечение государственных гарантий реализации прав на получение общедоступного и бесплатного дошкольного образования в муниципальных дошкольных образовательных организациях, общедоступного и бесплатного дошкольного образования в муниципальных общеобразовательных организациях в части обеспечения деятельности административно-хозяйственного, учебно-вспомогательного персонала и иных категорий работников образовательных организаций, участвующих в реализации общеобразовательных программ в соответствии с федеральными государственными образовательными стандартами, в рамках подпрограммы «Развитие дошкольного, общего и дополнительного образования» государственной программы Красноярского края «Развитие образования»","70000","Муниципальные услуги (работы), оказываемые (выполняемые) муниципальными учреждениями в качестве основных видов деятельности на основе утвержденного ведомственного перечня муниципальных услуг (работ)","475","Субвенции бюджетам муниципальных образований края на обеспечение государственных гарантий реализации прав на получение общедоступного и бесплатного дошкольного образования в муниципальных дошкольных образовательных организациях, общедоступного и бесплатного дошкольного образования в  муниципальных общеобразовательных организациях в соответствии с пунктом 3 части 1 статьи 8 Федерального закона от 29 декабря 2012 года № 273-ФЗ «Об образовании в Российской Федерации», пунктом 5 статьи 8 Закона края от 26 июня 2014 года № 6-2519 «Об образовании в Красноярском крае» на 2017 год и плановый период 2018 - 2019 годов","947","Прочие расходы по содержанию имущества",25800,25800,25800,0,0]
["бюджет муниципального образования город Норильск","Субсидия на выполнение муниципального задания  МБДОУ \"Детский сад № 90 \"Цветик-семицветик\"","065","муниципальное учреждение \"Управление общего и дошкольного образования Администрации города Норильска\"","0701","Дошкольное образование","02 1 00 74080","Субвенции бюджетам муниципальных образований на обеспечение государственных гарантий реализации прав на получение общедоступного и бесплатного дошкольного образования в муниципальных дошкольных образовательных организациях, общедоступного и бесплатного дошкольного образования в муниципальных общеобразовательных организациях в части обеспечения деятельности административно-хозяйственного, учебно-вспомогательного персонала и иных категорий работников образовательных организаций, участвующих в реализации общеобразовательных программ в соответствии с федеральными государственными образовательными стандартами, в рамках подпрограммы «Развитие дошкольного, общего и дополнительного образования» государственной программы Красноярского края «Развитие образования»","70000","Муниципальные услуги (работы), оказываемые (выполняемые) муниципальными учреждениями в качестве основных видов деятельности на основе утвержденного ведомственного перечня муниципальных услуг (работ)","475","Субвенции бюджетам муниципальных образований края на обеспечение государственных гарантий реализации прав на получение общедоступного и бесплатного дошкольного образования в муниципальных дошкольных образовательных организациях, общедоступного и бесплатного дошкольного образования в  муниципальных общеобразовательных организациях в соответствии с пунктом 3 части 1 статьи 8 Федерального закона от 29 декабря 2012 года № 273-ФЗ «Об образовании в Российской Федерации», пунктом 5 статьи 8 Закона края от 26 июня 2014 года № 6-2519 «Об образовании в Красноярском крае» на 2017 год и плановый период 2018 - 2019 годов","952","Возмещение работникам (сотрудникам) расходов, связанных со служебными командировками (проживание в служебных командировках)",18500,18500,18500,0,0]
["бюджет муниципального образования город Норильск","Субсидия на выполнение муниципального задания  МБДОУ \"Детский сад № 90 \"Цветик-семицветик\"","065","муниципальное учреждение \"Управление общего и дошкольного образования Администрации города Норильска\"","0701","Дошкольное образование","02 1 00 74080","Субвенции бюджетам муниципальных образований на обеспечение государственных гарантий реализации прав на получение общедоступного и бесплатного дошкольного образования в муниципальных дошкольных образовательных организациях, общедоступного и бесплатного дошкольного образования в муниципальных общеобразовательных организациях в части обеспечения деятельности административно-хозяйственного, учебно-вспомогательного персонала и иных категорий работников образовательных организаций, участвующих в реализации общеобразовательных программ в соответствии с федеральными государственными образовательными стандартами, в рамках подпрограммы «Развитие дошкольного, общего и дополнительного образования» государственной программы Красноярского края «Развитие образования»","70000","Муниципальные услуги (работы), оказываемые (выполняемые) муниципальными учреждениями в качестве основных видов деятельности на основе утвержденного ведомственного перечня муниципальных услуг (работ)","475","Субвенции бюджетам муниципальных образований края на обеспечение государственных гарантий реализации прав на получение общедоступного и бесплатного дошкольного образования в муниципальных дошкольных образовательных организациях, общедоступного и бесплатного дошкольного образования в  муниципальных общеобразовательных организациях в соответствии с пунктом 3 части 1 статьи 8 Федерального закона от 29 декабря 2012 года № 273-ФЗ «Об образовании в Российской Федерации», пунктом 5 статьи 8 Закона края от 26 июня 2014 года № 6-2519 «Об образовании в Красноярском крае» на 2017 год и плановый период 2018 - 2019 годов","954","Прочие услуги",163000,163000,163000,0,0]
["бюджет муниципального образования город Норильск","Субсидия на выполнение муниципального задания  МБДОУ \"Детский сад № 90 \"Цветик-семицветик\"","065","муниципальное учреждение \"Управление общего и дошкольного образования Администрации города Норильска\"","0701","Дошкольное образование","02 1 00 74080","Субвенции бюджетам муниципальных образований на обеспечение государственных гарантий реализации прав на получение общедоступного и бесплатного дошкольного образования в муниципальных дошкольных образовательных организациях, общедоступного и бесплатного дошкольного образования в муниципальных общеобразовательных организациях в части обеспечения деятельности административно-хозяйственного, учебно-вспомогательного персонала и иных категорий работников образовательных организаций, участвующих в реализации общеобразовательных программ в соответствии с федеральными государственными образовательными стандартами, в рамках подпрограммы «Развитие дошкольного, общего и дополнительного образования» государственной программы Красноярского края «Развитие образования»","70000","Муниципальные услуги (работы), оказываемые (выполняемые) муниципальными учреждениями в качестве основных видов деятельности на основе утвержденного ведомственного перечня муниципальных услуг (работ)","475","Субвенции бюджетам муниципальных образований края на обеспечение государственных гарантий реализации прав на получение общедоступного и бесплатного дошкольного образования в муниципальных дошкольных образовательных организациях, общедоступного и бесплатного дошкольного образования в  муниципальных общеобразовательных организациях в соответствии с пунктом 3 части 1 статьи 8 Федерального закона от 29 декабря 2012 года № 273-ФЗ «Об образовании в Российской Федерации», пунктом 5 статьи 8 Закона края от 26 июня 2014 года № 6-2519 «Об образовании в Красноярском крае» на 2017 год и плановый период 2018 - 2019 годов","956","Приобретение периодических изданий, справочной литературы",25300,25300,25300,0,0]
["бюджет муниципального образования город Норильск","Субсидия на выполнение муниципального задания  МБДОУ \"Детский сад № 90 \"Цветик-семицветик\"","065","муниципальное учреждение \"Управление общего и дошкольного образования Администрации города Норильска\"","0701","Дошкольное образование","02 1 00 74080","Субвенции бюджетам муниципальных образований на обеспечение государственных гарантий реализации прав на получение общедоступного и бесплатного дошкольного образования в муниципальных дошкольных образовательных организациях, общедоступного и бесплатного дошкольного образования в муниципальных общеобразовательных организациях в части обеспечения деятельности административно-хозяйственного, учебно-вспомогательного персонала и иных категорий работников образовательных организаций, участвующих в реализации общеобразовательных программ в соответствии с федеральными государственными образовательными стандартами, в рамках подпрограммы «Развитие дошкольного, общего и дополнительного образования» государственной программы Красноярского края «Развитие образования»","70000","Муниципальные услуги (работы), оказываемые (выполняемые) муниципальными учреждениями в качестве основных видов деятельности на основе утвержденного ведомственного перечня муниципальных услуг (работ)","475","Субвенции бюджетам муниципальных образований края на обеспечение государственных гарантий реализации прав на получение общедоступного и бесплатного дошкольного образования в муниципальных дошкольных образовательных организациях, общедоступного и бесплатного дошкольного образования в  муниципальных общеобразовательных организациях в соответствии с пунктом 3 части 1 статьи 8 Федерального закона от 29 декабря 2012 года № 273-ФЗ «Об образовании в Российской Федерации», пунктом 5 статьи 8 Закона края от 26 июня 2014 года № 6-2519 «Об образовании в Красноярском крае» на 2017 год и плановый период 2018 - 2019 годов","962","Прочие расходы",24500,24500,24500,0,0]
["бюджет муниципального образования город Норильск","Субсидия на выполнение муниципального задания  МБДОУ \"Детский сад № 90 \"Цветик-семицветик\"","065","муниципальное учреждение \"Управление общего и дошкольного образования Администрации города Норильска\"","0701","Дошкольное образование","02 1 00 74080","Субвенции бюджетам муниципальных образований на обеспечение государственных гарантий реализации прав на получение общедоступного и бесплатного дошкольного образования в муниципальных дошкольных образовательных организациях, общедоступного и бесплатного дошкольного образования в муниципальных общеобразовательных организациях в части обеспечения деятельности административно-хозяйственного, учебно-вспомогательного персонала и иных категорий работников образовательных организаций, участвующих в реализации общеобразовательных программ в соответствии с федеральными государственными образовательными стандартами, в рамках подпрограммы «Развитие дошкольного, общего и дополнительного образования» государственной программы Красноярского края «Развитие образования»","70000","Муниципальные услуги (работы), оказываемые (выполняемые) муниципальными учреждениями в качестве основных видов деятельности на основе утвержденного ведомственного перечня муниципальных услуг (работ)","475","Субвенции бюджетам муниципальных образований края на обеспечение государственных гарантий реализации прав на получение общедоступного и бесплатного дошкольного образования в муниципальных дошкольных образовательных организациях, общедоступного и бесплатного дошкольного образования в  муниципальных общеобразовательных организациях в соответствии с пунктом 3 части 1 статьи 8 Федерального закона от 29 декабря 2012 года № 273-ФЗ «Об образовании в Российской Федерации», пунктом 5 статьи 8 Закона края от 26 июня 2014 года № 6-2519 «Об образовании в Красноярском крае» на 2017 год и плановый период 2018 - 2019 годов","981","Приобретение расходных материалов",195900,195900,195900,0,0]
["бюджет муниципального образования город Норильск","Субсидия на выполнение муниципального задания  МБДОУ \"Детский сад № 90 \"Цветик-семицветик\"","065","муниципальное учреждение \"Управление общего и дошкольного образования Администрации города Норильска\"","0701","Дошкольное образование","02 1 00 74080","Субвенции бюджетам муниципальных образований на обеспечение государственных гарантий реализации прав на получение общедоступного и бесплатного дошкольного образования в муниципальных дошкольных образовательных организациях, общедоступного и бесплатного дошкольного образования в муниципальных общеобразовательных организациях в части обеспечения деятельности административно-хозяйственного, учебно-вспомогательного персонала и иных категорий работников образовательных организаций, участвующих в реализации общеобразовательных программ в соответствии с федеральными государственными образовательными стандартами, в рамках подпрограммы «Развитие дошкольного, общего и дополнительного образования» государственной программы Красноярского края «Развитие образования»","70000","Муниципальные услуги (работы), оказываемые (выполняемые) муниципальными учреждениями в качестве основных видов деятельности на основе утвержденного ведомственного перечня муниципальных услуг (работ)","475","Субвенции бюджетам муниципальных образований края на обеспечение государственных гарантий реализации прав на получение общедоступного и бесплатного дошкольного образования в муниципальных дошкольных образовательных организациях, общедоступного и бесплатного дошкольного образования в  муниципальных общеобразовательных организациях в соответствии с пунктом 3 части 1 статьи 8 Федерального закона от 29 декабря 2012 года № 273-ФЗ «Об образовании в Российской Федерации», пунктом 5 статьи 8 Закона края от 26 июня 2014 года № 6-2519 «Об образовании в Красноярском крае» на 2017 год и плановый период 2018 - 2019 годов","982","Приобретение медикаментов, перевязочных средств, изделий медицинского назначения и дезинфицирующих средств для медицинских целей",30400,30400,30400,0,0]
["бюджет муниципального образования город Норильск","Субсидия на выполнение муниципального задания  МБДОУ \"Детский сад № 90 \"Цветик-семицветик\"","065","муниципальное учреждение \"Управление общего и дошкольного образования Администрации города Норильска\"","0701","Дошкольное образование","02 1 00 74080","Субвенции бюджетам муниципальных образований на обеспечение государственных гарантий реализации прав на получение общедоступного и бесплатного дошкольного образования в муниципальных дошкольных образовательных организациях, общедоступного и бесплатного дошкольного образования в муниципальных общеобразовательных организациях в части обеспечения деятельности административно-хозяйственного, учебно-вспомогательного персонала и иных категорий работников образовательных организаций, участвующих в реализации общеобразовательных программ в соответствии с федеральными государственными образовательными стандартами, в рамках подпрограммы «Развитие дошкольного, общего и дополнительного образования» государственной программы Красноярского края «Развитие образования»","70000","Муниципальные услуги (работы), оказываемые (выполняемые) муниципальными учреждениями в качестве основных видов деятельности на основе утвержденного ведомственного перечня муниципальных услуг (работ)","475","Субвенции бюджетам муниципальных образований края на обеспечение государственных гарантий реализации прав на получение общедоступного и бесплатного дошкольного образования в муниципальных дошкольных образовательных организациях, общедоступного и бесплатного дошкольного образования в  муниципальных общеобразовательных организациях в соответствии с пунктом 3 части 1 статьи 8 Федерального закона от 29 декабря 2012 года № 273-ФЗ «Об образовании в Российской Федерации», пунктом 5 статьи 8 Закона края от 26 июня 2014 года № 6-2519 «Об образовании в Красноярском крае» на 2017 год и плановый период 2018 - 2019 годов","991","Заработная плата",9974000,9974000,9974000,0,0]
["бюджет муниципального образования город Норильск","Субсидия на выполнение муниципального задания  МБДОУ \"Детский сад № 90 \"Цветик-семицветик\"","065","муниципальное учреждение \"Управление общего и дошкольного образования Администрации города Норильска\"","0701","Дошкольное образование","02 1 00 74080","Субвенции бюджетам муниципальных образований на обеспечение государственных гарантий реализации прав на получение общедоступного и бесплатного дошкольного образования в муниципальных дошкольных образовательных организациях, общедоступного и бесплатного дошкольного образования в муниципальных общеобразовательных организациях в части обеспечения деятельности административно-хозяйственного, учебно-вспомогательного персонала и иных категорий работников образовательных организаций, участвующих в реализации общеобразовательных программ в соответствии с федеральными государственными образовательными стандартами, в рамках подпрограммы «Развитие дошкольного, общего и дополнительного образования» государственной программы Красноярского края «Развитие образования»","70000","Муниципальные услуги (работы), оказываемые (выполняемые) муниципальными учреждениями в качестве основных видов деятельности на основе утвержденного ведомственного перечня муниципальных услуг (работ)","475","Субвенции бюджетам муниципальных образований края на обеспечение государственных гарантий реализации прав на получение общедоступного и бесплатного дошкольного образования в муниципальных дошкольных образовательных организациях, общедоступного и бесплатного дошкольного образования в  муниципальных общеобразовательных организациях в соответствии с пунктом 3 части 1 статьи 8 Федерального закона от 29 декабря 2012 года № 273-ФЗ «Об образовании в Российской Федерации», пунктом 5 статьи 8 Закона края от 26 июня 2014 года № 6-2519 «Об образовании в Красноярском крае» на 2017 год и плановый период 2018 - 2019 годов","992","Начисления на выплаты по оплате труда",3012100,3012100,3012100,0,0]
["бюджет муниципального образования город Норильск","Субсидия на выполнение муниципального задания  МБДОУ \"Детский сад № 90 \"Цветик-семицветик\"","065","муниципальное учреждение \"Управление общего и дошкольного образования Администрации города Норильска\"","0701","Дошкольное образование","02 1 00 74080","Субвенции бюджетам муниципальных образований на обеспечение государственных гарантий реализации прав на получение общедоступного и бесплатного дошкольного образования в муниципальных дошкольных образовательных организациях, общедоступного и бесплатного дошкольного образования в муниципальных общеобразовательных организациях в части обеспечения деятельности административно-хозяйственного, учебно-вспомогательного персонала и иных категорий работников образовательных организаций, участвующих в реализации общеобразовательных программ в соответствии с федеральными государственными образовательными стандартами, в рамках подпрограммы «Развитие дошкольного, общего и дополнительного образования» государственной программы Красноярского края «Развитие образования»","70000","Муниципальные услуги (работы), оказываемые (выполняемые) муниципальными учреждениями в качестве основных видов деятельности на основе утвержденного ведомственного перечня муниципальных услуг (работ)","475","Субвенции бюджетам муниципальных образований края на обеспечение государственных гарантий реализации прав на получение общедоступного и бесплатного дошкольного образования в муниципальных дошкольных образовательных организациях, общедоступного и бесплатного дошкольного образования в  муниципальных общеобразовательных организациях в соответствии с пунктом 3 части 1 статьи 8 Федерального закона от 29 декабря 2012 года № 273-ФЗ «Об образовании в Российской Федерации», пунктом 5 статьи 8 Закона края от 26 июня 2014 года № 6-2519 «Об образовании в Красноярском крае» на 2017 год и плановый период 2018 - 2019 годов","995","Медицинские услуги (в том числе диспансеризация, медицинский осмотр и освидетельствование работников (включая предрейсовые осмотры водителей), состоящих в штате учреждения, проведение медицинских анализов)",120600,120600,120600,0,0]
["бюджет муниципального образования город Норильск","Субсидия на выполнение муниципального задания  МБДОУ \"Детский сад № 90 \"Цветик-семицветик\"","065","муниципальное учреждение \"Управление общего и дошкольного образования Администрации города Норильска\"","0701","Дошкольное образование","02 1 00 75880","Субвенции бюджетам муниципальных образований на обеспечение государственных гарантий реализации прав на получение общедоступного и бесплатного дошкольного образования в муниципальных дошкольных образовательных организациях, общедоступного и бесплатного дошкольного образования в муниципальных общеобразовательных организациях, за исключением обеспечения деятельности административно-хозяйственного, учебно-вспомогательного персонала и иных категорий работников образовательных организаций, участвующих в реализации общеобразовательных программ в соответствии с федеральными государственными образовательными стандартами, в рамках подпрограммы «Развитие дошкольного, общего и дополнительного образования» государственной программы Красноярского края «Развитие образования»","70000","Муниципальные услуги (работы), оказываемые (выполняемые) муниципальными учреждениями в качестве основных видов деятельности на основе утвержденного ведомственного перечня муниципальных услуг (работ)","475","Субвенции бюджетам муниципальных образований края на обеспечение государственных гарантий реализации прав на получение общедоступного и бесплатного дошкольного образования в муниципальных дошкольных образовательных организациях, общедоступного и бесплатного дошкольного образования в  муниципальных общеобразовательных организациях в соответствии с пунктом 3 части 1 статьи 8 Федерального закона от 29 декабря 2012 года № 273-ФЗ «Об образовании в Российской Федерации», пунктом 5 статьи 8 Закона края от 26 июня 2014 года № 6-2519 «Об образовании в Красноярском крае» на 2017 год и плановый период 2018 - 2019 годов","918","Прочие выплаты",5400,5400,5400,0,0]
["бюджет муниципального образования город Норильск","Субсидия на выполнение муниципального задания  МБДОУ \"Детский сад № 90 \"Цветик-семицветик\"","065","муниципальное учреждение \"Управление общего и дошкольного образования Администрации города Норильска\"","0701","Дошкольное образование","02 1 00 75880","Субвенции бюджетам муниципальных образований на обеспечение государственных гарантий реализации прав на получение общедоступного и бесплатного дошкольного образования в муниципальных дошкольных образовательных организациях, общедоступного и бесплатного дошкольного образования в муниципальных общеобразовательных организациях, за исключением обеспечения деятельности административно-хозяйственного, учебно-вспомогательного персонала и иных категорий работников образовательных организаций, участвующих в реализации общеобразовательных программ в соответствии с федеральными государственными образовательными стандартами, в рамках подпрограммы «Развитие дошкольного, общего и дополнительного образования» государственной программы Красноярского края «Развитие образования»","70000","Муниципальные услуги (работы), оказываемые (выполняемые) муниципальными учреждениями в качестве основных видов деятельности на основе утвержденного ведомственного перечня муниципальных услуг (работ)","475","Субвенции бюджетам муниципальных образований края на обеспечение государственных гарантий реализации прав на получение общедоступного и бесплатного дошкольного образования в муниципальных дошкольных образовательных организациях, общедоступного и бесплатного дошкольного образования в  муниципальных общеобразовательных организациях в соответствии с пунктом 3 части 1 статьи 8 Федерального закона от 29 декабря 2012 года № 273-ФЗ «Об образовании в Российской Федерации», пунктом 5 статьи 8 Закона края от 26 июня 2014 года № 6-2519 «Об образовании в Красноярском крае» на 2017 год и плановый период 2018 - 2019 годов","919","Возмещение расходов на прохождение медицинского осмотра",21000,21000,21000,0,0]
["бюджет муниципального образования город Норильск","Субсидия на выполнение муниципального задания  МБДОУ \"Детский сад № 90 \"Цветик-семицветик\"","065","муниципальное учреждение \"Управление общего и дошкольного образования Администрации города Норильска\"","0701","Дошкольное образование","02 1 00 75880","Субвенции бюджетам муниципальных образований на обеспечение государственных гарантий реализации прав на получение общедоступного и бесплатного дошкольного образования в муниципальных дошкольных образовательных организациях, общедоступного и бесплатного дошкольного образования в муниципальных общеобразовательных организациях, за исключением обеспечения деятельности административно-хозяйственного, учебно-вспомогательного персонала и иных категорий работников образовательных организаций, участвующих в реализации общеобразовательных программ в соответствии с федеральными государственными образовательными стандартами, в рамках подпрограммы «Развитие дошкольного, общего и дополнительного образования» государственной программы Красноярского края «Развитие образования»","70000","Муниципальные услуги (работы), оказываемые (выполняемые) муниципальными учреждениями в качестве основных видов деятельности на основе утвержденного ведомственного перечня муниципальных услуг (работ)","475","Субвенции бюджетам муниципальных образований края на обеспечение государственных гарантий реализации прав на получение общедоступного и бесплатного дошкольного образования в муниципальных дошкольных образовательных организациях, общедоступного и бесплатного дошкольного образования в  муниципальных общеобразовательных организациях в соответствии с пунктом 3 части 1 статьи 8 Федерального закона от 29 декабря 2012 года № 273-ФЗ «Об образовании в Российской Федерации», пунктом 5 статьи 8 Закона края от 26 июня 2014 года № 6-2519 «Об образовании в Красноярском крае» на 2017 год и плановый период 2018 - 2019 годов","925","Услуги связи",48000,48000,48000,0,0]
["бюджет муниципального образования город Норильск","Субсидия на выполнение муниципального задания  МБДОУ \"Детский сад № 90 \"Цветик-семицветик\"","065","муниципальное учреждение \"Управление общего и дошкольного образования Администрации города Норильска\"","0701","Дошкольное образование","02 1 00 75880","Субвенции бюджетам муниципальных образований на обеспечение государственных гарантий реализации прав на получение общедоступного и бесплатного дошкольного образования в муниципальных дошкольных образовательных организациях, общедоступного и бесплатного дошкольного образования в муниципальных общеобразовательных организациях, за исключением обеспечения деятельности административно-хозяйственного, учебно-вспомогательного персонала и иных категорий работников образовательных организаций, участвующих в реализации общеобразовательных программ в соответствии с федеральными государственными образовательными стандартами, в рамках подпрограммы «Развитие дошкольного, общего и дополнительного образования» государственной программы Красноярского края «Развитие образования»","70000","Муниципальные услуги (работы), оказываемые (выполняемые) муниципальными учреждениями в качестве основных видов деятельности на основе утвержденного ведомственного перечня муниципальных услуг (работ)","475","Субвенции бюджетам муниципальных образований края на обеспечение государственных гарантий реализации прав на получение общедоступного и бесплатного дошкольного образования в муниципальных дошкольных образовательных организациях, общедоступного и бесплатного дошкольного образования в  муниципальных общеобразовательных организациях в соответствии с пунктом 3 части 1 статьи 8 Федерального закона от 29 декабря 2012 года № 273-ФЗ «Об образовании в Российской Федерации», пунктом 5 статьи 8 Закона края от 26 июня 2014 года № 6-2519 «Об образовании в Красноярском крае» на 2017 год и плановый период 2018 - 2019 годов","963","Культурно-массовые и спортивно-массовые мероприятия",30000,30000,30000,0,0]
["бюджет муниципального образования город Норильск","Субсидия на выполнение муниципального задания  МБДОУ \"Детский сад № 90 \"Цветик-семицветик\"","065","муниципальное учреждение \"Управление общего и дошкольного образования Администрации города Норильска\"","0701","Дошкольное образование","02 1 00 75880","Субвенции бюджетам муниципальных образований на обеспечение государственных гарантий реализации прав на получение общедоступного и бесплатного дошкольного образования в муниципальных дошкольных образовательных организациях, общедоступного и бесплатного дошкольного образования в муниципальных общеобразовательных организациях, за исключением обеспечения деятельности административно-хозяйственного, учебно-вспомогательного персонала и иных категорий работников образовательных организаций, участвующих в реализации общеобразовательных программ в соответствии с федеральными государственными образовательными стандартами, в рамках подпрограммы «Развитие дошкольного, общего и дополнительного образования» государственной программы Красноярского края «Развитие образования»","70000","Муниципальные услуги (работы), оказываемые (выполняемые) муниципальными учреждениями в качестве основных видов деятельности на основе утвержденного ведомственного перечня муниципальных услуг (работ)","475","Субвенции бюджетам муниципальных образований края на обеспечение государственных гарантий реализации прав на получение общедоступного и бесплатного дошкольного образования в муниципальных дошкольных образовательных организациях, общедоступного и бесплатного дошкольного образования в  муниципальных общеобразовательных организациях в соответствии с пунктом 3 части 1 статьи 8 Федерального закона от 29 декабря 2012 года № 273-ФЗ «Об образовании в Российской Федерации», пунктом 5 статьи 8 Закона края от 26 июня 2014 года № 6-2519 «Об образовании в Красноярском крае» на 2017 год и плановый период 2018 - 2019 годов","971","Приобретение основных средств",276200,276200,276200,0,0]
["бюджет муниципального образования город Норильск","Субсидия на выполнение муниципального задания  МБДОУ \"Детский сад № 90 \"Цветик-семицветик\"","065","муниципальное учреждение \"Управление общего и дошкольного образования Администрации города Норильска\"","0701","Дошкольное образование","02 1 00 75880","Субвенции бюджетам муниципальных образований на обеспечение государственных гарантий реализации прав на получение общедоступного и бесплатного дошкольного образования в муниципальных дошкольных образовательных организациях, общедоступного и бесплатного дошкольного образования в муниципальных общеобразовательных организациях, за исключением обеспечения деятельности административно-хозяйственного, учебно-вспомогательного персонала и иных категорий работников образовательных организаций, участвующих в реализации общеобразовательных программ в соответствии с федеральными государственными образовательными стандартами, в рамках подпрограммы «Развитие дошкольного, общего и дополнительного образования» государственной программы Красноярского края «Развитие образования»","70000","Муниципальные услуги (работы), оказываемые (выполняемые) муниципальными учреждениями в качестве основных видов деятельности на основе утвержденного ведомственного перечня муниципальных услуг (работ)","475","Субвенции бюджетам муниципальных образований края на обеспечение государственных гарантий реализации прав на получение общедоступного и бесплатного дошкольного образования в муниципальных дошкольных образовательных организациях, общедоступного и бесплатного дошкольного образования в  муниципальных общеобразовательных организациях в соответствии с пунктом 3 части 1 статьи 8 Федерального закона от 29 декабря 2012 года № 273-ФЗ «Об образовании в Российской Федерации», пунктом 5 статьи 8 Закона края от 26 июня 2014 года № 6-2519 «Об образовании в Красноярском крае» на 2017 год и плановый период 2018 - 2019 годов","981","Приобретение расходных материалов",148700,148700,148700,0,0]
["бюджет муниципального образования город Норильск","Субсидия на выполнение муниципального задания  МБДОУ \"Детский сад № 90 \"Цветик-семицветик\"","065","муниципальное учреждение \"Управление общего и дошкольного образования Администрации города Норильска\"","0701","Дошкольное образование","02 1 00 75880","Субвенции бюджетам муниципальных образований на обеспечение государственных гарантий реализации прав на получение общедоступного и бесплатного дошкольного образования в муниципальных дошкольных образовательных организациях, общедоступного и бесплатного дошкольного образования в муниципальных общеобразовательных организациях, за исключением обеспечения деятельности административно-хозяйственного, учебно-вспомогательного персонала и иных категорий работников образовательных организаций, участвующих в реализации общеобразовательных программ в соответствии с федеральными государственными образовательными стандартами, в рамках подпрограммы «Развитие дошкольного, общего и дополнительного образования» государственной программы Красноярского края «Развитие образования»","70000","Муниципальные услуги (работы), оказываемые (выполняемые) муниципальными учреждениями в качестве основных видов деятельности на основе утвержденного ведомственного перечня муниципальных услуг (работ)","475","Субвенции бюджетам муниципальных образований края на обеспечение государственных гарантий реализации прав на получение общедоступного и бесплатного дошкольного образования в муниципальных дошкольных образовательных организациях, общедоступного и бесплатного дошкольного образования в  муниципальных общеобразовательных организациях в соответствии с пунктом 3 части 1 статьи 8 Федерального закона от 29 декабря 2012 года № 273-ФЗ «Об образовании в Российской Федерации», пунктом 5 статьи 8 Закона края от 26 июня 2014 года № 6-2519 «Об образовании в Красноярском крае» на 2017 год и плановый период 2018 - 2019 годов","991","Заработная плата",24909200,24909200,24909200,0,0]
["бюджет муниципального образования город Норильск","Субсидия на выполнение муниципального задания  МБДОУ \"Детский сад № 90 \"Цветик-семицветик\"","065","муниципальное учреждение \"Управление общего и дошкольного образования Администрации города Норильска\"","0701","Дошкольное образование","02 1 00 75880","Субвенции бюджетам муниципальных образований на обеспечение государственных гарантий реализации прав на получение общедоступного и бесплатного дошкольного образования в муниципальных дошкольных образовательных организациях, общедоступного и бесплатного дошкольного образования в муниципальных общеобразовательных организациях, за исключением обеспечения деятельности административно-хозяйственного, учебно-вспомогательного персонала и иных категорий работников образовательных организаций, участвующих в реализации общеобразовательных программ в соответствии с федеральными государственными образовательными стандартами, в рамках подпрограммы «Развитие дошкольного, общего и дополнительного образования» государственной программы Красноярского края «Развитие образования»","70000","Муниципальные услуги (работы), оказываемые (выполняемые) муниципальными учреждениями в качестве основных видов деятельности на основе утвержденного ведомственного перечня муниципальных услуг (работ)","475","Субвенции бюджетам муниципальных образований края на обеспечение государственных гарантий реализации прав на получение общедоступного и бесплатного дошкольного образования в муниципальных дошкольных образовательных организациях, общедоступного и бесплатного дошкольного образования в  муниципальных общеобразовательных организациях в соответствии с пунктом 3 части 1 статьи 8 Федерального закона от 29 декабря 2012 года № 273-ФЗ «Об образовании в Российской Федерации», пунктом 5 статьи 8 Закона края от 26 июня 2014 года № 6-2519 «Об образовании в Красноярском крае» на 2017 год и плановый период 2018 - 2019 годов","992","Начисления на выплаты по оплате труда",7223700,7223700,7223700,0,0]
["бюджет муниципального образования город Норильск","Субсидия на выполнение муниципального задания  МБДОУ \"Детский сад № 90 \"Цветик-семицветик\"","065","муниципальное учреждение \"Управление общего и дошкольного образования Администрации города Норильска\"","0701","Дошкольное образование","02 1 00 75880","Субвенции бюджетам муниципальных образований на обеспечение государственных гарантий реализации прав на получение общедоступного и бесплатного дошкольного образования в муниципальных дошкольных образовательных организациях, общедоступного и бесплатного дошкольного образования в муниципальных общеобразовательных организациях, за исключением обеспечения деятельности административно-хозяйственного, учебно-вспомогательного персонала и иных категорий работников образовательных организаций, участвующих в реализации общеобразовательных программ в соответствии с федеральными государственными образовательными стандартами, в рамках подпрограммы «Развитие дошкольного, общего и дополнительного образования» государственной программы Красноярского края «Развитие образования»","70000","Муниципальные услуги (работы), оказываемые (выполняемые) муниципальными учреждениями в качестве основных видов деятельности на основе утвержденного ведомственного перечня муниципальных услуг (работ)","475","Субвенции бюджетам муниципальных образований края на обеспечение государственных гарантий реализации прав на получение общедоступного и бесплатного дошкольного образования в муниципальных дошкольных образовательных организациях, общедоступного и бесплатного дошкольного образования в  муниципальных общеобразовательных организациях в соответствии с пунктом 3 части 1 статьи 8 Федерального закона от 29 декабря 2012 года № 273-ФЗ «Об образовании в Российской Федерации», пунктом 5 статьи 8 Закона края от 26 июня 2014 года № 6-2519 «Об образовании в Красноярском крае» на 2017 год и плановый период 2018 - 2019 годов","995","Медицинские услуги (в том числе диспансеризация, медицинский осмотр и освидетельствование работников (включая предрейсовые осмотры водителей), состоящих в штате учреждения, проведение медицинских анализов)",273100,273100,273100,0,0]
["бюджет муниципального образования город Норильск","Субсидия на выполнение муниципального задания  МБДОУ \"Детский сад № 90 \"Цветик-семицветик\"","065","муниципальное учреждение \"Управление общего и дошкольного образования Администрации города Норильска\"","0701","Дошкольное образование","02 1 01 01110","Мероприятие: 1.1.1 Организация предоставления общедоступного и бесплатного дошкольного образования, создание условий для осуществления присмотра и ухода за детьми","70000","Муниципальные услуги (работы), оказываемые (выполняемые) муниципальными учреждениями в качестве основных видов деятельности на основе утвержденного ведомственного перечня муниципальных услуг (работ)","000","НЕ УКАЗАНО","918","Прочие выплаты",8730,8730,8730,0,0]
["бюджет муниципального образования город Норильск","Субсидия на выполнение муниципального задания  МБДОУ \"Детский сад № 90 \"Цветик-семицветик\"","065","муниципальное учреждение \"Управление общего и дошкольного образования Администрации города Норильска\"","0701","Дошкольное образование","02 1 01 01110","Мероприятие: 1.1.1 Организация предоставления общедоступного и бесплатного дошкольного образования, создание условий для осуществления присмотра и ухода за детьми","70000","Муниципальные услуги (работы), оказываемые (выполняемые) муниципальными учреждениями в качестве основных видов деятельности на основе утвержденного ведомственного перечня муниципальных услуг (работ)","000","НЕ УКАЗАНО","919","Возмещение расходов на прохождение медицинского осмотра",63000,63000,63000,0,0]
["бюджет муниципального образования город Норильск","Субсидия на выполнение муниципального задания  МБДОУ \"Детский сад № 90 \"Цветик-семицветик\"","065","муниципальное учреждение \"Управление общего и дошкольного образования Администрации города Норильска\"","0701","Дошкольное образование","02 1 01 01110","Мероприятие: 1.1.1 Организация предоставления общедоступного и бесплатного дошкольного образования, создание условий для осуществления присмотра и ухода за детьми","70000","Муниципальные услуги (работы), оказываемые (выполняемые) муниципальными учреждениями в качестве основных видов деятельности на основе утвержденного ведомственного перечня муниципальных услуг (работ)","000","НЕ УКАЗАНО","921","Возмещение работникам (сотрудникам) расходов, связанных со служебными командировками (проезд к месту служебной командировки и обратно к месту постоянной работы транспортом общего пользования)",106100,106100,106100,0,0]
["бюджет муниципального образования город Норильск","Субсидия на выполнение муниципального задания  МБДОУ \"Детский сад № 90 \"Цветик-семицветик\"","065","муниципальное учреждение \"Управление общего и дошкольного образования Администрации города Норильска\"","0701","Дошкольное образование","02 1 01 01110","Мероприятие: 1.1.1 Организация предоставления общедоступного и бесплатного дошкольного образования, создание условий для осуществления присмотра и ухода за детьми","70000","Муниципальные услуги (работы), оказываемые (выполняемые) муниципальными учреждениями в качестве основных видов деятельности на основе утвержденного ведомственного перечня муниципальных услуг (работ)","000","НЕ УКАЗАНО","931","Оплата отопления и технологических нужд, а также горячего водоснабжения",1102000,1102000,1102000,0,0]
["бюджет муниципального образования город Норильск","Субсидия на выполнение муниципального задания  МБДОУ \"Детский сад № 90 \"Цветик-семицветик\"","065","муниципальное учреждение \"Управление общего и дошкольного образования Администрации города Норильска\"","0701","Дошкольное образование","02 1 01 01110","Мероприятие: 1.1.1 Организация предоставления общедоступного и бесплатного дошкольного образования, создание условий для осуществления присмотра и ухода за детьми","70000","Муниципальные услуги (работы), оказываемые (выполняемые) муниципальными учреждениями в качестве основных видов деятельности на основе утвержденного ведомственного перечня муниципальных услуг (работ)","000","НЕ УКАЗАНО","932","Потребление электроэнергии",376800,376800,376800,0,0]
["бюджет муниципального образования город Норильск","Субсидия на выполнение муниципального задания  МБДОУ \"Детский сад № 90 \"Цветик-семицветик\"","065","муниципальное учреждение \"Управление общего и дошкольного образования Администрации города Норильска\"","0701","Дошкольное образование","02 1 01 01110","Мероприятие: 1.1.1 Организация предоставления общедоступного и бесплатного дошкольного образования, создание условий для осуществления присмотра и ухода за детьми","70000","Муниципальные услуги (работы), оказываемые (выполняемые) муниципальными учреждениями в качестве основных видов деятельности на основе утвержденного ведомственного перечня муниципальных услуг (работ)","000","НЕ УКАЗАНО","933","Водоснабжение, канализация",1094600,1094600,1094600,0,0]
["бюджет муниципального образования город Норильск","Субсидия на выполнение муниципального задания  МБДОУ \"Детский сад № 90 \"Цветик-семицветик\"","065","муниципальное учреждение \"Управление общего и дошкольного образования Администрации города Норильска\"","0701","Дошкольное образование","02 1 01 01110","Мероприятие: 1.1.1 Организация предоставления общедоступного и бесплатного дошкольного образования, создание условий для осуществления присмотра и ухода за детьми","70000","Муниципальные услуги (работы), оказываемые (выполняемые) муниципальными учреждениями в качестве основных видов деятельности на основе утвержденного ведомственного перечня муниципальных услуг (работ)","000","НЕ УКАЗАНО","941","Содержание и техническое обслуживание помещений",1700000,1700000,1700000,0,0]
["бюджет муниципального образования город Норильск","Субсидия на выполнение муниципального задания  МБДОУ \"Детский сад № 90 \"Цветик-семицветик\"","065","муниципальное учреждение \"Управление общего и дошкольного образования Администрации города Норильска\"","0701","Дошкольное образование","02 1 01 01110","Мероприятие: 1.1.1 Организация предоставления общедоступного и бесплатного дошкольного образования, создание условий для осуществления присмотра и ухода за детьми","70000","Муниципальные услуги (работы), оказываемые (выполняемые) муниципальными учреждениями в качестве основных видов деятельности на основе утвержденного ведомственного перечня муниципальных услуг (работ)","000","НЕ УКАЗАНО","942","Текущий ремонт оборудования",251600,251600,251600,0,0]
["бюджет муниципального образования город Норильск","Субсидия на выполнение муниципального задания  МБДОУ \"Детский сад № 90 \"Цветик-семицветик\"","065","муниципальное учреждение \"Управление общего и дошкольного образования Администрации города Норильска\"","0701","Дошкольное образование","02 1 01 01110","Мероприятие: 1.1.1 Организация предоставления общедоступного и бесплатного дошкольного образования, создание условий для осуществления присмотра и ухода за детьми","70000","Муниципальные услуги (работы), оказываемые (выполняемые) муниципальными учреждениями в качестве основных видов деятельности на основе утвержденного ведомственного перечня муниципальных услуг (работ)","000","НЕ УКАЗАНО","947","Прочие расходы по содержанию имущества",501700,501700,501700,0,0]
["бюджет муниципального образования город Норильск","Субсидия на выполнение муниципального задания  МБДОУ \"Детский сад № 90 \"Цветик-семицветик\"","065","муниципальное учреждение \"Управление общего и дошкольного образования Администрации города Норильска\"","0701","Дошкольное образование","02 1 01 01110","Мероприятие: 1.1.1 Организация предоставления общедоступного и бесплатного дошкольного образования, создание условий для осуществления присмотра и ухода за детьми","70000","Муниципальные услуги (работы), оказываемые (выполняемые) муниципальными учреждениями в качестве основных видов деятельности на основе утвержденного ведомственного перечня муниципальных услуг (работ)","000","НЕ УКАЗАНО","953","Вневедомственная (в том числе пожарная) охрана, охранная и пожарная сигнализация (установка, наладка и эксплуатация)",721300,721300,721300,0,0]
["бюджет муниципального образования город Норильск","Субсидия на выполнение муниципального задания  МБДОУ \"Детский сад № 90 \"Цветик-семицветик\"","065","муниципальное учреждение \"Управление общего и дошкольного образования Администрации города Норильска\"","0701","Дошкольное образование","02 1 01 01110","Мероприятие: 1.1.1 Организация предоставления общедоступного и бесплатного дошкольного образования, создание условий для осуществления присмотра и ухода за детьми","70000","Муниципальные услуги (работы), оказываемые (выполняемые) муниципальными учреждениями в качестве основных видов деятельности на основе утвержденного ведомственного перечня муниципальных услуг (работ)","000","НЕ УКАЗАНО","954","Прочие услуги",435600,435600,435600,0,0]
["бюджет муниципального образования город Норильск","Субсидия на выполнение муниципального задания  МБДОУ \"Детский сад № 90 \"Цветик-семицветик\"","065","муниципальное учреждение \"Управление общего и дошкольного образования Администрации города Норильска\"","0701","Дошкольное образование","02 1 01 01110","Мероприятие: 1.1.1 Организация предоставления общедоступного и бесплатного дошкольного образования, создание условий для осуществления присмотра и ухода за детьми","70000","Муниципальные услуги (работы), оказываемые (выполняемые) муниципальными учреждениями в качестве основных видов деятельности на основе утвержденного ведомственного перечня муниципальных услуг (работ)","000","НЕ УКАЗАНО","963","Культурно-массовые и спортивно-массовые мероприятия",12000,12000,12000,0,0]
["бюджет муниципального образования город Норильск","Субсидия на выполнение муниципального задания  МБДОУ \"Детский сад № 90 \"Цветик-семицветик\"","065","муниципальное учреждение \"Управление общего и дошкольного образования Администрации города Норильска\"","0701","Дошкольное образование","02 1 01 01110","Мероприятие: 1.1.1 Организация предоставления общедоступного и бесплатного дошкольного образования, создание условий для осуществления присмотра и ухода за детьми","70000","Муниципальные услуги (работы), оказываемые (выполняемые) муниципальными учреждениями в качестве основных видов деятельности на основе утвержденного ведомственного перечня муниципальных услуг (работ)","000","НЕ УКАЗАНО","971","Приобретение основных средств",345000,null,null,-345000,-345000]
["бюджет муниципального образования город Норильск","Субсидия на выполнение муниципального задания  МБДОУ \"Детский сад № 90 \"Цветик-семицветик\"","065","муниципальное учреждение \"Управление общего и дошкольного образования Администрации города Норильска\"","0701","Дошкольное образование","02 1 01 01110","Мероприятие: 1.1.1 Организация предоставления общедоступного и бесплатного дошкольного образования, создание условий для осуществления присмотра и ухода за детьми","70000","Муниципальные услуги (работы), оказываемые (выполняемые) муниципальными учреждениями в качестве основных видов деятельности на основе утвержденного ведомственного перечня муниципальных услуг (работ)","000","НЕ УКАЗАНО","981","Приобретение расходных материалов",398000,167800,167800,-230200,-230200]
["бюджет муниципального образования город Норильск","Субсидия на выполнение муниципального задания  МБДОУ \"Детский сад № 90 \"Цветик-семицветик\"","065","муниципальное учреждение \"Управление общего и дошкольного образования Администрации города Норильска\"","0701","Дошкольное образование","02 1 01 01110","Мероприятие: 1.1.1 Организация предоставления общедоступного и бесплатного дошкольного образования, создание условий для осуществления присмотра и ухода за детьми","70000","Муниципальные услуги (работы), оказываемые (выполняемые) муниципальными учреждениями в качестве основных видов деятельности на основе утвержденного ведомственного перечня муниципальных услуг (работ)","000","НЕ УКАЗАНО","983","Приобретение продуктов питания (оплата продовольствия), в том числе продовольственных пайков военнослужащим и приравненным к ним лицам",454700,398800,398800,-55900,-55900]
["бюджет муниципального образования город Норильск","Субсидия на выполнение муниципального задания  МБДОУ \"Детский сад № 90 \"Цветик-семицветик\"","065","муниципальное учреждение \"Управление общего и дошкольного образования Администрации города Норильска\"","0701","Дошкольное образование","02 1 01 01110","Мероприятие: 1.1.1 Организация предоставления общедоступного и бесплатного дошкольного образования, создание условий для осуществления присмотра и ухода за детьми","70000","Муниципальные услуги (работы), оказываемые (выполняемые) муниципальными учреждениями в качестве основных видов деятельности на основе утвержденного ведомственного перечня муниципальных услуг (работ)","000","НЕ УКАЗАНО","985","Приобретение мягкого инвентаря",52300,52300,52300,0,0]
["бюджет муниципального образования город Норильск","Субсидия на выполнение муниципального задания  МБДОУ \"Детский сад № 90 \"Цветик-семицветик\"","065","муниципальное учреждение \"Управление общего и дошкольного образования Администрации города Норильска\"","0701","Дошкольное образование","02 1 01 01110","Мероприятие: 1.1.1 Организация предоставления общедоступного и бесплатного дошкольного образования, создание условий для осуществления присмотра и ухода за детьми","70000","Муниципальные услуги (работы), оказываемые (выполняемые) муниципальными учреждениями в качестве основных видов деятельности на основе утвержденного ведомственного перечня муниципальных услуг (работ)","000","НЕ УКАЗАНО","991","Заработная плата",8326000,8410400,8410400,84400,84400]
["бюджет муниципального образования город Норильск","Субсидия на выполнение муниципального задания  МБДОУ \"Детский сад № 90 \"Цветик-семицветик\"","065","муниципальное учреждение \"Управление общего и дошкольного образования Администрации города Норильска\"","0701","Дошкольное образование","02 1 01 01110","Мероприятие: 1.1.1 Организация предоставления общедоступного и бесплатного дошкольного образования, создание условий для осуществления присмотра и ухода за детьми","70000","Муниципальные услуги (работы), оказываемые (выполняемые) муниципальными учреждениями в качестве основных видов деятельности на основе утвержденного ведомственного перечня муниципальных услуг (работ)","000","НЕ УКАЗАНО","992","Начисления на выплаты по оплате труда",2465600,2490100,2490100,24500,24500]
["бюджет муниципального образования город Норильск","Субсидия на выполнение муниципального задания  МБДОУ \"Детский сад № 90 \"Цветик-семицветик\"","065","муниципальное учреждение \"Управление общего и дошкольного образования Администрации города Норильска\"","0701","Дошкольное образование","02 1 01 01110","Мероприятие: 1.1.1 Организация предоставления общедоступного и бесплатного дошкольного образования, создание условий для осуществления присмотра и ухода за детьми","70000","Муниципальные услуги (работы), оказываемые (выполняемые) муниципальными учреждениями в качестве основных видов деятельности на основе утвержденного ведомственного перечня муниципальных услуг (работ)","000","НЕ УКАЗАНО","995","Медицинские услуги (в том числе диспансеризация, медицинский осмотр и освидетельствование работников (включая предрейсовые осмотры водителей), состоящих в штате учреждения, проведение медицинских анализов)",137300,137300,137300,0,0]
["бюджет муниципального образования город Норильск","Субсидия на иные цели МБДОУ \"Детский сад № 90 \"Цветик-семицветик\"","065","муниципальное учреждение \"Управление общего и дошкольного образования Администрации города Норильска\"","0701","Дошкольное образование","02 1 00 74080","Субвенции бюджетам муниципальных образований на обеспечение государственных гарантий реализации прав на получение общедоступного и бесплатного дошкольного образования в муниципальных дошкольных образовательных организациях, общедоступного и бесплатного дошкольного образования в муниципальных общеобразовательных организациях в части обеспечения деятельности административно-хозяйственного, учебно-вспомогательного персонала и иных категорий работников образовательных организаций, участвующих в реализации общеобразовательных программ в соответствии с федеральными государственными образовательными стандартами, в рамках подпрограммы «Развитие дошкольного, общего и дополнительного образования» государственной программы Красноярского края «Развитие образования»","81000","Предоставление субсидий МБУ, МАУ на иные цели, имеющим целевое назначение","475","Субвенции бюджетам муниципальных образований края на обеспечение государственных гарантий реализации прав на получение общедоступного и бесплатного дошкольного образования в муниципальных дошкольных образовательных организациях, общедоступного и бесплатного дошкольного образования в  муниципальных общеобразовательных организациях в соответствии с пунктом 3 части 1 статьи 8 Федерального закона от 29 декабря 2012 года № 273-ФЗ «Об образовании в Российской Федерации», пунктом 5 статьи 8 Закона края от 26 июня 2014 года № 6-2519 «Об образовании в Красноярском крае» на 2017 год и плановый период 2018 - 2019 годов","911","Оплата стоимости проезда к месту отдыха и обратно",1317700,1317700,1317700,0,0]
["бюджет муниципального образования город Норильск","Субсидия на иные цели МБДОУ \"Детский сад № 90 \"Цветик-семицветик\"","065","муниципальное учреждение \"Управление общего и дошкольного образования Администрации города Норильска\"","0701","Дошкольное образование","02 1 00 75540","Субвенции бюджетам муниципальных образований на обеспечение выделения денежных средств на осуществление присмотра и ухода за детьми-инвалидами, детьми-сиротами и детьми, оставшимися без попечения родителей, а также детьми с туберкулезной интоксикацией, обучающимися в муниципальных образовательных организациях, реализующих образовательную программу дошкольного образования, без взимания родительской платы в рамках подпрограммы «Развитие дошкольного, общего и дополнительного образования» государственной программы Красноярского края «Развитие образования»","81000","Предоставление субсидий МБУ, МАУ на иные цели, имеющим целевое назначение","459","Субвенции бюджетам муниципальных образований на обеспечение выделения денежных средств на осуществление присмотра и ухода за детьми-инвалидами, детьми-сиротами и детьми, оставшимися без попечения родителей, а также детьми с туберкулезной интоксикацией, обучающимися в муниципальных образовательных организациях, реализующих образовательную программу дошкольного образования, без взимания родительской платы в рамках подпрограммы «Развитие дошкольного, общего и дополнительного образования» государственной программы Красноярского края «Развитие образования»","983","Приобретение продуктов питания (оплата продовольствия), в том числе продовольственных пайков военнослужащим и приравненным к ним лицам",116900,116900,116900,0,0]
["бюджет муниципального образования город Норильск","Субсидия на иные цели МБДОУ \"Детский сад № 90 \"Цветик-семицветик\"","065","муниципальное учреждение \"Управление общего и дошкольного образования Администрации города Норильска\"","0701","Дошкольное образование","02 1 00 75880","Субвенции бюджетам муниципальных образований на обеспечение государственных гарантий реализации прав на получение общедоступного и бесплатного дошкольного образования в муниципальных дошкольных образовательных организациях, общедоступного и бесплатного дошкольного образования в муниципальных общеобразовательных организациях, за исключением обеспечения деятельности административно-хозяйственного, учебно-вспомогательного персонала и иных категорий работников образовательных организаций, участвующих в реализации общеобразовательных программ в соответствии с федеральными государственными образовательными стандартами, в рамках подпрограммы «Развитие дошкольного, общего и дополнительного образования» государственной программы Красноярского края «Развитие образования»","81000","Предоставление субсидий МБУ, МАУ на иные цели, имеющим целевое назначение","475","Субвенции бюджетам муниципальных образований края на обеспечение государственных гарантий реализации прав на получение общедоступного и бесплатного дошкольного образования в муниципальных дошкольных образовательных организациях, общедоступного и бесплатного дошкольного образования в  муниципальных общеобразовательных организациях в соответствии с пунктом 3 части 1 статьи 8 Федерального закона от 29 декабря 2012 года № 273-ФЗ «Об образовании в Российской Федерации», пунктом 5 статьи 8 Закона края от 26 июня 2014 года № 6-2519 «Об образовании в Красноярском крае» на 2017 год и плановый период 2018 - 2019 годов","911","Оплата стоимости проезда к месту отдыха и обратно",555500,555500,555500,0,0]
["бюджет муниципального образования город Норильск","Субсидия на иные цели МБДОУ \"Детский сад № 90 \"Цветик-семицветик\"","065","муниципальное учреждение \"Управление общего и дошкольного образования Администрации города Норильска\"","0701","Дошкольное образование","02 1 01 01110","Мероприятие: 1.1.1 Организация предоставления общедоступного и бесплатного дошкольного образования, создание условий для осуществления присмотра и ухода за детьми","81000","Предоставление субсидий МБУ, МАУ на иные цели, имеющим целевое назначение","000","НЕ УКАЗАНО","911","Оплата стоимости проезда к месту отдыха и обратно",1035200,1035200,1035200,{"$f":"P52-O52","v":0},{"$f":"Q52-O52","v":0}]
["бюджет муниципального образования город Норильск","Субсидия на иные цели МБДОУ \"Детский сад № 90 \"Цветик-семицветик\"","065","муниципальное учреждение \"Управление общего и дошкольного образования Администрации города Норильска\"","0701","Дошкольное образование","02 1 01 01110","Мероприятие: 1.1.1 Организация предоставления общедоступного и бесплатного дошкольного образования, создание условий для осуществления присмотра и ухода за детьми","81000","Предоставление субсидий МБУ, МАУ на иные цели, имеющим целевое назначение","000","НЕ УКАЗАНО","917","компенсация расходов, связанных с переездом из районов Крайнего Севера",60000,60000,60000,0,0]
["бюджет муниципального образования город Норильск","Субсидия на иные цели МБДОУ \"Детский сад № 90 \"Цветик-семицветик\"","065","муниципальное учреждение \"Управление общего и дошкольного образования Администрации города Норильска\"","0701","Дошкольное образование","02 1 01 01110","Мероприятие: 1.1.1 Организация предоставления общедоступного и бесплатного дошкольного образования, создание условий для осуществления присмотра и ухода за детьми","81000","Предоставление субсидий МБУ, МАУ на иные цели, имеющим целевое назначение","000","НЕ УКАЗАНО","981","Приобретение расходных материалов",102400,102400,null,0,-102400]
["бюджет муниципального образования город Норильск","Субсидия на иные цели МБДОУ \"Детский сад № 90 \"Цветик-семицветик\"","065","муниципальное учреждение \"Управление общего и дошкольного образования Администрации города Норильска\"","0701","Дошкольное образование","04 4 00 00120","Мероприятие 3.1.2. Модернизация узлов учета ТЭР и воды с установкой приборов учета на горячую воду, замена расходомеров ВЭПС-ТИ, КМ, РМ на новую модификацию","81000","Предоставление субсидий МБУ, МАУ на иные цели, имеющим целевое назначение","000","НЕ УКАЗАНО","941","Содержание и техническое обслуживание помещений",null,119600,119600,119600,119600]
["бюджет муниципального образования город Норильск","Субсидия на иные цели МБДОУ \"Детский сад № 90 \"Цветик-семицветик\"","065","муниципальное учреждение \"Управление общего и дошкольного образования Администрации города Норильска\"","0701","Дошкольное образование","04 4 00 00150","Мероприятие 3.1.4. Установка теплообменников на ГВС на муниципальных объектах","81000","Предоставление субсидий МБУ, МАУ на иные цели, имеющим целевое назначение","000","НЕ УКАЗАНО","947","Прочие расходы по содержанию имущества",null,650000,null,650000,0]

{"sheet":"212 командировки","index":7,"n_rows":17,"n_cols":13,"rows_kept":17,"cut":false,"hidden":false,"merged":[[14,12,16,12],[16,0,16,1],[7,11,8,11],[7,12,8,12],[9,0,9,12],[10,12,12,12],[12,0,12,1],[13,0,13,12],[0,0,0,12],[1,0,1,12],[7,0,8,0],[7,1,8,1],[7,2,8,2],[7,3,7,5],[7,6,7,7],[7,8,7,10]]}
["Обоснование расходов на оплату проезда по служебным командировкам на 2017-2019 гг "]
["МБДОУ № 90 \"Цветик-семицветик\""]
[]
[]
["КБК 065/0701/02 1 01 01110/112 местный бюджет"]
["КБК 065/0701/02 1 00 74080/112 краевой бюджет (АУП+УВП)"]
["КБК 065/0701/02 1 00 75880/112 краевой бюджет (ПЕДАГОГИ)"]
["№","Наименование расходов, цель командировки, направление","Кол-во человек","Суточные  212 (912)",null,null,"Стоимость проезда,  руб.\n   212 (921)",null,"Стоимость проживания 212 (952, 958)",null,null,"ВСЕГО, \n руб.","Периодичность "]
[null,null,null,"За 1 сутки, руб.","Кол-во суток","Сумма,\nруб.","тариф","сумма","За 1 сутки, руб.","Кол-во суток","Сумма,\nруб."]
["Местный бюджет "]
[1,"Оплата проезда студентам, обучающимся по заочной форме обучения, при проезде к месту нахождения учебного заведения\nКБК 065/0701/02 1 01 01110/112",null,null,null,null,null,106100,null,null,null,{"$f":"F11+H11+K11","v":106100},"в течении фин.года"]
[2,"Командировочные расходы, в части расходов, связанных с командированием персонала\nКБК 065/0701/02 1 01 01110/112",null,null,null,{"$f":"C12*D12*E12","v":0},null,{"$f":"C12*G12","v":0},null,null,{"$f":"J12*I12*C12","v":0},{"$f":"F12+H12+K12","v":0}]
[null,"Всего ",null,null,null,{"$f":"SUM(F11:F12)","v":0},null,{"$f":"SUM(H11:H12)","v":106100},null,null,{"$f":"SUM(K11:K12)","v":0},{"$f":"SUM(L11:L12)","v":106100}]
["Краевой бюджет"]
[1,"Командировочные расходы, в части расходов, связанных с командированием административного и учебно-вспомогательного персонала\nКБК 065/0701/02 1 00 74080/112",1,500,6,{"$f":"C15*D15*E15","v":3000},23100,{"$f":"C15*G15","v":23100},3700,5,{"$f":"J15*I15*C15","v":18500},{"$f":"F15+H15+K15","v":44600},"в течении фин.года"]
[2,"Командировочные расходы, в части расходов, связанных с командированием педагогического персонала\nКБК 065/0701/02 1 00 75880/112 ",null,null,null,{"$f":"C16*D16*E16","v":0},null,{"$f":"C16*G16","v":0},null,null,{"$f":"J16*I16*C16","v":0},{"$f":"F16+H16+K16","v":0}]
["Всего ",null,null,null,null,{"$f":"SUM(F15:F16)","v":3000},null,{"$f":"SUM(H15:H16)","v":23100},null,null,{"$f":"SUM(K15:K16)","v":18500},{"$f":"SUM(L15:L16)","v":44600}]

{"sheet":"221 связь","index":8,"n_rows":47,"n_cols":25,"rows_kept":47,"cut":false,"hidden":false,"merged":[[10,0,10,24],[43,0,43,1],[45,0,45,1],[46,0,46,1],[6,15,8,15],[6,16,8,16],[6,17,8,17],[6,19,8,19],[6,20,8,20],[6,10,8,10],[6,11,8,11],[6,12,8,12],[6,13,8,13],[6,14,8,14],[5,18,8,18],[5,19,5,21],[5,8,5,12],[5,13,5,17],[6,3,8,3],[6,4,8,4],[6,5,8,5],[6,6,8,6],[6,7,8,7],[6,8,8,8],[6,9,8,9],[5,22,5,24],[6,21,8,21],[6,22,8,22],[6,23,8,23],[6,24,8,24],[5,0,8,0],[5,1,8,1],[5,2,8,2],[0,0,0,1],[1,0,1,1],[3,0,3,3],[5,3,5,7]]}
[]
[]
[]
["Расчет норматива затрат по КОСГУ 221, Доп.КР 925 \"Услуги связи\" \nМуниципальное бюджетное дошкольное образовательное учреждение \"Детский сад № 90 "]
[]
["№","Наименование услуг","Ед.изм.","Натуральный показатель",null,null,null,null,"Стоимость услуги (тарифы) с НДС, рублей",null,null,null,null,"Сумма, тыс.руб.",null,null,null,null,"Примечание (указать причины роста)","Очередной финансовый 2018 г.",null,null,"Очередной финансовый 2019 г."]
[null,null,null,"Фактическое исполнение за отчетный финансовый 2015 год","Текущий финансовый 2016 год (план)","Ожидаемое исполнение в текущем финансовом 2016 году","Очередной финансовый 2017 год","Отклонение гр.7-гр.5","Фактическое исполнение за отчетный финансовый 2015 год","Текущий финансовый 2016 год (план)","Ожидаемое исполнение в текущем финансовом 2016 году","Очередной финансовый 2017 год","Отклонение гр.12-гр.10","Фактическое исполнение за отчетный финансовый 2015 год, с учетом остатков прошлых лет Доп.ЭК.831,832","Текущий финансовый 2016 год (план)","Ожидаемое исполнение в текущем финансовом 2016 году","Очередной финансовый 2017 год","Отклонение гр.17-гр.15",null,"натуральный показатель","стоимость услуги (тарифы) с НДС, рублей ","сумма с НДС, тыс. руб.","натуральный показатель","стоимость услуги (тарифы) с НДС, рублей ","сумма с НДС, тыс. руб."]
[]
[]
["Гр.1","Гр.2","Гр.3","Гр.4","Гр.5","Гр.6","Гр.7","Гр.8","Гр.9","Гр.10","Гр.11","Гр.12","Гр.13","Гр.14","Гр.15","Гр.16","Гр.17","Гр.18","Гр.19","Гр.20","Гр.21","Гр.22","Гр.23","Гр.24","Гр.25"]
["Управление общего и дошкольного образования Администрации города Норильска"]
["1.","Телекоммуникационные услуги связи (ГТС)",null,{"$f":"D13+D14+D15+D16+D17+D18+D19+D20+D21+D22+D23+D24+D25+D26+D27","v":10},{"$f":"E13+E14+E15+E16+E17+E18+E19+E20+E21+E22+E23+E24+E25+E26","v":10},{"$f":"F13+F14+F15+F16+F17+F18+F19+F20+F21+F22+F23+F24+F25+F26","v":10},{"$f":"G13+G14+G15+G16+G17+G18+G19+G20+G21+G22+G23+G24+G25+G26","v":10},{"$f":"G12-E12","v":0},null,null,null,null,{"$f":"L12-J12","v":0},25733.439999999999,{"$f":"CEILING(O13+O14+O15+O16+O17+O18+O19+O20+O21+O22+O23+O24+O25+O26+O27,100)","v":32200},{"$f":"O12","v":32200},{"$f":"CEILING(Q13+Q14+Q15+Q16+Q17+Q18+Q19+Q20+Q21+Q22+Q23+Q24+Q25+Q26+Q27,100)","v":32200},{"$f":"Q12-O12","v":0},{"$f":"S13+S14+S15+S16+S17+S18+S19+S20+S21+S22+S23+S24+S25+S26+S27","v":0},10,null,{"$f":"CEILING(V13+V14+V15+V16+V17+V18+V19+V20+V21+V22+V23+V24+V25+V26+V27,100)","v":32200},10,null,{"$f":"V12","v":32200}]
["1.1.","АП за техническое обслуживание. Телефонный аппарат с проводкой до кабельной коробки (учрежденческий)","шт.",{"$f":"E13","v":2},{"$f":"F13","v":2},{"$f":"G13","v":2},2,0,null,{"$f":"K13","v":64.899999999999991},{"$f":"L13","v":64.899999999999991},{"$f":"55*1.18","v":64.899999999999991},0,null,{"$f":"E13*J13*12","v":1557.6},{"$f":"O13","v":1557.6},{"$f":"G13*L13*12","v":1557.6},0,null,{"$f":"G13","v":2},{"$f":"L13","v":64.899999999999991},{"$f":"T13*U13*12","v":1557.6},{"$f":"T13","v":2},{"$f":"U13","v":64.899999999999991},{"$f":"V13","v":1557.6}]
["1.2.","АП за предоставление доступа к сети местной телефонной связи дополнительного телефонного аппарата","шт.",{"$f":"E14","v":0},0,0,null,0,null,{"$f":"K14","v":256.06},256.06,{"$f":"217*1.18","v":256.06},0,null,{"$f":"E14*J14*12","v":0},0,{"$f":"G14*L14*12","v":0},0,null,{"$f":"G14","v":0},{"$f":"L14","v":256.06},{"$f":"T14*U14*12","v":0},{"$f":"T14","v":0},256.06,0]
["1.3.","Предоставление местного телефонного соединения с абонентского номера индивидуального пользования","шт.",4,4,4,4,0,null,224.2,224.2,{"$f":"190*1.18","v":224.2},0,null,10761.599999999999,10761.599999999999,10761.599999999999,0,null,4,224.2,10761.599999999999,4,224.2,10761.599999999999]
["1.4.","Предоставление абоненту в постоянное пользование абонентской линии независимо от ее типа","шт.",4,4,4,4,0,null,413,413,{"$f":"350*1.18","v":413},0,null,19824,19824,19824,0,null,4,413,19824,4,413,19824]
["1.5.","АП за техническое обслуживание. Телефонный аппарат с линией связи до РШ, АТС (учрежденческий)","шт.",0,0,0,null,0,null,132.16,132.16,{"$f":"112*1.18","v":132.16},0,null,0,0,0,0,null,0,132.16,0,0,132.16,0]
["1.6.","АП за предоставление доступа к сети местной телефонной связи абонентского устройства с односторонней связью","шт.",0,0,0,null,0,null,715.07999999999993,715.07999999999993,{"$f":"606*1.18","v":715.07999999999993},0,null,0,0,0,0,null,0,715.07999999999993,0,0,715.07999999999993,0]
["1.7.","АП за ДВО \"Автоматическое определение номера (АОН)","шт.",0,0,0,null,0,null,75.52,75.52,{"$f":"64*1.18","v":75.52},0,null,0,0,0,0,null,0,75.52,0,0,75.52,0]
["1.8.","АП за техническое обслуживание. Телефонный аппарат с линией связи до РШ, АТС (учрежденческий)","шт.",0,0,0,null,0,null,132.16,132.16,{"$f":"112*1.18","v":132.16},0,null,0,0,0,0,null,0,132.16,0,0,132.16,0]
["1.9.","АП за аналоговый телефонный аппарат с подключением к УПАТС без выхода на ГТС, в зоне действия УПАТС","шт.",0,0,0,null,0,null,867.3,867.3,{"$f":"735*1.18","v":867.3},0,null,0,0,0,0,null,0,867.3,0,0,867.3,0]
["1.10.","АП за системный телефонный аппарат с подключением к УПАТС без выхода на ГТС, в зоне действия УПАТС","шт.",0,0,0,null,0,null,1194.1599999999999,1194.1599999999999,{"$f":"1012*1.18","v":1194.1599999999999},0,null,0,0,0,0,null,0,1194.1599999999999,0,0,1194.1599999999999,0]
["1.11.","АП за предоставление доступа к сети местной телефонной связи не зависимо от типа абонентской линии основного абонентского устройства с номером АТС другой зоны действия (при подаче через два и более кроссов)","шт.",0,0,0,null,0,null,2513.4,2513.4,{"$f":"2130*1.18","v":2513.4},0,null,0,0,0,0,null,0,2513.4,0,0,2513.4,0]
["1.12.","Предоставление абоненту в постоянное пользование абонентской линии независимо от ее типа с использованием спаренной схемы включения","шт.",0,0,0,null,0,null,221.83999999999997,221.83999999999997,{"$f":"188*1.18","v":221.83999999999997},0,null,0,0,0,0,null,0,221.83999999999997,0,0,221.83999999999997,0]
["1.13.","Предоставление местного телефонного соединения с абонентского номера при спаренной схеме включения","шт.",0,0,0,null,0,null,141.6,141.6,{"$f":"120*1.18","v":141.6},0,null,0,0,0,0,null,0,141.6,0,0,141.6,0]
["1.14.","Предоставление доступа к сети местной телефонной связи дополнительного телефонного аппарата","шт.",0,0,0,null,0,null,1593,1593,{"$f":"1350*1.18","v":1593},0,null,0,0,{"$f":"G26*L26*12","v":0},0,null,0,1593,0,0,1593,0]
["1.15.","Выдача подробной расшифровки МГ/МН телефонных разговоров и услуг Интернет за один расчетный период в адрес электронной почты","шт.",0,0,0,null,0,null,35.4,35.4,{"$f":"30*1.18","v":35.4},0,null,0,0,{"$f":"G27*L27*12","v":0},{"$f":"Q27-O27","v":0},null,{"$f":"G27","v":0},{"$f":"L27","v":35.4},{"$f":"T27*U27*12","v":0},0,35.4,0]
["1.16.","Предоставление доступа к сети местной телефонной связи дополнительного телефонного аппарата. Абонентское обслуживание, телефонный аппарат с линией связи до РШ, АТС (учрежденческий Регистрация предоставления ДВО","шт.",null,null,null,null,null,null,236,236,236,0,null,null,null,0,{"$f":"Q28-O28","v":0},null,{"$f":"G28","v":0},{"$f":"L28","v":236},{"$f":"T28*U28*12","v":0},0,236,0]
["2.","Услуги внутризоновой телефонной связи",null,null,null,null,null,null,null,null,null,null,0,null,null,0,null,0,null,null,{"$f":"Q29","v":0},{"$f":"Q29","v":0},0,null,{"$f":"Q29","v":0}]
["3.","Услуги автоматической междугородней и международней телефонной связи",null,null,null,null,null,null,null,null,null,null,0,null,500,500,500,0,null,null,{"$f":"Q30","v":500},{"$f":"Q30","v":500},0,null,{"$f":"Q30","v":500}]
["4.","Услуги связи по тарифному плану \"Квалифицированный Голд\"",null,null,null,null,null,null,null,null,null,null,0,null,null,0,null,0,null,null,0,0,0,null,0]
["5.","Услуги сотовой связи",null,null,null,null,null,null,null,null,null,null,0,null,null,0,null,0,null,null,0,0,0,null,0]
["6.","Прочие расходы (восстан-е линии связи, уст-ка доп. телефонов, предост-е доступа к мест. телеф. связи и др.)",null,null,null,null,null,null,null,null,null,null,0,5310,1300,1300,1000,-300,null,null,1000,1000,{"$f":"T33","v":0},null,1000]
["7.","Почтовые услуги",null,null,null,null,null,null,null,null,null,null,0,{"$f":"N35+N36+N37+N38","v":5200},{"$f":"CEILING(O35+O36+O37+O38,100)","v":11900},11900,{"$f":"CEILING(Q35+Q36+Q37+Q38,100)","v":11900},0,null,null,null,{"$f":"CEILING(V35+V36+V37+V38,100)","v":11900},null,null,11900]
["7.1.","Марочная продукция (маркированные конверты)","шт.",null,162,162,162,0,null,32,32,32,0,5200,{"$f":"E35*J35","v":5184},5184,{"$f":"G35*L35","v":5184},0,null,{"$f":"G35","v":162},{"$f":"L35","v":32},{"$f":"Q35","v":5184},{"$f":"T35","v":162},null,5184]
["7.2.","Предоплата за польз-е ячейкой абонементного почтового шкафа","шт.",null,null,null,null,0,null,null,null,null,0,null,null,0,null,0,null,{"$f":"G36","v":0},null,{"$f":"Q36","v":0},{"$f":"T36","v":0},null,0]
["7.3.","Прочие услуги (экспресс-почта, бандероли, ценные посылки и др.)","шт.",null,null,null,null,0,null,null,null,null,0,null,1000,1000,1000,0,null,0,null,1000,0,null,1000]
["7.4.","Заказные письма","шт.",null,80,80,80,0,null,71.290000000000006,71.290000000000006,71.290000000000006,0,null,{"$f":"E38*J38","v":5703.2000000000007},5703.2000000000007,5703.2000000000007,0,null,80,{"$f":"L38","v":71.290000000000006},5703.2000000000007,80,null,5703.2000000000007]
["8.","Абон. обслужив-е (электронный документооборот)",null,null,null,null,null,null,null,null,null,null,0,null,{"$f":"CEILING(E39*J39*12,100)","v":0},0,{"$f":"CEILING(G39*L39*12,100)","v":0},0,null,null,null,0,0,null,0]
["9.","Услуги доступа к сети Интернет",null,null,null,null,null,null,{"$f":"I41+I42+I43","v":0},0,0,0,0,0,{"$f":"CEILING(O41+O42+O43,100)","v":0},0,{"$f":"CEILING(Q41+Q42+Q43,100)","v":0},0,null,null,null,{"$f":"CEILING(V41+V42+V43,100)","v":0},null,null,0]
["9.1.","Доступ к сети интернет",null,null,null,null,null,null,null,null,null,null,0,null,{"$f":"E41*J41*12","v":0},0,{"$f":"G41*L41*12","v":0},0,null,null,null,{"$f":"Q41","v":0},null,null,0]
["9.2.","Абонентская плата за интернет/выделенная линия",null,null,null,null,null,null,null,null,null,null,0,null,{"$f":"E42*J42*12","v":0},0,{"$f":"G42*L42*12","v":0},0,null,null,null,{"$f":"Q42","v":0},null,null,0]
["9.3.","Абонентская плата за доступ в технологическую сеть",null,null,null,null,null,null,null,null,null,null,0,null,0,0,0,0,null,null,null,0,null,null,0]
["ИТОГО КРАЕВОЙ БЮДЖЕТ, руб.  КБК 065/0701/0210074080/244/221 краевой бюджет КЦСР (сады)-0210074080; ",null,null,null,null,null,null,null,null,null,null,null,0,{"$f":"N12+N29+N30+N31+N32+N33+N34+N39+N40","v":36243.440000000002},{"$f":"O12+O29+O30+O31+O32+O33+O34+O39+O40","v":45900},45900,{"$f":"Q12+Q29+Q30+Q31+Q32+Q33+Q34+Q39+Q40","v":45600},-300,null,null,null,{"$f":"V12+V29+V30+V31+V32+V33+V34+V39+V40","v":45600},null,null,45600]
["10.","Услуги доступа к сети Интернет",null,null,null,null,null,null,null,null,null,null,0,44000,{"$f":"4000*12","v":48000},48000,{"$f":"4000*12","v":48000},0,null,null,null,{"$f":"Q45","v":48000},null,null,{"$f":"Q45","v":48000}]
["ИТОГО КРАЕВОЙ БЮДЖЕТ,  руб. КБК 065/0701/0210075880/244/221 краевой бюджет КЦСР (сады)-0210075880; ",null,null,null,null,null,null,null,null,null,null,null,0,{"$f":"N45","v":44000},{"$f":"CEILING(O45,100)","v":48000},{"$f":"CEILING(P45,100)","v":48000},48000,0,null,null,null,{"$f":"V45","v":48000},null,null,48000]
["Всего краевой бюджет",null,null,null,null,null,null,null,null,null,null,null,0,{"$f":"N44+N46","v":80243.44},93900,93900,93600,-300,null,null,null,93600,null,null,93600]

{"sheet":"223 коммуналка","index":9,"n_rows":36,"n_cols":37,"rows_kept":36,"cut":false,"hidden":false,"merged":[[14,10,17,10],[14,11,17,11],[22,14,25,14],[23,12,24,13],[22,15,22,18],[23,15,25,15],[23,16,25,16],[23,17,24,18],[22,5,22,8],[29,0,29,2],[35,0,35,1],[22,9,25,9],[22,10,22,13],[22,0,25,0],[22,1,25,1],[22,2,25,2],[22,3,25,3],[22,4,25,4],[23,5,25,5],[23,6,25,6],[23,7,24,8],[23,10,25,10],[23,11,25,11],[14,9,17,9],[15,5,17,5],[15,6,17,6],[15,7,16,8],[14,5,14,8],[5,2,8,2],[5,3,8,3],[5,4,8,4],[5,5,5,8],[5,0,8,0],[5,1,8,1],[14,0,17,0],[14,1,17,1],[14,2,17,2],[14,3,17,3],[14,4,17,4],[5,24,8,24],[5,19,8,19],[6,5,8,5],[6,6,8,6],[6,7,7,8],[6,10,8,10],[6,11,8,11],[6,12,7,13],[6,15,8,15],[6,16,8,16],[6,17,7,18],[5,10,5,13],[5,14,8,14],[5,15,5,18],[5,9,8,9],[5,35,8,35],[5,36,8,36],[5,20,5,23],[6,20,8,20],[6,21,8,21],[6,22,7,23],[5,25,5,28],[5,30,5,33],[6,25,8,25],[6,26,8,26],[6,27,7,28],[6,30,8,30],[6,31,8,31],[6,32,7,33],[5,34,8,34],[5,29,8,29],[22,19,25,19],[22,20,22,23],[22,24,25,24],[22,25,25,25],[22,26,25,26],[23,20,25,20],[23,21,25,21],[23,22,24,23]]}
["КБК 065/0701/0220110/611(621)/223 дошкольное образование"]
["КБК 065/0702(0709)/0220210/611(621)/223 общее образование+МЦ"]
["КБК 065/0702/0220310/611(621)/223 дополнительное образование"]
["местный бюджет"]
["Расчет нормативов затрат на содержание имущества по Доп. КР 931 \"Оплата отопления и технологических нужд, а также горячего водоснабжения\" на 2017 год (местный бюджет)"]
["№ п/п","Наименование  учреждения","Адрес","Обслуживающая организация","Плановые ассигнования 2017г. руб.","Отопление",null,null,null,"Итого,руб. с НДС","Горячее водоснабжение (компонент на тепловую энергию)",null,null,null,"Итого,руб. с НДС","Горячее водоснабжение (компонент на теплоноситель)",null,null,null,"Итого,руб. с НДС","Отопление 2018-2019гг.",null,null,null,"Итого,руб. с НДС","Горячее водоснабжение (компонент на тепловую энергию) 2018-2019гг.",null,null,null,"Итого,руб. с НДС","Горячее водоснабжение (компонент на теплоноситель) 2018-2019гг.",null,null,null,"Итого,руб. с НДС","Плановые ассигнования 2018г. руб.","Плановые ассигнования 2019г. руб."]
[null,null,null,null,null,"Тариф, без НДС, руб./Гкал\n(1 полугодие 2017г.)","Тариф, без НДС, руб./Гкал\n(2 полугодие 2017г.)","Физ. Объем",null,null,"Тариф, без НДС, руб./Гкал\n(1 полугодие 2017г.)","Тариф, без НДС, руб./Гкал\n(2 полугодие 2017г.)","Физ. Объем",null,null,"Тариф, без НДС, руб./тыс. м3\n(1 полугодие 2017г.)","Тариф, без НДС, руб./тыс. м3\n(2 полугодие 2017г.)","Физический объем, тыс. м3",null,null,"Тариф, без НДС, руб./Гкал\n(1 полугодие 2018г.)","Тариф, без НДС, руб./Гкал\n(2 полугодие 2018г.)","Физ. Объем",null,null,"Тариф, без НДС, руб./Гкал\n(1 полугодие 2018г.)","Тариф, без НДС, руб./Гкал\n(2 полугодие 2018г.)","Физ. Объем",null,null,"Тариф, без НДС, руб./тыс. м3\n(1 полугодие 2018г.)","Тариф, без НДС, руб./тыс. м3\n(2 полугодие 2018г.)","Физический объем, тыс. м3"]
[]
[null,null,null,null,null,null,null,"(1 полугодие 2017г.)","(2 полугодие 2017г.)",null,null,null,"(1 полугодие 2017г.)","(2 полугодие 2017г.)",null,null,null,"(1 полугодие 2017г.)","(2 полугодие 2017г.)",null,null,null,"(1 полугодие 2018г.)","(2 полугодие 2018г.)",null,null,null,"(1 полугодие 2018г.)","(2 полугодие 2018г.)",null,null,null,"(1 полугодие 2018г.)","(2 полугодие 2018г.)"]
[1,{"$f":"'[14]931 (-дек.)'!B55","v":"МБДОУ № 90"},{"$f":"'[14]931 (-дек.)'!C55","v":"Талнахская, 1А"},{"$f":"'[14]931 (-дек.)'!D55","v":"НТЭК"},{"$f":"CEILING(J10+O10+T10,100)","v":1102000},{"$f":"'[14]931 (-дек.)'!X55","v":967.26},{"$f":"'[14]931 (-дек.)'!Y55","v":1061.6600000000001},{"$f":"'[14]931 (-дек.)'!AF55+'[14]931 (-дек.)'!AO55","v":546.27980000000002},{"$f":"'[14]931 (-дек.)'!AX55+'[14]931 (-дек.)'!BG55","v":211},{"$f":"(H10*F10+I10*G10)*1.18","v":887837.73403063999},{"$f":"'[14]931 (-дек.)'!BN14","v":967.26},{"$f":"'[14]931 (-дек.)'!BO14","v":1061.6600000000001},{"$f":"'[14]931 (-дек.)'!BV55+'[14]931 (-дек.)'!CE55","v":89.230199999999996},{"$f":"'[14]931 (-дек.)'!CN55+'[14]931 (-дек.)'!CW55","v":67},{"$f":"(M10*K10+N10*L10)*1.18","v":185779.22743735998},{"$f":"'[14]931 (-дек.)'!DD14","v":7910},{"$f":"'[14]931 (-дек.)'!DE14","v":10930},{"$f":"'[14]931 (-дек.)'!DL55+'[14]931 (-дек.)'!DU55","v":1.4871700000000001},{"$f":"'[14]931 (-дек.)'!ED55+'[14]931 (-дек.)'!EM55","v":1.1166666666666667},{"$f":"(P10*R10+Q10*S10)*1.18","v":28283.044012666669},1061.6600000000001,1054.19,510,200.4,{"$f":"(W10*U10+X10*V10)*1.18","v":888193.40568000008},1061.6600000000001,1054.19,85,63,{"$f":"(AB10*Z10+AC10*AA10)*1.18","v":184852.98259999999},10930,8570,{"$f":"AB10/0.06/1000","v":1.4166666666666667},{"$f":"AC10/0.06/1000","v":1.05},{"$f":"(AE10*AG10+AF10*AH10)*1.18","v":28889.546666666665},{"$f":"CEILING(Y10+AD10+AI10,100)","v":1102000},{"$f":"AJ10","v":1102000}]
[]
[]
[]
["Расчет нормативов затрат на содержание имущества по Доп. КР 932 \"Потребление электроэнергии\" на 2017 год (местный бюджет)"]
["№ п/п","Наименование  учреждения","Адрес","Обслуживающая организация","Плановые ассигнования 2017г. руб.","Потребление электроэнергии",null,null,null,"Итого,руб. с НДС","Плановые ассигнования 2018г. руб.","Плановые ассигнования 2019г. руб."]
[null,null,null,null,null,"Тариф, без НДС, руб./тыс. кВт.ч\n(1 полугодие 2017г.)","Тариф, без НДС, руб./тыс. кВт.ч\n(2 полугодие 2017г.)","Физ. Объем, тыс. кВт.ч"]
[]
[null,null,null,null,null,null,null,"(1 полугодие 2017г.)","(2 полугодие 2017г.)"]
[1,{"$f":"'[14]932 (-дек.)'!B55","v":"МБДОУ № 90"},{"$f":"'[14]932 (-дек.)'!C55","v":"Талнахская, 1А"},{"$f":"'[14]932 (-дек.)'!D55","v":"НТЭК"},{"$f":"CEILING(J19,100)","v":376800},{"$f":"'[14]932 (-дек.)'!X55","v":2600},{"$f":"'[14]932 (-дек.)'!Y55","v":2808},{"$f":"'[14]932 (-дек.)'!AF55+'[14]932 (-дек.)'!AO55","v":67.52000000000001},{"$f":"'[14]932 (-дек.)'!AX55+'[14]932 (-дек.)'!BG55","v":51.199999999999996},{"$f":"(F19*H19+G19*I19)*1.18","v":376799.48799999995},{"$f":"E19","v":376800},{"$f":"K19","v":376800}]
[]
[]
["Расчет нормативов затрат на содержание имущества по Доп. КР 933 \"Водоснабжение, канализация\" на 2017 год (местный бюджет)"]
["№ п/п","Наименование  учреждения","Адрес","Обслуживающая организация","Плановые ассигнования 2017г. руб.","Холодное водоснабжение",null,null,null,"Итого,руб. с НДС","Водоотведение",null,null,null,"Итого,руб. с НДС","Холодное водоснабжение ,2018-2019гг.",null,null,null,"Итого,руб. с НДС","Водоотведение, 2018-2019гг.",null,null,null,"Итого,руб. с НДС","Плановые ассигнования 2018г. руб.","Плановые ассигнования 2019г. руб."]
[null,null,null,null,null,"Тариф, без НДС, руб./тыс. м3\n(1 полугодие 2017г.)","Тариф, без НДС, руб./тыс. м3\n(2 полугодие 2017г.)","Физ. Объем, тыс. м3",null,null,"Тариф, без НДС, руб./тыс. м3\n(1 полугодие 2017г.)","Тариф, без НДС, руб./тыс. м3\n(2 полугодие 2017г.)","Физ. Объем, тыс. м3",null,null,"Тариф, без НДС, руб./тыс. м3\n(1 полугодие 2017г.)","Тариф, без НДС, руб./тыс. м3\n(2 полугодие 2017г.)","Физ. Объем, тыс. м3",null,null,"Тариф, без НДС, руб./тыс. м3\n(1 полугодие 2017г.)","Тариф, без НДС, руб./тыс. м3\n(2 полугодие 2017г.)","Физ. Объем, тыс. м3"]
[]
[null,null,null,null,null,null,null,"(1 полугодие 2017г.)","(2 полугодие 2017г.)",null,null,null,"(1 полугодие 2017г.)","(2 полугодие 2017г.)",null,null,null,"(1 полугодие 2017г.)","(2 полугодие 2017г.)",null,null,null,"(1 полугодие 2017г.)","(2 полугодие 2017г.)"]
[1,{"$f":"'[14]933 (-дек.) '!B55","v":"МБДОУ № 90"},{"$f":"'[14]933 (-дек.) '!C55","v":"Талнахская, 1А"},null,{"$f":"J27+O27","v":1094600},{"$f":"'[14]933 (-дек.) '!AM55","v":36930},{"$f":"'[14]933 (-дек.) '!AN55","v":25060},{"$f":"'[14]933 (-дек.) '!AU55+'[14]933 (-дек.) '!BD55","v":11.218924979261175},{"$f":"'[14]933 (-дек.) '!BM55+'[14]933 (-дек.) '!BV55","v":3.9019999999999992},{"$f":"CEILING((H27*F27+I27*G27)*1.18,100)","v":604300},{"$f":"'[14]933 (-дек.) '!CD14","v":23210},{"$f":"'[14]933 (-дек.) '!CE14","v":24030},{"$f":"'[14]933 (-дек.) '!CL55+'[14]933 (-дек.) '!CU55","v":12.706094979261174},{"$f":"'[14]933 (-дек.) '!DD55+'[14]933 (-дек.) '!DM55","v":5.0186666666666664},{"$f":"CEILING((M27*K27+N27*L27)*1.18,100)","v":490300},25060,41400,11.218924979261175,4.7290000000000001,{"$f":"CEILING((R27*P27+S27*Q27)*1.18,100)","v":562800},24030,25430,{"$f":"AG10+R27","v":12.635591645927841},{"$f":"AH10+S27","v":5.7789999999999999},{"$f":"CEILING((W27*U27+X27*V27)*1.18,100)","v":531800},{"$f":"T27+Y27","v":1094600},{"$f":"Z27","v":1094600}]
[]
[]
["Начальник планово-экономического отдела",null,null,null,null,null,"В.В. Гоннова"]
[]
[]
[]
[]
["Быкова Д.Л."]
["437200*3227"]

{"sheet":"225 сод.имущ.","index":10,"n_rows":321,"n_cols":10,"rows_kept":321,"cut":false,"hidden":false,"merged":[[9,0,9,1],[94,0,94,1],[98,0,98,1],[202,0,202,1],[204,0,204,1],[205,0,205,1],[206,0,206,1],[211,0,211,1],[320,0,320,1],[304,0,304,1],[305,0,305,1],[314,0,314,9],[262,9,264,9],[266,9,287,9],[301,0,301,1],[303,0,303,1],[0,0,0,1],[1,0,1,1],[2,0,2,9],[3,0,3,9],[5,0,7,0],[5,1,7,1],[5,2,7,2],[5,3,7,3],[5,4,7,4],[5,5,6,8],[5,9,7,9]]}
["КБК 065/0701/0210101110/244 местный бюджет"]
["КБК 065/0701/0210074080/244 краевой бюджет"]
["Обоснование расходов по КОСГУ 225 \"Работы, услуги по содержанию имущества\" на 2017-2019 гг. (местный и краевой бюджеты)"]
["МБДОУ \"Детский сад № 90\""]
[]
["№\n п/п","Наименование","Тип/марка","Срок следующей поверки СИ, перезарядки огнетушителей, год","Единица измерения","Очередной финансовый 2017 год и плановый период 2018-2019 гг.",null,null,null,"Дефицит средств в 2017 году, руб."]
[]
[null,null,null,null,null,"Физический объём/периодичность","Тариф, руб./ед.изм. (без НДС)","Тариф ТР ТТОиХО, руб./ед.изм. (без НДС)","Утвержденные ассигнования 2017-2019 гг., руб.\n (с НДС/без НДС)","Дефицит средств в 2017 году, руб."]
["Доп.КР 941 \"Содержание и техническое обслуживание помещений\""]
["в т.ч. за счет средств местного бюджета:"]
[1,"ТО АУТВР, в том числе:",null,null,null,null,null,null,{"$f":"CEILING(SUM(I12:I18),100)","v":155000}]
["1.1","Технический осмотр",null,null,"узел/мес.",11,2822.59,null,{"$f":"F12*G12","v":31048.49}]
["1.2","Текущее обслуживание (ППР)",null,null,"узел/год",1,27142.26,null,27142.26]
["1.3","Тепловычислитель",null,null,"кол-во поверок",1,2757.73,null,2757.73]
["1.4","Расходомер",null,null,"кол-во поверок",3,3044.01,null,9132.0300000000007]
["1.5","Датчик температуры",null,null,"кол-во поверок",2,2206.41,null,4412.82]
["1.6","Датчик давления",null,null,"кол-во поверок",3,2206.41,null,6619.23]
["1.7","Пусконаладочные работы",null,null,"узел/раз",2,36925,null,73850]
[2,"Комплексное техническое обслуживание инженерных систем и систем видеонаблюдения, в том числе:",null,null,null,null,null,null,{"$f":"CEILING(SUM(I24:I29,I20),100)","v":1308900},{"$f":"CEILING(SUM(J24:J29,J20),100)","v":103900}]
["2.1","ТО систем видеонаблюдения, в том числе:",null,null,null,null,null,null,{"$f":"SUM(I21:I23)","v":140158.1226}]
["2.1.1","внешняя видеокамера",null,null,"шт./год",7,7963.77,null,{"$f":"F21*G21*1.18","v":65780.7402}]
["2.1.2","внутренняя видеокамера",null,null,"шт./год",7,4883.6400000000003,null,{"$f":"F22*G22*1.18","v":40338.866399999999}]
["2.1.3","видеорегистратор ",null,null,"шт./год",2,14423.1,null,{"$f":"F23*G23*1.18","v":34038.515999999996}]
["2.2","ТО АСУВ (автоматизированная система управления вентиляцией)",null,null,"шт./мес.",null,4036.11,null,{"$f":"F24*G24*11*1.18","v":0},{"$f":"F24*G24*1*1.18","v":0}]
["2.3","Ведение технической документации",null,null,"м2/мес.",3510.9,2.62,null,{"$f":"F25*G25*11*1.18","v":119397.28284},{"$f":"F25*G25*1*1.18","v":10854.29844}]
["2.4","ТО инженерных сетей (внутренние системы тепловодоснабжения и канализации, электроснабжения, аварийное обслуживание)",null,null,"м2/мес.",3510.9,21.73,null,{"$f":"F26*G26*11*1.18","v":990268.30385999999},{"$f":"F26*G26*1*1.18","v":90024.391260000004}]
["2.5","ТО светильников наружного освещения",null,null,"шт./год",10,2060.7800000000002,null,{"$f":"F27*G27*1.18","v":24317.204000000002}]
["2.6","ТО кабельных линий наружного освещения",null,null,"км/год",0.19,7922.1,null,{"$f":"F28*G28*1.18","v":1776.13482}]
["2.7","ТО систем вентиляции, в том числе:",null,null,null,null,null,null,{"$f":"SUM(I30,I36,I42)","v":32957.907399999996},{"$f":"SUM(J30,J36,J42)","v":2996.1733999999997}]
["2.7.1","Вытяжные установки",null,null,null,null,null,null,{"$f":"SUM(I31:I35)","v":18514.282599999999},{"$f":"SUM(J31:J35)","v":1683.1165999999998}]
[null,"вентиляторы 3.4.5",null,null,"уст./мес.",4,196.79,null,{"$f":"F31*G31*11*1.18","v":10217.336799999999},{"$f":"F31*G31*1*1.18","v":928.84879999999987}]
[null,"вентиляторы 6.6.3",null,null,"уст./мес.",3,213.07,null,{"$f":"F32*G32*11*1.18","v":8296.9457999999995},{"$f":"F32*G32*1*1.18","v":754.26779999999997}]
[null,"вентиляторы 7.8",null,null,"уст./мес.",null,222.95,null,{"$f":"F33*G33*11*1.18","v":0},0]
[null,"вентиляторы 10",null,null,"уст./мес.",null,239.36,null,{"$f":"F34*G34*11*1.18","v":0},0]
[null,"вентиляторы 20",null,null,"уст./мес.",null,244.98,null,{"$f":"F35*G35*11*1.18","v":0},0]
["2.7.2","Приточные установки",null,null,null,null,null,null,{"$f":"SUM(I37:I41)","v":14443.6248},{"$f":"SUM(J37:J41)","v":1313.0567999999998}]
[null,"вентиляторы 3.4.5",null,null,"уст./мес.",null,1111.3499999999999,null,{"$f":"F37*G37*11*1.18","v":0},{"$f":"F37*G37*1*1.18","v":0}]
[null,"вентиляторы 6.6.3",null,null,"уст./мес.",1,1112.76,null,{"$f":"F38*G38*11*1.18","v":14443.6248},{"$f":"F38*G38*1*1.18","v":1313.0567999999998}]
[null,"вентиляторы 7.8",null,null,"уст./мес.",null,1113.8399999999999,null,{"$f":"F39*G39*11*1.18","v":0},0]
[null,"вентиляторы 10",null,null,"уст./мес.",null,1115.3800000000001,null,{"$f":"F40*G40*11*1.18","v":0},0]
[null,"вентиляторы 20",null,null,"уст./мес.",null,1121,null,{"$f":"F41*G41*11*1.18","v":0},0]
["2.7.3","Тепловые завесы",null,null,null,null,null,null,{"$f":"SUM(I43:I46)","v":0},{"$f":"SUM(J43:J46)","v":0}]
[null,"вентиляторы 3.4.5",null,null,"уст./мес.",null,732.45,null,{"$f":"F43*G43*11*1.18","v":0},{"$f":"F43*G43*1*1.18","v":0}]
[null,"вентиляторы 6.6.3",null,null,"уст./мес.",null,733.01,null,{"$f":"F44*G44*11*1.18","v":0},{"$f":"F44*G44*1*1.18","v":0}]
[null,"вентиляторы 7.8",null,null,"уст./мес.",null,733.58,null,{"$f":"F45*G45*11*1.18","v":0},0]
[null,"вентиляторы 10",null,null,"уст./мес.",null,734.17,null,{"$f":"F46*G46*11*1.18","v":0},0]
[3,"Очистка кровли от снега и наледи, в том числе:",null,null,null,{"$f":"SUM(F48:F50)","v":1547.364},null,null,{"$f":"CEILING(I48+I49+I50,100)-700","v":27500}]
["3.1","мягкая кровля",null,null,"м2",1289.47,61.7,null,{"$f":"F48*0.3*G48*1*1.18","v":28164.345846}]
["3.2","очистка козырьков и парапетов",null,null,"м2",{"$f":"F48*0.2","v":257.89400000000001},61.7,null,{"$f":"F49*0.3*G49*0*1.18","v":0}]
["3.3","металлическая кровля",null,null,"м2",null,61.7,null,{"$f":"F50*0.3*G50*F51*1.18","v":0}]
["3.4","периодичность (для металл. кровли)",null,null,"раз/год",4]
[4,"Зимнее содержание территорий, в том числе: ",null,null,null,null,null,null,{"$f":"CEILING(SUM(I53:I55),100)","v":0}]
["4.1","Сады: Талнах, Кайеркан",null,null,"м2",null,18.687000000000001,null,{"$f":"F53*G53*8*1.18","v":0}]
["4.2","Прочие учреждения: Талнах, Кайеркан",null,null,"м2",null,21.178000000000001,null,{"$f":"F54*G54*8*1.18","v":0}]
["4.3","Посыпка граншлаком подъездных путей и подходов к учреждению",null,null,"м2",{"$f":"F53*0.25","v":0},1.119,null,{"$f":"F55*G55*8*1.18","v":0}]
[5,"Эксплуатационные услуги, в том числе:",null,null,null,null,null,null,{"$f":"CEILING(SUM(I57:I58),100)","v":0}]
["5.1"," Многоквартирные дома серии 1-447, 1-464, индивидуальные проекты (\"сталинка\", \"хрущевка\", \"малоэтажные\") ",null,null,"м2",null,null,null,{"$f":"45.06*6*F57+48.84*6*F57","v":0}]
["5.2"," Многоквартирные дома серии НК-12, 111-84, 111-112, К-69, индивидуальные проекты (\"улучшенной планировки\")",null,null,"м2",null,null,null,{"$f":"55.51*6*F58+60.18*6*F58","v":0}]
["6","Вывоз пищевых отходов (сады), в том числе:",null,null,null,null,null,null,{"$f":"CEILING(SUM(I60:I61),100)","v":112600}]
["6.1","Вывоз пищевых отходов",null,null,"раб.дни",248,453.68,null,{"$f":"G60*F60","v":112512.64}]
["11.2","Утилизация пищевых отходов",null,null,"м3/день",0.2,"162,77/168,30"]
["7","Услуга по очистке жироуловителя (откачивание сепарированных жировых отходов), в том числе:",null,null,null,null,null,null,{"$f":"CEILING(SUM(I63:I65),100)","v":0}]
["7.1","Количество откачиваний",null,null,"раз/год",null,3118.21,null,{"$f":"F63*G63*1.18","v":0}]
["7.2","Работа транспорта",null,null,"раз/год",null,5745,null,{"$f":"F64*G64*1.18","v":0}]
["8.3","Размещение отходов на полигоне за 1 откачивание",null,null,"м3",null,"162,77/168,30"]
[8,"Техническое обслуживание систем водоподготовки бассейнов (сады), в том числе:",null,null,null,null,null,null,{"$f":"CEILING(I67,100)","v":0}]
["8.1","Количество систем",null,null,"шт.",null,8511.18,null,{"$f":"F67*G67*F68*1.18","v":0}]
["8.2","Периодичность",null,null,"раз/год"]
[9,"Услуга по обследованию здания и геотехническому мониторингу, в том числе:",null,null,null,null,null,null,{"$f":"CEILING(SUM(I70:I80),100)","v":49800}]
["9.1","Здание, объем, 100 м3",null,null,null,129]
["9.2","Подполье, объем, 100 м3",null,null,null,17.82]
["9.3","Визуальные обследования здания",null,null,"раз/год",1,262.48,null,{"$f":"F70*F72*G72","v":33859.920000000006}]
["9.4","Визуальные обследования подполья,\nблагоприятный период",null,null,"раз/год",1,262.48,null,{"$f":"F71*F73*G73","v":4677.3936000000003}]
["9.5","Визуальные обследования подполья,\nнеблагоприятный период",null,null,"раз/год",2,314.97000000000003,null,{"$f":"F71*F74*G74","v":11225.5308}]
["9.6","Геодезия, камеральная обработка",null,null,"к-во штативов",0,532.66999999999996,null,{"$f":"F75*G75","v":0}]
["9.7","Геодезия, благоприятный период",null,null,"к-во штативов",0,790.77,null,0]
["9.8","Геодезия, неблагоприятный период",null,null,"к-во штативов",0,1106.72,null,0]
["9.9","Геотермика, камеральная обработка",null,null,"тчк/мес.",null,676.4,null,0]
["9.10","Геотермика, благоприятный период",null,null,"тчк/мес.",0,3478.57,null,0]
["9.11","Геотермика, неблагоприятный период",null,null,"тчк/мес.",0,4869.6400000000003,null,0]
[10,"ТО лифтов, в том числе:",null,null,null,null,null,null,{"$f":"CEILING(SUM(I82:I85),100)","v":0}]
["10.1","Грузоподъемность 39-241 кг",null,null,"шт.",null,3336,null,{"$f":"F82*G82*12*1.18","v":0}]
["10.2","Грузоподъемность 320-400 кг",null,null,"шт.",null,6107.65,null,{"$f":"F83*G83*12*1.18","v":0}]
["10.3","Грузоподъемность до 1000 кг (пассажирский)",null,null,"шт.",null,28577.66,null,{"$f":"F84*G84*12*1.18","v":0}]
["10.4","Техническое освидетельствование ",null,null,"усл.ед.",null,20800]
[11,"Дератизация, дезинсекция и дезинфекция, в том числе:",null,null,null,null,null,null,{"$f":"SUM(I87:I92)","v":46200}]
["11.1","Дератизация, площадь",null,null,"м2",1206,{"$f":"1.06*0.289999988782779","v":0.30739998810974573},null,{"$f":"CEILING(F87*G87*F88*1.18,100)","v":5300}]
["11.2","Дератизация, периодичность",null,null,"раз/год",12]
["11.3","Дезинсекция, площадь",null,null,"м2",3511,{"$f":"1.13*0.289999988782779","v":0.32769998732454025},null,{"$f":"CEILING(F89*G89*F90*1.18,100)","v":32600}]
["11.4","Дезинсекция, периодичность",null,null,"раз/год",24]
["11.5","Дезинфекция, площадь",null,null,"м2",812.24,3.4,null,{"$f":"CEILING(F91*F92*G91,100)","v":8300}]
["11.6","Дезинфекция, периодичность",null,null,"раз/год",3]
[12,"Прочие расходы (аварийно-восстанов. работы, замена оборудования, приборов учета ТЭР и др.)",null,null,"усл.ед."]
[13,"Услуги мусоровоза, бульдозера (п. Снежногорск)",null,null,"усл.ед."]
["ИТОГО по Доп.КР 941 (местный бюджет)",null,null,null,null,null,null,null,{"$f":"SUM(I11,I19,I47,I52,I56,I59,I62,I66,I69,I81,I86,I93,I94)","v":1700000},{"$f":"SUM(J11,J19,J47,J52,J56,J59,J62,J66,J69,J81,J86,J93,J94)","v":103900}]
[null,null,null,null,null,null,null,"МБ",1700000,{"$f":"I95-I96","v":0}]
[]
["Доп.КР 942 \"Текущий ремонт оборудования\""]
["в т.ч. за счет средств местного бюджета:"]
[1,"ТО и ремонт систем видеонаблюдения, в том числе:"]
["1.1","Затраты труда инженера, чел.-ч.:"]
["1.2","наружная камера видеонаблюдения (3,47 чел.-ч.)",null,null,"шт."]
["1.3","внутренняя камера видеонаблюдения (2,50 чел.-ч.)",null,null,"шт."]
["1.4","блок питания (2,15 чел.-ч.)",null,null,"шт."]
["1.5","видеорегистратор (2,40 чел.-ч.)",null,null,"шт."]
["1.6","монитор видеонаблюдения (1,15 чел.-ч.)",null,null,"шт."]
["1.7","Накладные расходы ФОТ - 30,2%",null,null,"%"]
["1.8","Понижающий коэффициент - 0,65 (0,851)",null,null,"коэффициент"]
[2,"ТО и ремонт торгово-технологического и холодильного оборудования, в том числе:",null,null,null,null,null,null,{"$f":"CEILING(I115+I112+I113,100)-7100","v":251600}]
["2.1","Количество ТО в год",null,null,"раз/год",10]
["2.2","Количество ТР в год",null,null,"раз/год",2]
["2.3","Внеплановый ремонт (20% от ст-ти ТО и ТР)",null,null,"%",null,null,null,{"$f":"I115*F112","v":0}]
["2.4","Стоимость ТМЦ (20% от ст-ти ТО, ТР)",null,null,"%",0.2,null,null,{"$f":"I115*F113","v":43108.200000000004}]
["2.5","Индекс перехода в текущие цены",null,null,"индекс",46]
["2.6","Стоимость ТО и ТР в год",null,null,"руб.",null,null,null,{"$f":"SUM(I116:I161)","v":215541}]
["2.7","Шкаф охлаждаемый","ШХ-0,8",null,"шт.",2,792,2755.5,{"$f":"(F116*G116*$F$110)+(F116*H116*$F$111)","v":26862}]
["2.8","Шкаф низкотемпературный","ШН-0,7",null,"шт.",1,890,3038.5,{"$f":"(F117*G117*$F$110)+(F117*H117*$F$111)","v":14977}]
["2.9","Шкаф охлаждаемый","Спутник СВ-700",null,"шт.",1,879,3004.5,14799]
["2.10","Шкаф охлаждаемый","ШХ-0,7",null,"шт.",3,879,3004.5,44397]
["2.11","Морозильная камера","Ariston RMMUP100XH",null,"шт.",1,1203,4707.5,21445]
["2.12","Плита электрическая","ЭП-4ЖШ",null,"шт.",4,338.5,6304,63972]
["2.13","Электрокотел","КПЭ-60",null,"шт.",1,239,1052,4494]
["2.14","Универсальная кухонная машина","УКМ",null,"шт.",3,198,1056,12276]
["2.15","Картофелечистка","МОК-300",null,"шт.",1,157,1303.5,4177]
["2.16","Машина протирочная ","МПР-350М",null,"шт.",1,140.5,511.5,2428]
["2.17","Хлеборезка","АХМ-300",null,"шт.",1,284,1437,5714]
["2.18",null,null,null,"шт.",null,null,null,0]
["2.19",null,null,null,"шт.",null,null,null,0]
["2.20",null,null,null,"шт.",null,null,null,0]
["2.21",null,null,null,"шт.",null,null,null,0]
["2.22",null,null,null,"шт.",null,null,null,0]
["2.23",null,null,null,"шт.",null,null,null,0]
["2.24",null,null,null,"шт.",null,null,null,0]
["2.25",null,null,null,"шт.",null,null,null,0]
["2.26",null,null,null,"шт.",null,null,null,0]
["2.27",null,null,null,"шт.",null,null,null,0]
["2.28",null,null,null,"шт.",null,null,null,0]
["2.29",null,null,null,"шт.",null,null,null,0]
["2.30",null,null,null,"шт.",null,null,null,0]
["2.31",null,null,null,"шт.",null,null,null,0]
["2.32",null,null,null,"шт.",null,null,null,0]
["2.33",null,null,null,"шт.",null,null,null,0]
["2.34",null,null,null,"шт.",null,null,null,0]
["2.35",null,null,null,"шт.",null,null,null,0]
["2.36",null,null,null,"шт.",null,null,null,0]
["2.37",null,null,null,"шт.",null,null,null,0]
["2.13",null,null,null,"шт.",null,null,null,0]
["2.14",null,null,null,"шт.",null,null,null,0]
["2.15",null,null,null,"шт.",null,null,null,0]
["2.16",null,null,null,"шт.",null,null,null,0]
["2.17",null,null,null,"шт.",null,null,null,0]
["2.18",null,null,null,"шт.",null,null,null,0]
["2.19",null,null,null,"шт.",null,null,null,0]
["2.20",null,null,null,"шт.",null,null,null,0]
["2.21",null,null,null,"шт.",null,null,null,0]
["2.22",null,null,null,"шт.",null,null,null,0]
["2.23",null,null,null,"шт.",null,null,null,0]
["2.24",null,null,null,"шт.",null,null,null,0]
["2.25",null,null,null,"шт.",null,null,null,0]
["2.26",null,null,null,"шт.",null,null,null,0]
["2.27",null,null,null,"шт.",null,null,null,0]
["2.28",null,null,null,"шт.",null,null,null,0]
["2.29",null,null,null,"шт.",null,null,null,0]
["2.30",null,null,null,"шт.",null,null,null,0]
[3,"ТО изделий медицинской техники (ИМТ)",null,null,"шт."]
["3.1",null,null,null,"шт."]
["3.2",null,null,null,"шт."]
["3.3",null,null,null,"шт."]
["3.4",null,null,null,"шт."]
["3.5",null,null,null,"шт."]
["3.6",null,null,null,"шт."]
["3.7",null,null,null,"шт."]
["3.8",null,null,null,"шт."]
["3.9",null,null,null,"шт."]
["3.10",null,null,null,"шт."]
["3.11",null,null,null,"шт."]
["3.12",null,null,null,"шт."]
["3.13",null,null,null,"шт."]
["3.14",null,null,null,"шт."]
["3.15",null,null,null,"шт."]
["3.16",null,null,null,"шт."]
["3.17",null,null,null,"шт."]
["3.18",null,null,null,"шт."]
["3.19",null,null,null,"шт."]
["3.20",null,null,null,"шт."]
["3.21",null,null,null,"шт."]
["3.22",null,null,null,"шт."]
["3.23",null,null,null,"шт."]
["3.24",null,null,null,"шт."]
["3.25",null,null,null,"шт."]
["3.26",null,null,null,"шт."]
["3.27",null,null,null,"шт."]
["3.28",null,null,null,"шт."]
["3.29",null,null,null,"шт."]
["3.30",null,null,null,"шт."]
["3.31",null,null,null,"шт."]
["3.32",null,null,null,"шт."]
["3.33",null,null,null,"шт."]
["3.34",null,null,null,"шт."]
["3.35",null,null,null,"шт."]
[4,"Ремонт и техн. обслуживание оргтехники и копировально-множительного оборудования, музыкал. оборудования и инструментов, используемых работниками, обучающимися; ремонт ученической мебели, рабочего места работника",null,null,"шт."]
[5,"Прочие расходы (ремонт бытовой техники, бытовых холодильников, стирального оборудования, изделий медтехники, средств измерений и др.)",null,null,"шт."]
["в т.ч. за счет средств краевого бюджета:"]
[1,"Ремонт и техн. обслуживание оргтехники и копировально-множительного оборудования, музыкал. оборудования, приборов и инвентаря, используемых работниками (АУП и УВП); ремонт рабочего места работника (АУП и УВП)",null,null,"шт.",null,null,null,17200]
["ИТОГО по Доп.КР 942, в том числе:",null,null,null,null,null,null,null,{"$f":"SUM(I100,I109,I165,I201,I202,I204)","v":268800}]
["за счет средств местного бюджета",null,null,null,null,null,null,null,{"$f":"SUM(I100,I109,I165,I201,I202)","v":251600}]
["за счет средств краевого бюджета",null,null,null,null,null,null,null,{"$f":"I204","v":17200}]
[null,null,null,null,null,null,null,"МБ",251600,{"$f":"I206-I208","v":0}]
[null,null,null,null,null,null,null,"КБ",17200,{"$f":"I207-I209","v":0}]
[]
["Доп.КР 947 \"Прочие расходы по содержанию имущества\""]
["в т.ч. за счет средств местного бюджета:"]
[1,"ТО и ремонт систем охранно-пожарной сигнализации и противопожарной автоматики (ОПС и ППА), в том числе:",null,null,null,null,null,null,{"$f":"CEILING(SUM(I214:I216),100)","v":231100}]
["1.1","Регламент №1 (ТО)",null,null,"раз/год, руб.",11,6886.29,null,{"$f":"F214*G214*G216*1.18","v":167148.16265399999}]
["1.2","Регламент №2 (ТР)",null,null,"раз/год, руб.",1,28943.84,null,{"$f":"F215*G215*G216*1.18","v":63867.477343999999}]
["1.3","Индекс перехода в текущие цены",null,null,"коэффициент",null,1.87]
[2,"ТО и перезарядка огнетушителей, в том числе:",null,null,null,null,null,null,{"$f":"CEILING(SUM(I218:I240),100)","v":3700}]
["2.1","Испытание корпуса и узлов",null,null,"руб.",null,146]
["2.2","Проверка качества порошка (ОП-2,ОПУ-2)",null,null,"руб.",null,148]
["2.3","Проверка качества порошка (ОП-4)",null,null,"руб.",null,271]
["2.4","Проверка качества порошка (ОП-5,ОПУ-5,ОП-6)",null,null,"руб.",null,333]
["2.5","Проверка качества порошка (ОП-10,ОПУ-10)",null,null,"руб.",null,554]
["2.6","Перезарядка (ОП-2,ОПУ-2)",null,null,"руб.",null,361]
["2.7","Перезарядка (ОП-4,ОП-5,ОПУ-5)",null,null,"руб.",null,508]
["2.8","Перезарядка (ОП-10,ОПУ-10)",null,null,"руб.",null,775]
["2.9","Перезарядка (ОУ-1)",null,null,"руб.",null,583]
["2.10","Перезарядка (ОУ-2)",null,null,"руб.",null,685]
["2.11","Перезарядка (ОУ-3)",null,null,"руб.",null,814]
["2.12","Перезарядка (ОУ-5)",null,null,"руб.",null,869]
["2.13","Перезарядка (ОУ-10)",null,null,"руб.",null,1442]
["2.14","Огнетушитель","ОУ-3",2021,"шт.",null,null,null,{"$f":"F231*G218+F231*G221+F231*G224","v":0}]
["2.15","Огнетушитель","ОУ-2",2021,"шт."]
["2.16","Огнетушитель","ОП-4(З)",2021,"шт."]
["2.17","Огнетушитель","ОУ-5",2021,"шт."]
["2.18","Огнетушитель","ОУ-10",2021,"шт."]
["2.19","Огнетушитель","ОП-4(З)",2018,"шт."]
["2.20","Огнетушитель","ОУ-5",2018,"шт."]
["2.21","Огнетушитель","ОП-4(З)",2019,"шт."]
["2.22","Огнетушитель","ОП-4(З)",2017,"шт.",4,null,null,{"$f":"F239*G218+F239*G220+F239*G224","v":3700}]
["2.23","Огнетушитель",null,null,"шт."]
[3,"Испытание электрооборудования здания, в том числе:",null,null,null,null,null,null,{"$f":"CEILING(SUM(I242:I250),100)","v":0}]
["3.1","Коммутационные аппараты (проверка):"]
["3.2","Выключатель однополюсный, напряжением до 1кВ, с УЗО",null,null,"шт.",null,126,null,{"$f":"F243*G243*$G$250","v":0}]
["3.3","Выключатель трехполюсный, напряжением до 1кВ, с эл.магнитным, тепловым или комбинир. расцепителем, номинальный ток до 50А",null,null,"шт.",null,126,null,{"$f":"F244*G244*$G$250","v":0}]
["3.4","Измерения в электроустановках (испытание):"]
["3.5","Проверка наличия цепи между заземлителями и заземленными элементами",null,null,"100 точек",null,2000,null,0]
["3.6","Замер полного сопротивления цепи «фаза-нуль»",null,null,"токопр-ик",null,126,null,0]
["3.7","Измерение сопротивления изоляции мегаомметром кабельных и других линий напряжением до 1кВ",null,null,"1 линия",null,52,null,0]
["3.8","Проверка срабатывания УЗО (устройств защитного отключения)",null,null,"шт.",null,null,null,0]
["3.9","Работа в действующей электроустановке",null,null,"коэффициент",null,1.2]
[4,"Испытание электрооборудования пищеблока, в том числе:",null,null,null,null,null,null,{"$f":"CEILING(SUM(I252:I255),100)","v":6800}]
["4.1","Измерения в электроустановках (испытание):"]
["4.2","Проверка наличия цепи между заземлителями и заземленными элементами",null,null,"100 точек",0.64,2000,null,{"$f":"F253*G253*$G$255","v":1536}]
["4.3","Измерение сопротивления изоляции мегаомметром кабельных и других линий напряжением до 1кВ",null,null,"1 линия",83,52,null,{"$f":"F254*G254*$G$255","v":5179.2}]
["4.4","Работа в действующей электроустановке",null,null,"коэффициент",null,1.2]
[5,"Эксплуатационное испытание электрооборудования елочных гирлянд",null,null,"усл.ед.",null,null,null,900]
[6,"Экспертиза пригодности ТМЦ",null,null,"усл.ед.",null,null,null,5000]
[7,"Обслуживание игрового оборудования детских площадок",null,null,"мес.",6,10040,null,{"$f":"CEILING(F258*G258,100)","v":60300}]
[8,"Техническое обслуживание \"теплого пола\" (сады)",null,null,"раз/год",12,null,null,{"$f":"CEILING(F259*G259,100)","v":0}]
[9,"Замер температурного режима жарочных шкафов в пищеблоке ",null,null,"шт.",4,580,null,{"$f":"CEILING(F260*G260,100)","v":2400}]
[10,"Камерная дезинфекция вещей",null,null,"1 закладка(20кг)",74,488.52,null,{"$f":"CEILING(G261*F261,100)","v":36200}]
[11,"Прачечные услуги, в том числе:",null,null,null,null,null,null,{"$f":"SUM(I263:I265)","v":24800}]
["11.1","стирка белья без крахмаления",null,null,"кг",null,153,null,{"$f":"CEILING(G263*F263,100)","v":0}]
["11.2","стирка белья с крахмалением",null,null,"кг",null,156,null,{"$f":"CEILING(G264*F264,100)","v":0}]
["11.3","чистка ковров",null,null,"м2",150,165,null,{"$f":"CEILING(G265*F265,100)","v":24800}]
[12,"Поверка средств измерений",null,null,"шт.",null,null,null,19900]
["12.1",null,null,null,"шт.",null,null,null,{"$f":"F267*G267*1.18","v":0}]
["12.2",null,null,null,"шт.",null,null,null,{"$f":"F268*G268*1.18","v":0}]
["12.3",null,null,null,"шт.",null,null,null,0]
["12.4",null,null,null,"шт.",null,null,null,0]
["12.5",null,null,null,"шт.",null,null,null,0]
["12.6",null,null,null,"шт.",null,null,null,0]
["12.7",null,null,null,"шт.",null,null,null,0]
["12.8",null,null,null,"шт.",null,null,null,0]
["12.9",null,null,null,"шт.",null,null,null,0]
["12.10",null,null,null,"шт.",null,null,null,0]
["12.11",null,null,null,"шт.",null,null,null,0]
["12.12",null,null,null,"шт.",null,null,null,0]
["12.13",null,null,null,"шт.",null,null,null,0]
["12.14",null,null,null,"шт.",null,null,null,0]
["12.15",null,null,null,"шт.",null,null,null,0]
["12.16",null,null,null,"шт.",null,null,null,0]
["12.17",null,null,null,"шт.",null,null,null,0]
["12.18",null,null,null,"шт.",null,null,null,0]
["12.19",null,null,null,"шт.",null,null,null,0]
["12.20",null,null,null,"шт.",null,null,null,0]
["12.21",null,null,null,"шт.",null,null,null,0]
["12.22",null,null,null,"шт.",null,null,null,0]
["12.23",null,null,null,"шт.",null,null,null,0]
["12.24",null,null,null,"шт.",null,null,null,0]
["12.25",null,null,null,"шт.",null,null,null,0]
["12.26",null,null,null,"шт.",null,null,null,0]
["12.27",null,null,null,"шт.",null,null,null,0]
["12.28",null,null,null,"шт.",null,null,null,0]
["12.29",null,null,null,"шт.",null,null,null,0]
["12.30",null,null,null,"шт.",null,null,null,0]
[13,"Испытание металлического кровельного ограждения и металлических наружных пожарных лестниц",null,null,"усл.ед.",null,null,null,100000]
[14,"Заправка и восстановление картриджей, диагностика и определение неисправности компьютерного оборудования, используемого работниками, обучающимися",null,null,"шт."]
[15,"Прочие расходы по устранению замечаний надзорных органов (огнезащитная обработка штор, установка пр/пожарных дверей и люков, укладка керамической плитки, линолеума и др.)",null,null,"усл.ед.",null,null,null,10600]
[16,"ТО тревожной сигнализации (МБОУ \"СШ № 14\")",null,null,"усл.ед."]
[17,"Услуга по очистке стеклопакетов фасада здания (МАДОУ №№ 1,2,5)",null,null,"шт.",null,null,null,{"$f":"CEILING(F301*G301,100)","v":0}]
["в т.ч. за счет средств краевого бюджета:"]
[1,"Заправка и восстановление картриджей, диагностика и определение неисправности компьютерного оборудования, используемого работниками (АУП и УВП)",null,null,"шт.",null,null,null,25800]
["ИТОГО по Доп.КР 947, в том числе:",null,null,null,null,null,null,null,{"$f":"SUM(I213,I217,I241,I251,I256,I257,I258,I259,I260,I261,I262,I266,I297,I298,I299,I303,I300)","v":527500}]
["за счет средств местного бюджета",null,null,null,null,null,null,null,{"$f":"SUM(I213,I217,I241,I251,I256,I257,I258,I259,I260,I261,I262,I266,I297,I298,I299,I300,I301)","v":501700}]
["за счет средств краевого бюджета",null,null,null,null,null,null,null,{"$f":"I303","v":25800}]
[null,null,null,null,null,null,null,"МБ",501700,{"$f":"I305-I307","v":0}]
[null,null,null,null,null,null,null,"КБ",25800,{"$f":"I306-I308","v":0}]
["Примечание:"]
["* С 01.01.2015г. повышение тарифов на зимнее содержание территории: сады - 22,05 руб/м2, прочие учреждения - 24,99 руб/м2 с учетом НДС (тарифы Экономики). "]
["Кроме того, в 2015 году в расчет стоимости затрат на оказание данной услуги включены расходы по посыпке граншлаком подъездных путей и подходов к учреждению - тариф 1,32 руб/м2 с учетом НДС."]
[]
["Тарифы на эксплуатационные услуги на 2016-2018 гг. указаны с учетом НДС (постановление Администрации города Норильска от 22.12.2014 № 713)."]
[]
["По итогам аукциона договор на оказание услуг по дератизации и дезинсекции на 2016 год заключен с ООО \"3-Д\" (тариф на дератизацию - 1,06 руб. с учетом НДС, дезинсекцию - 1,13 руб. с учетом НДС, коэффициент снижения цены - 0,289999988782779)."]
[]
["По итогам аукциона договор на оказание услуг по содержанию территории в зимний период р-на Талнах на 2016 год заключен с ИП Панферовым В.Ю. (тариф на очистку - 14,00 руб. с учетом НДС, посыпку - 0,83 руб. с учетом НДС.)"]
[]
[]
["Засядько Н.В."]
["43-72-00*3225"]

{"sheet":"226 пр.работы, услуги","index":11,"n_rows":155,"n_cols":13,"rows_kept":155,"cut":false,"hidden":false,"merged":[[132,3,132,6],[132,7,132,9],[132,10,132,12],[135,0,135,2],[132,0,133,0],[132,1,133,1],[132,2,133,2],[5,11,5,12],[6,11,6,12],[131,0,131,6],[8,0,8,12],[9,0,9,12],[10,0,10,6],[11,0,12,0],[11,1,12,1],[11,2,12,2],[11,3,11,6],[11,7,11,9],[11,10,11,12],[14,0,14,2],[20,0,20,2],[127,0,127,2],[0,11,0,12],[1,11,1,12],[2,11,2,12],[3,11,3,12],[4,11,4,12]]}
[null,null,null,null,null,null,null,null,null,null,null,"Приложение № 28"]
[null,null,null,null,null,null,null,null,null,null,null,"к Порядку составления проекта бюджета"]
[null,null,null,null,null,null,null,null,null,null,null,"муниципального образования город Норильск"]
[null,null,null,null,null,null,null,null,null,null,null,"на очередной финансовый год и плановый период,"]
[null,null,null,null,null,null,null,null,null,null,null,"утвержденному постановлением "]
[null,null,null,null,null,null,null,null,null,null,null,"Администрации города Норильска"]
[null,null,null,null,null,null,null,null,null,null,null,"от 30.06.2015 №337"]
[]
["Обоснование расходов по прочим работам и услугам"]
["МБДОУ \"Детский сад №90 \"Цветик-семицветик\""]
["Местный бюджет КБК 06507010210101110244"]
["№","Наименование услуги","Ед.изм.","Очередной 2017 год",null,null,null,"Очередной 2018 год",null,null,"Очередной 2019 год"]
[null,null,null,"Физический объём/периодичность","Тариф руб./ед.изм (без НДС)","Итого тыс.руб. (с НДС)","Примечание","Физический объём/периодичность","Тариф руб./ед.изм (без НДС)","Итого тыс.руб. (с НДС)","Физический объём/периодичность","Тариф руб./ед.изм (без НДС)","Итого тыс.руб. (с НДС)"]
[1,2,3,16,17,18,19,20,21,22,23,24,25]
["226/953 Вневедомственная (в том числе пожарная) охрана, охранная и пожарная сигнализация (установка, наладка и эксплуатация), в том числе",null,null,"х","х",{"$f":"CEILING(SUM(F16:F20),0.1)","v":721.30000000000007},"х","х","х",{"$f":"CEILING(SUM(J16:J20),0.1)","v":721.30000000000007},"х","х",{"$f":"CEILING(SUM(M16:M20),0.1)","v":721.30000000000007}]
[1,"Охрана общественного порядка","кол-во часов",{"$f":"248*12","v":2976},190,{"$f":"D16*E16*1.18/1000","v":667.2192},null,{"$f":"D16","v":2976},190,{"$f":"H16*I16*1.18/1000","v":667.2192},{"$f":"H16","v":2976},190,{"$f":"K16*L16*1.18/1000","v":667.2192}]
[2,"Мониторинговые услуги  по приемке, обработке сигналов, поступающих на центральный радиопульт","кол-во мес",12,2500,{"$f":"D17*E17/1000","v":30},null,12,2500,{"$f":"H17*I17/1000","v":30},12,2500,{"$f":"K17*L17/1000","v":30}]
[3,"Услуги по централизованному наблюдению за объектом и реагировании на тревожные сообщения (с использованием канала сотовой связи GSM)","кол-во мес",12,2000,{"$f":"D18*E18/1000","v":24},null,12,2000,{"$f":"H18*I18/1000","v":24},12,2000,{"$f":"K18*L18/1000","v":24}]
[4,"Охрана объектов средствами охранно-пожарной сигнализации (ОПС)","кол-во часов",null,null,{"$f":"D19*E19","v":0},null,0,0,{"$f":"H19*I19","v":0},0,0,{"$f":"K19*L19","v":0}]
[5,"Охрана объектов средствами тревожной сигнализации (ТС)","кол-во часов",null,null,{"$f":"D20*E20","v":0},null,0,0,{"$f":"H20*I20","v":0},0,0,{"$f":"K20*L20","v":0}]
["226/954 Прочие услуги, в том числе:",null,null,"х","х",{"$f":"CEILING(F22+F23+F24+F27+F28+F29+F30+F31+F32+F33+F34+F35+F36+F37+F44+F106+F115+F118+F119+F120+F121+F122+F123+F124+F125+F127+F126+F101,0.1)","v":435.6},"х","х","х",{"$f":"F21","v":435.6},"х","х",{"$f":"J21","v":435.6}]
[1,"Утилизация (захоронение) твердых бытовых отходов","м3/год",108,{"$f":"(168.3+180.75)/2","v":174.52500000000001},{"$f":"(D22*E22)*1.18/1000","v":22.241465999999999},null,null,{"$f":"E22","v":174.52500000000001},null,null,{"$f":"I22","v":174.52500000000001}]
[2,"Утилизация (захоронение) крупногабаритного мусора (попадающего под IV и V классы опасности)","м3/год",10,180.75,{"$f":"D23*E23*1.18/1000","v":2.1328499999999999},null,null,{"$f":"E23","v":180.75},null,null,{"$f":"I23","v":180.75}]
[3,"Утилизация ртутьсодержащих отходов","х","х","х",{"$f":"SUM(F25:F26)","v":12.313299999999998},"х",null,"х",null,null,"х"]
["3.1","лампы","шт/год",300,32.549999999999997,{"$f":"D25*E25*1.18/1000","v":11.522699999999999},null,null,32.549999999999997,null,null,32.549999999999997]
["3.2","термометры","шт/год",20,33.5,{"$f":"D26*E26*1.18/1000","v":0.79059999999999986},null,null,33.5,null,null,33.5]
[4,"Изготовление полиграфической продукции (банеров, вывесок, табличек, визиток, бланочной продукции, номерков, флагов)",null,1,10000,{"$f":"D27*E27/1000","v":10},null,null,10000,null,null,10000]
[5,"Специальная оценка условий труда","мест",null,3000,{"$f":"D28*E28*1.18/1000","v":0},null,null,3000,null,null,3000]
[6,"Изготовление дополнительного сертификата ЭЦП для сдачи отчетн.в ФСС в режиме \"Обслуж.бухгалтерия\"","шт.",1,1500,{"$f":"D29*E29/1000","v":1.5},null,null,1500,null,null,1500]
[7,"Отчет по определению тепловых нагрузок и расходов горячей и холодной воды","шт.",null,80000,0,null,null,80000,null,null,80000]
[8,"Протокол о составе и свойствах сточных вод","шт.",1,30000,30,null,null,30000,null,null,30000]
[9,"Проект нормативов образования отходов и лимитов на их размещение","шт.",null,46000,0,null,null,46000,null,null,46000]
[10,"Городские культурномассовые мероприятия (звукосветотехническое сопровождение, изготовление плакеток)","шт.",null,null,0,null,null,0,null,null,0]
[11,"Изготовление паспортов БТИ","шт.",null,100000,0,null,null,100000,null,null,100000]
[12,"оформление пакета документов по обоснованию отнесения отходов к I - V классам опасности для окружающей среды","шт.",null,45000,0,null,null,45000,null,null,45000]
[13,"Расчет оценки пожарного риска","шт.",null,98000,0,null,null,98000,null,null,98000]
[14,"Приобретение и обслуживание програмного обеспечения","х","х","х",{"$f":"SUM(F38:F43)","v":0},"х",null,"х",null,null,"х"]
["14.1","Антивирус Касперского","шт./год",null,820,{"$f":"D38*E38/1000","v":0},null,null,820,null,null,820]
["14.2","Оказание информационных услуг с использованием экземпляра системы Консультант+","мес.",null,5384,{"$f":"D39*E39*1.18/1000","v":0},null,null,5384,null,null,5384]
["14.3","Продление лицензии на 1год (получение новых версий) ПП \"Парус-Бюджет 7.хх\""]
["14.4","Годовое сопровождение ПП \"Парус-Бюджет 7.хх\""]
["14.5","право использования программы Контур-Экстерн"]
["14.6","Прочее програмное обеспечение",null,null,null,null,null,null,{"$f":"E43","v":0},null,null,{"$f":"I43","v":0}]
[15,"Производственный контроль","х","х","х",{"$f":"F45+F51+F55+F59+F70+F75+F80+F89+F94","v":227.55490519999998},"х",null,"х",null,null,"х"]
["15.1","Исследование воды плавательных бассейнов (микробиологические)","х","х","х",{"$f":"SUM(F46:F50)","v":68.581977599999988},null,null,"х",null,null,"х"]
["15.1.1","Колиформные бактерии, термотолерантные колиформные бактерии (титрационный метод) на серию","раз/год",32,232.11,{"$f":"D46*E46*1.18/1000","v":8.7644735999999988},null,null,232.11,null,null,232.11]
["15.1.2","Колифаги (с обогащением) на серию","раз/год",32,447.32,{"$f":"D47*E47*1.18/1000","v":16.890803199999997},null,null,447.32,null,null,447.32]
["15.1.3","Лецитиназоположительные стафилококки на серию","раз/год",32,216.39,8.1708863999999988,null,null,216.39,null,null,216.39]
["15.1.4","отбор одной пробы воды плавательных бассейнов","раз/год",32,271.67,10.258259200000001,null,null,271.67,null,null,271.67]
["15.1.5","прием, регистрация 1 образца (пробы) и оформление протокола исследований  (на 2 структурных подразделения лаборатории)","раз/год",32,648.77,24.497555199999997,null,null,648.77,null,null,648.77]
["15.2","Исследование воды плавательных бассейнов (паразитологические)","х","х","х",{"$f":"SUM(F52:F54)","v":11.9173746},null,null,"х",null,null,"х"]
["15.2.1","Исследование воды питьевой, плавательных бассейнов по методу Новосильцева на яйца гельминтов и цисты патогенных кишечных простейших","раз/год",3,2446.0500000000002,8.6590170000000004,null,null,2446.0500000000002,null,null,2446.0500000000002]
["15.2.2","отбор одной пробы воды плавательных бассейнов","раз/год",3,271.67,0.96171179999999989,null,null,271.67,null,null,271.67]
["15.2.3","прием, регистрация 1 образца (пробы) и оформление протокола исследований  (на 2 структурных подразделения лаборатории)","раз/год",3,648.77,2.2966457999999998,null,null,648.77,null,null,648.77]
["15.3","Исследование смывов плавательных бассейнов ","х","х","х",{"$f":"SUM(F56:F58)","v":29.375627999999999},null,null,"х",null,null,"х"]
["15.3.1","БГКП (с использованием среды КОДА) на серию","раз/год",30,148.62,5.2611480000000004,null,null,148.62,null,null,148.62]
["15.3.2","отбор одного смыва для различных видов исследований","раз/год",30,32.43,1.1480219999999999,null,null,32.43,null,null,32.43]
["15.3.3","прием, регистрация 1 образца (пробы) и оформление протокола исследований  (на 2 структурных подразделения лаборатории)","раз/год",30,648.77,22.966457999999999,null,null,648.77,null,null,648.77]
["15.4","Исследования питьевой воды","х","х","х",{"$f":"SUM(F60:F69)","v":8.3476503999999991},null,null,"х",null,null,"х"]
["15.4.1","Подготовка и оформление договора","раз/год",1,406.74,0.47995319999999997,null,null,406.74,null,null,406.74]
["15.4.2","Непроизводственные затраты (затраты времени на дорогу туда и обратно)","раз/год",1,406.74,0.47995319999999997,null,null,406.74,null,null,406.74]
["15.4.3","Общие колиформные бактерии, термотолерантные колиформные бактерии (титрационный метод) на серию","раз/год",4,235.26,1.1104271999999999,null,null,235.26,null,null,235.26]
["15.4.4","Общее микробное число на серию","раз/год",4,133.72,0.6311583999999999,null,null,133.72,null,null,133.72]
["15.4.5","отбор проб воды на баканализ (1проба)","раз/год",4,121.63,0.57409359999999987,null,null,121.63,null,null,121.63]
["15.4.6","отбор проб воды на химанализ (1проба)","раз/год",4,81.09,0.3827448,null,null,81.09,null,null,81.09]
["15.4.7","прием, регистрация 1 образца (пробы) и оформление протокола исследований  (на 2 структурных подразделения лаборатории)","раз/год",4,648.77,3.0621943999999996,null,null,648.77,null,null,648.77]
["15.4.8","Вкус, привкус","раз/год",4,69.81,0.3295032,null,null,69.81,null,null,69.81]
["15.4.9","Цветность","раз/год",4,138.72,0.65475839999999996,null,null,138.72,null,null,138.72]
["15.4.10","Мутность","раз/год",4,136.19999999999999,0.64286399999999988,null,null,136.19999999999999,null,null,136.19999999999999]
["15.5","Песок","х","х","х",{"$f":"SUM(F71:F74)","v":3.3129089999999994},null,null,"х",null,null,"х"]
["15.5.1","БГКП","раз/год",1,463.59,0.54703619999999986,null,null,463.59,null,null,463.59]
["15.5.2","Санитарно-паразитологические исследования почвы, песка, твердых бытовых отходов","раз/год",1,1541.09,1.8184861999999997,null,null,1541.09,null,null,1541.09]
["15.5.3","Отбор одной пробы почвы с поверхности для различных видов исследований","раз/год",1,154.1,0.181838,null,null,154.1,null,null,154.1]
["15.5.4","прием, регистрация 1 образца (пробы) и оформление протокола исследований  (на 2 структурных подразделения лаборатории)","раз/год",1,648.77,0.76554859999999991,null,null,648.77,null,null,648.77]
["15.6","Микроклимат","х","х","х",{"$f":"SUM(F76:F79)","v":1.8152057999999998},null,null,"х",null,null,"х"]
["15.6.1","Определение скорости движения воздуха в одной точке","раз/год",1,211.9,0.25004199999999999,null,null,211.9,null,null,211.9]
["15.6.2","Измерение искусственной освещенности в одной точке","раз/год",1,253.88,0.29957839999999997,null,null,253.88,null,null,253.88]
["15.6.3","Измерение температуры и относительной влажности","раз/год",2,211.88,0.50003679999999995,null,null,211.88,null,null,211.88]
["15.6.4","Прием, регистрация 1 образца (пробы) и оформление протокола исследований (на 1 структурное подразделение лаборатории)","раз/год",1,648.77,0.76554859999999991,null,null,648.77,null,null,648.77]
["15.7","Микробиологическое исследование готовых блюд на соответствие требованиям санитарного законодательства","х","х","х",{"$f":"SUM(F81:F88)","v":34.1958336},null,null,"х",null,null,"х"]
["15.7.1","КМАФАиМ","раз/год",8,393.7,3.7165279999999998,null,null,393.7,null,null,393.7]
["15.7.2","БГКП","раз/год",8,358.74,3.3865056,null,null,358.74,null,null,358.74]
["15.7.3","Esherichia coli","раз/год",8,409.89,3.8693615999999995,null,null,409.89,null,null,409.89]
["15.7.4","Стафилококк ауреус","раз/год",8,397.96,3.7567423999999998,null,null,397.96,null,null,397.96]
["15.7.5","Бактерии рода  Rroteus","раз/год",8,410.24,3.8726655999999999,null,null,410.24,null,null,410.24]
["15.7.6","Патогенные микроорганизмы, в т.ч. Сальмонеллы","раз/год",8,881.32,8.3196607999999994,null,null,881.32,null,null,881.32]
["15.7.7","Дрожжи, плесени","раз/год",8,369.65,3.4894959999999995,null,null,369.65,null,null,369.65]
["15.7.8","Сульфитридуцирующие клостридии","раз/год",8,400.94,3.7848736000000001,null,null,400.94,null,null,400.94]
["15.8","Исследования пищевой и непищевой продукции","х","х","х",{"$f":"SUM(F90:F93)","v":25.307424599999997},null,null,"х",null,null,"х"]
["15.8.1","Калорийность, выход блюд и соответствие химического состава блюда рецептуре","раз/год",3,596.05999999999995,2.1100523999999994,null,null,596.05999999999995,null,null,596.05999999999995]
["15.8.2","Определение витамина С в готовых блюдах","раз/год",2,696.89,1.6446604,null,null,696.89,null,null,696.89]
["15.8.3","Расчет калорийности рациона","раз/год",1,2722.35,3.2123729999999995,null,null,2722.35,null,null,2722.35]
["15.8.4","Определение на бактериологическое исследование пищи","раз/год",67,231.98,18.340338799999998,null,null,231.98,null,null,231.98]
["15.9","Профессиональная гигиеническая подготовка и аттестация должностных лиц","х","х","х",{"$f":"SUM(F95:F100)","v":44.700901600000002},null,null,"х",null,null,"х"]
["15.9.1","Подготовка и оформление договора","раз/год",1,406.74,0.47995319999999997,null,null,406.74,null,null,406.74]
["15.9.2","Непроизводственные затраты (затраты времени на дорогу туда и обратно)","раз/год",1,406.74,0.47995319999999997,null,null,406.74,null,null,406.74]
["15.9.3","Проведение лекций должностным лицам и работникам объектов хозяйственной и иной деятельности по вопросам обеспечения санитарно-эпидемиологического благополучия: на 1 человека","чел.",68,298.14999999999998,23.923555999999998,null,null,298.14999999999998,null,null,298.14999999999998]
["15.9.4","Консультация по вопросам санитарного законодательства: на 1 человека","чел.",68,31.82,2.5532368000000001,null,null,31.82,null,null,31.82]
["15.9.5","Аттестация должностных лиц и работников организаций, деятельность которых связана с производством, хранением,транспортировкой и реализацией пищевых продуктов, питьевой воды, воспитанием и обучением детей, коммунальными бытовым обслуживанием населения: в форме тестового контроля результатов проф-ной гигиенич.подготовки с оформлением и защитой личной медицинской книжки голографической маркой (на 1 человека)","чел.",68,178.91,14.355738399999998,null,null,178.91,null,null,178.91]
["15.9.6","Выдача, оформление, защита личной медицинской книжки (новой ЛМК) голографическими марками","чел.",10,246.48,2.9084639999999995,null,null,246.48,null,null,246.48]
["16","Курьерские услуги","х","х","х",{"$f":"SUM(F102:F105)","v":0},null,null,"х",null,null,"х"]
["16.1","г. Красноярск до 0,5 кг","кол-во мест",null,null,0,null,null,0,null,null,0]
["16.2","г. Красноярск до 1 кг","кол-во мест",null,null,0,null,null,0,null,null,0]
["16.3","г. Москва до 0,5 кг","кол-во мест",null,null,0,null,null,0,null,null,0]
["16.4","г. Москва до 1 кг","кол-во мест",null,null,0,null,null,0,null,null,0]
["17","Участие в семинарах, курсах повышения кваллификации, конференциях, спортивных мероприятиях","х","х","х",{"$f":"SUM(F107:F114)","v":0},"х",null,"х",null,null,"х"]
["17.1","Обучение по электробезопасности","чел.",null,5500,{"$f":"D107*E107/1000","v":0},null,null,{"$f":"E107","v":5500},null,null,{"$f":"I107","v":5500}]
["17.2","Обучение ответственных лиц по работе с ртутьсодержащими отходами","чел.",null,2500,{"$f":"D108*E108/1000","v":0},null,null,2500,null,null,2500]
["17.3","Обучение по охране труда","чел.",null,4150,0,null,null,4150,null,null,4150]
["17.4","Обучение пож.тех.мин.","чел.",null,1500,0,null,null,1500,null,null,1500]
["17.5","Курсы повышения кваллификации в рамках ФЗ-44","чел.",null,12000,0,null,null,12000,null,null,12000]
["17.6","Обучение по тепловодоснабжению","чел.",null,5500,0,null,null,5500,null,null,5500]
["17.7","Обучение по ФГОС","чел.",null,8000,0,null,null,8000,null,null,8000]
["17.8","Обучение по професии лифтер малых грузовых лифтов","чел.",null,6000,0,null,null,6000,null,null,6000]
["18","Услуги инкасации наличных денег полистным пересчетом","мес",12,1750,{"$f":"D115*E115*1.18/1000","v":24.78},"х",null,1750,null,null,1750]
["18.1","объявления","шт./мес"]
["18.2","перевозимая сумма","руб./мес"]
["19","Услуги по обработке учетной (бухгалтерской) информации (ГИВЦ)",null,1,5000,{"$f":"D118*E118/1000","v":5},null,null,{"$f":"E118","v":5000},null,null,{"$f":"I118","v":5000}]
["20","Монтажные (демонтажные, электромонтажные) работы учебно-игрового оборудования; прогулочных площадок, оборудования",null,null,null,{"$f":"D119*E119/1000","v":0},null,null,0,null,null,0]
["21","Поступление род.платы через платежные системы",null,null,null,0,null,null,0,null,null,0]
["22","Размещение рекламы",null,null,null,0,null,null,0,null,null,0]
["23","Изготовление стендов;                              \nИзготовление и монтаж вертикальных жалюзи",null,null,null,0,null,null,0,null,null,0]
["24","Составление и изготовление планов эвакуации",null,null,null,0,null,null,0,null,null,0]
["25","Нотариальные услуги",null,null,null,0,null,null,0,null,null,0]
["26","Услуги по предоставлению гидрометеорологических сведений (обьявление актировок)","уч.дн.",null,null,0,null,null,0,null,null,0]
["27","Информация (декларация) об энергосбережении и о повышении энергетической эффективности",null,1,100000,100,null,null,100000,null,null,100000]
["28",null,null,null,null,null,null,{"$f":"D127","v":0},0,null,{"$f":"H127","v":0},0]
["Страхование жизни, здоровья, имущества (в том числе гражданской ответственности владельцев транспортных средств), в том числе",null,null,null,null,null,null,0,null,{"$f":"F128","v":0},0,null,{"$f":"J128","v":0}]
["1","Страхование малых грузовых лифтов"]
["2","Страхование автотранспорта"]
[]
["Краевой бюджет КБК 06507010210074080244"]
["№","Наименование услуги","Ед.изм.","Очередной 2017 год",null,null,null,"Очередной 2018 год",null,null,"Очередной 2019 год"]
[null,null,null,"Физический объём/периодичность","Тариф руб./ед.изм (без НДС)","Итого тыс.руб. (с НДС)","Примечание","Физический объём/периодичность","Тариф руб./ед.изм (без НДС)","Итого тыс.руб. (с НДС)","Физический объём/периодичность","Тариф руб./ед.изм (без НДС)","Итого тыс.руб. (с НДС)"]
[1,2,3,16,17,18,19,20,21,22,23,24,25]
["226/954 Прочие услуги, в том числе:",null,null,"х","х",{"$f":"MROUND(F137+F138+F145,0.1)","v":163},"х","х","х",{"$f":"MROUND(J137+J138+J145,0.1)","v":163},"х","х",{"$f":"MROUND(M137+M138+M145,0.1)","v":163}]
[1,"Специальная оценка условий труда","мест",3,3000,{"$f":"D137*E137*1.18/1000","v":10.62},null,{"$f":"D137","v":3},{"$f":"E137","v":3000},{"$f":"H137*I137*1.18/1000","v":10.62},{"$f":"H137","v":3},{"$f":"I137","v":3000},{"$f":"K137*L137*1.18/1000","v":10.62}]
[2,"Приобретение и обслуживание програмного обеспечения","х","х","х",{"$f":"SUM(F139:F144)","v":84.437440000000009},"х","х",{"$f":"E138","v":"х"},{"$f":"SUM(J139:J144)","v":84.437440000000009},"х",{"$f":"I138","v":"х"},{"$f":"SUM(M139:M144)","v":84.437440000000009}]
["2.1","Антивирус Касперского","шт./год",10,820,{"$f":"D139*E139/1000","v":8.1999999999999993},null,10,{"$f":"E139","v":820},{"$f":"H139*I139/1000","v":8.1999999999999993},10,{"$f":"I139","v":820},{"$f":"K139*L139/1000","v":8.1999999999999993}]
["2.2","Оказание информационных услуг с использованием экземпляра системы Консультант+","мес.",12,5384,{"$f":"D140*E140*1.18/1000","v":76.237440000000007},null,12,{"$f":"E140","v":5384},{"$f":"H140*I140*1.18/1000","v":76.237440000000007},12,{"$f":"I140","v":5384},{"$f":"K140*L140*1.18/1000","v":76.237440000000007}]
["2.3","Продление лицензии на 1год (получение новых версий) ПП \"Парус-Бюджет 7.хх\"",null,0,null,null,null,0,null,null,0]
["2.4","Годовое сопровождение ПП \"Парус-Бюджет 7.хх\"",null,0,null,null,null,0,null,null,0]
["2.5","право использования программы Контур-Экстерн",null,0,null,null,null,0,null,null,0]
["2.6","Прочее програмное обеспечение",null,0,null,null,null,0,0,null,0,0]
["3","Участие в семинарах, курсах повышения кваллификации, конференциях, спортивных мероприятиях","х","х","х",{"$f":"SUM(F146:F153)","v":67.95},"х","х","х",{"$f":"SUM(J146:J153)","v":67.95},"х","х",{"$f":"SUM(M146:M153)","v":67.95}]
["3.1","Обучение по электробезопасности","чел.",1,5500,{"$f":"D146*E146/1000","v":5.5},null,1,5500,{"$f":"H146*I146/1000","v":5.5},1,5500,{"$f":"K146*L146/1000","v":5.5}]
["3.2","Обучение ответственных лиц по работе с ртутьсодержащими отходами","чел.",1,2500,{"$f":"D147*E147/1000","v":2.5},null,1,2500,{"$f":"H147*I147/1000","v":2.5},1,2500,{"$f":"K147*L147/1000","v":2.5}]
["3.3","Обучение по охране труда","чел.",3,4150,12.45,null,3,4150,12.45,3,4150,12.45]
["3.4","Обучение пож.тех.мин.","чел.",0,1500,0,null,0,1500,0,0,1500,0]
["3.5","Курсы повышения кваллификации в рамках ФЗ-44","чел.",1,12000,12,null,1,12000,12,1,12000,12]
["3.6","Обучение по тепловодоснабжению","чел.",5,5500,27.5,null,5,5500,27.5,5,5500,27.5]
["3.7","Обучение по ФГОС","чел.",1,8000,8,null,1,8000,8,1,8000,8]
["3.8","Обучение по професии лифтер малых грузовых лифтов","чел.",0,6000,0,null,0,6000,0,0,6000,0]
["Попова Е.Н."]
["437200*3223"]

{"sheet":"226.995 медосмотры","index":12,"n_rows":17,"n_cols":102,"rows_kept":17,"cut":false,"hidden":false,"merged":[[1,85,1,97],[1,98,5,98],[1,99,5,99],[1,100,5,100],[1,101,5,101],[2,85,5,85],[2,86,3,86],[2,87,5,87],[2,88,3,88],[2,89,5,89],[2,90,3,90],[2,91,5,91],[2,92,3,92],[2,93,5,93],[2,94,3,94],[2,95,5,95],[2,96,3,96],[2,97,5,97],[12,0,12,5],[4,69,4,71],[4,73,4,75],[4,77,4,78],[4,80,4,82],[6,0,6,5],[9,0,9,5],[2,80,3,80],[2,81,3,81],[2,82,3,82],[3,2,3,5],[4,2,4,3],[4,4,4,5],[4,7,4,43],[4,46,4,56],[4,58,4,63],[4,65,4,67],[2,66,3,66],[2,67,3,67],[2,69,3,69],[2,70,3,70],[2,71,3,71],[2,73,3,73],[2,59,3,59],[2,41,3,41],[2,42,3,42],[2,43,3,43],[2,44,5,44],[2,46,3,46],[2,47,3,47],[2,35,3,35],[2,36,3,36],[2,37,3,37],[2,38,3,38],[2,39,3,39],[2,40,3,40],[2,30,3,30],[2,31,3,31],[2,32,3,32],[2,33,3,33],[2,34,3,34],[2,23,3,23],[2,24,3,24],[2,25,3,25],[2,26,3,26],[2,27,3,27],[2,28,3,28],[1,79,5,79],[1,80,1,82],[1,83,5,83],[1,72,5,72],[1,73,1,75],[1,76,5,76],[1,77,1,78],[2,74,3,74],[2,75,3,75],[2,77,3,77],[2,78,3,78],[1,68,5,68],[1,69,1,71],[1,45,5,45],[1,46,1,56],[1,57,5,57],[1,58,1,63],[1,64,5,64],[1,65,1,67],[2,48,3,48],[2,49,3,49],[2,50,3,50],[2,51,3,51],[2,60,3,60],[2,61,3,61],[2,62,3,62],[2,63,3,63],[2,65,3,65],[2,52,3,52],[2,53,3,53],[2,54,3,54],[2,55,3,55],[2,56,3,56],[2,58,3,58],[0,0,0,44],[1,0,5,0],[1,1,5,1],[1,2,2,5],[1,6,5,6],[1,7,1,33],[1,35,1,43],[2,14,3,14],[2,15,3,15],[2,16,3,16],[2,7,3,7],[2,8,3,8],[2,9,3,9],[2,10,3,10],[2,11,3,11],[2,12,3,12],[2,13,3,13],[2,17,3,17],[2,18,3,18],[2,19,3,19],[2,20,3,20],[2,21,3,21],[2,22,3,22],[2,29,3,29]]}
["Расчет стоимости оказания услуг по  проведению периодических медицинских осмотров в 2017г."]
["№","Учреждение","Работники, подлежащие обязательному медицинскому осмотру в 2017г.*",null,null,null,"Всего списочная численность ","Приложение 2 п.20",null,null,null,null,null,null,null,null,null,null,null,null,null,null,null,null,null,null,null,null,null,null,null,null,null,null,null,"ЦГиЭ",null,null,null,null,null,null,null,null,null,"Численность работников,нуждающихся в доп.исследованиях","приложение 1 п. 3.12; приложение 1 п. 3.2.2.4",null,null,null,null,null,null,null,null,null,null,"Численность работников,нуждающихся в доп.исследованиях","приложение 1 п 4.1",null,null,null,null,null,"Численность работников,нуждающихся в доп.исследованиях","Пр.1 п. 3.10",null,null,"Численность работников,нуждающихся в доп.исследованиях","Приложение 1 п. 3.8",null,null,"Численность работников,нуждающихся в доп.исследованиях","Пр.1 п. 1.3.3",null,null,"Численность работников,нуждающихся в доп.исследованиях","КГБУЗ \"Норильская МДБ\"",null,"Численность работников,нуждающихся в доп.исследованиях","Пр.___ п. ______",null,null,"Итого стоимость обязательных периодических медицинских осмотров",null,"ЦГиЭ (Брюшной тиф)",null,null,null,null,null,null,null,null,null,null,null,null,"Итого стоимость обязательных периодических медицинских осмотров с учетом исследований на брюшной тиф","Итого стоимость обязательных периодических медицинских осмотров с учетом исследований на брюшной тиф 2017","Итого стоимость обязательных периодических медицинских осмотров 2018","Итого стоимость обязательных периодических медицинских осмотров 2019"]
[null,null,null,null,null,null,null,"Председатель медицинской комиссии по профосмотрам (врач профпатолог","профилактический прием (осмотр, консультация) врача гинеколога","профилактический прием (осмотр, консультация) врача отоларинголога","профилактический прием (осмотр, консультация) врача стомотолога терапевта","профилактический прием (осмотр, консультация) врача дерматовенеролога","профилактический прием (осмотр, консультация) врача терапевта","медсестра доврачебного кабинета","медицинский регистратор","флюорография легких","регистрация электрокардиограммы, расшифровка, описание и интерпритация электрокардиографических данных","маммография (женщины после 40)","Взятие крови из пальца (5 показателей)","взятие крови из периферической вены","Исследование уровня холестирина в крови","Исследование уровня глюкозы в крови","Общий (клинический) анализ крови развернутый","Анализ мочи общий","Получение влагалищных мазков","Микроскопическое исследование влагалищных мазков","Цитологическое исследование мазка из женских половых органов на атипические  клетки (первая категория сложности)","Взятие мазка на гонококки (жен.)","Взятие мазка на гонококки (муж.)","Исследование мазков на гонококки (муж.)","Определение антител методом РМП","Микроскопическое исследование мазков (муж.)","Оформление заключительного акта комиссии (1шт.)","Психоневрологический диспансер (осмотр врачом психиатром, врачом психиатром-наркологом)","Психоневрологический диспансер (проведение предрейсовых и послерейсовых медицинских осмотров водителей транспортных средств","Подготовка и оформление договора","Непроизводственные затраты (затраты времени на дорогу туда и обратно)","Отбор одной пробы биологического материала","Паразитологические исследования биологического материала: приготовление и просмотр препарата по методу КАТО","Паразитологические исследования биологического материала:Метод нативного мазка с фмзраствором и раствором Люголя (2 капли на одном стекле)","Паразитологические исследования биологического материала:Исследование перианального соскоба","Исследование биоматериалов: Прием, регистрацмя и выдача результатов","Исследование биоматериалов: подготовка одной пробы","Подготовка и оформление акта выполненных работ","Итого стоимость обязательных периодических медицинских осмотров",null,"профилактический прием (осмотр, консультация) врача офтальмолога","Невролог","острота зрения (визометрия)","тонометрия","скиаскопия","рефрактометрия","объем аккомодации","(гетерофория)исследование бинокулярного зрения","цветоощущение","биомикроскопия сред глаз","офтальмоскопия глазного дна",null,"невролог","хирург","офтальмолог","острота зрения (визометрия)","динамометрия","исследование функции вестибулярного аппарата",null,"офтальмолог","невролог","биомикроскопия сред глаза",null,"невролог","хирург","термометрия (температура тела)",null,"офтальмолог","спирометрия","биомикроскопия сред глаза",null,"Определение антигена HBsAg Hepatitis B virus","Определение антител  класса  M,G (IgM, IgG) к Hepatitis С virus",null,null,null,null,null,null,"Численность работников,нуждающихся в Отборе одной пробы биологического материала для клинико-диагностических исследований","Отбор одной пробы биологического материала для клинико-диагностических исследований","Численность работников,нуждающихся в исследованиях на возбудителей дизентерии и сальмонелезов (тифо-паратифозную группу)","Исследование на возбудителей дизентерии и сальмонелезов (тифо-паратифозную группу)","Численность работников,нуждающихся в исследованиях на РПГА (РНГА) с одним эритроцитарным диагностикумом (для обнаружение антител, антигенов)","РПГА (РНГА) с одним эритроцитарным диагностикумом (для обнаружение антител, антигенов)","Численность работников,нуждающихся в Клинико-бактериологические исследованиях: на возбудителей дизентерии и сальмонеллезов","Клинико-бактериологические исследования: на возбудителей дизентерии и сальмонеллезов","Численность работников,нуждающихся в исследованиях биоматериалов: прием, регистрация и выдача результатов","Исследования биоматериалов: прием, регистрация и выдача результатов","Численность работников,нуждающихся в исследованиях биоматериалов: подготовка одной пробы","Иссследования биоматериалов: подготовка одной пробы","Итого стоимость Исследований на возбудителей дизентерии и сальмонелезов (тифо-паратифозную группу)"]
[null,null,"Пр.№302-н от 12.04.11г."]
[null,null,"Мужчины",null,"Женщины",null,null,"Тариф, руб.",null,null,null,null,null,null,null,null,null,null,null,null,null,null,null,null,null,null,null,null,null,null,null,null,null,null,null,null,null,null,null,null,null,null,null,null,null,null,"Тариф, руб.",null,null,null,null,null,null,null,null,null,null,null,"Тариф, руб.",null,null,null,null,null,null,"Тариф, руб.",null,null,null,"Тариф, руб.",null,null,null,"Тариф, руб.",null,null,null,"Тариф, руб.",null,null,"Тариф, руб.",null,null,null,null,null,"Тариф, руб.",null,"Тариф, руб.",null,"Тариф, руб.",null,"Тариф, руб.",null,"Тариф, руб.",null,"Тариф, руб."]
[null,null,"после 40 лет","до 40 лет","после 40 лет","до 40 лет",null,223,277,134,212,112,250,147,28,246,384,709,null,87,152,131,542,150,83,175,173,null,null,null,138,null,5013,{"$f":"230+230","v":460},83,406.74,406.74,20.29,150.97,213.8,159.35,51.99,231.98,122.01,null,null,200,179,68,157,275,279,133,68,49,364,142,null,179,97,200,68,67,67,null,200,179,364,null,179,97,31,null,200,102,364,null,175,175,null,null,null,null,null,"Ассигнования 2016г.",null,20.29,null,716.36,null,480.41,null,716.36,null,51.99,null,231.98]
["Педагогический персонал"]
[null,"МБДОУ № 90",null,null,{"$f":"19+3","v":22},{"$f":"11+2","v":13},{"$f":"SUM(C8:F8)","v":35},{"$f":"G8*H$6","v":7805},{"$f":"(E8+F8)*$I$6","v":9695},{"$f":"G8*$J$6","v":4690},{"$f":"G8*K$6","v":7420},{"$f":"G8*L$6","v":3920},{"$f":"G8*M$6","v":8750},{"$f":"G8*N$6","v":5145},{"$f":"G8*O$6","v":980},{"$f":"G8*P$6","v":8610},{"$f":"G8*Q$6","v":13440},{"$f":"E8*R$6","v":15598},{"$f":"G8*$S$6","v":0},{"$f":"G8*T$6","v":3045},{"$f":"G8*U$6","v":5320},{"$f":"G8*V$6","v":4585},{"$f":"G8*W$6","v":18970},{"$f":"G8*X$6","v":5250},{"$f":"(E8+F8)*Y$6","v":2905},{"$f":"(E8+F8)*Z$6","v":6125},{"$f":"(F8+E8)*AA$6","v":6055},{"$f":"(E8+F8)*AB$6","v":0},{"$f":"(C8+D8)*AC$6","v":0},{"$f":"(C8+D8)*AD$6","v":0},{"$f":"G8*AE$6","v":4830},{"$f":"(C8+D8)*AF$6","v":0},5013,{"$f":"G8*$AH$6","v":16100},null,null,null,{"$f":"G8*$AL$6*1.18","v":837.97699999999998},{"$f":"G8*$AM$6","v":5283.95},{"$f":"G8*$AN$6","v":7483},{"$f":"G8*$AO$6","v":5577.25},{"$f":"G8*$AP$6","v":1819.65},{"$f":"G8*$AQ$6","v":8119.2999999999993},null,{"$f":"SUM(H8:AR8)","v":193372.12700000001},30,{"$f":"AT8*AU$6","v":6000},{"$f":"AT8*AV$6","v":5370},{"$f":"AT8*AW$6","v":2040},{"$f":"AT8*AX$6","v":4710},{"$f":"AT8*AY$6","v":8250},{"$f":"AT8*AZ$6","v":8370},{"$f":"AT8*BA$6","v":3990},{"$f":"AT8*BB$6","v":2040},{"$f":"AT8*BC$6","v":1470},{"$f":"AT8*BD$6","v":10920},{"$f":"AT8*BE$6","v":4260},null,{"$f":"BF8*BG$6","v":0},{"$f":"BF8*BH$6","v":0},{"$f":"BF8*BI$6","v":0},{"$f":"BF8*BJ$6","v":0},{"$f":"BF8*BK$6","v":0},{"$f":"BF8*BL$6","v":0},null,{"$f":"BM8*BN$6","v":0},{"$f":"BM8*BO$6","v":0},{"$f":"BM8*BP$6","v":0},null,{"$f":"BQ8*BR$6","v":0},{"$f":"BQ8*BS$6","v":0},{"$f":"BQ8*BT$6","v":0},null,{"$f":"BU8*BV$6","v":0},{"$f":"BU8*BW$6","v":0},{"$f":"BU8*BX$6","v":0},null,null,null,null,{"$f":"CA8*CC$6","v":0},{"$f":"CA8*CD$6","v":0},{"$f":"CA8*CE$6","v":0},{"$f":"BX8+BW8+BV8+BT8+BS8+BR8+BP8+BO8+BN8+BL8+BK8+BJ8+BI8+BH8+BG8+BE8+BD8+BC8+BB8+BA8+AZ8+AY8+AX8+AW8+AV8+AU8+AS8+BZ8+CA8","v":250792.12700000001},null,17,{"$f":"CH8*CI6*1.18","v":407.01740000000001},17,{"$f":"CJ8*CK6","v":12178.12},10,{"$f":"CL8*CM6","v":4804.1000000000004},null,{"$f":"CN8*CO6","v":0},17,{"$f":"CP8*CQ6","v":883.83},17,{"$f":"CR8*CS6","v":3943.66},{"$f":"CI8+CK8+CM8+CO8+CQ8+CS8","v":22216.727400000003},{"$f":"CF8+CT8","v":273008.85440000001},{"$f":"CEILING(CU8,100)","v":273100},{"$f":"CV8","v":273100},{"$f":"CW8","v":273100}]
[null,"ИТОГО",{"$f":"SUM(C8:C8)","v":0},0,22,13,35,7805,9695,4690,7420,3920,8750,5145,980,8610,13440,15598,{"$f":"G89*S$6","v":0},3045,5320,4585,18970,5250,2905,6125,6055,0,0,0,4830,0,5013,16100,null,0,0,837.97699999999998,5283.95,{"$f":"SUM(AN8:AN8)","v":7483},5577.25,1819.65,8119.2999999999993,0,{"$f":"SUM(AS8:AS8)","v":193372.12700000001},30,6000,5370,2040,4710,8250,8370,3990,2040,1470,10920,4260,0,0,0,0,0,0,0,0,0,0,0,0,0,0,0,0,0,0,0,0,0,0,0,0,0,0,null,130700,{"$f":"CH8","v":17},null,{"$f":"CJ8","v":17},null,{"$f":"CL8","v":10},null,{"$f":"CN8","v":0},null,{"$f":"CP8","v":17},null,{"$f":"CR8","v":17}]
["МОП (младший обслуживающий персонал)",null,null,null,null,null,null,null,null,null,null,null,null,null,null,null,null,null,0,null,null,null,null,null,null,null,null,{"$f":"(E10+F10)*AB$6","v":0}]
[null,"МБДОУ № 90",null,null,{"$f":"12+1","v":13},{"$f":"7+1","v":8},{"$f":"SUM(C11:F11)","v":21},{"$f":"G11*H$6","v":4683},{"$f":"(E11+F11)*$I$6","v":5817},{"$f":"G11*$J$6","v":2814},{"$f":"G11*K$6","v":4452},{"$f":"G11*L$6","v":2352},{"$f":"G11*M$6","v":5250},{"$f":"G11*N$6","v":3087},{"$f":"G11*O$6","v":588},{"$f":"G11*P$6","v":5166},{"$f":"G11*Q$6","v":8064},{"$f":"E11*R$6","v":9217},{"$f":"G11*$S$6","v":0},{"$f":"G11*T$6","v":1827},{"$f":"G11*U$6","v":3192},{"$f":"G11*V$6","v":2751},{"$f":"G11*W$6","v":11382},{"$f":"G11*X$6","v":3150},{"$f":"(E11+F11)*Y$6","v":1743},{"$f":"(E11+F11)*Z$6","v":3675},{"$f":"(F11+E11)*AA$6","v":3633},{"$f":"(E11+F11)*AB$6","v":0},{"$f":"(C11+D11)*AC$6","v":0},{"$f":"(C11+D11)*AD$6","v":0},{"$f":"G11*AE$6","v":2898},{"$f":"(C11+D11)*AF$6","v":0},null,{"$f":"G11*$AH$6","v":9660},null,{"$f":"$AJ$6*1.18","v":479.95319999999998},{"$f":"$AK$6*1.18","v":479.95319999999998},{"$f":"G11*$AL$6*1.18","v":502.78619999999995},{"$f":"G11*$AM$6","v":3170.37},{"$f":"G11*$AN$6","v":4489.8},{"$f":"G11*$AO$6","v":3346.35},{"$f":"G11*$AP$6","v":1091.79},{"$f":"G11*$AQ$6","v":4871.58},{"$f":"AR6*1.18","v":143.9718},{"$f":"SUM(H11:AR11)","v":113977.55440000001},4,{"$f":"AT11*AU$6","v":800},{"$f":"AT11*AV$6","v":716},{"$f":"AT11*AW$6","v":272},{"$f":"AT11*AX$6","v":628},{"$f":"AT11*AY$6","v":1100},{"$f":"AT11*AZ$6","v":1116},{"$f":"AT11*BA$6","v":532},{"$f":"AT11*BB$6","v":272},{"$f":"AT11*BC$6","v":196},{"$f":"AT11*BD$6","v":1456},{"$f":"AT11*BE$6","v":568},null,{"$f":"BF11*BG$6","v":0},{"$f":"BF11*BH$6","v":0},{"$f":"BF11*BI$6","v":0},{"$f":"BF11*BJ$6","v":0},{"$f":"BF11*BK$6","v":0},{"$f":"BF11*BL$6","v":0},null,{"$f":"BM11*BN$6","v":0},{"$f":"BM11*BO$6","v":0},{"$f":"BM11*BP$6","v":0},null,{"$f":"BQ11*BR$6","v":0},{"$f":"BQ11*BS$6","v":0},{"$f":"BQ11*BT$6","v":0},null,{"$f":"BU11*BV$6","v":0},{"$f":"BU11*BW$6","v":0},{"$f":"BU11*BX$6","v":0},null,null,null,null,{"$f":"CA11*CC$6","v":0},{"$f":"CA11*CD$6","v":0},{"$f":"CA11*CE$6","v":0},{"$f":"BX11+BW11+BV11+BT11+BS11+BR11+BP11+BO11+BN11+BL11+BK11+BJ11+BI11+BH11+BG11+BE11+BD11+BC11+BB11+BA11+AZ11+AY11+AX11+AW11+AV11+AU11+AS11+BZ11+CA11","v":121633.55440000001},null,11,{"$f":"CH11*CI6*1.18","v":263.36419999999998},11,{"$f":"CJ11*CK6","v":7879.96},9,{"$f":"CL11*CM6","v":4323.6900000000005},null,{"$f":"CN11*CO6","v":0},11,{"$f":"CP11*CQ6","v":571.89},11,{"$f":"CR11*CS6","v":2551.7799999999997},{"$f":"CI11+CK11+CM11+CO11+CQ11+CS11","v":15590.6842},{"$f":"CF11+CT11","v":137224.23860000001},{"$f":"CEILING(CU11,100)","v":137300},{"$f":"CV11","v":137300},{"$f":"CV11","v":137300}]
[null,"ИТОГО",{"$f":"SUM(C11)","v":0},{"$f":"SUM(D11)","v":0},13,8,{"$f":"SUM(G11:G11)","v":21},{"$f":"SUM(H11:H11)","v":4683},5817,2814,4452,2352,5250,3087,588,5166,8064,9217,0,1827,3192,2751,11382,3150,1743,3675,3633,0,0,0,2898,0,0,9660,null,479.95319999999998,479.95319999999998,502.78619999999995,3170.37,4489.8,3346.35,1091.79,4871.58,143.9718,113977.55440000001,4,800,716,272,628,1100,1116,532,272,196,1456,568,0,0,0,0,0,0,0,0,0,0,0,0,0,0,{"$f":"SUM(BT11:BT11)","v":0},0,0,0,0,0,0,0,0,0,0,0,null,121700,{"$f":"SUM(CH11:CH11)","v":11},null,11,null,{"$f":"SUM(CL11:CL11)","v":9},null,{"$f":"SUM(CN11:CN11)","v":0},null,{"$f":"SUM(CP11:CP11)","v":11},null,{"$f":"SUM(CR11:CR11)","v":11}]
["АУП (административно -управленческий), УВП(учебно-вспомогательный)",null,null,null,null,null,null,null,null,null,null,null,null,null,null,null,null,null,0,null,null,null,null,null,null,null,null,0]
[null,"МБДОУ № 90",null,null,{"$f":"11+1","v":12},7,{"$f":"SUM(C14:F14)","v":19},{"$f":"G14*H$6","v":4237},{"$f":"(E14+F14)*$I$6","v":5263},{"$f":"G14*$J$6","v":2546},{"$f":"G14*K$6","v":4028},{"$f":"G14*L$6","v":2128},{"$f":"G14*M$6","v":4750},{"$f":"G14*N$6","v":2793},{"$f":"G14*O$6","v":532},{"$f":"G14*P$6","v":4674},{"$f":"G14*Q$6","v":7296},{"$f":"E14*R$6","v":8508},{"$f":"G14*$S$6","v":0},{"$f":"G14*T$6","v":1653},{"$f":"G14*U$6","v":2888},{"$f":"G14*V$6","v":2489},{"$f":"G14*W$6","v":10298},{"$f":"G14*X$6","v":2850},{"$f":"(E14+F14)*Y$6","v":1577},{"$f":"(E14+F14)*Z$6","v":3325},{"$f":"(F14+E14)*AA$6","v":3287},{"$f":"(E14+F14)*AB$6","v":0},{"$f":"(C14+D14)*AC$6","v":0},{"$f":"(C14+D14)*AD$6","v":0},{"$f":"G14*AE$6","v":2622},{"$f":"(C14+D14)*AF$6","v":0},null,{"$f":"G14*$AH$6","v":8740},null,null,null,{"$f":"G14*$AL$6*1.18","v":454.90179999999998},{"$f":"G14*$AM$6","v":2868.43},{"$f":"G14*$AN$6","v":4062.2000000000003},{"$f":"G14*$AO$6","v":3027.65},{"$f":"G14*$AP$6","v":987.81000000000006},{"$f":"G14*$AQ$6","v":4407.62},null,{"$f":"SUM(H14:AR14)","v":102292.61179999998},4,{"$f":"AT14*AU$6","v":800},{"$f":"AT14*AV$6","v":716},{"$f":"AT14*AW$6","v":272},{"$f":"AT14*AX$6","v":628},{"$f":"AT14*AY$6","v":1100},{"$f":"AT14*AZ$6","v":1116},{"$f":"AT14*BA$6","v":532},{"$f":"AT14*BB$6","v":272},{"$f":"AT14*BC$6","v":196},{"$f":"AT14*BD$6","v":1456},{"$f":"AT14*BE$6","v":568},null,0,{"$f":"BF14*BH$6","v":0},{"$f":"BF14*BI$6","v":0},{"$f":"BF14*BJ$6","v":0},{"$f":"BF14*BK$6","v":0},{"$f":"BF14*BL$6","v":0},null,0,{"$f":"BM14*BO$6","v":0},{"$f":"BM14*BP$6","v":0},null,0,{"$f":"BQ14*BS$6","v":0},{"$f":"BQ14*BT$6","v":0},null,{"$f":"BU14*BV$6","v":0},{"$f":"BU14*BW$6","v":0},{"$f":"BU14*BX$6","v":0},null,null,null,null,{"$f":"CA14*CC$6","v":0},{"$f":"CA14*CD$6","v":0},{"$f":"CA14*CE$6","v":0},{"$f":"BX14+BW14+BV14+BT14+BS14+BR14+BP14+BO14+BN14+BL14+BK14+BJ14+BI14+BH14+BG14+BE14+BD14+BC14+BB14+BA14+AZ14+AY14+AX14+AW14+AV14+AU14+AS14+BZ14+CA14","v":109948.61179999998},null,8,{"$f":"CH14*CI6*1.18","v":191.53759999999997},8,{"$f":"CJ14*CK6","v":5730.88},5,{"$f":"CL14*CM6","v":2402.0500000000002},null,{"$f":"CN14*CO6","v":0},8,{"$f":"CP14*CQ6","v":415.92},8,{"$f":"CR14*CS6","v":1855.84},{"$f":"CI14+CK14+CM14+CO14+CQ14+CS14","v":10596.2276},{"$f":"CF14+CT14","v":120544.83939999998},{"$f":"CEILING(CU14,100)","v":120600},{"$f":"CV14","v":120600},{"$f":"CV14","v":120600}]
[null,"ИТОГО",{"$f":"SUM(C14:C14)","v":0},0,12,7,19,4237,5263,2546,4028,2128,4750,2793,532,4674,7296,8508,0,1653,2888,2489,10298,2850,1577,3325,3287,0,0,0,2622,0,0,8740,null,0,0,454.90179999999998,2868.43,{"$f":"SUM(AN14:AN14)","v":4062.2000000000003},3027.65,987.81000000000006,4407.62,0,102292.61179999998,4,800,716,272,628,1100,1116,532,272,196,1456,568,0,0,0,0,0,0,0,0,0,0,0,0,0,0,0,0,0,0,0,0,0,0,0,0,0,0,null,106700,{"$f":"SUM(CH14:CH14)","v":8},null,8,null,{"$f":"SUM(CL14:CL14)","v":5},null,{"$f":"SUM(CN14:CN14)","v":0},null,{"$f":"SUM(CP14:CP14)","v":8},null,{"$f":"SUM(CR14:CR14)","v":8}]
[null,null,null,null,null,null,null,null,null,null,null,null,null,null,null,null,null,null,null,null,null,null,null,null,null,null,null,null,null,null,null,null,null,null,null,null,null,null,null,null,null,null,null,null,null,null,null,null,null,null,null,null,null,null,null,null,null,null,null,null,null,null,null,null,null,null,null,null,null,null,null,null,null,null,null,null,null,null,null,null,null,null,null,null,{"$f":"CG15+CG12+CG9","v":359100}]
[null,null,null,null,null,null,{"$f":"G8+G11+G14","v":75}]

{"sheet":"226.956 подписка","index":13,"n_rows":10,"n_cols":11,"rows_kept":10,"cut":false,"hidden":false,"merged":[[1,0,1,12],[2,0,2,12],[3,0,3,10],[4,0,5,0],[4,1,4,4],[4,5,4,7],[4,8,4,10]]}
[]
["Расчет норматива затрат по КОСГУ 226, Доп.КР 956 \"Приобретение периодических изданий, справочной литературы\" "]
["МБДОУ \"Детский сад №90 \"Цветик-семицветик\""]
["Краевой бюджет КБК 065/0701/0210074080/244"]
["Наименование учреждения","Очередной 2017 год",null,null,null,"Очередной 2018 год",null,null,"Очередной 2019 год"]
[null,"Сумма подписки на II полугодие 2016 г., руб.","Сумма подписки на I полугодие 2017 г., руб.","Сумма на 2017 год, руб.","Периодичность","Сумма подписки на II полугодие 2017 г., руб.","Сумма подписки на I полугодие 2018 г., руб.","Сумма на 2018 год, руб.","Сумма подписки на II полугодие 2018 г., руб.","Сумма подписки на I полугодие 2019 г., руб.","Сумма на 2019 год, руб."]
[{"$f":"A3","v":"МБДОУ \"Детский сад №90 \"Цветик-семицветик\""},{"$f":"D7/2","v":12650},{"$f":"B7","v":12650},25300,"2 раза в год",{"$f":"H7/2","v":12650},{"$f":"F7","v":12650},{"$f":"D7","v":25300},{"$f":"K7/2","v":12650},{"$f":"I7","v":12650},{"$f":"H7","v":25300}]
[]
["Попова Е.Н."]
["43-72-00*3223"]

{"sheet":"290.962 пр.расходы","index":14,"n_rows":23,"n_cols":5,"rows_kept":23,"cut":false,"hidden":false,"merged":[[22,0,22,3],[1,0,1,4],[2,0,2,4]]}
["КБК 065/0701/0210074080/244"]
["Расчет норматива затрат по КОСГУ 290, Доп.КР 962 \"Прочие расходы\""]
["МБДОУ \"Детский сад № 90 \"Цветик-семицветик\""]
[]
["№ п/п","Наименование услуги","Физический объём","Тариф, руб., без НДС","Стоимость услуг на 2017 г., руб."]
[1,2,3,4,5]
["1.","Плата за размещение отходов производства и потребления",4,200,{"$f":"C7*D7","v":800}]
["2.","Пени (штрафы) на недоимку по страховым взносам ",null,0,5000]
["3.","Госпошлина",null,0,3500]
["4.","Штрафы (по решению надзорных органов)",null,0,12500]
["5.","Расходы по исполнительным листам",null,0,2700]
["6.","Прочие платежи в бюджеты всех уровней",null,0,0]
["7.","Прочие расходы (неустойки и пр.)",null,0,0]
["8."]
["9."]
["10."]
["11."]
["12."]
["13."]
["14."]
["15."]
["16."]
["ИТОГО по Доп.КР 962",null,null,null,{"$f":"CEILING(SUM(E7:E22),100)","v":24500}]

{"sheet":"290.963 КММ","index":15,"n_rows":20,"n_cols":20,"rows_kept":20,"cut":false,"hidden":false,"merged":[[10,0,10,2],[12,0,12,2],[18,0,18,2],[19,0,19,2],[4,7,4,19],[5,8,5,19],[6,0,6,3],[7,0,7,3],[8,0,8,2],[9,0,9,2],[2,6,3,6],[4,0,5,0],[4,1,5,1],[4,2,5,2],[4,3,5,3],[4,5,4,6]]}
["ГОРОДСКИЕ И ВНУТРИСАДОВСКИЕ КУЛЬТУРНО-МАССОВЫЕ МЕРОПРИЯТИЯ на 2017 год (краевой/местный бюджет) САДЫ"]
[]
[null,null,null,null,null,null,"д/с № 1, 2, 3, 4, 8, 9, 14, 18, 24, 25, 28, 29, 46, 59, 62, 66, 71, 73, 74"]
[null,null,"Учреждение, ответственное за проведение мероприятия"]
["№ п/п","город, район","Наименование учреждения","ИТОГО ассигнования 2017 г. на городские + внутрисадовские КММ, руб.",null,"ГОРОДСКИЕ КУЛЬТУРНО-МАССОВЫЕ МЕРОПРИЯТИЯ",null,"ВНУТРИСАДОВСКИЕ КУЛЬТУРНО-МАССОВЫЕ МЕРОПРИЯТИЯ"]
[null,null,null,null,"ЭКОНОМИЯ/ ДЕФИЦИТ, \n+/-","ИТОГО ассигнования 2017 г. на городские КММ, руб.","Праздничный концерт, посвященный 80-летию дошкольного образования","ИТОГО ассигнования 2017 г. на внутрисадовские КММ, руб.","ЮБИЛЕЙНЫЕ МЕРОПРИЯТИЯ + 23 ФЕВРАЛЯ + 8 МАРТА + ДЕНЬ ПОБЕДЫ + ПОСЛЕДНИЙ ЗВОНОК + ДЕНЬ ДОШКОЛЬНОГО РАБОТНИКА + НОВОГОДНИЕ МЕРОПРИЯТИЯ"]
["разбивка кассового плана помесячно",null,null,null,null,null,null,null,"январь","февраль","март","апрель","май","июнь","июль","август","сентябрь","октябрь","ноябрь","декабрь"]
["месяц проведения мероприятия"]
["0210075880/290/963/831 Призы (краевой) САДЫ",null,null,{"$f":"SUM(F9,H9)","v":30000},null,{"$f":"F11","v":0},{"$f":"G11","v":0},{"$f":"H11","v":30000},{"$f":"I11","v":0},0,0,0,0,0,0,0,0,0,0,0]
["02 1 01 01110/290/963/831 Призы (местный) САДЫ цветы, шары",null,null,{"$f":"F10+H10","v":12000},null,{"$f":"F13","v":12000},{"$f":"G13","v":12000}]
["ПРИЗОВОЙ ФОНД (краевой бюджет) 0210075880/290/963/831 ",null,null,{"$f":"SUM(D12:D12)","v":30000},null,{"$f":"SUM(F12:F12)","v":0},0,30000,0,0,0,0,0,0,0,0,0,0,0,0]
[1,"н","МБДОУ \"Детский сад № 90\"",{"$f":"SUM(F12,H12)","v":30000},null,{"$f":"SUM(G12:G12)","v":0},null,30000]
["ПРИЗОВОЙ ФОНД ( местный бюджет) \n02 1 01 01110/290/963/831 ЦВЕТЫ",null,null,{"$f":"SUM(D14:D14)","v":12000},0,12000,12000,0,0,0,0,0,0,0,0,0,0,0,0,0]
[1,"н","МБДОУ \"Детский сад № 90\"",{"$f":"F14","v":12000},null,{"$f":"SUM(G14:G14)","v":12000},12000]
[]
[]
[]
[]
["Соколова Т.В."]
["43-72-00*3226"]

{"sheet":"340.983 питание","index":16,"n_rows":117,"n_cols":195,"rows_kept":117,"cut":false,"hidden":false,"merged":[[12,178,13,178],[12,179,13,179],[12,180,13,180],[12,181,13,181],[12,182,13,182],[12,183,13,183],[12,168,13,168],[12,169,12,170],[12,172,12,173],[12,175,13,175],[12,176,13,176],[12,177,13,177],[12,191,13,191],[12,192,13,192],[12,193,13,193],[12,194,13,194],[12,184,13,184],[12,185,13,185],[12,186,13,186],[12,187,13,187],[12,188,13,188],[12,189,13,189],[10,190,13,190],[10,191,11,192],[10,193,11,194],[12,131,13,131],[12,132,13,132],[12,133,13,133],[12,162,13,162],[12,163,13,163],[12,164,13,164],[12,165,13,165],[12,166,13,166],[12,167,13,167],[12,148,13,148],[12,149,13,149],[12,150,13,150],[12,151,13,151],[12,152,13,152],[12,153,13,153],[12,115,13,115],[12,116,13,116],[12,117,13,117],[12,118,13,118],[12,119,13,119],[12,104,13,104],[12,105,13,105],[12,106,13,106],[12,107,13,107],[12,108,13,108],[12,109,12,110],[11,114,13,114],[11,115,11,119],[12,112,12,113],[11,175,11,179],[11,180,11,181],[12,145,13,145],[12,146,13,146],[12,147,13,147],[11,120,11,121],[11,122,11,123],[11,124,11,128],[11,129,13,129],[11,130,11,134],[11,135,11,136],[12,120,13,120],[12,121,13,121],[12,122,13,122],[12,123,13,123],[12,134,13,134],[12,135,13,135],[12,136,13,136],[12,137,13,137],[12,138,13,138],[12,139,12,140],[12,124,12,125],[12,127,12,128],[12,130,13,130],[11,152,11,153],[12,142,12,143],[12,18,13,18],[12,19,12,20],[12,22,12,23],[12,25,13,25],[12,26,13,26],[12,27,13,27],[11,174,13,174],[11,100,11,104],[11,105,11,106],[12,28,13,28],[12,29,13,29],[12,30,13,30],[12,31,13,31],[12,32,13,32],[12,33,13,33],[12,62,13,62],[12,63,13,63],[12,64,12,65],[12,56,13,56],[12,57,13,57],[12,58,13,58],[12,59,13,59],[12,97,12,98],[12,85,13,85],[11,182,11,183],[12,4,12,5],[12,7,12,8],[12,10,13,10],[12,11,13,11],[12,12,13,12],[12,13,13,13],[11,154,11,158],[11,159,13,159],[11,160,11,164],[11,165,11,166],[11,167,11,168],[11,169,11,173],[12,154,12,155],[12,157,12,158],[12,160,13,160],[12,161,13,161],[11,137,11,138],[11,139,11,143],[11,144,13,144],[11,145,11,149],[11,150,11,151],[12,86,13,86],[12,87,13,87],[12,88,13,88],[12,89,13,89],[12,90,13,90],[12,91,13,91],[12,92,13,92],[12,93,13,93],[12,94,12,95],[11,75,11,76],[11,77,11,78],[11,79,11,83],[12,72,13,72],[12,73,13,73],[12,74,13,74],[12,75,13,75],[11,107,11,108],[11,109,11,113],[12,76,13,76],[12,77,13,77],[12,78,13,78],[12,79,12,80],[12,82,12,83],[12,100,13,100],[12,101,13,101],[12,102,13,102],[12,103,13,103],[11,84,13,84],[11,85,11,89],[11,90,11,91],[11,92,11,93],[11,94,11,98],[11,99,13,99],[11,60,11,61],[11,62,11,63],[12,48,13,48],[12,49,12,50],[12,52,12,53],[12,55,13,55],[11,64,11,68],[11,69,13,69],[11,70,11,74],[12,67,12,68],[12,70,13,70],[12,71,13,71],[12,60,13,60],[12,61,13,61],[11,45,11,46],[12,34,12,35],[12,37,12,38],[12,40,13,40],[12,41,13,41],[11,47,11,48],[11,49,11,53],[11,54,13,54],[11,55,11,59],[12,42,13,42],[12,43,13,43],[12,44,13,44],[12,45,13,45],[12,46,13,46],[12,47,13,47],[11,34,11,38],[11,39,13,39],[11,40,11,44],[11,0,12,0],[11,1,12,1],[11,2,13,2],[11,3,13,3],[11,4,11,8],[11,9,13,9],[11,10,11,14],[11,15,11,16],[11,17,11,18],[11,19,11,23],[11,24,13,24],[11,25,11,29],[12,14,13,14],[12,15,13,15],[12,16,13,16],[12,17,13,17],[11,30,11,31],[11,32,11,33],[7,0,7,3],[8,15,9,15],[8,30,9,30],[8,45,9,45],[8,60,9,60],[8,75,9,75],[8,180,9,180],[8,90,9,90],[8,105,9,105],[8,120,9,120],[8,135,9,135],[8,150,9,150],[8,165,9,165],[5,184,5,185],[6,124,6,138],[1,1,2,1],[1,2,2,4],[1,5,1,9],[3,2,3,4],[4,2,4,4],[5,12,5,15],[6,139,6,153],[6,154,6,168],[6,169,6,183],[6,0,6,18],[6,19,6,33],[6,34,6,48],[6,49,6,63],[6,64,6,78],[6,79,6,93],[6,94,6,108],[6,109,6,123],[1,11,2,11],[1,12,2,14],[1,15,1,19],[3,12,3,14],[4,12,4,14]]}
["Расчет затрат на приобретение продуктов питания в 2017-2019 гг. КОСГУ 340 Доп КР 983 "]
[null,"Расчетная потребность ","Сумма руб.                    на 2017 год",null,null,"Источники оплаты 2017 год",null,null,null,null,null,"Расчетная потребность ","Сумма руб.                                    на 2018-2019 года",null,null,"Источники оплаты 2018-2019 года"]
[null,null,null,null,null,"Поступления род. Платы КБК 000 0000 0000000000 244 ","Поступления пит.сотрудн.  КБК 000 0000 0000000000 244 ","Краевой бюджет        КБК 065 0701   0210075540    244 ","Местный бджет          КБК 065 0701     02 10101110     244 ","*Дефицит средств",null,null,null,null,null,"Поступления род. Платы КБК 000 0000 0000000000 244 ","Поступления пит.сотрудн.  КБК 000 0000 0000000000 244 ","Краевой бюджет        КБК 065 0701   0210075540    244 ","Местный бджет          КБК 065 0701     02 10101110     244 ","*Дефицит средств"]
[null,"Питание детей ",{"$f":"GK116","v":7950644.3399999999},null,null,{"$f":"'[15]Разбивка по источникам'!F40","v":6088700},null,{"$f":"'[15]Разбивка по источникам'!G40","v":116900},{"$f":"'[15]Разбивка по источникам'!J40","v":454700},{"$f":"F4+H4+I4-C4","v":-1290344.3399999999},null,"Питание детей ",{"$f":"C4","v":7950644.3399999999},null,null,{"$f":"F4","v":6088700},null,{"$f":"H4","v":116900},{"$f":"'[15]Разбивка по источникам'!M40","v":398800},{"$f":"P4+R4+S4-M4","v":-1346244.3399999999}]
[null,"Питание сотрудников",{"$f":"MROUND(GM116,10)","v":597190},null,null,null,{"$f":"C5","v":597190},null,null,null,null,"Питание сотрудников",{"$f":"C5","v":597190},null,null,null,{"$f":"G5","v":597190}]
[null,"*Дефицит средств-будет восполнен  за счет средств переходящих остатков прошлых лет и родительской платы поступаюшей сверх плана."]
["я н в а р ь",null,null,null,null,null,null,null,null,null,null,null,null,null,null,null,null,null,null,"ф е в р а л ь",null,null,null,null,null,null,null,null,null,null,null,null,null,null,"м а р т",null,null,null,null,null,null,null,null,null,null,null,null,null,null,"а п р е л ь",null,null,null,null,null,null,null,null,null,null,null,null,null,null,"м а й ",null,null,null,null,null,null,null,null,null,null,null,null,null,null,"и ю н ь",null,null,null,null,null,null,null,null,null,null,null,null,null,null,"и ю л ь",null,null,null,null,null,null,null,null,null,null,null,null,null,null,"а в г у с т ",null,null,null,null,null,null,null,null,null,null,null,null,null,null,"с е н т я б р ь ",null,null,null,null,null,null,null,null,null,null,null,null,null,null,"о к т я б р ь ",null,null,null,null,null,null,null,null,null,null,null,null,null,null,"н о я б р ь ",null,null,null,null,null,null,null,null,null,null,null,null,null,null,"д е к а б р ь"]
[" МБДОУ \"Детский сад №90 \"Цветик-семицветик\""]
[null,null,null,null,null,null,null,null,null,"кол-во","дети","дети","дети","дети",null,"сотрудники",null,null,null,null,null,null,null,null,"кол-во","дети","дети","дети","дети",null,"сотрудники",null,null,null,null,null,null,null,null,"кол-во","дети","дети","дети","дети",null,"сотрудники",null,null,null,null,null,null,null,null,"кол-во","дети","дети","дети","дети",null,"сотрудники",null,null,null,null,null,null,null,null,"кол-во","дети","дети","дети","дети",null,"сотрудники",null,null,null,null,null,null,null,null,"кол-во","дети","дети","дети","дети",null,"сотрудники",null,null,null,null,null,null,null,null,"кол-во","дети","дети","дети","дети",null,"сотрудники",null,null,null,null,null,null,null,null,"кол-во","дети","дети","дети","дети",null,"сотрудники",null,null,null,null,null,null,null,null,"кол-во","дети","дети","дети","дети",null,"сотрудники",null,null,null,null,null,null,null,null,"кол-во","дети","дети","дети","дети",null,"сотрудники",null,null,null,null,null,null,null,null,"кол-во","дети","дети","дети","дети",null,"сотрудники",null,null,null,null,null,null,null,null,"кол-во","дети","дети","дети","дети",null,"сотрудники",null,null,null,null,null,null,null,null,null,null,null,"дети среднеявочн.(12 мес.)",null,"сотрудники"]
[null,"Ассортиментный перечень продуктов ",null,null,null,null,null,null,null,"раб.дней","сад","ясли ","сад круг","ясли круг",null,null,null,null,null,null,null,null,null,null,"раб.дней","сад","ясли","сад круг","ясли круг",null,null,null,null,null,null,null,null,null,null,"раб.дней","сад","ясли","сад круг","ясли круг",null,null,null,null,null,null,null,null,null,null,"раб.дней","сад","ясли","сад круг","ясли круг",null,null,null,null,null,null,null,null,null,null,"раб.дней","сад","ясли","сад круг","ясли круг",null,null,null,null,null,null,null,null,null,null,"раб.дней","сад","ясли","сад круг","ясли круг",null,null,null,null,null,null,null,null,null,null,"раб.дней","сад","ясли","сад круг","ясли круг",null,null,null,null,null,null,null,null,null,null,"раб.дней","сад","ясли","сад круг","ясли круг",null,null,null,null,null,null,null,null,null,null,"раб.дней","сад","ясли","сад круг","ясли круг",null,null,null,null,null,null,null,null,null,null,"раб.дней","сад","ясли","сад круг","ясли круг",null,null,null,null,null,null,null,null,null,null,"раб.дней","сад","ясли","сад круг","ясли круг",null,null,null,null,null,null,null,null,null,null,"раб.дней","сад","ясли","сад круг","ясли круг",null,null,null,null,null,null,null,null,null,null,null,null,null,{"$f":"K11+L11+Z11+AA11+AO11+AP11+BD11+BE11+BS11+BT11+CH11+CI11+CW11+CX11+DL11+DM11+EA11+EB11+EP11+EQ11+FE11+FF11+FT11+FU11","v":39397},null,{"$f":"P11+AE11+AT11+BI11+BX11+CM11+DB11+DQ11+EF11+EU11+FJ11+FY11","v":432}]
[null,null,null,null,null,null,null,null,{"$f":"16-2","v":14},1,{"$f":"'[15]детодни.факт 15-16г.'!D40","v":2485},{"$f":"'[15]детодни.факт 15-16г.'!E40","v":334},null,null,null,{"$f":"'[15]питание сотрудников'!B40","v":42},null,null,null,null,null,null,null,{"$f":"19-2","v":17},1,{"$f":"'[15]детодни.факт 15-16г.'!G40","v":3399},{"$f":"'[15]детодни.факт 15-16г.'!H40","v":224},null,null,null,{"$f":"'[15]питание сотрудников'!E40","v":40},null,null,null,null,null,null,null,{"$f":"22-2","v":20},1,{"$f":"'[15]детодни.факт 15-16г.'!J40","v":3005},{"$f":"'[15]детодни.факт 15-16г.'!K40","v":400},null,null,null,{"$f":"'[15]питание сотрудников'!F40","v":40},null,null,null,null,null,null,null,{"$f":"20-2","v":18},1,{"$f":"'[15]детодни.факт 15-16г.'!N40","v":3186},{"$f":"'[15]детодни.факт 15-16г.'!O40","v":361},null,null,null,{"$f":"'[15]питание сотрудников'!G40","v":38},null,null,null,null,null,null,null,{"$f":"21-2","v":19},1,{"$f":"'[15]детодни.факт 15-16г.'!Q40","v":2230},{"$f":"'[15]детодни.факт 15-16г.'!R40","v":282},null,null,null,{"$f":"'[15]питание сотрудников'!H40","v":33},null,null,null,null,null,null,null,{"$f":"21-2","v":19},1,{"$f":"'[15]детодни.факт 15-16г.'!T40","v":1639},{"$f":"'[15]детодни.факт 15-16г.'!U40","v":258},null,null,null,{"$f":"'[15]питание сотрудников'!I40","v":32},null,null,null,null,null,null,null,{"$f":"21-2","v":19},1,{"$f":"'[15]детодни.факт 15-16г.'!X40","v":4620},{"$f":"'[15]детодни.факт 15-16г.'!Y40","v":854},null,null,null,{"$f":"'[15]питание сотрудников'!J40","v":26},null,null,null,null,null,null,null,{"$f":"23-2","v":21},1,{"$f":"'[15]детодни.факт 15-16г.'!AA40","v":1440},{"$f":"'[15]детодни.факт 15-16г.'!AB40","v":399},null,null,null,{"$f":"'[15]питание сотрудников'!K40","v":26},null,null,null,null,null,null,null,{"$f":"21-2","v":19},1,{"$f":"'[15]детодни.факт 15-16г.'!AD40","v":2188},{"$f":"'[15]детодни.факт 15-16г.'!AE40","v":480},null,null,null,{"$f":"'[15]питание сотрудников'!L40","v":29},null,null,null,null,null,null,null,{"$f":"22-2","v":20},1,{"$f":"'[15]детодни.факт 15-16г.'!AH40","v":3052},{"$f":"'[15]детодни.факт 15-16г.'!AI40","v":510},null,null,null,{"$f":"'[15]питание сотрудников'!M40","v":36},null,null,null,null,null,null,null,{"$f":"21-2","v":19},1,{"$f":"'[15]детодни.факт 15-16г.'!AK40","v":3278},{"$f":"'[15]детодни.факт 15-16г.'!AL40","v":497},null,null,null,{"$f":"'[15]питание сотрудников'!N40","v":45},null,null,null,null,null,null,null,{"$f":"22-2","v":20},1,{"$f":"'[15]детодни.факт 15-16г.'!AN40","v":3748},{"$f":"'[15]детодни.факт 15-16г.'!AO40","v":528},null,null,null,{"$f":"'[15]питание сотрудников'!O40","v":45},{"$f":"P11+AT11+BI11+BX11+CM11+DB11+DQ11+EU11+EF11+FJ11+FY11+AE11-'[15]питание сотрудников'!P40","v":0},{"$f":"K11+L11+Z11+AA11+AO11+AP11+BD11+BE11+BS11+BT11+CH11+CI11+CW11+CX11+DL11+DM11+EA11+EB11+EP11+EQ11+FE11+FF11+FT11+FU11-'[15]детодни.факт 15-16г.'!AR40","v":0},null,"1 полугодие 2017г",null,"2 полугодие 2017 г",null,"На 2017 год",null,"номера лотов","питание  детей без сотрудников",null,"питание  сотрудников"]
["№п/п","Наименование","Ед.изм","Цена, руб.","Норма на 1 воспитанника, кг. в день",null,null,null,null,"Норма на 1 сотруд, кг в день","Дети",null,null,null,null,"Сотрудники",null,"Всего",null,"Норма на 1 воспитанника, кг. в день",null,null,null,null,"Норма на 1 сотруд, кг в день","Дети",null,null,null,null,"Сотрудники",null,"Всего",null,"Норма на 1 воспитанника, кг. в день",null,null,null,null,"Норма на 1 сотруд, кг в день","Дети",null,null,null,null,"Сотрудники",null,"Всего",null,"Норма на 1 воспитанника, кг. в день",null,null,null,null,"Норма на 1 сотруд, кг в день","Дети",null,null,null,null,"Сотрудники",null,"Всего",null,"Норма на 1 воспитанника, кг. в день",null,null,null,null,"Норма на 1 сотруд, кг в день","Дети",null,null,null,null,"Сотрудники",null,"Всего",null,"Норма на 1 воспитанника, кг. в день",null,null,null,null,"Норма на 1 сотруд, кг в день","Дети",null,null,null,null,"Сотрудники",null,"Всего",null,"Норма на 1 воспитанника, кг. в день",null,null,null,null,"Норма на 1 сотруд, кг в день","Дети",null,null,null,null,"Сотрудники",null,"Всего",null,"Норма на 1 воспитанника, кг. в день",null,null,null,null,"Норма на 1 сотруд, кг в день","Дети",null,null,null,null,"Сотрудники",null,"Всего",null,"Норма на 1 воспитанника, кг. в день",null,null,null,null,"Норма на 1 сотруд, кг в день","Дети",null,null,null,null,"Сотрудники",null,"Всего",null,"Норма на 1 воспитанника, кг. в день",null,null,null,null,"Норма на 1 сотруд, кг в день","Дети",null,null,null,null,"Сотрудники",null,"Всего",null,"Норма на 1 воспитанника, кг. в день",null,null,null,null,"Норма на 1 сотруд, кг в день","Дети",null,null,null,null,"Сотрудники",null,"Всего",null,"Норма на 1 воспитанника, кг. в день",null,null,null,null,"Норма на 1 сотруд, кг в день","Дети",null,null,null,null,"Сотрудники",null,"Всего",null,"Всего",null,"Всего",null,"Всего"]
[null,null,null,null,"12 - часовые",null,"24- часовые","санаторные",null,null,"сад, кг","ясли, кг","сад круг, кг","ясли круг, кг","Сумма, руб.","Кол-во, кг","Сумма, руб.","Кол-во, кг","Сумма, руб.","12 - часовые",null,"24- часовые","санаторные",null,null,"сад, кг","ясли, кг","сад круг, кг","ясли круг, кг","Сумма, руб.","Кол-во, кг","Сумма, руб.","Кол-во, кг","Сумма, руб.","12 - часовые",null,"24- часовые","санаторные",null,null,"сад, кг","ясли, кг","сад круг, кг","ясли круг, кг","Сумма, руб.","Кол-во, кг","Сумма, руб.","Кол-во, кг","Сумма, руб.","12 - часовые",null,"24- часовые","санаторные",null,null,"сад, кг","ясли, кг","сад круг, кг","ясли круг, кг","Сумма, руб.","Кол-во, кг","Сумма, руб.","Кол-во, кг","Сумма, руб.","12 - часовые",null,"24- часовые","санаторные",null,null,"сад, кг","ясли, кг","сад круг, кг","ясли круг, кг","Сумма, руб.","Кол-во, кг","Сумма, руб.","Кол-во, кг","Сумма, руб.","12 - часовые",null,"24- часовые","санаторные",null,null,"сад, кг","ясли, кг","сад круг, кг","ясли круг, кг","Сумма, руб.","Кол-во, кг","Сумма, руб.","Кол-во, кг","Сумма, руб.","12 - часовые",null,"24- часовые","санаторные",null,null,"сад, кг","ясли, кг","сад круг, кг","ясли круг, кг","Сумма, руб.","Кол-во, кг","Сумма, руб.","Кол-во, кг","Сумма, руб.","12 - часовые",null,"24- часовые","санаторные",null,null,"сад, кг","ясли, кг","сад круг, кг","ясли круг, кг","Сумма, руб.","Кол-во, кг","Сумма, руб.","Кол-во, кг","Сумма, руб.","12 - часовые",null,"24- часовые","санаторные",null,null,"сад, кг","ясли, кг","сад круг, кг","ясли круг, кг","Сумма, руб.","Кол-во, кг","Сумма, руб.","Кол-во, кг","Сумма, руб.","12 - часовые",null,"24- часовые","санаторные",null,null,"сад, кг","ясли, кг","сад круг, кг","ясли круг, кг","Сумма, руб.","Кол-во, кг","Сумма, руб.","Кол-во, кг","Сумма, руб.","12 - часовые",null,"24- часовые","санаторные",null,null,"сад, кг","ясли, кг","сад круг, кг","ясли круг, кг","Сумма, руб.","Кол-во, кг","Сумма, руб.","Кол-во, кг","Сумма, руб.","12 - часовые",null,"24- часовые","санаторные",null,null,"сад, кг","ясли, кг","сад круг, кг","ясли круг, кг","Сумма, руб.","Кол-во, кг","Сумма, руб.","Кол-во, кг","Сумма, руб.","Кол-во, кг","Сумма, руб.","Кол-во, кг","Сумма, руб.","Кол-во, кг","Сумма, руб.",null,"Кол-во, кг","Сумма, руб.","Кол-во, кг","Сумма, руб."]
[null,"продукта",null,null,"д/сад","д/ясли","д/сад","д/сад","д/ясли",null,null,null,null,null,null,null,null,null,null,"д/сад","д/ясли","д/сад","д/сад","д/ясли",null,null,null,null,null,null,null,null,null,null,"д/сад","д/ясли","д/сад","д/сад","д/ясли",null,null,null,null,null,null,null,null,null,null,"д/сад","д/ясли","д/сад","д/сад","д/ясли",null,null,null,null,null,null,null,null,null,null,"д/сад","д/ясли","д/сад","д/сад","д/ясли",null,null,null,null,null,null,null,null,null,null,"д/сад","д/ясли","д/сад","д/сад","д/ясли",null,null,null,null,null,null,null,null,null,null,"д/сад","д/ясли","д/сад","д/сад","д/ясли",null,null,null,null,null,null,null,null,null,null,"д/сад","д/ясли","д/сад","д/сад","д/ясли",null,null,null,null,null,null,null,null,null,null,"д/сад","д/ясли","д/сад","д/сад","д/ясли",null,null,null,null,null,null,null,null,null,null,"д/сад","д/ясли","д/сад","д/сад","д/ясли",null,null,null,null,null,null,null,null,null,null,"д/сад","д/ясли","д/сад","д/сад","д/ясли",null,null,null,null,null,null,null,null,null,null,"д/сад","д/ясли","д/сад","д/сад","д/ясли"]
[1,"Мука пшеничная, витаминизир.","кг",{"$f":"[15]цены!E9","v":43.5},{"$f":"'[15]3'!E15","v":2.9000000000000001E-2},{"$f":"'[15]3'!F15","v":2.5000000000000001E-2},{"$f":"'[15]3'!G15","v":3.7700000000000003E-3},{"$f":"'[15]3'!H15","v":0},{"$f":"'[15]3'!I15","v":0},{"$f":"'[15]3'!J15","v":2E-3},{"$f":"$J$11*$K$11*E15","v":72.064999999999998},{"$f":"$J$11*$L$11*F15","v":8.35},{"$f":"$I$11*$M$11*G15","v":0},{"$f":"$I$11*$N$11*G15","v":0},{"$f":"ROUND(SUM((K15+L15+M15+N15)*D15),2)","v":3498.05},{"$f":"$I$11*$P$11*J15","v":1.1759999999999999},{"$f":"ROUND(SUM(P15*D15),2)","v":51.16},{"$f":"K15+L15+M15+N15+P15","v":81.590999999999994},{"$f":"O15+Q15","v":3549.21},{"$f":"'[15]3'!T15","v":2.9000000000000001E-2},{"$f":"'[15]3'!U15","v":2.5000000000000001E-2},{"$f":"'[15]3'!V15","v":3.7700000000000003E-3},{"$f":"'[15]3'!W15","v":0},{"$f":"'[15]3'!X15","v":0},{"$f":"'[15]3'!Y15","v":2E-3},{"$f":"$Y$11*$Z$11*T15","v":98.570999999999998},{"$f":"$Y$11*$AA$11*U15","v":5.6000000000000005},{"$f":"$X$11*$AB$11*V15","v":0},{"$f":"$X$11*$AC$11*V15","v":0},{"$f":"ROUND((Z15+AA15+AB15+AC15)*D15,2)","v":4531.4399999999996},{"$f":"$X$11*$AE$11*Y15","v":1.36},{"$f":"ROUND(AE15*D15,2)","v":59.16},{"$f":"Z15+AA15+AB15+AC15+AE15","v":105.53099999999999},{"$f":"AD15+AF15","v":4590.5999999999995},{"$f":"'[15]3'!AI15","v":2.9000000000000001E-2},{"$f":"'[15]3'!AJ15","v":2.5000000000000001E-2},{"$f":"'[15]3'!AK15","v":3.7700000000000003E-3},{"$f":"'[15]3'!AL15","v":0},{"$f":"'[15]3'!AM15","v":0},{"$f":"'[15]3'!AN15","v":2E-3},{"$f":"$AO$11*$AN$11*AI15","v":87.14500000000001},{"$f":"$AP$11*$AN$11*AJ15","v":10},{"$f":"$AQ$11*$AM$11*AK15","v":0},{"$f":"$AR$11*$AM$11*AK15","v":0},{"$f":"ROUND((AO15+AP15+AQ15+AR15)*D15,2)","v":4225.8100000000004},{"$f":"$AM$11*$AT$11*AN15","v":1.6},{"$f":"ROUND(AT15*D15,2)","v":69.599999999999994},{"$f":"AO15+AP15+AQ15+AR15+AT15","v":98.745000000000005},{"$f":"AS15+AU15","v":4295.4100000000008},{"$f":"'[15]3'!AX15","v":2.9000000000000001E-2},{"$f":"'[15]3'!AY15","v":2.5000000000000001E-2},{"$f":"'[15]3'!AZ15","v":3.7700000000000003E-3},{"$f":"'[15]3'!BA15","v":0},{"$f":"'[15]3'!BB15","v":0},{"$f":"'[15]3'!BC15","v":2E-3},{"$f":"$BC$11*$BD$11*AX15","v":92.394000000000005},{"$f":"$BC$11*$BE$11*AY15","v":9.0250000000000004},{"$f":"$BB$11*$BF$11*AZ15","v":0},{"$f":"$BB$11*$BG$11*AZ15","v":0},{"$f":"ROUND((BD15+BE15+BF15+BG15)*D15,2)","v":4411.7299999999996},{"$f":"$BB$11*$BI$11*BC15","v":1.3680000000000001},{"$f":"ROUND(BI15*D15,2)","v":59.51},{"$f":"BD15+BE15+BF15+BG15+BI15","v":102.78700000000001},{"$f":"BH15+BJ15","v":4471.24},{"$f":"'[15]3'!BM15","v":2.9000000000000001E-2},{"$f":"'[15]3'!BN15","v":2.5000000000000001E-2},{"$f":"'[15]3'!BO15","v":3.7700000000000003E-3},{"$f":"'[15]3'!BP15","v":0},{"$f":"'[15]3'!BQ15","v":0},{"$f":"'[15]3'!BR15","v":2E-3},{"$f":"$BR$11*$BS$11*BM15","v":64.67},{"$f":"$BR$11*$BT$11*BN15","v":7.0500000000000007},{"$f":"$BQ$11*$BU$11*BO15","v":0},{"$f":"$BQ$11*$BV$11*BO15","v":0},{"$f":"ROUND((BS15+BT15+BU15+BV15)*D15,2)","v":3119.82},{"$f":"$BQ$11*$BX$11*BR15","v":1.254},{"$f":"ROUND(BX15*D15,2)","v":54.55},{"$f":"BS15+BT15+BU15+BV15+BX15","v":72.974000000000004},{"$f":"BW15+BY15","v":3174.3700000000003},{"$f":"'[15]3'!CB15","v":2.9000000000000001E-2},{"$f":"'[15]3'!CC15","v":2.5000000000000001E-2},{"$f":"'[15]3'!CD15","v":3.7700000000000003E-3},{"$f":"'[15]3'!CE15","v":0},{"$f":"'[15]3'!CF15","v":0},{"$f":"'[15]3'!CG15","v":2E-3},{"$f":"$CG$11*$CH$11*CB15","v":47.531000000000006},{"$f":"$CG$11*$CI$11*CC15","v":6.45},{"$f":"$CF$11*$CJ$11*CD15","v":0},{"$f":"$CF$11*$CK$11*CD15","v":0},{"$f":"ROUND((CH15+CI15+CJ15+CK15)*D15,2)","v":2348.17},{"$f":"$CF$11*$CM$11*CG15","v":1.216},{"$f":"ROUND(CM15*D15,2)","v":52.9},{"$f":"CH15+CI15+CJ15+CK15+CM15","v":55.19700000000001},{"$f":"CL15+CN15","v":2401.0700000000002},{"$f":"'[15]3'!CQ15","v":2.9000000000000001E-2},{"$f":"'[15]3'!CR15","v":2.5000000000000001E-2},{"$f":"'[15]3'!CS15","v":3.7700000000000003E-3},{"$f":"'[15]3'!CT15","v":0},{"$f":"'[15]3'!CU15","v":0},{"$f":"'[15]3'!CV15","v":2E-3},{"$f":"$CV$11*$CW$11*CQ15","v":133.98000000000002},{"$f":"$CV$11*$CX$11*CR15","v":21.35},{"$f":"$CU$11*$CY$11*CS15","v":0},{"$f":"$CU$11*$CZ$11*CS15","v":0},{"$f":"ROUND((CW15+CX15+CY15+CZ15)*D15,2)","v":6756.86},{"$f":"$DB$11*$CU$11*CV15","v":0.98799999999999999},{"$f":"ROUND(DB15*D15,2)","v":42.98},{"$f":"CW15+CX15+CY15+CZ15+DB15","v":156.31800000000001},{"$f":"DA15+DC15","v":6799.8399999999992},{"$f":"'[15]3'!DF15","v":2.9000000000000001E-2},{"$f":"'[15]3'!DG15","v":2.5000000000000001E-2},{"$f":"'[15]3'!DH15","v":3.7700000000000003E-3},{"$f":"'[15]3'!DI15","v":0},{"$f":"'[15]3'!DJ15","v":0},{"$f":"'[15]3'!DK15","v":2E-3},{"$f":"$DK$11*$DL$11*DF15","v":41.760000000000005},{"$f":"$DK$11*$DM$11*DG15","v":9.9750000000000014},{"$f":"$DJ$11*$DN$11*DH15","v":0},{"$f":"$DJ$11*$DO$11*DI15","v":0},{"$f":"ROUND((DL15+DM15+DN15+DO15)*D15,2)","v":2250.4699999999998},{"$f":"$DJ$11*$DQ$11*DK15","v":1.0920000000000001},{"$f":"ROUND(DQ15*D15,2)","v":47.5},{"$f":"DL15+DM15+DN15+DO15+DQ15","v":52.827000000000005},{"$f":"DP15+DR15","v":2297.9699999999998},{"$f":"'[15]3'!DU15","v":2.9000000000000001E-2},{"$f":"'[15]3'!DV15","v":2.5000000000000001E-2},{"$f":"'[15]3'!DW15","v":3.7700000000000003E-3},{"$f":"'[15]3'!DX15","v":0},{"$f":"'[15]3'!DY15","v":0},{"$f":"'[15]3'!DZ15","v":2E-3},{"$f":"$DZ$11*$EA$11*DU15","v":63.452000000000005},{"$f":"$DZ$11*$EB$11*DV15","v":12},{"$f":"$DY$11*$EC$11*DW15","v":0},{"$f":"$DY$11*$ED$11*DW15","v":0},{"$f":"ROUND((EA15+EB15+EC15+ED15)*D15,2)","v":3282.16},{"$f":"$DY$11*$EF$11*DZ15","v":1.1020000000000001},{"$f":"ROUND(EF15*D15,2)","v":47.94},{"$f":"EA15+EB15+EC15+ED15+EF15","v":76.554000000000002},{"$f":"EE15+EG15","v":3330.1},{"$f":"'[15]3'!EJ15","v":2.9000000000000001E-2},{"$f":"'[15]3'!EK15","v":2.5000000000000001E-2},{"$f":"'[15]3'!EL15","v":3.7700000000000003E-3},{"$f":"'[15]3'!EM15","v":0},{"$f":"'[15]3'!EN15","v":0},{"$f":"'[15]3'!EO15","v":2E-3},{"$f":"$EO$11*$EP$11*EJ15","v":88.50800000000001},{"$f":"$EO$11*$EQ$11*EK15","v":12.75},{"$f":"$EN$11*$ER$11*EL15","v":0},{"$f":"$EN$11*$ES$11*EL15","v":0},{"$f":"ROUND((EP15+EQ15+ER15+ES15)*D15,2)","v":4404.72},{"$f":"$EN$11*$EU$11*EO15","v":1.44},{"$f":"ROUND(EU15*D15,2)","v":62.64},{"$f":"EP15+EQ15+ER15+ES15+EU15","v":102.69800000000001},{"$f":"ET15+EV15","v":4467.3600000000006},{"$f":"'[15]3'!EY15","v":2.9000000000000001E-2},{"$f":"'[15]3'!EZ15","v":2.5000000000000001E-2},{"$f":"'[15]3'!FA15","v":3.7700000000000003E-3},{"$f":"'[15]3'!FB15","v":0},{"$f":"'[15]3'!FC15","v":0},{"$f":"'[15]3'!FD15","v":2E-3},{"$f":"$FD$11*$FE$11*EY15","v":95.062000000000012},{"$f":"$FD$11*$FF$11*EZ15","v":12.425000000000001},{"$f":"$FC$11*$FG$11*FA15","v":0},{"$f":"$FC$11*$FH$11*FA15","v":0},{"$f":"ROUND((FE15+FF15+FG15+FH15)*D15,2)","v":4675.68},{"$f":"$FC$11*$FJ$11*FD15","v":1.71},{"$f":"ROUND(FJ15*D15,2)","v":74.39},{"$f":"FE15+FF15+FG15+FH15+FJ15","v":109.197},{"$f":"FI15+FK15","v":4750.0700000000006},{"$f":"'[15]3'!FN15","v":2.9000000000000001E-2},{"$f":"'[15]3'!FO15","v":2.5000000000000001E-2},{"$f":"'[15]3'!FP15","v":3.7700000000000003E-3},{"$f":"'[15]3'!FQ15","v":0},{"$f":"'[15]3'!FR15","v":0},{"$f":"'[15]3'!FS15","v":2E-3},{"$f":"$FS$11*$FT$11*FN15","v":108.69200000000001},{"$f":"$FS$11*$FU$11*FO15","v":13.200000000000001},{"$f":"$FR$11*$FV$11*FP15","v":0},{"$f":"$FR$11*$FW$11*FP15","v":0},{"$f":"ROUND((FT15+FU15+FV15+FW15)*D15,2)","v":5302.3},{"$f":"$FR$11*$FY$11*FS15","v":1.8},{"$f":"ROUND(FY15*D15,2)","v":78.3},{"$f":"FT15+FU15+FV15+FW15+FY15","v":123.69200000000001},{"$f":"FX15+FZ15","v":5380.6},{"$f":"R15+AG15+AV15+BK15+BZ15+CO15","v":516.82500000000005},22481.899999999998,{"$f":"DD15+DS15+EH15+EW15+FL15+GA15","v":621.28600000000006},27025.940000000002,{"$f":"GC15+GE15","v":1138.1110000000001},49507.839999999997,11,{"$f":"GG15-P15-AE15-AT15-BI15-BX15-CM15-DB15-DQ15-EF15-EU15-FJ15-FY15","v":1122.0050000000003},{"$f":"GH15-FZ15-FK15-EV15-EG15-DR15-DC15-CN15-BY15-BJ15-AU15-AF15-Q15","v":48807.209999999977},{"$f":"GG15-GJ15","v":16.105999999999767},{"$f":"GH15-GK15","v":700.63000000001921}]
[2,"Крахмал картофельный","кг",{"$f":"[15]цены!E10","v":177.93},{"$f":"'[15]3'!E16","v":1.5E-3},{"$f":"'[15]3'!F16","v":1E-3},{"$f":"'[15]3'!G16","v":0},{"$f":"'[15]3'!H16","v":0},{"$f":"'[15]3'!I16","v":0},{"$f":"'[15]3'!J16","v":5.0000000000000001E-4},{"$f":"$J$11*$K$11*E16","v":3.7275},{"$f":"$J$11*$L$11*F16","v":0.33400000000000002},0,0,722.66,0.29399999999999998,52.31,4.3554999999999993,774.97,{"$f":"'[15]3'!T16","v":1.5E-3},{"$f":"'[15]3'!U16","v":1E-3},{"$f":"'[15]3'!V16","v":0},{"$f":"'[15]3'!W16","v":0},{"$f":"'[15]3'!X16","v":0},{"$f":"'[15]3'!Y16","v":5.0000000000000001E-4},{"$f":"$Y$11*$Z$11*T16","v":5.0985000000000005},{"$f":"$Y$11*$AA$11*U16","v":0.224},0,0,947.03,0.34,60.5,5.6625000000000005,1007.53,1.5E-3,1E-3,1.5E-3,1.5E-3,1E-3,5.0000000000000001E-4,{"$f":"$AO$11*$AN$11*AI16","v":4.5075000000000003},{"$f":"$AP$11*$AN$11*AJ16","v":0.4},0,0,873.19,0.4,71.17,5.307500000000001,944.36,{"$f":"'[15]3'!AX16","v":1.5E-3},{"$f":"'[15]3'!AY16","v":1E-3},{"$f":"'[15]3'!AZ16","v":0},{"$f":"'[15]3'!BA16","v":0},{"$f":"'[15]3'!BB16","v":0},{"$f":"'[15]3'!BC16","v":5.0000000000000001E-4},{"$f":"$BC$11*$BD$11*AX16","v":4.7789999999999999},{"$f":"$BC$11*$BE$11*AY16","v":0.36099999999999999},0,0,914.56,0.34200000000000003,60.85,5.4819999999999993,975.41,{"$f":"'[15]3'!BM16","v":1.5E-3},{"$f":"'[15]3'!BN16","v":1E-3},{"$f":"'[15]3'!BO16","v":0},{"$f":"'[15]3'!BP16","v":0},{"$f":"'[15]3'!BQ16","v":0},{"$f":"'[15]3'!BR16","v":5.0000000000000001E-4},{"$f":"$BR$11*$BS$11*BM16","v":3.3450000000000002},{"$f":"$BR$11*$BT$11*BN16","v":0.28200000000000003},0,0,645.35,0.3135,55.78,3.9405000000000001,701.13,{"$f":"'[15]3'!CB16","v":1.5E-3},{"$f":"'[15]3'!CC16","v":1E-3},{"$f":"'[15]3'!CD16","v":0},{"$f":"'[15]3'!CE16","v":0},{"$f":"'[15]3'!CF16","v":0},{"$f":"'[15]3'!CG16","v":5.0000000000000001E-4},{"$f":"$CG$11*$CH$11*CB16","v":2.4584999999999999},{"$f":"$CG$11*$CI$11*CC16","v":0.25800000000000001},0,0,483.35,0.30399999999999999,54.09,3.0204999999999997,537.44000000000005,{"$f":"'[15]3'!CQ16","v":1.5E-3},{"$f":"'[15]3'!CR16","v":1E-3},{"$f":"'[15]3'!CS16","v":0},{"$f":"'[15]3'!CT16","v":0},{"$f":"'[15]3'!CU16","v":0},{"$f":"'[15]3'!CV16","v":5.0000000000000001E-4},{"$f":"$CV$11*$CW$11*CQ16","v":6.93},{"$f":"$CV$11*$CX$11*CR16","v":0.85399999999999998},0,0,1385.01,0.247,43.95,8.0310000000000006,1428.96,{"$f":"'[15]3'!DF16","v":1.5E-3},{"$f":"'[15]3'!DG16","v":1E-3},{"$f":"'[15]3'!DH16","v":0},{"$f":"'[15]3'!DI16","v":0},{"$f":"'[15]3'!DJ16","v":0},{"$f":"'[15]3'!DK16","v":5.0000000000000001E-4},{"$f":"$DK$11*$DL$11*DF16","v":2.16},{"$f":"$DK$11*$DM$11*DG16","v":0.39900000000000002},0,0,455.32,0.27300000000000002,48.57,2.8320000000000003,503.89,{"$f":"'[15]3'!DU16","v":1.5E-3},{"$f":"'[15]3'!DV16","v":1E-3},{"$f":"'[15]3'!DW16","v":0},{"$f":"'[15]3'!DX16","v":0},{"$f":"'[15]3'!DY16","v":0},{"$f":"'[15]3'!DZ16","v":5.0000000000000001E-4},{"$f":"$DZ$11*$EA$11*DU16","v":3.282},{"$f":"$DZ$11*$EB$11*DV16","v":0.48},0,0,669.37,0.27550000000000002,49.02,4.0374999999999996,718.39,{"$f":"'[15]3'!EJ16","v":1.5E-3},{"$f":"'[15]3'!EK16","v":1E-3},{"$f":"'[15]3'!EL16","v":0},{"$f":"'[15]3'!EM16","v":0},{"$f":"'[15]3'!EN16","v":0},{"$f":"'[15]3'!EO16","v":5.0000000000000001E-4},{"$f":"$EO$11*$EP$11*EJ16","v":4.5780000000000003},{"$f":"$EO$11*$EQ$11*EK16","v":0.51},0,0,905.31,0.36,64.05,5.4480000000000004,969.3599999999999,{"$f":"'[15]3'!EY16","v":1.5E-3},{"$f":"'[15]3'!EZ16","v":1E-3},{"$f":"'[15]3'!FA16","v":0},{"$f":"'[15]3'!FB16","v":0},{"$f":"'[15]3'!FC16","v":0},{"$f":"'[15]3'!FD16","v":5.0000000000000001E-4},{"$f":"$FD$11*$FE$11*EY16","v":4.9169999999999998},{"$f":"$FD$11*$FF$11*EZ16","v":0.497},0,0,963.31,0.42749999999999999,76.069999999999993,5.8414999999999999,1039.3799999999999,{"$f":"'[15]3'!FN16","v":1.5E-3},{"$f":"'[15]3'!FO16","v":1E-3},{"$f":"'[15]3'!FP16","v":0},{"$f":"'[15]3'!FQ16","v":0},{"$f":"'[15]3'!FR16","v":0},{"$f":"'[15]3'!FS16","v":5.0000000000000001E-4},{"$f":"$FS$11*$FT$11*FN16","v":5.6219999999999999},{"$f":"$FS$11*$FU$11*FO16","v":0.52800000000000002},0,0,{"$f":"ROUND((FT16+FU16+FV16+FW16)*D16,2)","v":1094.27},0.45,80.069999999999993,6.6000000000000005,1174.3399999999999,27.7685,4940.84,32.79,5834.32,60.558499999999995,10775.16,9,{"$f":"GG16-P16-AE16-AT16-BI16-BX16-CM16-DB16-DQ16-EF16-EU16-FJ16-FY16","v":56.531999999999989},{"$f":"GH16-FZ16-FK16-EV16-EG16-DR16-DC16-CN16-BY16-BJ16-AU16-AF16-Q16","v":10058.73},{"$f":"GG16-GJ16","v":4.0265000000000057},716.43000000000029]
[3,"Кисель концентрированный ","кг",{"$f":"[15]цены!E11","v":121.83},{"$f":"'[15]3'!E17","v":1.5E-3},{"$f":"'[15]3'!F17","v":1E-3},{"$f":"'[15]3'!G17","v":0},{"$f":"'[15]3'!H17","v":0},{"$f":"'[15]3'!I17","v":0},{"$f":"'[15]3'!J17","v":5.0000000000000001E-4},3.7275,0.33400000000000002,0,0,494.81,0.29399999999999998,35.82,4.3554999999999993,530.63,{"$f":"'[15]3'!T17","v":1.5E-3},{"$f":"'[15]3'!U17","v":1E-3},{"$f":"'[15]3'!V17","v":0},{"$f":"'[15]3'!W17","v":0},{"$f":"'[15]3'!X17","v":0},{"$f":"'[15]3'!Y17","v":5.0000000000000001E-4},5.0985000000000005,0.224,0,0,648.44000000000005,0.34,41.42,5.6625000000000005,689.86,1.5E-3,1E-3,1.5E-3,1.5E-3,1E-3,5.0000000000000001E-4,4.5075000000000003,0.4,0,0,597.88,0.4,48.73,5.307500000000001,646.61,{"$f":"'[15]3'!AX17","v":1.5E-3},{"$f":"'[15]3'!AY17","v":1E-3},{"$f":"'[15]3'!AZ17","v":0},{"$f":"'[15]3'!BA17","v":0},{"$f":"'[15]3'!BB17","v":0},{"$f":"'[15]3'!BC17","v":5.0000000000000001E-4},4.7789999999999999,0.36099999999999999,0,0,626.21,0.34200000000000003,41.67,5.4819999999999993,667.88,{"$f":"'[15]3'!BM17","v":1.5E-3},{"$f":"'[15]3'!BN17","v":1E-3},{"$f":"'[15]3'!BO17","v":0},{"$f":"'[15]3'!BP17","v":0},{"$f":"'[15]3'!BQ17","v":0},{"$f":"'[15]3'!BR17","v":5.0000000000000001E-4},3.3450000000000002,0.28200000000000003,0,0,441.88,0.3135,38.19,3.9405000000000001,480.07,{"$f":"'[15]3'!CB17","v":1.5E-3},{"$f":"'[15]3'!CC17","v":1E-3},{"$f":"'[15]3'!CD17","v":0},{"$f":"'[15]3'!CE17","v":0},{"$f":"'[15]3'!CF17","v":0},{"$f":"'[15]3'!CG17","v":5.0000000000000001E-4},2.4584999999999999,0.25800000000000001,0,0,330.95,0.30399999999999999,37.04,3.0204999999999997,367.99,{"$f":"'[15]3'!CQ17","v":1.5E-3},{"$f":"'[15]3'!CR17","v":1E-3},{"$f":"'[15]3'!CS17","v":0},{"$f":"'[15]3'!CT17","v":0},{"$f":"'[15]3'!CU17","v":0},{"$f":"'[15]3'!CV17","v":5.0000000000000001E-4},6.93,0.85399999999999998,0,0,948.32,0.247,30.09,8.0310000000000006,978.41000000000008,{"$f":"'[15]3'!DF17","v":1.5E-3},{"$f":"'[15]3'!DG17","v":1E-3},{"$f":"'[15]3'!DH17","v":0},{"$f":"'[15]3'!DI17","v":0},{"$f":"'[15]3'!DJ17","v":0},{"$f":"'[15]3'!DK17","v":5.0000000000000001E-4},2.16,0.39900000000000002,0,0,311.76,0.27300000000000002,33.26,2.8320000000000003,345.02,{"$f":"'[15]3'!DU17","v":1.5E-3},{"$f":"'[15]3'!DV17","v":1E-3},{"$f":"'[15]3'!DW17","v":0},{"$f":"'[15]3'!DX17","v":0},{"$f":"'[15]3'!DY17","v":0},{"$f":"'[15]3'!DZ17","v":5.0000000000000001E-4},3.282,0.48,0,0,458.32,0.27550000000000002,33.56,4.0374999999999996,491.88,{"$f":"'[15]3'!EJ17","v":1.5E-3},{"$f":"'[15]3'!EK17","v":1E-3},{"$f":"'[15]3'!EL17","v":0},{"$f":"'[15]3'!EM17","v":0},{"$f":"'[15]3'!EN17","v":0},{"$f":"'[15]3'!EO17","v":5.0000000000000001E-4},4.5780000000000003,0.51,0,0,619.87,0.36,43.86,5.4480000000000004,663.73,{"$f":"'[15]3'!EY17","v":1.5E-3},{"$f":"'[15]3'!EZ17","v":1E-3},{"$f":"'[15]3'!FA17","v":0},{"$f":"'[15]3'!FB17","v":0},{"$f":"'[15]3'!FC17","v":0},{"$f":"'[15]3'!FD17","v":5.0000000000000001E-4},4.9169999999999998,0.497,0,0,659.59,0.42749999999999999,52.08,5.8414999999999999,711.67000000000007,{"$f":"'[15]3'!FN17","v":1.5E-3},{"$f":"'[15]3'!FO17","v":1E-3},{"$f":"'[15]3'!FP17","v":0},{"$f":"'[15]3'!FQ17","v":0},{"$f":"'[15]3'!FR17","v":0},{"$f":"'[15]3'!FS17","v":5.0000000000000001E-4},5.6219999999999999,0.52800000000000002,0,0,749.25,0.45,54.82,6.6000000000000005,804.07,27.7685,3383.04,32.79,3994.78,60.558499999999995,7377.82,9,{"$f":"GG17-P17-AE17-AT17-BI17-BX17-CM17-DB17-DQ17-EF17-EU17-FJ17-FY17","v":56.531999999999989},6887.2800000000007,4.0265000000000057,490.53999999999905]
[4,"Рис","кг",{"$f":"[15]цены!E12","v":77.17},{"$f":"'[15]3'!E18","v":7.0000000000000001E-3},{"$f":"'[15]3'!F18","v":5.0000000000000001E-3},{"$f":"'[15]3'!G18","v":9.1E-4},{"$f":"'[15]3'!H18","v":0},{"$f":"'[15]3'!I18","v":0},{"$f":"'[15]3'!J18","v":0.01},17.395,1.67,0,0,1471.25,5.88,453.76,24.944999999999997,1925.01,{"$f":"'[15]3'!T18","v":7.0000000000000001E-3},{"$f":"'[15]3'!U18","v":5.0000000000000001E-3},{"$f":"'[15]3'!V18","v":9.1E-4},{"$f":"'[15]3'!W18","v":0},{"$f":"'[15]3'!X18","v":0},{"$f":"'[15]3'!Y18","v":0.01},23.792999999999999,1.1200000000000001,0,0,1922.54,6.8,524.76,31.713000000000001,2447.3000000000002,7.0000000000000001E-3,5.0000000000000001E-3,7.0000000000000001E-3,7.0000000000000001E-3,5.0000000000000001E-3,0.01,21.035,2,0,0,1777.61,8,617.36,31.035,2394.9699999999998,{"$f":"'[15]3'!AX18","v":7.0000000000000001E-3},{"$f":"'[15]3'!AY18","v":5.0000000000000001E-3},{"$f":"'[15]3'!AZ18","v":9.1E-4},{"$f":"'[15]3'!BA18","v":0},{"$f":"'[15]3'!BB18","v":0},{"$f":"'[15]3'!BC18","v":0.01},22.302,1.8049999999999999,0,0,1860.34,6.84,527.84,30.946999999999999,2388.1799999999998,{"$f":"'[15]3'!BM18","v":7.0000000000000001E-3},{"$f":"'[15]3'!BN18","v":5.0000000000000001E-3},{"$f":"'[15]3'!BO18","v":9.1E-4},{"$f":"'[15]3'!BP18","v":0},{"$f":"'[15]3'!BQ18","v":0},{"$f":"'[15]3'!BR18","v":0.01},15.610000000000001,1.41,0,0,1313.43,6.2700000000000005,483.86,23.29,1797.29,{"$f":"'[15]3'!CB18","v":7.0000000000000001E-3},{"$f":"'[15]3'!CC18","v":5.0000000000000001E-3},{"$f":"'[15]3'!CD18","v":9.1E-4},{"$f":"'[15]3'!CE18","v":0},{"$f":"'[15]3'!CF18","v":0},{"$f":"'[15]3'!CG18","v":0.01},11.473000000000001,1.29,0,0,984.92,6.08,469.19,18.843000000000004,1454.11,{"$f":"'[15]3'!CQ18","v":7.0000000000000001E-3},{"$f":"'[15]3'!CR18","v":5.0000000000000001E-3},{"$f":"'[15]3'!CS18","v":9.1E-4},{"$f":"'[15]3'!CT18","v":0},{"$f":"'[15]3'!CU18","v":0},{"$f":"'[15]3'!CV18","v":0.01},32.340000000000003,4.2700000000000005,0,0,2825.19,4.9400000000000004,381.22,41.550000000000004,3206.41,{"$f":"'[15]3'!DF18","v":7.0000000000000001E-3},{"$f":"'[15]3'!DG18","v":5.0000000000000001E-3},{"$f":"'[15]3'!DH18","v":9.1E-4},{"$f":"'[15]3'!DI18","v":0},{"$f":"'[15]3'!DJ18","v":0},{"$f":"'[15]3'!DK18","v":0.01},10.08,1.9950000000000001,0,0,931.83,5.46,421.35,17.535,1353.18,{"$f":"'[15]3'!DU18","v":7.0000000000000001E-3},{"$f":"'[15]3'!DV18","v":5.0000000000000001E-3},{"$f":"'[15]3'!DW18","v":9.1E-4},{"$f":"'[15]3'!DX18","v":0},{"$f":"'[15]3'!DY18","v":0},{"$f":"'[15]3'!DZ18","v":0.01},15.316000000000001,2.4,0,0,1367.14,5.51,425.21,23.225999999999999,1792.3500000000001,{"$f":"'[15]3'!EJ18","v":7.0000000000000001E-3},{"$f":"'[15]3'!EK18","v":5.0000000000000001E-3},{"$f":"'[15]3'!EL18","v":9.1E-4},{"$f":"'[15]3'!EM18","v":0},{"$f":"'[15]3'!EN18","v":0},{"$f":"'[15]3'!EO18","v":0.01},21.364000000000001,2.5500000000000003,0,0,1845.44,7.2,555.62,31.114000000000001,2401.06,{"$f":"'[15]3'!EY18","v":7.0000000000000001E-3},{"$f":"'[15]3'!EZ18","v":5.0000000000000001E-3},{"$f":"'[15]3'!FA18","v":9.1E-4},{"$f":"'[15]3'!FB18","v":0},{"$f":"'[15]3'!FC18","v":0},{"$f":"'[15]3'!FD18","v":0.01},22.946000000000002,2.4849999999999999,0,0,1962.51,8.5500000000000007,659.8,33.981000000000002,2622.31,{"$f":"'[15]3'!FN18","v":7.0000000000000001E-3},{"$f":"'[15]3'!FO18","v":5.0000000000000001E-3},{"$f":"'[15]3'!FP18","v":9.1E-4},{"$f":"'[15]3'!FQ18","v":0},{"$f":"'[15]3'!FR18","v":0},{"$f":"'[15]3'!FS18","v":0.01},26.236000000000001,2.64,0,0,2228.36,9,694.53,37.876000000000005,2922.8900000000003,160.77300000000002,12406.86,185.28200000000001,14298.2,346.05500000000006,26705.06,11,265.52500000000015,20490.560000000009,80.529999999999916,6214.4999999999927]
[5,"Овсяная крупа","кг",{"$f":"[15]цены!E13","v":43.83},{"$f":"'[15]3'!E19","v":3.0000000000000001E-3},{"$f":"'[15]3'!F19","v":3.0000000000000001E-3},{"$f":"'[15]3'!G19","v":0},{"$f":"'[15]3'!H19","v":0},{"$f":"'[15]3'!I19","v":0},{"$f":"'[15]3'!J19","v":1E-3},7.4550000000000001,1.002,0,0,370.67,0.58799999999999997,25.77,9.0449999999999999,396.44,{"$f":"'[15]3'!T19","v":3.0000000000000001E-3},{"$f":"'[15]3'!U19","v":3.0000000000000001E-3},{"$f":"'[15]3'!V19","v":0},{"$f":"'[15]3'!W19","v":0},{"$f":"'[15]3'!X19","v":0},{"$f":"'[15]3'!Y19","v":1E-3},10.197000000000001,0.67200000000000004,0,0,476.39,0.68,29.8,11.549000000000001,506.19,3.0000000000000001E-3,3.0000000000000001E-3,3.0000000000000001E-3,2E-3,1E-3,1E-3,9.0150000000000006,1.2,0,0,447.72,0.8,35.06,11.015000000000001,482.78000000000003,{"$f":"'[15]3'!AX19","v":3.0000000000000001E-3},{"$f":"'[15]3'!AY19","v":3.0000000000000001E-3},{"$f":"'[15]3'!AZ19","v":0},{"$f":"'[15]3'!BA19","v":0},{"$f":"'[15]3'!BB19","v":0},{"$f":"'[15]3'!BC19","v":1E-3},9.5579999999999998,1.083,0,0,466.4,0.68400000000000005,29.98,11.324999999999999,496.38,{"$f":"'[15]3'!BM19","v":3.0000000000000001E-3},{"$f":"'[15]3'!BN19","v":3.0000000000000001E-3},{"$f":"'[15]3'!BO19","v":0},{"$f":"'[15]3'!BP19","v":0},{"$f":"'[15]3'!BQ19","v":0},{"$f":"'[15]3'!BR19","v":1E-3},6.69,0.84599999999999997,0,0,330.3,0.627,27.48,8.1630000000000003,357.78000000000003,{"$f":"'[15]3'!CB19","v":3.0000000000000001E-3},{"$f":"'[15]3'!CC19","v":3.0000000000000001E-3},{"$f":"'[15]3'!CD19","v":0},{"$f":"'[15]3'!CE19","v":0},{"$f":"'[15]3'!CF19","v":0},{"$f":"'[15]3'!CG19","v":1E-3},4.9169999999999998,0.77400000000000002,0,0,249.44,0.60799999999999998,26.65,6.2989999999999995,276.08999999999997,{"$f":"'[15]3'!CQ19","v":3.0000000000000001E-3},{"$f":"'[15]3'!CR19","v":3.0000000000000001E-3},{"$f":"'[15]3'!CS19","v":0},{"$f":"'[15]3'!CT19","v":0},{"$f":"'[15]3'!CU19","v":0},{"$f":"'[15]3'!CV19","v":1E-3},13.86,2.5619999999999998,0,0,719.78,0.49399999999999999,21.65,16.916,741.43,{"$f":"'[15]3'!DF19","v":3.0000000000000001E-3},{"$f":"'[15]3'!DG19","v":3.0000000000000001E-3},{"$f":"'[15]3'!DH19","v":0},{"$f":"'[15]3'!DI19","v":0},{"$f":"'[15]3'!DJ19","v":0},{"$f":"'[15]3'!DK19","v":1E-3},4.32,1.1970000000000001,0,0,241.81,0.54600000000000004,23.93,6.0630000000000006,265.74,{"$f":"'[15]3'!DU19","v":3.0000000000000001E-3},{"$f":"'[15]3'!DV19","v":3.0000000000000001E-3},{"$f":"'[15]3'!DW19","v":0},{"$f":"'[15]3'!DX19","v":0},{"$f":"'[15]3'!DY19","v":0},{"$f":"'[15]3'!DZ19","v":1E-3},6.5640000000000001,1.44,0,0,350.82,0.55100000000000005,24.15,8.5549999999999997,374.96999999999997,{"$f":"'[15]3'!EJ19","v":3.0000000000000001E-3},{"$f":"'[15]3'!EK19","v":3.0000000000000001E-3},{"$f":"'[15]3'!EL19","v":0},{"$f":"'[15]3'!EM19","v":0},{"$f":"'[15]3'!EN19","v":0},{"$f":"'[15]3'!EO19","v":1E-3},9.1560000000000006,1.53,0,0,468.37,0.72,31.56,11.406000000000001,499.93,{"$f":"'[15]3'!EY19","v":3.0000000000000001E-3},{"$f":"'[15]3'!EZ19","v":3.0000000000000001E-3},{"$f":"'[15]3'!FA19","v":0},{"$f":"'[15]3'!FB19","v":0},{"$f":"'[15]3'!FC19","v":0},{"$f":"'[15]3'!FD19","v":1E-3},9.8339999999999996,1.4910000000000001,0,0,496.37,0.85499999999999998,37.47,12.18,533.84,{"$f":"'[15]3'!FN19","v":3.0000000000000001E-3},{"$f":"'[15]3'!FO19","v":3.0000000000000001E-3},{"$f":"'[15]3'!FP19","v":0},{"$f":"'[15]3'!FQ19","v":0},{"$f":"'[15]3'!FR19","v":0},{"$f":"'[15]3'!FS19","v":1E-3},11.244,1.5840000000000001,0,0,562.25,0.9,39.450000000000003,13.728,601.70000000000005,57.395999999999994,2515.6600000000003,68.847999999999999,3017.6099999999997,126.244,5533.27,11,118.19099999999999,5180.3200000000006,8.0530000000000115,352.94999999999982]
[6,"Перловая крупа","кг",{"$f":"[15]цены!E14","v":40.5},{"$f":"'[15]3'!E20","v":3.0000000000000001E-3},{"$f":"'[15]3'!F20","v":2E-3},{"$f":"'[15]3'!G20","v":0},{"$f":"'[15]3'!H20","v":0},{"$f":"'[15]3'!I20","v":0},{"$f":"'[15]3'!J20","v":2E-3},7.4550000000000001,0.66800000000000004,0,0,328.98,1.1759999999999999,47.63,9.2989999999999995,376.61,{"$f":"'[15]3'!T20","v":3.0000000000000001E-3},{"$f":"'[15]3'!U20","v":2E-3},{"$f":"'[15]3'!V20","v":0},{"$f":"'[15]3'!W20","v":0},{"$f":"'[15]3'!X20","v":0},{"$f":"'[15]3'!Y20","v":2E-3},10.197000000000001,0.44800000000000001,0,0,431.12,1.36,55.08,12.005000000000001,486.2,3.0000000000000001E-3,2E-3,3.0000000000000001E-3,3.0000000000000001E-3,2E-3,2E-3,9.0150000000000006,0.8,0,0,397.51,1.6,64.8,11.415000000000001,462.31,{"$f":"'[15]3'!AX20","v":3.0000000000000001E-3},{"$f":"'[15]3'!AY20","v":2E-3},{"$f":"'[15]3'!AZ20","v":0},{"$f":"'[15]3'!BA20","v":0},{"$f":"'[15]3'!BB20","v":0},{"$f":"'[15]3'!BC20","v":2E-3},9.5579999999999998,0.72199999999999998,0,0,416.34,1.3680000000000001,55.4,11.648,471.73999999999995,{"$f":"'[15]3'!BM20","v":3.0000000000000001E-3},{"$f":"'[15]3'!BN20","v":2E-3},{"$f":"'[15]3'!BO20","v":0},{"$f":"'[15]3'!BP20","v":0},{"$f":"'[15]3'!BQ20","v":0},{"$f":"'[15]3'!BR20","v":2E-3},6.69,0.56400000000000006,0,0,293.79000000000002,1.254,50.79,8.5080000000000009,344.58000000000004,{"$f":"'[15]3'!CB20","v":3.0000000000000001E-3},{"$f":"'[15]3'!CC20","v":2E-3},{"$f":"'[15]3'!CD20","v":0},{"$f":"'[15]3'!CE20","v":0},{"$f":"'[15]3'!CF20","v":0},{"$f":"'[15]3'!CG20","v":2E-3},4.9169999999999998,0.51600000000000001,0,0,220.04,1.216,49.25,6.649,269.28999999999996,{"$f":"'[15]3'!CQ20","v":3.0000000000000001E-3},{"$f":"'[15]3'!CR20","v":2E-3},{"$f":"'[15]3'!CS20","v":0},{"$f":"'[15]3'!CT20","v":0},{"$f":"'[15]3'!CU20","v":0},{"$f":"'[15]3'!CV20","v":2E-3},13.86,1.708,0,0,630.5,0.98799999999999999,40.01,16.556000000000001,670.51,{"$f":"'[15]3'!DF20","v":3.0000000000000001E-3},{"$f":"'[15]3'!DG20","v":2E-3},{"$f":"'[15]3'!DH20","v":0},{"$f":"'[15]3'!DI20","v":0},{"$f":"'[15]3'!DJ20","v":0},{"$f":"'[15]3'!DK20","v":2E-3},4.32,0.79800000000000004,0,0,207.28,1.0920000000000001,44.23,6.2100000000000009,251.51,{"$f":"'[15]3'!DU20","v":3.0000000000000001E-3},{"$f":"'[15]3'!DV20","v":2E-3},{"$f":"'[15]3'!DW20","v":0},{"$f":"'[15]3'!DX20","v":0},{"$f":"'[15]3'!DY20","v":0},{"$f":"'[15]3'!DZ20","v":2E-3},6.5640000000000001,0.96,0,0,304.72000000000003,1.1020000000000001,44.63,8.6259999999999994,349.35,{"$f":"'[15]3'!EJ20","v":3.0000000000000001E-3},{"$f":"'[15]3'!EK20","v":2E-3},{"$f":"'[15]3'!EL20","v":0},{"$f":"'[15]3'!EM20","v":0},{"$f":"'[15]3'!EN20","v":0},{"$f":"'[15]3'!EO20","v":2E-3},9.1560000000000006,1.02,0,0,412.13,1.44,58.32,11.616,470.45,{"$f":"'[15]3'!EY20","v":3.0000000000000001E-3},{"$f":"'[15]3'!EZ20","v":2E-3},{"$f":"'[15]3'!FA20","v":0},{"$f":"'[15]3'!FB20","v":0},{"$f":"'[15]3'!FC20","v":0},{"$f":"'[15]3'!FD20","v":2E-3},9.8339999999999996,0.99399999999999999,0,0,438.53,1.71,69.260000000000005,12.538,507.78999999999996,{"$f":"'[15]3'!FN20","v":3.0000000000000001E-3},{"$f":"'[15]3'!FO20","v":2E-3},{"$f":"'[15]3'!FP20","v":0},{"$f":"'[15]3'!FQ20","v":0},{"$f":"'[15]3'!FR20","v":0},{"$f":"'[15]3'!FS20","v":2E-3},11.244,1.056,0,0,498.15,1.8,72.900000000000006,14.100000000000001,571.04999999999995,59.524000000000008,2410.73,69.646000000000015,2820.66,129.17000000000002,5231.3899999999994,11,113.06400000000004,4579.09,16.10599999999998,652.29999999999927]
[7,"Гречневая крупа","кг",{"$f":"[15]цены!E15","v":74},{"$f":"'[15]3'!E21","v":7.0000000000000001E-3},{"$f":"'[15]3'!F21","v":5.0000000000000001E-3},{"$f":"'[15]3'!G21","v":9.1E-4},{"$f":"'[15]3'!H21","v":0},{"$f":"'[15]3'!I21","v":0},{"$f":"'[15]3'!J21","v":1.2E-2},17.395,1.67,0,0,1410.81,7.056,522.14,26.120999999999999,1932.9499999999998,{"$f":"'[15]3'!T21","v":7.0000000000000001E-3},{"$f":"'[15]3'!U21","v":5.0000000000000001E-3},{"$f":"'[15]3'!V21","v":9.1E-4},{"$f":"'[15]3'!W21","v":0},{"$f":"'[15]3'!X21","v":0},{"$f":"'[15]3'!Y21","v":1.2E-2},23.792999999999999,1.1200000000000001,0,0,1843.56,8.16,603.84,33.073,2447.4,7.0000000000000001E-3,5.0000000000000001E-3,7.0000000000000001E-3,7.0000000000000001E-3,6.0000000000000001E-3,1.2E-2,21.035,2,0,0,1704.59,9.6,710.4,32.634999999999998,2414.9899999999998,{"$f":"'[15]3'!AX21","v":7.0000000000000001E-3},{"$f":"'[15]3'!AY21","v":5.0000000000000001E-3},{"$f":"'[15]3'!AZ21","v":9.1E-4},{"$f":"'[15]3'!BA21","v":0},{"$f":"'[15]3'!BB21","v":0},{"$f":"'[15]3'!BC21","v":1.2E-2},22.302,1.8049999999999999,0,0,1783.92,8.2080000000000002,607.39,32.314999999999998,2391.31,{"$f":"'[15]3'!BM21","v":7.0000000000000001E-3},{"$f":"'[15]3'!BN21","v":5.0000000000000001E-3},{"$f":"'[15]3'!BO21","v":9.1E-4},{"$f":"'[15]3'!BP21","v":0},{"$f":"'[15]3'!BQ21","v":0},{"$f":"'[15]3'!BR21","v":1.2E-2},15.610000000000001,1.41,0,0,1259.48,7.524,556.78,24.544,1816.26,{"$f":"'[15]3'!CB21","v":7.0000000000000001E-3},{"$f":"'[15]3'!CC21","v":5.0000000000000001E-3},{"$f":"'[15]3'!CD21","v":9.1E-4},{"$f":"'[15]3'!CE21","v":0},{"$f":"'[15]3'!CF21","v":0},{"$f":"'[15]3'!CG21","v":1.2E-2},11.473000000000001,1.29,0,0,944.46,7.2960000000000003,539.9,20.059000000000001,1484.3600000000001,{"$f":"'[15]3'!CQ21","v":7.0000000000000001E-3},{"$f":"'[15]3'!CR21","v":5.0000000000000001E-3},{"$f":"'[15]3'!CS21","v":9.1E-4},{"$f":"'[15]3'!CT21","v":0},{"$f":"'[15]3'!CU21","v":0},{"$f":"'[15]3'!CV21","v":1.2E-2},32.340000000000003,4.2700000000000005,0,0,2709.14,5.9279999999999999,438.67,42.538000000000004,3147.81,{"$f":"'[15]3'!DF21","v":7.0000000000000001E-3},{"$f":"'[15]3'!DG21","v":5.0000000000000001E-3},{"$f":"'[15]3'!DH21","v":9.1E-4},{"$f":"'[15]3'!DI21","v":0},{"$f":"'[15]3'!DJ21","v":0},{"$f":"'[15]3'!DK21","v":1.2E-2},10.08,1.9950000000000001,0,0,893.55,6.5520000000000005,484.85,18.626999999999999,1378.4,{"$f":"'[15]3'!DU21","v":7.0000000000000001E-3},{"$f":"'[15]3'!DV21","v":5.0000000000000001E-3},{"$f":"'[15]3'!DW21","v":9.1E-4},{"$f":"'[15]3'!DX21","v":0},{"$f":"'[15]3'!DY21","v":0},{"$f":"'[15]3'!DZ21","v":1.2E-2},15.316000000000001,2.4,0,0,1310.98,6.6120000000000001,489.29,24.328000000000003,1800.27,{"$f":"'[15]3'!EJ21","v":7.0000000000000001E-3},{"$f":"'[15]3'!EK21","v":5.0000000000000001E-3},{"$f":"'[15]3'!EL21","v":9.1E-4},{"$f":"'[15]3'!EM21","v":0},{"$f":"'[15]3'!EN21","v":0},{"$f":"'[15]3'!EO21","v":1.2E-2},21.364000000000001,2.5500000000000003,0,0,1769.64,8.64,639.36,32.554000000000002,2409,{"$f":"'[15]3'!EY21","v":7.0000000000000001E-3},{"$f":"'[15]3'!EZ21","v":5.0000000000000001E-3},{"$f":"'[15]3'!FA21","v":9.1E-4},{"$f":"'[15]3'!FB21","v":0},{"$f":"'[15]3'!FC21","v":0},{"$f":"'[15]3'!FD21","v":1.2E-2},22.946000000000002,2.4849999999999999,0,0,1881.89,10.26,759.24,35.691000000000003,2641.13,{"$f":"'[15]3'!FN21","v":7.0000000000000001E-3},{"$f":"'[15]3'!FO21","v":5.0000000000000001E-3},{"$f":"'[15]3'!FP21","v":9.1E-4},{"$f":"'[15]3'!FQ21","v":0},{"$f":"'[15]3'!FR21","v":0},{"$f":"'[15]3'!FS21","v":1.2E-2},26.236000000000001,2.64,0,0,2136.8200000000002,10.8,799.2,39.676000000000002,2936.0200000000004,168.74700000000001,12487.27,193.41399999999999,14312.630000000001,362.161,26799.9,11,265.52499999999992,19648.84,96.636000000000081,7151.0600000000013]
[8,"Полтавка","кг",{"$f":"[15]цены!E16","v":50},{"$f":"'[15]3'!E22","v":3.0000000000000001E-3},{"$f":"'[15]3'!F22","v":1E-3},{"$f":"'[15]3'!G22","v":0},{"$f":"'[15]3'!H22","v":0},{"$f":"'[15]3'!I22","v":0},{"$f":"'[15]3'!J22","v":1E-3},7.4550000000000001,0.33400000000000002,0,0,389.45,0.58799999999999997,29.4,8.3769999999999989,418.84999999999997,{"$f":"'[15]3'!T22","v":3.0000000000000001E-3},{"$f":"'[15]3'!U22","v":1E-3},{"$f":"'[15]3'!V22","v":0},{"$f":"'[15]3'!W22","v":0},{"$f":"'[15]3'!X22","v":0},{"$f":"'[15]3'!Y22","v":1E-3},10.197000000000001,0.224,0,0,521.04999999999995,0.68,34,11.101000000000001,555.04999999999995,3.0000000000000001E-3,1E-3,3.0000000000000001E-3,2E-3,1E-3,1E-3,9.0150000000000006,0.4,0,0,470.75,0.8,40,10.215000000000002,510.75,{"$f":"'[15]3'!AX22","v":3.0000000000000001E-3},{"$f":"'[15]3'!AY22","v":1E-3},{"$f":"'[15]3'!AZ22","v":0},{"$f":"'[15]3'!BA22","v":0},{"$f":"'[15]3'!BB22","v":0},{"$f":"'[15]3'!BC22","v":1E-3},9.5579999999999998,0.36099999999999999,0,0,495.95,0.68400000000000005,34.200000000000003,10.603,530.15,{"$f":"'[15]3'!BM22","v":3.0000000000000001E-3},{"$f":"'[15]3'!BN22","v":1E-3},{"$f":"'[15]3'!BO22","v":0},{"$f":"'[15]3'!BP22","v":0},{"$f":"'[15]3'!BQ22","v":0},{"$f":"'[15]3'!BR22","v":1E-3},6.69,0.28200000000000003,0,0,348.6,0.627,31.35,7.5990000000000002,379.95000000000005,{"$f":"'[15]3'!CB22","v":3.0000000000000001E-3},{"$f":"'[15]3'!CC22","v":1E-3},{"$f":"'[15]3'!CD22","v":0},{"$f":"'[15]3'!CE22","v":0},{"$f":"'[15]3'!CF22","v":0},{"$f":"'[15]3'!CG22","v":1E-3},4.9169999999999998,0.25800000000000001,0,0,258.75,0.60799999999999998,30.4,5.7829999999999995,289.14999999999998,{"$f":"'[15]3'!CQ22","v":3.0000000000000001E-3},{"$f":"'[15]3'!CR22","v":1E-3},{"$f":"'[15]3'!CS22","v":0},{"$f":"'[15]3'!CT22","v":0},{"$f":"'[15]3'!CU22","v":0},{"$f":"'[15]3'!CV22","v":1E-3},13.86,0.85399999999999998,0,0,735.7,0.49399999999999999,24.7,15.207999999999998,760.40000000000009,{"$f":"'[15]3'!DF22","v":3.0000000000000001E-3},{"$f":"'[15]3'!DG22","v":1E-3},{"$f":"'[15]3'!DH22","v":0},{"$f":"'[15]3'!DI22","v":0},{"$f":"'[15]3'!DJ22","v":0},{"$f":"'[15]3'!DK22","v":1E-3},4.32,0.39900000000000002,0,0,235.95,0.54600000000000004,27.3,5.2650000000000006,263.25,{"$f":"'[15]3'!DU22","v":3.0000000000000001E-3},{"$f":"'[15]3'!DV22","v":1E-3},{"$f":"'[15]3'!DW22","v":0},{"$f":"'[15]3'!DX22","v":0},{"$f":"'[15]3'!DY22","v":0},{"$f":"'[15]3'!DZ22","v":1E-3},6.5640000000000001,0.48,0,0,352.2,0.55100000000000005,27.55,7.5950000000000006,379.75,{"$f":"'[15]3'!EJ22","v":3.0000000000000001E-3},{"$f":"'[15]3'!EK22","v":1E-3},{"$f":"'[15]3'!EL22","v":0},{"$f":"'[15]3'!EM22","v":0},{"$f":"'[15]3'!EN22","v":0},{"$f":"'[15]3'!EO22","v":1E-3},9.1560000000000006,0.51,0,0,483.3,0.72,36,10.386000000000001,519.29999999999995,{"$f":"'[15]3'!EY22","v":3.0000000000000001E-3},{"$f":"'[15]3'!EZ22","v":1E-3},{"$f":"'[15]3'!FA22","v":0},{"$f":"'[15]3'!FB22","v":0},{"$f":"'[15]3'!FC22","v":0},{"$f":"'[15]3'!FD22","v":1E-3},9.8339999999999996,0.497,0,0,516.54999999999995,0.85499999999999998,42.75,11.186,559.29999999999995,{"$f":"'[15]3'!FN22","v":3.0000000000000001E-3},{"$f":"'[15]3'!FO22","v":1E-3},{"$f":"'[15]3'!FP22","v":0},{"$f":"'[15]3'!FQ22","v":0},{"$f":"'[15]3'!FR22","v":0},{"$f":"'[15]3'!FS22","v":1E-3},11.244,0.52800000000000002,0,0,588.6,0.9,45,12.672000000000001,633.6,53.678000000000011,2683.9,62.311999999999998,3115.6,115.99000000000001,5799.5,11,107.937,5396.85,8.0530000000000115,402.64999999999964]
[9,"Манная крупа","кг",{"$f":"[15]цены!E17","v":50},{"$f":"'[15]3'!E23","v":6.0000000000000001E-3},{"$f":"'[15]3'!F23","v":4.0000000000000001E-3},{"$f":"'[15]3'!G23","v":7.8000000000000009E-4},{"$f":"'[15]3'!H23","v":0},{"$f":"'[15]3'!I23","v":0},{"$f":"'[15]3'!J23","v":0},14.91,1.3360000000000001,0,0,812.3,0,0,16.245999999999999,812.3,{"$f":"'[15]3'!T23","v":6.0000000000000001E-3},{"$f":"'[15]3'!U23","v":4.0000000000000001E-3},{"$f":"'[15]3'!V23","v":7.8000000000000009E-4},{"$f":"'[15]3'!W23","v":0},{"$f":"'[15]3'!X23","v":0},{"$f":"'[15]3'!Y23","v":0},20.394000000000002,0.89600000000000002,0,0,1064.5,0,0,21.290000000000003,1064.5,6.0000000000000001E-3,4.0000000000000001E-3,6.0000000000000001E-3,6.0000000000000001E-3,5.0000000000000001E-3,null,18.03,1.6,0,0,981.5,0,0,19.630000000000003,981.5,{"$f":"'[15]3'!AX23","v":6.0000000000000001E-3},{"$f":"'[15]3'!AY23","v":4.0000000000000001E-3},{"$f":"'[15]3'!AZ23","v":7.8000000000000009E-4},{"$f":"'[15]3'!BA23","v":0},{"$f":"'[15]3'!BB23","v":0},{"$f":"'[15]3'!BC23","v":0},19.116,1.444,0,0,1028,0,0,20.56,1028,{"$f":"'[15]3'!BM23","v":6.0000000000000001E-3},{"$f":"'[15]3'!BN23","v":4.0000000000000001E-3},{"$f":"'[15]3'!BO23","v":7.8000000000000009E-4},{"$f":"'[15]3'!BP23","v":0},{"$f":"'[15]3'!BQ23","v":0},{"$f":"'[15]3'!BR23","v":0},13.38,1.1280000000000001,0,0,725.4,0,0,14.508000000000001,725.4,{"$f":"'[15]3'!CB23","v":6.0000000000000001E-3},{"$f":"'[15]3'!CC23","v":4.0000000000000001E-3},{"$f":"'[15]3'!CD23","v":7.8000000000000009E-4},{"$f":"'[15]3'!CE23","v":0},{"$f":"'[15]3'!CF23","v":0},{"$f":"'[15]3'!CG23","v":0},9.8339999999999996,1.032,0,0,543.29999999999995,0,0,10.866,543.29999999999995,{"$f":"'[15]3'!CQ23","v":6.0000000000000001E-3},{"$f":"'[15]3'!CR23","v":4.0000000000000001E-3},{"$f":"'[15]3'!CS23","v":7.8000000000000009E-4},{"$f":"'[15]3'!CT23","v":0},{"$f":"'[15]3'!CU23","v":0},{"$f":"'[15]3'!CV23","v":0},27.72,3.4159999999999999,0,0,1556.8,0,0,31.135999999999999,1556.8,{"$f":"'[15]3'!DF23","v":6.0000000000000001E-3},{"$f":"'[15]3'!DG23","v":4.0000000000000001E-3},{"$f":"'[15]3'!DH23","v":7.8000000000000009E-4},{"$f":"'[15]3'!DI23","v":0},{"$f":"'[15]3'!DJ23","v":0},{"$f":"'[15]3'!DK23","v":0},8.64,1.5960000000000001,0,0,511.8,0,0,10.236000000000001,511.8,{"$f":"'[15]3'!DU23","v":6.0000000000000001E-3},{"$f":"'[15]3'!DV23","v":4.0000000000000001E-3},{"$f":"'[15]3'!DW23","v":7.8000000000000009E-4},{"$f":"'[15]3'!DX23","v":0},{"$f":"'[15]3'!DY23","v":0},{"$f":"'[15]3'!DZ23","v":0},13.128,1.92,0,0,752.4,0,0,15.048,752.4,{"$f":"'[15]3'!EJ23","v":6.0000000000000001E-3},{"$f":"'[15]3'!EK23","v":4.0000000000000001E-3},{"$f":"'[15]3'!EL23","v":7.8000000000000009E-4},{"$f":"'[15]3'!EM23","v":0},{"$f":"'[15]3'!EN23","v":0},{"$f":"'[15]3'!EO23","v":0},18.312000000000001,2.04,0,0,1017.6,0,0,20.352,1017.6,{"$f":"'[15]3'!EY23","v":6.0000000000000001E-3},{"$f":"'[15]3'!EZ23","v":4.0000000000000001E-3},{"$f":"'[15]3'!FA23","v":7.8000000000000009E-4},{"$f":"'[15]3'!FB23","v":0},{"$f":"'[15]3'!FC23","v":0},{"$f":"'[15]3'!FD23","v":0},19.667999999999999,1.988,0,0,1082.8,0,0,21.655999999999999,1082.8,{"$f":"'[15]3'!FN23","v":6.0000000000000001E-3},{"$f":"'[15]3'!FO23","v":4.0000000000000001E-3},{"$f":"'[15]3'!FP23","v":7.8000000000000009E-4},{"$f":"'[15]3'!FQ23","v":0},{"$f":"'[15]3'!FR23","v":0},{"$f":"'[15]3'!FS23","v":0},22.488,2.1120000000000001,0,0,1230,0,0,24.6,1230,103.1,5155,123.02799999999999,6151.4,226.12799999999999,11306.4,11,226.12799999999999,11306.4,0,0]
[10,"Ячневая крупа","кг",{"$f":"[15]цены!E18","v":40.270000000000003},{"$f":"'[15]3'!E24","v":2E-3},{"$f":"'[15]3'!F24","v":1E-3},{"$f":"'[15]3'!G24","v":0},{"$f":"'[15]3'!H24","v":0},{"$f":"'[15]3'!I24","v":0},{"$f":"'[15]3'!J24","v":0},4.97,0.33400000000000002,0,0,213.59,0,0,5.3039999999999994,213.59,{"$f":"'[15]3'!T24","v":2E-3},{"$f":"'[15]3'!U24","v":1E-3},{"$f":"'[15]3'!V24","v":0},{"$f":"'[15]3'!W24","v":0},{"$f":"'[15]3'!X24","v":0},{"$f":"'[15]3'!Y24","v":0},6.798,0.224,0,0,282.77999999999997,0,0,7.0220000000000002,282.77999999999997,2E-3,1E-3,2E-3,2E-3,1E-3,null,6.01,0.4,0,0,258.13,0,0,6.41,258.13,{"$f":"'[15]3'!AX24","v":2E-3},{"$f":"'[15]3'!AY24","v":1E-3},{"$f":"'[15]3'!AZ24","v":0},{"$f":"'[15]3'!BA24","v":0},{"$f":"'[15]3'!BB24","v":0},{"$f":"'[15]3'!BC24","v":0},6.3719999999999999,0.36099999999999999,0,0,271.14,0,0,6.7329999999999997,271.14,{"$f":"'[15]3'!BM24","v":2E-3},{"$f":"'[15]3'!BN24","v":1E-3},{"$f":"'[15]3'!BO24","v":0},{"$f":"'[15]3'!BP24","v":0},{"$f":"'[15]3'!BQ24","v":0},{"$f":"'[15]3'!BR24","v":0},4.46,0.28200000000000003,0,0,190.96,0,0,4.742,190.96,{"$f":"'[15]3'!CB24","v":2E-3},{"$f":"'[15]3'!CC24","v":1E-3},{"$f":"'[15]3'!CD24","v":0},{"$f":"'[15]3'!CE24","v":0},{"$f":"'[15]3'!CF24","v":0},{"$f":"'[15]3'!CG24","v":0},3.278,0.25800000000000001,0,0,142.38999999999999,0,0,3.536,142.38999999999999,{"$f":"'[15]3'!CQ24","v":2E-3},{"$f":"'[15]3'!CR24","v":1E-3},{"$f":"'[15]3'!CS24","v":0},{"$f":"'[15]3'!CT24","v":0},{"$f":"'[15]3'!CU24","v":0},{"$f":"'[15]3'!CV24","v":0},9.24,0.85399999999999998,0,0,406.49,0,0,10.093999999999999,406.49,{"$f":"'[15]3'!DF24","v":2E-3},{"$f":"'[15]3'!DG24","v":1E-3},{"$f":"'[15]3'!DH24","v":0},{"$f":"'[15]3'!DI24","v":0},{"$f":"'[15]3'!DJ24","v":0},{"$f":"'[15]3'!DK24","v":0},2.88,0.39900000000000002,0,0,132.05000000000001,0,0,3.2789999999999999,132.05000000000001,{"$f":"'[15]3'!DU24","v":2E-3},{"$f":"'[15]3'!DV24","v":1E-3},{"$f":"'[15]3'!DW24","v":0},{"$f":"'[15]3'!DX24","v":0},{"$f":"'[15]3'!DY24","v":0},{"$f":"'[15]3'!DZ24","v":0},4.3760000000000003,0.48,0,0,195.55,0,0,4.8559999999999999,195.55,{"$f":"'[15]3'!EJ24","v":2E-3},{"$f":"'[15]3'!EK24","v":1E-3},{"$f":"'[15]3'!EL24","v":0},{"$f":"'[15]3'!EM24","v":0},{"$f":"'[15]3'!EN24","v":0},{"$f":"'[15]3'!EO24","v":0},6.1040000000000001,0.51,0,0,266.35000000000002,0,0,6.6139999999999999,266.35000000000002,{"$f":"'[15]3'!EY24","v":2E-3},{"$f":"'[15]3'!EZ24","v":1E-3},{"$f":"'[15]3'!FA24","v":0},{"$f":"'[15]3'!FB24","v":0},{"$f":"'[15]3'!FC24","v":0},{"$f":"'[15]3'!FD24","v":0},6.556,0.497,0,0,284.02,0,0,7.0529999999999999,284.02,{"$f":"'[15]3'!FN24","v":2E-3},{"$f":"'[15]3'!FO24","v":1E-3},{"$f":"'[15]3'!FP24","v":0},{"$f":"'[15]3'!FQ24","v":0},{"$f":"'[15]3'!FR24","v":0},{"$f":"'[15]3'!FS24","v":0},7.4960000000000004,0.52800000000000002,0,0,323.13,0,0,8.0240000000000009,323.13,33.747,1358.9899999999998,39.92,1607.5900000000001,73.667000000000002,2966.58,11,73.667000000000002,2966.58,0,0]
[11,"Пшено","кг",{"$f":"[15]цены!E19","v":52.83},{"$f":"'[15]3'!E25","v":5.0000000000000001E-3},{"$f":"'[15]3'!F25","v":4.0000000000000001E-3},{"$f":"'[15]3'!G25","v":0},{"$f":"'[15]3'!H25","v":0},{"$f":"'[15]3'!I25","v":0},{"$f":"'[15]3'!J25","v":0},12.425000000000001,1.3360000000000001,0,0,726.99,0,0,13.761000000000001,726.99,{"$f":"'[15]3'!T25","v":5.0000000000000001E-3},{"$f":"'[15]3'!U25","v":4.0000000000000001E-3},{"$f":"'[15]3'!V25","v":0},{"$f":"'[15]3'!W25","v":0},{"$f":"'[15]3'!X25","v":0},{"$f":"'[15]3'!Y25","v":0},16.995000000000001,0.89600000000000002,0,0,945.18,0,0,17.891000000000002,945.18,5.0000000000000001E-3,4.0000000000000001E-3,5.0000000000000001E-3,5.0000000000000001E-3,2E-3,null,15.025,1.6,0,0,878.3,0,0,16.625,878.3,{"$f":"'[15]3'!AX25","v":5.0000000000000001E-3},{"$f":"'[15]3'!AY25","v":4.0000000000000001E-3},{"$f":"'[15]3'!AZ25","v":0},{"$f":"'[15]3'!BA25","v":0},{"$f":"'[15]3'!BB25","v":0},{"$f":"'[15]3'!BC25","v":0},15.93,1.444,0,0,917.87,0,0,17.373999999999999,917.87,{"$f":"'[15]3'!BM25","v":5.0000000000000001E-3},{"$f":"'[15]3'!BN25","v":4.0000000000000001E-3},{"$f":"'[15]3'!BO25","v":0},{"$f":"'[15]3'!BP25","v":0},{"$f":"'[15]3'!BQ25","v":0},{"$f":"'[15]3'!BR25","v":0},11.15,1.1280000000000001,0,0,648.65,0,0,12.278,648.65,{"$f":"'[15]3'!CB25","v":5.0000000000000001E-3},{"$f":"'[15]3'!CC25","v":4.0000000000000001E-3},{"$f":"'[15]3'!CD25","v":0},{"$f":"'[15]3'!CE25","v":0},{"$f":"'[15]3'!CF25","v":0},{"$f":"'[15]3'!CG25","v":0},8.1950000000000003,1.032,0,0,487.46,0,0,9.2270000000000003,487.46,{"$f":"'[15]3'!CQ25","v":5.0000000000000001E-3},{"$f":"'[15]3'!CR25","v":4.0000000000000001E-3},{"$f":"'[15]3'!CS25","v":0},{"$f":"'[15]3'!CT25","v":0},{"$f":"'[15]3'!CU25","v":0},{"$f":"'[15]3'!CV25","v":0},23.1,3.4159999999999999,0,0,1400.84,0,0,26.516000000000002,1400.84,{"$f":"'[15]3'!DF25","v":5.0000000000000001E-3},{"$f":"'[15]3'!DG25","v":4.0000000000000001E-3},{"$f":"'[15]3'!DH25","v":0},{"$f":"'[15]3'!DI25","v":0},{"$f":"'[15]3'!DJ25","v":0},{"$f":"'[15]3'!DK25","v":0},7.2,1.5960000000000001,0,0,464.69,0,0,8.7959999999999994,464.69,{"$f":"'[15]3'!DU25","v":5.0000000000000001E-3},{"$f":"'[15]3'!DV25","v":4.0000000000000001E-3},{"$f":"'[15]3'!DW25","v":0},{"$f":"'[15]3'!DX25","v":0},{"$f":"'[15]3'!DY25","v":0},{"$f":"'[15]3'!DZ25","v":0},10.94,1.92,0,0,679.39,0,0,12.86,679.39,{"$f":"'[15]3'!EJ25","v":5.0000000000000001E-3},{"$f":"'[15]3'!EK25","v":4.0000000000000001E-3},{"$f":"'[15]3'!EL25","v":0},{"$f":"'[15]3'!EM25","v":0},{"$f":"'[15]3'!EN25","v":0},{"$f":"'[15]3'!EO25","v":0},15.26,2.04,0,0,913.96,0,0,17.3,913.96,{"$f":"'[15]3'!EY25","v":5.0000000000000001E-3},{"$f":"'[15]3'!EZ25","v":4.0000000000000001E-3},{"$f":"'[15]3'!FA25","v":0},{"$f":"'[15]3'!FB25","v":0},{"$f":"'[15]3'!FC25","v":0},{"$f":"'[15]3'!FD25","v":0},16.39,1.988,0,0,970.91,0,0,18.378,970.91,{"$f":"'[15]3'!FN25","v":5.0000000000000001E-3},{"$f":"'[15]3'!FO25","v":4.0000000000000001E-3},{"$f":"'[15]3'!FP25","v":0},{"$f":"'[15]3'!FQ25","v":0},{"$f":"'[15]3'!FR25","v":0},{"$f":"'[15]3'!FS25","v":0},18.740000000000002,2.1120000000000001,0,0,1101.6099999999999,0,0,20.852000000000004,1101.6099999999999,87.156000000000006,4604.45,104.702,5531.4,191.858,10135.849999999999,11,191.858,10135.849999999999,0,0]
[12,"Горох","кг",{"$f":"[15]цены!E20","v":46.17},{"$f":"'[15]3'!E26","v":2E-3},{"$f":"'[15]3'!F26","v":3.0000000000000001E-3},{"$f":"'[15]3'!G26","v":0},{"$f":"'[15]3'!H26","v":0},{"$f":"'[15]3'!I26","v":0},{"$f":"'[15]3'!J26","v":0.01},4.97,1.002,0,0,275.73,5.88,271.48,11.852,547.21,{"$f":"'[15]3'!T26","v":2E-3},{"$f":"'[15]3'!U26","v":3.0000000000000001E-3},{"$f":"'[15]3'!V26","v":0},{"$f":"'[15]3'!W26","v":0},{"$f":"'[15]3'!X26","v":0},{"$f":"'[15]3'!Y26","v":0.01},6.798,0.67200000000000004,0,0,344.89,6.8,313.95999999999998,14.27,658.84999999999991,2E-3,3.0000000000000001E-3,2E-3,4.0000000000000001E-3,3.0000000000000001E-3,0.01,6.01,1.2,0,0,332.89,8,369.36,15.21,702.25,{"$f":"'[15]3'!AX26","v":2E-3},{"$f":"'[15]3'!AY26","v":3.0000000000000001E-3},{"$f":"'[15]3'!AZ26","v":0},{"$f":"'[15]3'!BA26","v":0},{"$f":"'[15]3'!BB26","v":0},{"$f":"'[15]3'!BC26","v":0.01},6.3719999999999999,1.083,0,0,344.2,6.84,315.8,14.295,660,{"$f":"'[15]3'!BM26","v":2E-3},{"$f":"'[15]3'!BN26","v":3.0000000000000001E-3},{"$f":"'[15]3'!BO26","v":0},{"$f":"'[15]3'!BP26","v":0},{"$f":"'[15]3'!BQ26","v":0},{"$f":"'[15]3'!BR26","v":0.01},4.46,0.84599999999999997,0,0,244.98,6.2700000000000005,289.49,11.576000000000001,534.47,{"$f":"'[15]3'!CB26","v":2E-3},{"$f":"'[15]3'!CC26","v":3.0000000000000001E-3},{"$f":"'[15]3'!CD26","v":0},{"$f":"'[15]3'!CE26","v":0},{"$f":"'[15]3'!CF26","v":0},{"$f":"'[15]3'!CG26","v":0.01},3.278,0.77400000000000002,0,0,187.08,6.08,280.70999999999998,10.132,467.78999999999996,{"$f":"'[15]3'!CQ26","v":2E-3},{"$f":"'[15]3'!CR26","v":3.0000000000000001E-3},{"$f":"'[15]3'!CS26","v":0},{"$f":"'[15]3'!CT26","v":0},{"$f":"'[15]3'!CU26","v":0},{"$f":"'[15]3'!CV26","v":0.01},9.24,2.5619999999999998,0,0,544.9,4.9400000000000004,228.08,16.742000000000001,772.98,{"$f":"'[15]3'!DF26","v":2E-3},{"$f":"'[15]3'!DG26","v":3.0000000000000001E-3},{"$f":"'[15]3'!DH26","v":0},{"$f":"'[15]3'!DI26","v":0},{"$f":"'[15]3'!DJ26","v":0},{"$f":"'[15]3'!DK26","v":0.01},2.88,1.1970000000000001,0,0,188.24,5.46,252.09,9.536999999999999,440.33000000000004,{"$f":"'[15]3'!DU26","v":2E-3},{"$f":"'[15]3'!DV26","v":3.0000000000000001E-3},{"$f":"'[15]3'!DW26","v":0},{"$f":"'[15]3'!DX26","v":0},{"$f":"'[15]3'!DY26","v":0},{"$f":"'[15]3'!DZ26","v":0.01},4.3760000000000003,1.44,0,0,268.52,5.51,254.4,11.326000000000001,522.91999999999996,{"$f":"'[15]3'!EJ26","v":2E-3},{"$f":"'[15]3'!EK26","v":3.0000000000000001E-3},{"$f":"'[15]3'!EL26","v":0},{"$f":"'[15]3'!EM26","v":0},{"$f":"'[15]3'!EN26","v":0},{"$f":"'[15]3'!EO26","v":0.01},6.1040000000000001,1.53,0,0,352.46,7.2,332.42,14.834,684.88,{"$f":"'[15]3'!EY26","v":2E-3},{"$f":"'[15]3'!EZ26","v":3.0000000000000001E-3},{"$f":"'[15]3'!FA26","v":0},{"$f":"'[15]3'!FB26","v":0},{"$f":"'[15]3'!FC26","v":0},{"$f":"'[15]3'!FD26","v":0.01},6.556,1.4910000000000001,0,0,371.53,8.5500000000000007,394.75,16.597000000000001,766.28,{"$f":"'[15]3'!FN26","v":2E-3},{"$f":"'[15]3'!FO26","v":3.0000000000000001E-3},{"$f":"'[15]3'!FP26","v":0},{"$f":"'[15]3'!FQ26","v":0},{"$f":"'[15]3'!FR26","v":0},{"$f":"'[15]3'!FS26","v":0.01},7.4960000000000004,1.5840000000000001,0,0,419.22,9,415.53,18.079999999999998,834.75,77.335000000000008,3570.5699999999997,87.116,4022.1400000000003,164.45100000000002,7592.71,11,83.921000000000006,3874.6400000000008,80.530000000000015,3718.0699999999993]
[13,"Геркулес","кг",{"$f":"[15]цены!E21","v":57},{"$f":"'[15]3'!E27","v":5.0000000000000001E-3},{"$f":"'[15]3'!F27","v":2E-3},{"$f":"'[15]3'!G27","v":0},{"$f":"'[15]3'!H27","v":0},{"$f":"'[15]3'!I27","v":0},{"$f":"'[15]3'!J27","v":0},12.425000000000001,0.66800000000000004,0,0,746.3,0,0,13.093,746.3,{"$f":"'[15]3'!T27","v":5.0000000000000001E-3},{"$f":"'[15]3'!U27","v":2E-3},{"$f":"'[15]3'!V27","v":0},{"$f":"'[15]3'!W27","v":0},{"$f":"'[15]3'!X27","v":0},{"$f":"'[15]3'!Y27","v":0},16.995000000000001,0.44800000000000001,0,0,994.25,0,0,17.443000000000001,994.25,5.0000000000000001E-3,2E-3,5.0000000000000001E-3,4.0000000000000001E-3,2E-3,null,15.025,0.8,0,0,902.03,0,0,15.825000000000001,902.03,{"$f":"'[15]3'!AX27","v":5.0000000000000001E-3},{"$f":"'[15]3'!AY27","v":2E-3},{"$f":"'[15]3'!AZ27","v":0},{"$f":"'[15]3'!BA27","v":0},{"$f":"'[15]3'!BB27","v":0},{"$f":"'[15]3'!BC27","v":0},15.93,0.72199999999999998,0,0,949.16,0,0,16.652000000000001,949.16,{"$f":"'[15]3'!BM27","v":5.0000000000000001E-3},{"$f":"'[15]3'!BN27","v":2E-3},{"$f":"'[15]3'!BO27","v":0},{"$f":"'[15]3'!BP27","v":0},{"$f":"'[15]3'!BQ27","v":0},{"$f":"'[15]3'!BR27","v":0},11.15,0.56400000000000006,0,0,667.7,0,0,11.714,667.7,{"$f":"'[15]3'!CB27","v":5.0000000000000001E-3},{"$f":"'[15]3'!CC27","v":2E-3},{"$f":"'[15]3'!CD27","v":0},{"$f":"'[15]3'!CE27","v":0},{"$f":"'[15]3'!CF27","v":0},{"$f":"'[15]3'!CG27","v":0},8.1950000000000003,0.51600000000000001,0,0,496.53,0,0,8.7110000000000003,496.53,{"$f":"'[15]3'!CQ27","v":5.0000000000000001E-3},{"$f":"'[15]3'!CR27","v":2E-3},{"$f":"'[15]3'!CS27","v":0},{"$f":"'[15]3'!CT27","v":0},{"$f":"'[15]3'!CU27","v":0},{"$f":"'[15]3'!CV27","v":0},23.1,1.708,0,0,1414.06,0,0,24.808,1414.06,{"$f":"'[15]3'!DF27","v":5.0000000000000001E-3},{"$f":"'[15]3'!DG27","v":2E-3},{"$f":"'[15]3'!DH27","v":0},{"$f":"'[15]3'!DI27","v":0},{"$f":"'[15]3'!DJ27","v":0},{"$f":"'[15]3'!DK27","v":0},7.2,0.79800000000000004,0,0,455.89,0,0,7.9980000000000002,455.89,{"$f":"'[15]3'!DU27","v":5.0000000000000001E-3},{"$f":"'[15]3'!DV27","v":2E-3},{"$f":"'[15]3'!DW27","v":0},{"$f":"'[15]3'!DX27","v":0},{"$f":"'[15]3'!DY27","v":0},{"$f":"'[15]3'!DZ27","v":0},10.94,0.96,0,0,678.3,0,0,11.899999999999999,678.3,{"$f":"'[15]3'!EJ27","v":5.0000000000000001E-3},{"$f":"'[15]3'!EK27","v":2E-3},{"$f":"'[15]3'!EL27","v":0},{"$f":"'[15]3'!EM27","v":0},{"$f":"'[15]3'!EN27","v":0},{"$f":"'[15]3'!EO27","v":0},15.26,1.02,0,0,927.96,0,0,16.28,927.96,{"$f":"'[15]3'!EY27","v":5.0000000000000001E-3},{"$f":"'[15]3'!EZ27","v":2E-3},{"$f":"'[15]3'!FA27","v":0},{"$f":"'[15]3'!FB27","v":0},{"$f":"'[15]3'!FC27","v":0},{"$f":"'[15]3'!FD27","v":0},16.39,0.99399999999999999,0,0,990.89,0,0,17.384,990.89,{"$f":"'[15]3'!FN27","v":5.0000000000000001E-3},{"$f":"'[15]3'!FO27","v":2E-3},{"$f":"'[15]3'!FP27","v":0},{"$f":"'[15]3'!FQ27","v":0},{"$f":"'[15]3'!FR27","v":0},{"$f":"'[15]3'!FS27","v":0},18.740000000000002,1.056,0,0,1128.3699999999999,0,0,19.796000000000003,1128.3699999999999,83.438000000000002,4755.9699999999993,98.166000000000011,5595.47,181.60400000000001,10351.439999999999,11,181.60400000000001,10351.439999999999,0,0]
[14,"Макаронные изделия","кг",{"$f":"[15]цены!E22","v":70.67},{"$f":"'[15]3'!E28","v":1.2E-2},{"$f":"'[15]3'!F28","v":8.0000000000000002E-3},{"$f":"'[15]3'!G28","v":1.5600000000000002E-3},{"$f":"'[15]3'!H28","v":0},{"$f":"'[15]3'!I28","v":0},{"$f":"'[15]3'!J28","v":0.01},29.82,2.6720000000000002,0,0,2296.21,5.88,415.54,38.372,2711.75,{"$f":"'[15]3'!T28","v":1.2E-2},{"$f":"'[15]3'!U28","v":8.0000000000000002E-3},{"$f":"'[15]3'!V28","v":1.5600000000000002E-3},{"$f":"'[15]3'!W28","v":0},{"$f":"'[15]3'!X28","v":0},{"$f":"'[15]3'!Y28","v":0.01},40.788000000000004,1.792,0,0,3009.13,6.8,480.56,49.38,3489.69,1.2E-2,8.0000000000000002E-3,1.2E-2,8.0000000000000002E-3,6.0000000000000001E-3,0.01,36.06,3.2,0,0,2774.5,8,565.36,47.260000000000005,3339.86,{"$f":"'[15]3'!AX28","v":1.2E-2},{"$f":"'[15]3'!AY28","v":8.0000000000000002E-3},{"$f":"'[15]3'!AZ28","v":1.5600000000000002E-3},{"$f":"'[15]3'!BA28","v":0},{"$f":"'[15]3'!BB28","v":0},{"$f":"'[15]3'!BC28","v":0.01},38.231999999999999,2.8879999999999999,0,0,2905.95,6.84,483.38,47.959999999999994,3389.33,{"$f":"'[15]3'!BM28","v":1.2E-2},{"$f":"'[15]3'!BN28","v":8.0000000000000002E-3},{"$f":"'[15]3'!BO28","v":1.5600000000000002E-3},{"$f":"'[15]3'!BP28","v":0},{"$f":"'[15]3'!BQ28","v":0},{"$f":"'[15]3'!BR28","v":0.01},26.76,2.2560000000000002,0,0,2050.56,6.2700000000000005,443.1,35.286000000000001,2493.66,{"$f":"'[15]3'!CB28","v":1.2E-2},{"$f":"'[15]3'!CC28","v":8.0000000000000002E-3},{"$f":"'[15]3'!CD28","v":1.5600000000000002E-3},{"$f":"'[15]3'!CE28","v":0},{"$f":"'[15]3'!CF28","v":0},{"$f":"'[15]3'!CG28","v":0.01},19.667999999999999,2.0640000000000001,0,0,1535.8,6.08,429.67,27.811999999999998,1965.47,{"$f":"'[15]3'!CQ28","v":1.2E-2},{"$f":"'[15]3'!CR28","v":8.0000000000000002E-3},{"$f":"'[15]3'!CS28","v":1.5600000000000002E-3},{"$f":"'[15]3'!CT28","v":0},{"$f":"'[15]3'!CU28","v":0},{"$f":"'[15]3'!CV28","v":0.01},55.44,6.8319999999999999,0,0,4400.76,4.9400000000000004,349.11,67.212000000000003,4749.87,{"$f":"'[15]3'!DF28","v":1.2E-2},{"$f":"'[15]3'!DG28","v":8.0000000000000002E-3},{"$f":"'[15]3'!DH28","v":1.5600000000000002E-3},{"$f":"'[15]3'!DI28","v":0},{"$f":"'[15]3'!DJ28","v":0},{"$f":"'[15]3'!DK28","v":0.01},17.28,3.1920000000000002,0,0,1446.76,5.46,385.86,25.932000000000002,1832.62,{"$f":"'[15]3'!DU28","v":1.2E-2},{"$f":"'[15]3'!DV28","v":8.0000000000000002E-3},{"$f":"'[15]3'!DW28","v":1.5600000000000002E-3},{"$f":"'[15]3'!DX28","v":0},{"$f":"'[15]3'!DY28","v":0},{"$f":"'[15]3'!DZ28","v":0.01},26.256,3.84,0,0,2126.88,5.51,389.39,35.606000000000002,2516.27,{"$f":"'[15]3'!EJ28","v":1.2E-2},{"$f":"'[15]3'!EK28","v":8.0000000000000002E-3},{"$f":"'[15]3'!EL28","v":1.5600000000000002E-3},{"$f":"'[15]3'!EM28","v":0},{"$f":"'[15]3'!EN28","v":0},{"$f":"'[15]3'!EO28","v":0.01},36.624000000000002,4.08,0,0,2876.55,7.2,508.82,47.904000000000003,3385.3700000000003,{"$f":"'[15]3'!EY28","v":1.2E-2},{"$f":"'[15]3'!EZ28","v":8.0000000000000002E-3},{"$f":"'[15]3'!FA28","v":1.5600000000000002E-3},{"$f":"'[15]3'!FB28","v":0},{"$f":"'[15]3'!FC28","v":0},{"$f":"'[15]3'!FD28","v":0.01},39.335999999999999,3.976,0,0,3060.86,8.5500000000000007,604.23,51.861999999999995,3665.09,{"$f":"'[15]3'!FN28","v":1.2E-2},{"$f":"'[15]3'!FO28","v":8.0000000000000002E-3},{"$f":"'[15]3'!FP28","v":1.5600000000000002E-3},{"$f":"'[15]3'!FQ28","v":0},{"$f":"'[15]3'!FR28","v":0},{"$f":"'[15]3'!FS28","v":0.01},44.975999999999999,4.2240000000000002,0,0,3476.96,9,636.03,58.2,4112.99,246.07,17389.760000000002,286.71600000000001,20262.21,532.78600000000006,37651.97,9,452.2560000000002,31960.920000000002,80.529999999999859,5691.0499999999993]
[15,"Картофель свежий","кг",{"$f":"[15]цены!E23","v":42},{"$f":"'[15]3'!E29","v":0.215},{"$f":"'[15]3'!F29","v":0.185},{"$f":"'[15]3'!G29","v":2.7949999999999999E-2},{"$f":"'[15]3'!H29","v":0},{"$f":"'[15]3'!I29","v":0},{"$f":"'[15]3'!J29","v":0.15},534.27499999999998,61.79,0,0,25034.73,88.2,3704.4,684.26499999999999,28739.13,{"$f":"'[15]3'!T29","v":0.215},{"$f":"'[15]3'!U29","v":0.185},{"$f":"'[15]3'!V29","v":2.7949999999999999E-2},{"$f":"'[15]3'!W29","v":0},{"$f":"'[15]3'!X29","v":0},{"$f":"'[15]3'!Y29","v":0.15},730.78499999999997,41.44,0,0,32433.45,102,4284,874.22499999999991,36717.449999999997,0.23400000000000001,0.2,0.23400000000000001,0.25,0.15,0.15,703.17000000000007,80,0,0,32893.14,120,5040,903.17000000000007,37933.14,{"$f":"'[15]3'!AX29","v":0.23400000000000001},{"$f":"'[15]3'!AY29","v":0.2},{"$f":"'[15]3'!AZ29","v":2.7949999999999999E-2},{"$f":"'[15]3'!BA29","v":0},{"$f":"'[15]3'!BB29","v":0},{"$f":"'[15]3'!BC29","v":0.15},745.524,72.2,0,0,34344.410000000003,102.6,4309.2,920.32400000000007,38653.61,{"$f":"'[15]3'!BM29","v":0.23400000000000001},{"$f":"'[15]3'!BN29","v":0.2},{"$f":"'[15]3'!BO29","v":2.7949999999999999E-2},{"$f":"'[15]3'!BP29","v":0},{"$f":"'[15]3'!BQ29","v":0},{"$f":"'[15]3'!BR29","v":0.15},521.82000000000005,56.400000000000006,0,0,24285.24,94.05,3950.1,672.27,28235.34,{"$f":"'[15]3'!CB29","v":0.23400000000000001},{"$f":"'[15]3'!CC29","v":0.2},{"$f":"'[15]3'!CD29","v":2.7949999999999999E-2},{"$f":"'[15]3'!CE29","v":0},{"$f":"'[15]3'!CF29","v":0},{"$f":"'[15]3'!CG29","v":0.15},383.52600000000001,51.6,0,0,18275.29,91.2,3830.4,526.32600000000002,22105.690000000002,{"$f":"'[15]3'!CQ29","v":0.23400000000000001},{"$f":"'[15]3'!CR29","v":0.2},{"$f":"'[15]3'!CS29","v":2.7949999999999999E-2},{"$f":"'[15]3'!CT29","v":0},{"$f":"'[15]3'!CU29","v":0},{"$f":"'[15]3'!CV29","v":0.15},1081.0800000000002,170.8,0,0,52578.96,74.099999999999994,3112.2,1325.98,55691.159999999996,{"$f":"'[15]3'!DF29","v":0.23400000000000001},{"$f":"'[15]3'!DG29","v":0.2},{"$f":"'[15]3'!DH29","v":2.7949999999999999E-2},{"$f":"'[15]3'!DI29","v":0},{"$f":"'[15]3'!DJ29","v":0},{"$f":"'[15]3'!DK29","v":0.15},336.96000000000004,79.800000000000011,0,0,17503.919999999998,81.899999999999991,3439.8,498.66,20943.719999999998,{"$f":"'[15]3'!DU29","v":0.187},{"$f":"'[15]3'!DV29","v":0.16},{"$f":"'[15]3'!DW29","v":2.7949999999999999E-2},{"$f":"'[15]3'!DX29","v":0},{"$f":"'[15]3'!DY29","v":0},{"$f":"'[15]3'!DZ29","v":0.15},409.15600000000001,76.8,0,0,20410.150000000001,82.649999999999991,3471.3,568.60599999999999,23881.45,{"$f":"'[15]3'!EJ29","v":0.187},{"$f":"'[15]3'!EK29","v":0.16},{"$f":"'[15]3'!EL29","v":2.7949999999999999E-2},{"$f":"'[15]3'!EM29","v":0},{"$f":"'[15]3'!EN29","v":0},{"$f":"'[15]3'!EO29","v":0.15},570.72400000000005,81.600000000000009,0,0,27397.61,108,4536,760.32400000000007,31933.61,{"$f":"'[15]3'!EY29","v":0.2},{"$f":"'[15]3'!EZ29","v":0.17199999999999999},{"$f":"'[15]3'!FA29","v":2.7949999999999999E-2},{"$f":"'[15]3'!FB29","v":0},{"$f":"'[15]3'!FC29","v":0},{"$f":"'[15]3'!FD29","v":0.15},655.6,85.483999999999995,0,0,31125.53,128.25,5386.5,869.33400000000006,36512.03,{"$f":"'[15]3'!FN29","v":0.2},{"$f":"'[15]3'!FO29","v":0.17199999999999999},{"$f":"'[15]3'!FP29","v":2.7949999999999999E-2},{"$f":"'[15]3'!FQ29","v":0},{"$f":"'[15]3'!FR29","v":0},{"$f":"'[15]3'!FS29","v":0.15},749.6,90.815999999999988,0,0,35297.47,135,5670,975.41600000000005,40967.47,4580.58,192384.36000000002,4998.3200000000006,209929.44,9578.9000000000015,402313.80000000005,4,8370.9500000000007,351579.9,1207.9500000000007,50733.900000000023]
[16,"Капуста квашеная (январь-апрель, октябрь-декабрь)","кг",{"$f":"[15]цены!E24","v":117.81},{"$f":"'[15]3'!E30","v":0.03},{"$f":"'[15]3'!F30","v":0.02},{"$f":"'[15]3'!G30","v":0},{"$f":"'[15]3'!H30","v":0},{"$f":"'[15]3'!I30","v":0},{"$f":"'[15]3'!J30","v":1E-3},74.55,6.68,0,0,9569.7099999999991,0.58799999999999997,69.27,81.817999999999984,9638.98,{"$f":"'[15]3'!T30","v":0.03},{"$f":"'[15]3'!U30","v":0.02},{"$f":"'[15]3'!V30","v":0},{"$f":"'[15]3'!W30","v":0},{"$f":"'[15]3'!X30","v":0},{"$f":"'[15]3'!Y30","v":1E-3},101.97,4.4800000000000004,0,0,12540.87,0.68,80.11,107.13000000000001,12620.980000000001,0.03,0.02,0.03,0.03,0.01,1E-3,90.149999999999991,8,0,0,11563.05,0.8,94.25,98.949999999999989,11657.3,{"$f":"'[15]3'!AX30","v":0.03},{"$f":"'[15]3'!AY30","v":0.02},{"$f":"'[15]3'!AZ30","v":0},{"$f":"'[15]3'!BA30","v":0},{"$f":"'[15]3'!BB30","v":0},{"$f":"'[15]3'!BC30","v":1E-3},95.58,7.22,0,0,12110.87,0.68400000000000005,80.58,103.48399999999999,12191.45,{"$f":"'[15]3'!BM30","v":0},{"$f":"'[15]3'!BN30","v":0},{"$f":"'[15]3'!BO30","v":0},{"$f":"'[15]3'!BP30","v":0},{"$f":"'[15]3'!BQ30","v":0},{"$f":"'[15]3'!BR30","v":0},0,0,0,0,0,0,0,0,0,{"$f":"'[15]3'!CB30","v":0},{"$f":"'[15]3'!CC30","v":0},{"$f":"'[15]3'!CD30","v":0},{"$f":"'[15]3'!CE30","v":0},{"$f":"'[15]3'!CF30","v":0},{"$f":"'[15]3'!CG30","v":0},0,0,0,0,0,0,0,0,0,{"$f":"'[15]3'!CQ30","v":0},{"$f":"'[15]3'!CR30","v":0},{"$f":"'[15]3'!CS30","v":0},{"$f":"'[15]3'!CT30","v":0},{"$f":"'[15]3'!CU30","v":0},{"$f":"'[15]3'!CV30","v":0},0,0,0,0,0,0,0,0,0,{"$f":"'[15]3'!DF30","v":0},{"$f":"'[15]3'!DG30","v":0},{"$f":"'[15]3'!DH30","v":0},{"$f":"'[15]3'!DI30","v":0},{"$f":"'[15]3'!DJ30","v":0},{"$f":"'[15]3'!DK30","v":0},0,0,0,0,0,0,0,0,0,{"$f":"'[15]3'!DU30","v":0},{"$f":"'[15]3'!DV30","v":0},{"$f":"'[15]3'!DW30","v":0},{"$f":"'[15]3'!DX30","v":0},{"$f":"'[15]3'!DY30","v":0},{"$f":"'[15]3'!DZ30","v":0},0,0,0,0,0,0,0,0,0,{"$f":"'[15]3'!EJ30","v":0.02},{"$f":"'[15]3'!EK30","v":1.7999999999999999E-2},{"$f":"'[15]3'!EL30","v":0},{"$f":"'[15]3'!EM30","v":0},{"$f":"'[15]3'!EN30","v":0},{"$f":"'[15]3'!EO30","v":1E-3},61.04,9.18,0,0,8272.6200000000008,0.72,84.82,70.94,8357.44,{"$f":"'[15]3'!EY30","v":0.02},{"$f":"'[15]3'!EZ30","v":1.6E-2},{"$f":"'[15]3'!FA30","v":0},{"$f":"'[15]3'!FB30","v":0},{"$f":"'[15]3'!FC30","v":0},{"$f":"'[15]3'!FD30","v":1E-3},65.56,7.952,0,0,8660.4500000000007,0.85499999999999998,100.73,74.367000000000004,8761.18,{"$f":"'[15]3'!FN30","v":0.02},{"$f":"'[15]3'!FO30","v":1.6E-2},{"$f":"'[15]3'!FP30","v":0},{"$f":"'[15]3'!FQ30","v":0},{"$f":"'[15]3'!FR30","v":0},{"$f":"'[15]3'!FS30","v":1E-3},74.960000000000008,8.4480000000000004,0,0,9826.2999999999993,0.9,106.03,84.308000000000021,9932.33,391.38199999999995,46108.709999999992,229.61500000000004,27050.950000000004,620.99699999999996,73159.66,12,615.7700000000001,72543.87,5.2269999999998618,615.79000000000815]
[17,"Свекла свежая","кг",{"$f":"[15]цены!E25","v":42},{"$f":"'[15]3'!E31","v":5.0999999999999997E-2},{"$f":"'[15]3'!F31","v":3.9E-2},{"$f":"'[15]3'!G31","v":0},{"$f":"'[15]3'!H31","v":0},{"$f":"'[15]3'!I31","v":0},{"$f":"'[15]3'!J31","v":0.01},126.73499999999999,13.026,0,0,5869.96,5.88,246.96,145.64099999999999,6116.92,{"$f":"'[15]3'!T31","v":5.0999999999999997E-2},{"$f":"'[15]3'!U31","v":3.9E-2},{"$f":"'[15]3'!V31","v":0},{"$f":"'[15]3'!W31","v":0},{"$f":"'[15]3'!X31","v":0},{"$f":"'[15]3'!Y31","v":0.01},173.34899999999999,8.7360000000000007,0,0,7647.57,6.8,285.60000000000002,188.88499999999999,7933.17,5.0999999999999997E-2,3.9E-2,5.0999999999999997E-2,2.5999999999999999E-2,0.01,0.01,153.255,15.6,0,0,7091.91,8,336,176.85499999999999,7427.91,{"$f":"'[15]3'!AX31","v":5.0999999999999997E-2},{"$f":"'[15]3'!AY31","v":3.9E-2},{"$f":"'[15]3'!AZ31","v":0},{"$f":"'[15]3'!BA31","v":0},{"$f":"'[15]3'!BB31","v":0},{"$f":"'[15]3'!BC31","v":0.01},162.48599999999999,14.079000000000001,0,0,7415.73,6.84,287.27999999999997,183.405,7703.0099999999993,{"$f":"'[15]3'!BM31","v":4.2000000000000003E-2},{"$f":"'[15]3'!BN31","v":3.5000000000000003E-2},{"$f":"'[15]3'!BO31","v":0},{"$f":"'[15]3'!BP31","v":0},{"$f":"'[15]3'!BQ31","v":0},{"$f":"'[15]3'!BR31","v":0.01},93.660000000000011,9.870000000000001,0,0,4348.26,6.2700000000000005,263.33999999999997,109.80000000000001,4611.6000000000004,{"$f":"'[15]3'!CB31","v":4.2000000000000003E-2},{"$f":"'[15]3'!CC31","v":3.5000000000000003E-2},{"$f":"'[15]3'!CD31","v":0},{"$f":"'[15]3'!CE31","v":0},{"$f":"'[15]3'!CF31","v":0},{"$f":"'[15]3'!CG31","v":0.01},68.838000000000008,9.0300000000000011,0,0,3270.46,6.08,255.36,83.948000000000008,3525.82,{"$f":"'[15]3'!CQ31","v":0.02},{"$f":"'[15]3'!CR31","v":1.4999999999999999E-2},{"$f":"'[15]3'!CS31","v":0},{"$f":"'[15]3'!CT31","v":0},{"$f":"'[15]3'!CU31","v":0},{"$f":"'[15]3'!CV31","v":0.01},92.4,12.809999999999999,0,0,4418.82,4.9400000000000004,207.48,110.15,4626.2999999999993,{"$f":"'[15]3'!DF31","v":0.02},{"$f":"'[15]3'!DG31","v":1.4999999999999999E-2},{"$f":"'[15]3'!DH31","v":0},{"$f":"'[15]3'!DI31","v":0},{"$f":"'[15]3'!DJ31","v":0},{"$f":"'[15]3'!DK31","v":0.01},28.8,5.9849999999999994,0,0,1460.97,5.46,229.32,40.244999999999997,1690.29,{"$f":"'[15]3'!DU31","v":3.6999999999999998E-2},{"$f":"'[15]3'!DV31","v":0.02},{"$f":"'[15]3'!DW31","v":0},{"$f":"'[15]3'!DX31","v":0},{"$f":"'[15]3'!DY31","v":0},{"$f":"'[15]3'!DZ31","v":0.01},80.956000000000003,9.6,0,0,3803.35,5.51,231.42,96.066000000000003,4034.77,{"$f":"'[15]3'!EJ31","v":0.05},{"$f":"'[15]3'!EK31","v":3.7999999999999999E-2},{"$f":"'[15]3'!EL31","v":0},{"$f":"'[15]3'!EM31","v":0},{"$f":"'[15]3'!EN31","v":0},{"$f":"'[15]3'!EO31","v":0.01},152.6,19.38,0,0,7223.16,7.2,302.39999999999998,179.17999999999998,7525.5599999999995,{"$f":"'[15]3'!EY31","v":0.05},{"$f":"'[15]3'!EZ31","v":0.04},{"$f":"'[15]3'!FA31","v":0},{"$f":"'[15]3'!FB31","v":0},{"$f":"'[15]3'!FC31","v":0},{"$f":"'[15]3'!FD31","v":0.01},163.9,19.88,0,0,7718.76,8.5500000000000007,359.1,192.33,8077.8600000000006,{"$f":"'[15]3'!FN31","v":0.05},{"$f":"'[15]3'!FO31","v":0.04},{"$f":"'[15]3'!FP31","v":0},{"$f":"'[15]3'!FQ31","v":0},{"$f":"'[15]3'!FR31","v":0},{"$f":"'[15]3'!FS31","v":0.01},187.4,21.12,0,0,8757.84,9,378,217.52,9135.84,888.53399999999999,37318.43,835.49099999999999,35090.619999999995,1724.0250000000001,72409.049999999988,4,1643.4950000000001,69026.789999999979,80.529999999999973,3382.2600000000093]
[18,"Морковь свежая","кг",{"$f":"[15]цены!E26","v":52.5},{"$f":"'[15]3'!E32","v":0.05},{"$f":"'[15]3'!F32","v":0.04},{"$f":"'[15]3'!G32","v":6.5000000000000006E-3},{"$f":"'[15]3'!H32","v":0},{"$f":"'[15]3'!I32","v":0},{"$f":"'[15]3'!J32","v":1.4999999999999999E-2},124.25,13.36,0,0,7224.53,8.82,463.05,146.43,7687.58,{"$f":"'[15]3'!T32","v":0.05},{"$f":"'[15]3'!U32","v":0.04},{"$f":"'[15]3'!V32","v":6.5000000000000006E-3},{"$f":"'[15]3'!W32","v":0},{"$f":"'[15]3'!X32","v":0},{"$f":"'[15]3'!Y32","v":1.4999999999999999E-2},169.95000000000002,8.9600000000000009,0,0,9392.7800000000007,10.199999999999999,535.5,189.11,9928.2800000000007,0.05,0.04,0.05,0.03,0.02,1.4999999999999999E-2,150.25,16,0,0,8728.1299999999992,12,630,178.25,9358.1299999999992,{"$f":"'[15]3'!AX32","v":0.05},{"$f":"'[15]3'!AY32","v":0.04},{"$f":"'[15]3'!AZ32","v":6.5000000000000006E-3},{"$f":"'[15]3'!BA32","v":0},{"$f":"'[15]3'!BB32","v":0},{"$f":"'[15]3'!BC32","v":1.4999999999999999E-2},159.30000000000001,14.44,0,0,9121.35,10.26,538.65,184,9660,{"$f":"'[15]3'!BM32","v":5.0999999999999997E-2},{"$f":"'[15]3'!BN32","v":3.5000000000000003E-2},{"$f":"'[15]3'!BO32","v":6.5000000000000006E-3},{"$f":"'[15]3'!BP32","v":0},{"$f":"'[15]3'!BQ32","v":0},{"$f":"'[15]3'!BR32","v":1.4999999999999999E-2},113.72999999999999,9.870000000000001,0,0,6489,9.4049999999999994,493.76,133.005,6982.76,{"$f":"'[15]3'!CB32","v":5.0999999999999997E-2},{"$f":"'[15]3'!CC32","v":3.5000000000000003E-2},{"$f":"'[15]3'!CD32","v":6.5000000000000006E-3},{"$f":"'[15]3'!CE32","v":0},{"$f":"'[15]3'!CF32","v":0},{"$f":"'[15]3'!CG32","v":1.4999999999999999E-2},83.588999999999999,9.0300000000000011,0,0,4862.5,9.1199999999999992,478.8,101.739,5341.3,{"$f":"'[15]3'!CQ32","v":0.03},{"$f":"'[15]3'!CR32","v":2.3E-2},{"$f":"'[15]3'!CS32","v":6.5000000000000006E-3},{"$f":"'[15]3'!CT32","v":0},{"$f":"'[15]3'!CU32","v":0},{"$f":"'[15]3'!CV32","v":1.4999999999999999E-2},138.6,19.641999999999999,0,0,8307.7099999999991,7.41,389.03,165.65199999999999,8696.74,{"$f":"'[15]3'!DF32","v":3.5000000000000003E-2},{"$f":"'[15]3'!DG32","v":0.03},{"$f":"'[15]3'!DH32","v":6.5000000000000006E-3},{"$f":"'[15]3'!DI32","v":0},{"$f":"'[15]3'!DJ32","v":0},{"$f":"'[15]3'!DK32","v":1.4999999999999999E-2},50.400000000000006,11.969999999999999,0,0,3274.43,8.19,429.98,70.56,3704.41,{"$f":"'[15]3'!DU32","v":4.1000000000000002E-2},{"$f":"'[15]3'!DV32","v":0.04},{"$f":"'[15]3'!DW32","v":6.5000000000000006E-3},{"$f":"'[15]3'!DX32","v":0},{"$f":"'[15]3'!DY32","v":0},{"$f":"'[15]3'!DZ32","v":1.4999999999999999E-2},89.707999999999998,19.2,0,0,5717.67,8.2650000000000006,433.91,117.173,6151.58,{"$f":"'[15]3'!EJ32","v":0.05},{"$f":"'[15]3'!EK32","v":3.7999999999999999E-2},{"$f":"'[15]3'!EL32","v":6.5000000000000006E-3},{"$f":"'[15]3'!EM32","v":0},{"$f":"'[15]3'!EN32","v":0},{"$f":"'[15]3'!EO32","v":1.4999999999999999E-2},152.6,19.38,0,0,9028.9500000000007,10.799999999999999,567,182.78,9595.9500000000007,{"$f":"'[15]3'!EY32","v":5.1999999999999998E-2},{"$f":"'[15]3'!EZ32","v":4.2999999999999997E-2},{"$f":"'[15]3'!FA32","v":6.5000000000000006E-3},{"$f":"'[15]3'!FB32","v":0},{"$f":"'[15]3'!FC32","v":0},{"$f":"'[15]3'!FD32","v":1.4999999999999999E-2},170.45599999999999,21.370999999999999,0,0,10070.92,12.824999999999999,673.31,204.65199999999999,10744.23,{"$f":"'[15]3'!FN32","v":5.1999999999999998E-2},{"$f":"'[15]3'!FO32","v":4.2999999999999997E-2},{"$f":"'[15]3'!FP32","v":6.5000000000000006E-3},{"$f":"'[15]3'!FQ32","v":0},{"$f":"'[15]3'!FR32","v":0},{"$f":"'[15]3'!FS32","v":1.4999999999999999E-2},194.89599999999999,22.703999999999997,0,0,11424,13.5,708.75,231.1,12132.75,932.53399999999999,48958.05,971.91700000000003,51025.66,1904.451,99983.71,4,1783.6559999999999,93641.970000000016,120.79500000000007,6341.7399999999907]
[19,"Капуста свежая","кг",{"$f":"[15]цены!E27","v":47},{"$f":"'[15]3'!E33","v":7.0000000000000007E-2},{"$f":"'[15]3'!F33","v":0.06},{"$f":"'[15]3'!G33","v":9.1000000000000004E-3},{"$f":"'[15]3'!H33","v":0},{"$f":"'[15]3'!I33","v":0},{"$f":"'[15]3'!J33","v":7.0000000000000007E-2},173.95000000000002,20.04,0,0,9117.5300000000007,41.160000000000004,1934.52,235.15,11052.050000000001,{"$f":"'[15]3'!T33","v":7.0000000000000007E-2},{"$f":"'[15]3'!U33","v":0.06},{"$f":"'[15]3'!V33","v":9.1000000000000004E-3},{"$f":"'[15]3'!W33","v":0},{"$f":"'[15]3'!X33","v":0},{"$f":"'[15]3'!Y33","v":7.0000000000000007E-2},237.93000000000004,13.44,0,0,11814.39,47.6,2237.1999999999998,298.97000000000003,14051.59,7.0000000000000007E-2,0.06,7.0000000000000007E-2,7.0000000000000007E-2,0.05,7.0000000000000007E-2,210.35000000000002,24,0,0,11014.45,56.000000000000007,2632,290.35000000000002,13646.45,{"$f":"'[15]3'!AX33","v":7.0000000000000007E-2},{"$f":"'[15]3'!AY33","v":0.06},{"$f":"'[15]3'!AZ33","v":9.1000000000000004E-3},{"$f":"'[15]3'!BA33","v":0},{"$f":"'[15]3'!BB33","v":0},{"$f":"'[15]3'!BC33","v":7.0000000000000007E-2},223.02,21.66,0,0,11499.96,47.88,2250.36,292.56,13750.32,{"$f":"'[15]3'!BM33","v":5.8999999999999997E-2},{"$f":"'[15]3'!BN33","v":4.4999999999999998E-2},{"$f":"'[15]3'!BO33","v":9.1000000000000004E-3},{"$f":"'[15]3'!BP33","v":0},{"$f":"'[15]3'!BQ33","v":0},{"$f":"'[15]3'!BR33","v":0.06},131.57,12.69,0,0,6780.22,37.619999999999997,1768.14,181.88,8548.36,{"$f":"'[15]3'!CB33","v":5.8999999999999997E-2},{"$f":"'[15]3'!CC33","v":4.4999999999999998E-2},{"$f":"'[15]3'!CD33","v":9.1000000000000004E-3},{"$f":"'[15]3'!CE33","v":0},{"$f":"'[15]3'!CF33","v":0},{"$f":"'[15]3'!CG33","v":0.06},96.700999999999993,11.61,0,0,5090.62,36.479999999999997,1714.56,144.791,6805.18,{"$f":"'[15]3'!CQ33","v":0.04},{"$f":"'[15]3'!CR33","v":3.5000000000000003E-2},{"$f":"'[15]3'!CS33","v":9.1000000000000004E-3},{"$f":"'[15]3'!CT33","v":0},{"$f":"'[15]3'!CU33","v":0},{"$f":"'[15]3'!CV33","v":7.0000000000000007E-2},184.8,29.890000000000004,0,0,10090.43,34.580000000000005,1625.26,249.27000000000004,11715.69,{"$f":"'[15]3'!DF33","v":4.3999999999999997E-2},{"$f":"'[15]3'!DG33","v":3.6999999999999998E-2},{"$f":"'[15]3'!DH33","v":9.1000000000000004E-3},{"$f":"'[15]3'!DI33","v":0},{"$f":"'[15]3'!DJ33","v":0},{"$f":"'[15]3'!DK33","v":7.0000000000000007E-2},63.36,14.763,0,0,3671.78,38.220000000000006,1796.34,116.34300000000002,5468.12,{"$f":"'[15]3'!DU33","v":0.05},{"$f":"'[15]3'!DV33","v":4.8000000000000001E-2},{"$f":"'[15]3'!DW33","v":9.1000000000000004E-3},{"$f":"'[15]3'!DX33","v":0},{"$f":"'[15]3'!DY33","v":0},{"$f":"'[15]3'!DZ33","v":7.0000000000000007E-2},109.4,23.04,0,0,6224.68,38.57,1812.79,171.01,8037.47,{"$f":"'[15]3'!EJ33","v":5.1999999999999998E-2},{"$f":"'[15]3'!EK33","v":4.7E-2},{"$f":"'[15]3'!EL33","v":9.1000000000000004E-3},{"$f":"'[15]3'!EM33","v":0},{"$f":"'[15]3'!EN33","v":0},{"$f":"'[15]3'!EO33","v":7.0000000000000007E-2},158.70399999999998,23.97,0,0,8585.68,50.400000000000006,2368.8000000000002,233.07399999999998,10954.48,{"$f":"'[15]3'!EY33","v":6.2E-2},{"$f":"'[15]3'!EZ33","v":5.3999999999999999E-2},{"$f":"'[15]3'!FA33","v":9.1000000000000004E-3},{"$f":"'[15]3'!FB33","v":0},{"$f":"'[15]3'!FC33","v":0},{"$f":"'[15]3'!FD33","v":7.0000000000000007E-2},203.23599999999999,26.838000000000001,0,0,10813.48,59.850000000000009,2812.95,289.92399999999998,13626.43,{"$f":"'[15]3'!FN33","v":6.2E-2},{"$f":"'[15]3'!FO33","v":5.3999999999999999E-2},{"$f":"'[15]3'!FP33","v":9.1000000000000004E-3},{"$f":"'[15]3'!FQ33","v":0},{"$f":"'[15]3'!FR33","v":0},{"$f":"'[15]3'!FS33","v":7.0000000000000007E-2},232.376,28.512,0,0,12261.74,63.000000000000007,2961,323.88800000000003,15222.74,1443.7009999999998,67853.95,1383.509,65024.93,2827.21,132878.88,4,2275.8500000000004,106964.96000000002,551.35999999999967,25913.919999999984]
[20,"Капуста цветная (июль, август)","кг",{"$f":"[15]цены!E28","v":183.33},{"$f":"'[15]3'!E34","v":0},{"$f":"'[15]3'!F34","v":0},{"$f":"'[15]3'!G34","v":0},{"$f":"'[15]3'!H34","v":0},{"$f":"'[15]3'!I34","v":0},{"$f":"'[15]3'!J34","v":0},0,0,0,0,0,0,0,0,0,{"$f":"'[15]3'!T34","v":0},{"$f":"'[15]3'!U34","v":0},{"$f":"'[15]3'!V34","v":0},{"$f":"'[15]3'!W34","v":0},{"$f":"'[15]3'!X34","v":0},{"$f":"'[15]3'!Y34","v":0},0,0,0,0,0,0,0,0,0,null,null,null,null,null,null,0,0,0,0,0,0,0,0,0,{"$f":"'[15]3'!AX34","v":0},{"$f":"'[15]3'!AY34","v":0},{"$f":"'[15]3'!AZ34","v":0},{"$f":"'[15]3'!BA34","v":0},{"$f":"'[15]3'!BB34","v":0},{"$f":"'[15]3'!BC34","v":0},0,0,0,0,0,0,0,0,0,{"$f":"'[15]3'!BM34","v":0},{"$f":"'[15]3'!BN34","v":0},{"$f":"'[15]3'!BO34","v":0},{"$f":"'[15]3'!BP34","v":0},{"$f":"'[15]3'!BQ34","v":0},{"$f":"'[15]3'!BR34","v":0},0,0,0,0,0,0,0,0,0,{"$f":"'[15]3'!CB34","v":0},{"$f":"'[15]3'!CC34","v":0},{"$f":"'[15]3'!CD34","v":0},{"$f":"'[15]3'!CE34","v":0},{"$f":"'[15]3'!CF34","v":0},{"$f":"'[15]3'!CG34","v":0},0,0,0,0,0,0,0,0,0,{"$f":"'[15]3'!CQ34","v":5.0000000000000001E-3},{"$f":"'[15]3'!CR34","v":4.0000000000000001E-3},{"$f":"'[15]3'!CS34","v":0},{"$f":"'[15]3'!CT34","v":0},{"$f":"'[15]3'!CU34","v":0},{"$f":"'[15]3'!CV34","v":0},23.1,3.4159999999999999,0,0,4861.18,0,0,26.516000000000002,4861.18,{"$f":"'[15]3'!DF34","v":5.0000000000000001E-3},{"$f":"'[15]3'!DG34","v":4.0000000000000001E-3},{"$f":"'[15]3'!DH34","v":0},{"$f":"'[15]3'!DI34","v":0},{"$f":"'[15]3'!DJ34","v":0},{"$f":"'[15]3'!DK34","v":0},7.2,1.5960000000000001,0,0,1612.57,0,0,8.7959999999999994,1612.57,{"$f":"'[15]3'!DU34","v":0},{"$f":"'[15]3'!DV34","v":0},{"$f":"'[15]3'!DW34","v":0},{"$f":"'[15]3'!DX34","v":0},{"$f":"'[15]3'!DY34","v":0},{"$f":"'[15]3'!DZ34","v":0},0,0,0,0,0,0,0,0,0,{"$f":"'[15]3'!EJ34","v":0},{"$f":"'[15]3'!EK34","v":0},{"$f":"'[15]3'!EL34","v":0},{"$f":"'[15]3'!EM34","v":0},{"$f":"'[15]3'!EN34","v":0},{"$f":"'[15]3'!EO34","v":0},0,0,0,0,0,0,0,0,0,{"$f":"'[15]3'!EY34","v":0},{"$f":"'[15]3'!EZ34","v":0},{"$f":"'[15]3'!FA34","v":0},{"$f":"'[15]3'!FB34","v":0},{"$f":"'[15]3'!FC34","v":0},{"$f":"'[15]3'!FD34","v":0},0,0,0,0,0,0,0,0,0,{"$f":"'[15]3'!FN34","v":0},{"$f":"'[15]3'!FO34","v":0},{"$f":"'[15]3'!FP34","v":0},{"$f":"'[15]3'!FQ34","v":0},{"$f":"'[15]3'!FR34","v":0},{"$f":"'[15]3'!FS34","v":0},0,0,0,0,0,0,0,0,0,0,0,35.311999999999998,6473.75,35.311999999999998,6473.75,2,35.311999999999998,6473.75,0,0]
[21,"Томаты свежие","кг",{"$f":"[15]цены!E29","v":235},{"$f":"'[15]3'!E35","v":0.01},{"$f":"'[15]3'!F35","v":0.01},{"$f":"'[15]3'!G35","v":0},{"$f":"'[15]3'!H35","v":0},{"$f":"'[15]3'!I35","v":0},{"$f":"'[15]3'!J35","v":0},24.85,3.34,0,0,6624.65,0,0,28.19,6624.65,{"$f":"'[15]3'!T35","v":0.01},{"$f":"'[15]3'!U35","v":0.01},{"$f":"'[15]3'!V35","v":0},{"$f":"'[15]3'!W35","v":0},{"$f":"'[15]3'!X35","v":0},{"$f":"'[15]3'!Y35","v":0},33.99,2.2400000000000002,0,0,8514.0499999999993,0,0,36.230000000000004,8514.0499999999993,0.01,0.01,0.01,0.02,1.6E-2,null,30.05,4,0,0,8001.75,0,0,34.049999999999997,8001.75,{"$f":"'[15]3'!AX35","v":0.01},{"$f":"'[15]3'!AY35","v":0.01},{"$f":"'[15]3'!AZ35","v":0},{"$f":"'[15]3'!BA35","v":0},{"$f":"'[15]3'!BB35","v":0},{"$f":"'[15]3'!BC35","v":0},31.86,3.61,0,0,8335.4500000000007,0,0,35.47,8335.4500000000007,{"$f":"'[15]3'!BM35","v":2.5000000000000001E-2},{"$f":"'[15]3'!BN35","v":0.02},{"$f":"'[15]3'!BO35","v":0},{"$f":"'[15]3'!BP35","v":0},{"$f":"'[15]3'!BQ35","v":0},{"$f":"'[15]3'!BR35","v":0},55.75,5.64,0,0,14426.65,0,0,61.39,14426.65,{"$f":"'[15]3'!CB35","v":2.5000000000000001E-2},{"$f":"'[15]3'!CC35","v":0.02},{"$f":"'[15]3'!CD35","v":0},{"$f":"'[15]3'!CE35","v":0},{"$f":"'[15]3'!CF35","v":0},{"$f":"'[15]3'!CG35","v":0},40.975000000000001,5.16,0,0,10841.73,0,0,46.135000000000005,10841.73,{"$f":"'[15]3'!CQ35","v":2.5000000000000001E-2},{"$f":"'[15]3'!CR35","v":0.02},{"$f":"'[15]3'!CS35","v":0},{"$f":"'[15]3'!CT35","v":0},{"$f":"'[15]3'!CU35","v":0},{"$f":"'[15]3'!CV35","v":0},115.5,17.080000000000002,0,0,31156.3,0,0,132.58000000000001,31156.3,{"$f":"'[15]3'!DF35","v":2.5000000000000001E-2},{"$f":"'[15]3'!DG35","v":0.02},{"$f":"'[15]3'!DH35","v":0},{"$f":"'[15]3'!DI35","v":0},{"$f":"'[15]3'!DJ35","v":0},{"$f":"'[15]3'!DK35","v":0},36,7.98,0,0,10335.299999999999,0,0,43.980000000000004,10335.299999999999,{"$f":"'[15]3'!DU35","v":2.5000000000000001E-2},{"$f":"'[15]3'!DV35","v":0.02},{"$f":"'[15]3'!DW35","v":0},{"$f":"'[15]3'!DX35","v":0},{"$f":"'[15]3'!DY35","v":0},{"$f":"'[15]3'!DZ35","v":0},54.7,9.6,0,0,15110.5,0,0,64.3,15110.5,{"$f":"'[15]3'!EJ35","v":0.02},{"$f":"'[15]3'!EK35","v":1.7000000000000001E-2},{"$f":"'[15]3'!EL35","v":0},{"$f":"'[15]3'!EM35","v":0},{"$f":"'[15]3'!EN35","v":0},{"$f":"'[15]3'!EO35","v":0},61.04,8.67,0,0,16381.85,0,0,69.709999999999994,16381.85,{"$f":"'[15]3'!EY35","v":1.4999999999999999E-2},{"$f":"'[15]3'!EZ35","v":0.01},{"$f":"'[15]3'!FA35","v":0},{"$f":"'[15]3'!FB35","v":0},{"$f":"'[15]3'!FC35","v":0},{"$f":"'[15]3'!FD35","v":0},49.17,4.97,0,0,12722.9,0,0,54.14,12722.9,{"$f":"'[15]3'!FN35","v":1.4999999999999999E-2},{"$f":"'[15]3'!FO35","v":0.01},{"$f":"'[15]3'!FP35","v":0},{"$f":"'[15]3'!FQ35","v":0},{"$f":"'[15]3'!FR35","v":0},{"$f":"'[15]3'!FS35","v":0},56.22,5.28,0,0,14452.5,0,0,61.5,14452.5,241.46499999999997,56744.28,426.21,100159.34999999999,667.67499999999995,156903.63,2,667.67499999999995,156903.63,0,0]
[22,"Огурцы свежие","кг",{"$f":"[15]цены!E30","v":255},{"$f":"'[15]3'!E36","v":0.01},{"$f":"'[15]3'!F36","v":0.01},{"$f":"'[15]3'!G36","v":0},{"$f":"'[15]3'!H36","v":0},{"$f":"'[15]3'!I36","v":0},{"$f":"'[15]3'!J36","v":0},24.85,3.34,0,0,7188.45,0,0,28.19,7188.45,{"$f":"'[15]3'!T36","v":0.01},{"$f":"'[15]3'!U36","v":0.01},{"$f":"'[15]3'!V36","v":0},{"$f":"'[15]3'!W36","v":0},{"$f":"'[15]3'!X36","v":0},{"$f":"'[15]3'!Y36","v":0},33.99,2.2400000000000002,0,0,9238.65,0,0,36.230000000000004,9238.65,0.01,0.01,0.01,0.02,1.6E-2,null,30.05,4,0,0,8682.75,0,0,34.049999999999997,8682.75,{"$f":"'[15]3'!AX36","v":0.01},{"$f":"'[15]3'!AY36","v":0.01},{"$f":"'[15]3'!AZ36","v":0},{"$f":"'[15]3'!BA36","v":0},{"$f":"'[15]3'!BB36","v":0},{"$f":"'[15]3'!BC36","v":0},31.86,3.61,0,0,9044.85,0,0,35.47,9044.85,{"$f":"'[15]3'!BM36","v":2.5000000000000001E-2},{"$f":"'[15]3'!BN36","v":0.02},{"$f":"'[15]3'!BO36","v":0},{"$f":"'[15]3'!BP36","v":0},{"$f":"'[15]3'!BQ36","v":0},{"$f":"'[15]3'!BR36","v":0},55.75,5.64,0,0,15654.45,0,0,61.39,15654.45,{"$f":"'[15]3'!CB36","v":2.5000000000000001E-2},{"$f":"'[15]3'!CC36","v":0.02},{"$f":"'[15]3'!CD36","v":0},{"$f":"'[15]3'!CE36","v":0},{"$f":"'[15]3'!CF36","v":0},{"$f":"'[15]3'!CG36","v":0},40.975000000000001,5.16,0,0,11764.43,0,0,46.135000000000005,11764.43,{"$f":"'[15]3'!CQ36","v":2.5000000000000001E-2},{"$f":"'[15]3'!CR36","v":0.02},{"$f":"'[15]3'!CS36","v":0},{"$f":"'[15]3'!CT36","v":0},{"$f":"'[15]3'!CU36","v":0},{"$f":"'[15]3'!CV36","v":0},115.5,17.080000000000002,0,0,33807.9,0,0,132.58000000000001,33807.9,{"$f":"'[15]3'!DF36","v":2.5000000000000001E-2},{"$f":"'[15]3'!DG36","v":0.02},{"$f":"'[15]3'!DH36","v":0},{"$f":"'[15]3'!DI36","v":0},{"$f":"'[15]3'!DJ36","v":0},{"$f":"'[15]3'!DK36","v":0},36,7.98,0,0,11214.9,0,0,43.980000000000004,11214.9,{"$f":"'[15]3'!DU36","v":2.5000000000000001E-2},{"$f":"'[15]3'!DV36","v":0.02},{"$f":"'[15]3'!DW36","v":0},{"$f":"'[15]3'!DX36","v":0},{"$f":"'[15]3'!DY36","v":0},{"$f":"'[15]3'!DZ36","v":0},54.7,9.6,0,0,16396.5,0,0,64.3,16396.5,{"$f":"'[15]3'!EJ36","v":0.02},{"$f":"'[15]3'!EK36","v":1.7000000000000001E-2},{"$f":"'[15]3'!EL36","v":0},{"$f":"'[15]3'!EM36","v":0},{"$f":"'[15]3'!EN36","v":0},{"$f":"'[15]3'!EO36","v":0},61.04,8.67,0,0,17776.05,0,0,69.709999999999994,17776.05,{"$f":"'[15]3'!EY36","v":1.4999999999999999E-2},{"$f":"'[15]3'!EZ36","v":0.01},{"$f":"'[15]3'!FA36","v":0},{"$f":"'[15]3'!FB36","v":0},{"$f":"'[15]3'!FC36","v":0},{"$f":"'[15]3'!FD36","v":0},49.17,4.97,0,0,13805.7,0,0,54.14,13805.7,{"$f":"'[15]3'!FN36","v":1.4999999999999999E-2},{"$f":"'[15]3'!FO36","v":0.01},{"$f":"'[15]3'!FP36","v":0},{"$f":"'[15]3'!FQ36","v":0},{"$f":"'[15]3'!FR36","v":0},{"$f":"'[15]3'!FS36","v":0},56.22,5.28,0,0,15682.5,0,0,61.5,15682.5,241.46499999999997,61573.579999999994,426.21,108683.55,667.67499999999995,170257.13,2,667.67499999999995,170257.13,0,0]
[23,"Баклажаны (июль, август, сентябрь)","кг",{"$f":"[15]цены!E31","v":120},{"$f":"'[15]3'!E37","v":0},{"$f":"'[15]3'!F37","v":0},{"$f":"'[15]3'!G37","v":0},{"$f":"'[15]3'!H37","v":0},{"$f":"'[15]3'!I37","v":0},{"$f":"'[15]3'!J37","v":0},0,0,0,0,0,0,0,0,0,{"$f":"'[15]3'!T37","v":0},{"$f":"'[15]3'!U37","v":0},{"$f":"'[15]3'!V37","v":0},{"$f":"'[15]3'!W37","v":0},{"$f":"'[15]3'!X37","v":0},{"$f":"'[15]3'!Y37","v":0},0,0,0,0,0,0,0,0,0,null,null,null,null,null,null,0,0,0,0,0,0,0,0,0,{"$f":"'[15]3'!AX37","v":0},{"$f":"'[15]3'!AY37","v":0},{"$f":"'[15]3'!AZ37","v":0},{"$f":"'[15]3'!BA37","v":0},{"$f":"'[15]3'!BB37","v":0},{"$f":"'[15]3'!BC37","v":0},0,0,0,0,0,0,0,0,0,{"$f":"'[15]3'!BM37","v":0},{"$f":"'[15]3'!BN37","v":0},{"$f":"'[15]3'!BO37","v":0},{"$f":"'[15]3'!BP37","v":0},{"$f":"'[15]3'!BQ37","v":0},{"$f":"'[15]3'!BR37","v":0},0,0,0,0,0,0,0,0,0,{"$f":"'[15]3'!CB37","v":0},{"$f":"'[15]3'!CC37","v":0},{"$f":"'[15]3'!CD37","v":0},{"$f":"'[15]3'!CE37","v":0},{"$f":"'[15]3'!CF37","v":0},{"$f":"'[15]3'!CG37","v":0},0,0,0,0,0,0,0,0,0,{"$f":"'[15]3'!CQ37","v":1.4999999999999999E-2},{"$f":"'[15]3'!CR37","v":0.01},{"$f":"'[15]3'!CS37","v":0},{"$f":"'[15]3'!CT37","v":0},{"$f":"'[15]3'!CU37","v":0},{"$f":"'[15]3'!CV37","v":5.0000000000000001E-4},69.3,8.5400000000000009,0,0,9340.7999999999993,0.247,29.64,78.087000000000003,9370.4399999999987,{"$f":"'[15]3'!DF37","v":1.7999999999999999E-2},{"$f":"'[15]3'!DG37","v":0.01},{"$f":"'[15]3'!DH37","v":0},{"$f":"'[15]3'!DI37","v":0},{"$f":"'[15]3'!DJ37","v":0},{"$f":"'[15]3'!DK37","v":5.0000000000000001E-4},25.919999999999998,3.99,0,0,3589.2,0.27300000000000002,32.76,30.182999999999996,3621.96,{"$f":"'[15]3'!DU37","v":1.4999999999999999E-2},{"$f":"'[15]3'!DV37","v":0.01},{"$f":"'[15]3'!DW37","v":0},{"$f":"'[15]3'!DX37","v":0},{"$f":"'[15]3'!DY37","v":0},{"$f":"'[15]3'!DZ37","v":5.0000000000000001E-4},32.82,4.8,0,0,4514.3999999999996,0.27550000000000002,33.06,37.895499999999998,4547.46,{"$f":"'[15]3'!EJ37","v":0},{"$f":"'[15]3'!EK37","v":0},{"$f":"'[15]3'!EL37","v":0},{"$f":"'[15]3'!EM37","v":0},{"$f":"'[15]3'!EN37","v":0},{"$f":"'[15]3'!EO37","v":0},0,0,0,0,0,0,0,0,0,{"$f":"'[15]3'!EY37","v":0},{"$f":"'[15]3'!EZ37","v":0},{"$f":"'[15]3'!FA37","v":0},{"$f":"'[15]3'!FB37","v":0},{"$f":"'[15]3'!FC37","v":0},{"$f":"'[15]3'!FD37","v":0},0,0,0,0,0,0,0,0,0,{"$f":"'[15]3'!FN37","v":0},{"$f":"'[15]3'!FO37","v":0},{"$f":"'[15]3'!FP37","v":0},{"$f":"'[15]3'!FQ37","v":0},{"$f":"'[15]3'!FR37","v":0},{"$f":"'[15]3'!FS37","v":0},0,0,0,0,0,0,0,0,0,0,0,146.16550000000001,17539.859999999997,146.16550000000001,17539.859999999997,2,145.37,17444.399999999998,0.79550000000000409,95.459999999999127]
[24,"Перец болгарск. (июль, август, сентябрь)","кг",{"$f":"[15]цены!E32","v":146.66999999999999},{"$f":"'[15]3'!E38","v":0},{"$f":"'[15]3'!F38","v":0},{"$f":"'[15]3'!G38","v":0},{"$f":"'[15]3'!H38","v":0},{"$f":"'[15]3'!I38","v":0},{"$f":"'[15]3'!J38","v":0},0,0,0,0,0,0,0,0,0,{"$f":"'[15]3'!T38","v":0},{"$f":"'[15]3'!U38","v":0},{"$f":"'[15]3'!V38","v":0},{"$f":"'[15]3'!W38","v":0},{"$f":"'[15]3'!X38","v":0},{"$f":"'[15]3'!Y38","v":0},0,0,0,0,0,0,0,0,0,null,null,null,null,null,null,0,0,0,0,0,0,0,0,0,{"$f":"'[15]3'!AX38","v":0},{"$f":"'[15]3'!AY38","v":0},{"$f":"'[15]3'!AZ38","v":0},{"$f":"'[15]3'!BA38","v":0},{"$f":"'[15]3'!BB38","v":0},{"$f":"'[15]3'!BC38","v":0},0,0,0,0,0,0,0,0,0,{"$f":"'[15]3'!BM38","v":0},{"$f":"'[15]3'!BN38","v":0},{"$f":"'[15]3'!BO38","v":0},{"$f":"'[15]3'!BP38","v":0},{"$f":"'[15]3'!BQ38","v":0},{"$f":"'[15]3'!BR38","v":0},0,0,0,0,0,0,0,0,0,{"$f":"'[15]3'!CB38","v":0},{"$f":"'[15]3'!CC38","v":0},{"$f":"'[15]3'!CD38","v":0},{"$f":"'[15]3'!CE38","v":0},{"$f":"'[15]3'!CF38","v":0},{"$f":"'[15]3'!CG38","v":0},0,0,0,0,0,0,0,0,0,{"$f":"'[15]3'!CQ38","v":2.5000000000000001E-2},{"$f":"'[15]3'!CR38","v":0.02},{"$f":"'[15]3'!CS38","v":0},{"$f":"'[15]3'!CT38","v":0},{"$f":"'[15]3'!CU38","v":0},{"$f":"'[15]3'!CV38","v":5.0000000000000001E-4},115.5,17.080000000000002,0,0,19445.509999999998,0.247,36.229999999999997,132.82700000000003,19481.739999999998,{"$f":"'[15]3'!DF38","v":2.5000000000000001E-2},{"$f":"'[15]3'!DG38","v":0.02},{"$f":"'[15]3'!DH38","v":0},{"$f":"'[15]3'!DI38","v":0},{"$f":"'[15]3'!DJ38","v":0},{"$f":"'[15]3'!DK38","v":5.0000000000000001E-4},36,7.98,0,0,6450.55,0.27300000000000002,40.04,44.253000000000007,6490.59,{"$f":"'[15]3'!DU38","v":2.5000000000000001E-2},{"$f":"'[15]3'!DV38","v":0.02},{"$f":"'[15]3'!DW38","v":0},{"$f":"'[15]3'!DX38","v":0},{"$f":"'[15]3'!DY38","v":0},{"$f":"'[15]3'!DZ38","v":5.0000000000000001E-4},54.7,9.6,0,0,9430.8799999999992,0.27550000000000002,40.409999999999997,64.575499999999991,9471.2899999999991,{"$f":"'[15]3'!EJ38","v":0},{"$f":"'[15]3'!EK38","v":0},{"$f":"'[15]3'!EL38","v":0},{"$f":"'[15]3'!EM38","v":0},{"$f":"'[15]3'!EN38","v":0},{"$f":"'[15]3'!EO38","v":0},0,0,0,0,0,0,0,0,0,{"$f":"'[15]3'!EY38","v":0},{"$f":"'[15]3'!EZ38","v":0},{"$f":"'[15]3'!FA38","v":0},{"$f":"'[15]3'!FB38","v":0},{"$f":"'[15]3'!FC38","v":0},{"$f":"'[15]3'!FD38","v":0},0,0,0,0,0,0,0,0,0,{"$f":"'[15]3'!FN38","v":0},{"$f":"'[15]3'!FO38","v":0},{"$f":"'[15]3'!FP38","v":0},{"$f":"'[15]3'!FQ38","v":0},{"$f":"'[15]3'!FR38","v":0},{"$f":"'[15]3'!FS38","v":0},0,0,0,0,0,0,0,0,0,0,0,241.65550000000002,35443.619999999995,241.65550000000002,35443.619999999995,2,240.86,35326.939999999988,0.79550000000000409,116.68000000000757]
[25,"Чеснок свежий","кг",{"$f":"[15]цены!E33","v":212},{"$f":"'[15]3'!E39","v":1E-3},{"$f":"'[15]3'!F39","v":4.0000000000000002E-4},{"$f":"'[15]3'!G39","v":0},{"$f":"'[15]3'!H39","v":0},{"$f":"'[15]3'!I39","v":0},{"$f":"'[15]3'!J39","v":0},2.4849999999999999,0.1336,0,0,555.14,0,0,2.6185999999999998,555.14,{"$f":"'[15]3'!T39","v":1E-3},{"$f":"'[15]3'!U39","v":4.0000000000000002E-4},{"$f":"'[15]3'!V39","v":0},{"$f":"'[15]3'!W39","v":0},{"$f":"'[15]3'!X39","v":0},{"$f":"'[15]3'!Y39","v":0},3.399,8.9599999999999999E-2,0,0,739.58,0,0,3.4885999999999999,739.58,1E-3,4.0000000000000002E-4,1E-3,1E-3,1E-3,null,3.0049999999999999,0.16,0,0,670.98,0,0,3.165,670.98,{"$f":"'[15]3'!AX39","v":1E-3},{"$f":"'[15]3'!AY39","v":4.0000000000000002E-4},{"$f":"'[15]3'!AZ39","v":0},{"$f":"'[15]3'!BA39","v":0},{"$f":"'[15]3'!BB39","v":0},{"$f":"'[15]3'!BC39","v":0},3.1859999999999999,0.1444,0,0,706.04,0,0,3.3304,706.04,{"$f":"'[15]3'!BM39","v":1E-3},{"$f":"'[15]3'!BN39","v":1E-3},{"$f":"'[15]3'!BO39","v":0},{"$f":"'[15]3'!BP39","v":0},{"$f":"'[15]3'!BQ39","v":0},{"$f":"'[15]3'!BR39","v":1E-3},2.23,0.28200000000000003,0,0,532.54,0.627,132.91999999999999,3.1390000000000002,665.45999999999992,{"$f":"'[15]3'!CB39","v":1E-3},{"$f":"'[15]3'!CC39","v":1E-3},{"$f":"'[15]3'!CD39","v":0},{"$f":"'[15]3'!CE39","v":0},{"$f":"'[15]3'!CF39","v":0},{"$f":"'[15]3'!CG39","v":1E-3},1.639,0.25800000000000001,0,0,402.16,0.60799999999999998,128.9,2.5049999999999999,531.06000000000006,{"$f":"'[15]3'!CQ39","v":1E-3},{"$f":"'[15]3'!CR39","v":1E-3},{"$f":"'[15]3'!CS39","v":0},{"$f":"'[15]3'!CT39","v":0},{"$f":"'[15]3'!CU39","v":0},{"$f":"'[15]3'!CV39","v":0},4.62,0.85399999999999998,0,0,1160.49,0,0,5.4740000000000002,1160.49,{"$f":"'[15]3'!DF39","v":1E-3},{"$f":"'[15]3'!DG39","v":1E-3},{"$f":"'[15]3'!DH39","v":0},{"$f":"'[15]3'!DI39","v":0},{"$f":"'[15]3'!DJ39","v":0},{"$f":"'[15]3'!DK39","v":0},1.44,0.39900000000000002,0,0,389.87,0,0,1.839,389.87,{"$f":"'[15]3'!DU39","v":1E-3},{"$f":"'[15]3'!DV39","v":1E-3},{"$f":"'[15]3'!DW39","v":0},{"$f":"'[15]3'!DX39","v":0},{"$f":"'[15]3'!DY39","v":0},{"$f":"'[15]3'!DZ39","v":0},2.1880000000000002,0.48,0,0,565.62,0,0,2.6680000000000001,565.62,{"$f":"'[15]3'!EJ39","v":1E-3},{"$f":"'[15]3'!EK39","v":1E-3},{"$f":"'[15]3'!EL39","v":0},{"$f":"'[15]3'!EM39","v":0},{"$f":"'[15]3'!EN39","v":0},{"$f":"'[15]3'!EO39","v":0},3.052,0.51,0,0,755.14,0,0,3.5620000000000003,755.14,{"$f":"'[15]3'!EY39","v":1E-3},{"$f":"'[15]3'!EZ39","v":1E-3},{"$f":"'[15]3'!FA39","v":0},{"$f":"'[15]3'!FB39","v":0},{"$f":"'[15]3'!FC39","v":0},{"$f":"'[15]3'!FD39","v":0},3.278,0.497,0,0,800.3,0,0,3.7749999999999999,800.3,{"$f":"'[15]3'!FN39","v":1E-3},{"$f":"'[15]3'!FO39","v":1E-3},{"$f":"'[15]3'!FP39","v":0},{"$f":"'[15]3'!FQ39","v":0},{"$f":"'[15]3'!FR39","v":0},{"$f":"'[15]3'!FS39","v":0},3.7480000000000002,0.52800000000000002,0,0,906.51,0,0,4.2759999999999998,906.51,18.246599999999997,3868.2599999999998,21.594000000000001,4577.93,39.840599999999995,8446.19,4,38.605599999999995,8184.3700000000008,1.2349999999999994,261.81999999999971]
[26,"Петрушка свежая","кг",{"$f":"[15]цены!E34","v":455},{"$f":"'[15]3'!E40","v":5.0000000000000001E-4},{"$f":"'[15]3'!F40","v":2.9999999999999997E-4},{"$f":"'[15]3'!G40","v":0},{"$f":"'[15]3'!H40","v":0},{"$f":"'[15]3'!I40","v":0},{"$f":"'[15]3'!J40","v":0},1.2424999999999999,0.1002,0,0,610.92999999999995,0,0,1.3427,610.92999999999995,{"$f":"'[15]3'!T40","v":5.0000000000000001E-4},{"$f":"'[15]3'!U40","v":2.9999999999999997E-4},{"$f":"'[15]3'!V40","v":0},{"$f":"'[15]3'!W40","v":0},{"$f":"'[15]3'!X40","v":0},{"$f":"'[15]3'!Y40","v":0},1.6995,6.7199999999999996E-2,0,0,803.85,0,0,1.7666999999999999,803.85,5.0000000000000001E-4,2.9999999999999997E-4,5.0000000000000001E-4,5.0000000000000001E-4,5.0000000000000001E-4,null,1.5024999999999999,0.12,0,0,738.24,0,0,1.6225000000000001,738.24,{"$f":"'[15]3'!AX40","v":5.0000000000000001E-4},{"$f":"'[15]3'!AY40","v":2.9999999999999997E-4},{"$f":"'[15]3'!AZ40","v":0},{"$f":"'[15]3'!BA40","v":0},{"$f":"'[15]3'!BB40","v":0},{"$f":"'[15]3'!BC40","v":0},1.593,0.10829999999999999,0,0,774.09,0,0,1.7013,774.09,{"$f":"'[15]3'!BM40","v":1E-3},{"$f":"'[15]3'!BN40","v":1E-3},{"$f":"'[15]3'!BO40","v":0},{"$f":"'[15]3'!BP40","v":0},{"$f":"'[15]3'!BQ40","v":0},{"$f":"'[15]3'!BR40","v":0},2.23,0.28200000000000003,0,0,1142.96,0,0,2.512,1142.96,{"$f":"'[15]3'!CB40","v":1E-3},{"$f":"'[15]3'!CC40","v":1E-3},{"$f":"'[15]3'!CD40","v":0},{"$f":"'[15]3'!CE40","v":0},{"$f":"'[15]3'!CF40","v":0},{"$f":"'[15]3'!CG40","v":0},1.639,0.25800000000000001,0,0,863.14,0,0,1.897,863.14,{"$f":"'[15]3'!CQ40","v":2E-3},{"$f":"'[15]3'!CR40","v":1E-3},{"$f":"'[15]3'!CS40","v":0},{"$f":"'[15]3'!CT40","v":0},{"$f":"'[15]3'!CU40","v":0},{"$f":"'[15]3'!CV40","v":0},9.24,0.85399999999999998,0,0,4592.7700000000004,0,0,10.093999999999999,4592.7700000000004,{"$f":"'[15]3'!DF40","v":2E-3},{"$f":"'[15]3'!DG40","v":1E-3},{"$f":"'[15]3'!DH40","v":0},{"$f":"'[15]3'!DI40","v":0},{"$f":"'[15]3'!DJ40","v":0},{"$f":"'[15]3'!DK40","v":0},2.88,0.39900000000000002,0,0,1491.95,0,0,3.2789999999999999,1491.95,{"$f":"'[15]3'!DU40","v":2E-3},{"$f":"'[15]3'!DV40","v":1E-3},{"$f":"'[15]3'!DW40","v":0},{"$f":"'[15]3'!DX40","v":0},{"$f":"'[15]3'!DY40","v":0},{"$f":"'[15]3'!DZ40","v":0},4.3760000000000003,0.48,0,0,2209.48,0,0,4.8559999999999999,2209.48,{"$f":"'[15]3'!EJ40","v":1E-3},{"$f":"'[15]3'!EK40","v":1E-3},{"$f":"'[15]3'!EL40","v":0},{"$f":"'[15]3'!EM40","v":0},{"$f":"'[15]3'!EN40","v":0},{"$f":"'[15]3'!EO40","v":0},3.052,0.51,0,0,1620.71,0,0,3.5620000000000003,1620.71,{"$f":"'[15]3'!EY40","v":1E-3},{"$f":"'[15]3'!EZ40","v":1E-3},{"$f":"'[15]3'!FA40","v":0},{"$f":"'[15]3'!FB40","v":0},{"$f":"'[15]3'!FC40","v":0},{"$f":"'[15]3'!FD40","v":0},3.278,0.497,0,0,1717.63,0,0,3.7749999999999999,1717.63,{"$f":"'[15]3'!FN40","v":1E-3},{"$f":"'[15]3'!FO40","v":1E-3},{"$f":"'[15]3'!FP40","v":0},{"$f":"'[15]3'!FQ40","v":0},{"$f":"'[15]3'!FR40","v":0},{"$f":"'[15]3'!FS40","v":0},3.7480000000000002,0.52800000000000002,0,0,1945.58,0,0,4.2759999999999998,1945.58,10.8422,4933.21,29.841999999999999,13578.12,40.684199999999997,18511.330000000002,2,40.684199999999997,18511.330000000002,0,0]
[27,"Укроп свежий","кг",{"$f":"[15]цены!E35","v":455},{"$f":"'[15]3'!E41","v":5.0000000000000001E-4},{"$f":"'[15]3'!F41","v":2.9999999999999997E-4},{"$f":"'[15]3'!G41","v":0},{"$f":"'[15]3'!H41","v":0},{"$f":"'[15]3'!I41","v":0},{"$f":"'[15]3'!J41","v":0},1.2424999999999999,0.1002,0,0,610.92999999999995,0,0,1.3427,610.92999999999995,{"$f":"'[15]3'!T41","v":5.0000000000000001E-4},{"$f":"'[15]3'!U41","v":2.9999999999999997E-4},{"$f":"'[15]3'!V41","v":0},{"$f":"'[15]3'!W41","v":0},{"$f":"'[15]3'!X41","v":0},{"$f":"'[15]3'!Y41","v":0},1.6995,6.7199999999999996E-2,0,0,803.85,0,0,1.7666999999999999,803.85,5.0000000000000001E-4,2.9999999999999997E-4,5.0000000000000001E-4,5.0000000000000001E-4,5.0000000000000001E-4,null,1.5024999999999999,0.12,0,0,738.24,0,0,1.6225000000000001,738.24,{"$f":"'[15]3'!AX41","v":5.0000000000000001E-4},{"$f":"'[15]3'!AY41","v":2.9999999999999997E-4},{"$f":"'[15]3'!AZ41","v":0},{"$f":"'[15]3'!BA41","v":0},{"$f":"'[15]3'!BB41","v":0},{"$f":"'[15]3'!BC41","v":0},1.593,0.10829999999999999,0,0,774.09,0,0,1.7013,774.09,{"$f":"'[15]3'!BM41","v":1E-3},{"$f":"'[15]3'!BN41","v":1E-3},{"$f":"'[15]3'!BO41","v":0},{"$f":"'[15]3'!BP41","v":0},{"$f":"'[15]3'!BQ41","v":0},{"$f":"'[15]3'!BR41","v":0},2.23,0.28200000000000003,0,0,1142.96,0,0,2.512,1142.96,{"$f":"'[15]3'!CB41","v":1E-3},{"$f":"'[15]3'!CC41","v":1E-3},{"$f":"'[15]3'!CD41","v":0},{"$f":"'[15]3'!CE41","v":0},{"$f":"'[15]3'!CF41","v":0},{"$f":"'[15]3'!CG41","v":0},1.639,0.25800000000000001,0,0,863.14,0,0,1.897,863.14,{"$f":"'[15]3'!CQ41","v":2E-3},{"$f":"'[15]3'!CR41","v":1E-3},{"$f":"'[15]3'!CS41","v":0},{"$f":"'[15]3'!CT41","v":0},{"$f":"'[15]3'!CU41","v":0},{"$f":"'[15]3'!CV41","v":0},9.24,0.85399999999999998,0,0,4592.7700000000004,0,0,10.093999999999999,4592.7700000000004,{"$f":"'[15]3'!DF41","v":2E-3},{"$f":"'[15]3'!DG41","v":1E-3},{"$f":"'[15]3'!DH41","v":0},{"$f":"'[15]3'!DI41","v":0},{"$f":"'[15]3'!DJ41","v":0},{"$f":"'[15]3'!DK41","v":0},2.88,0.39900000000000002,0,0,1491.95,0,0,3.2789999999999999,1491.95,{"$f":"'[15]3'!DU41","v":2E-3},{"$f":"'[15]3'!DV41","v":1E-3},{"$f":"'[15]3'!DW41","v":0},{"$f":"'[15]3'!DX41","v":0},{"$f":"'[15]3'!DY41","v":0},{"$f":"'[15]3'!DZ41","v":0},4.3760000000000003,0.48,0,0,2209.48,0,0,4.8559999999999999,2209.48,{"$f":"'[15]3'!EJ41","v":1E-3},{"$f":"'[15]3'!EK41","v":1E-3},{"$f":"'[15]3'!EL41","v":0},{"$f":"'[15]3'!EM41","v":0},{"$f":"'[15]3'!EN41","v":0},{"$f":"'[15]3'!EO41","v":0},3.052,0.51,0,0,1620.71,0,0,3.5620000000000003,1620.71,{"$f":"'[15]3'!EY41","v":1E-3},{"$f":"'[15]3'!EZ41","v":1E-3},{"$f":"'[15]3'!FA41","v":0},{"$f":"'[15]3'!FB41","v":0},{"$f":"'[15]3'!FC41","v":0},{"$f":"'[15]3'!FD41","v":0},3.278,0.497,0,0,1717.63,0,0,3.7749999999999999,1717.63,{"$f":"'[15]3'!FN41","v":1E-3},{"$f":"'[15]3'!FO41","v":1E-3},{"$f":"'[15]3'!FP41","v":0},{"$f":"'[15]3'!FQ41","v":0},{"$f":"'[15]3'!FR41","v":0},{"$f":"'[15]3'!FS41","v":0},3.7480000000000002,0.52800000000000002,0,0,1945.58,0,0,4.2759999999999998,1945.58,10.8422,4933.21,29.841999999999999,13578.12,40.684199999999997,18511.330000000002,2,40.684199999999997,18511.330000000002,0,0]
[28,"Лук зеленый","кг",{"$f":"[15]цены!E36","v":455},{"$f":"'[15]3'!E42","v":5.0000000000000001E-3},{"$f":"'[15]3'!F42","v":3.0000000000000001E-3},{"$f":"'[15]3'!G42","v":0},{"$f":"'[15]3'!H42","v":0},{"$f":"'[15]3'!I42","v":0},{"$f":"'[15]3'!J42","v":0},12.425000000000001,1.002,0,0,6109.29,0,0,13.427000000000001,6109.29,{"$f":"'[15]3'!T42","v":5.0000000000000001E-3},{"$f":"'[15]3'!U42","v":3.0000000000000001E-3},{"$f":"'[15]3'!V42","v":0},{"$f":"'[15]3'!W42","v":0},{"$f":"'[15]3'!X42","v":0},{"$f":"'[15]3'!Y42","v":0},16.995000000000001,0.67200000000000004,0,0,8038.49,0,0,17.667000000000002,8038.49,5.0000000000000001E-3,3.0000000000000001E-3,5.0000000000000001E-3,5.0000000000000001E-3,3.0000000000000001E-3,null,15.025,1.2,0,0,7382.38,0,0,16.225000000000001,7382.38,{"$f":"'[15]3'!AX42","v":5.0000000000000001E-3},{"$f":"'[15]3'!AY42","v":3.0000000000000001E-3},{"$f":"'[15]3'!AZ42","v":0},{"$f":"'[15]3'!BA42","v":0},{"$f":"'[15]3'!BB42","v":0},{"$f":"'[15]3'!BC42","v":0},15.93,1.083,0,0,7740.92,0,0,17.012999999999998,7740.92,{"$f":"'[15]3'!BM42","v":5.0000000000000001E-3},{"$f":"'[15]3'!BN42","v":4.0000000000000001E-3},{"$f":"'[15]3'!BO42","v":0},{"$f":"'[15]3'!BP42","v":0},{"$f":"'[15]3'!BQ42","v":0},{"$f":"'[15]3'!BR42","v":0},11.15,1.1280000000000001,0,0,5586.49,0,0,12.278,5586.49,{"$f":"'[15]3'!CB42","v":5.0000000000000001E-3},{"$f":"'[15]3'!CC42","v":4.0000000000000001E-3},{"$f":"'[15]3'!CD42","v":0},{"$f":"'[15]3'!CE42","v":0},{"$f":"'[15]3'!CF42","v":0},{"$f":"'[15]3'!CG42","v":0},8.1950000000000003,1.032,0,0,4198.29,0,0,9.2270000000000003,4198.29,{"$f":"'[15]3'!CQ42","v":5.0000000000000001E-3},{"$f":"'[15]3'!CR42","v":3.0000000000000001E-3},{"$f":"'[15]3'!CS42","v":0},{"$f":"'[15]3'!CT42","v":0},{"$f":"'[15]3'!CU42","v":0},{"$f":"'[15]3'!CV42","v":0},23.1,2.5619999999999998,0,0,11676.21,0,0,25.662000000000003,11676.21,{"$f":"'[15]3'!DF42","v":5.0000000000000001E-3},{"$f":"'[15]3'!DG42","v":3.0000000000000001E-3},{"$f":"'[15]3'!DH42","v":0},{"$f":"'[15]3'!DI42","v":0},{"$f":"'[15]3'!DJ42","v":0},{"$f":"'[15]3'!DK42","v":0},7.2,1.1970000000000001,0,0,3820.64,0,0,8.3970000000000002,3820.64,{"$f":"'[15]3'!DU42","v":5.0000000000000001E-3},{"$f":"'[15]3'!DV42","v":3.0000000000000001E-3},{"$f":"'[15]3'!DW42","v":0},{"$f":"'[15]3'!DX42","v":0},{"$f":"'[15]3'!DY42","v":0},{"$f":"'[15]3'!DZ42","v":0},10.94,1.44,0,0,5632.9,0,0,12.379999999999999,5632.9,{"$f":"'[15]3'!EJ42","v":1E-3},{"$f":"'[15]3'!EK42","v":1E-3},{"$f":"'[15]3'!EL42","v":0},{"$f":"'[15]3'!EM42","v":0},{"$f":"'[15]3'!EN42","v":0},{"$f":"'[15]3'!EO42","v":0},3.052,0.51,0,0,1620.71,0,0,3.5620000000000003,1620.71,{"$f":"'[15]3'!EY42","v":3.0000000000000001E-3},{"$f":"'[15]3'!EZ42","v":2E-3},{"$f":"'[15]3'!FA42","v":0},{"$f":"'[15]3'!FB42","v":0},{"$f":"'[15]3'!FC42","v":0},{"$f":"'[15]3'!FD42","v":0},9.8339999999999996,0.99399999999999999,0,0,4926.74,0,0,10.827999999999999,4926.74,{"$f":"'[15]3'!FN42","v":3.0000000000000001E-3},{"$f":"'[15]3'!FO42","v":2E-3},{"$f":"'[15]3'!FP42","v":0},{"$f":"'[15]3'!FQ42","v":0},{"$f":"'[15]3'!FR42","v":0},{"$f":"'[15]3'!FS42","v":0},11.244,1.056,0,0,5596.5,0,0,12.3,5596.5,85.837000000000003,39055.86,73.129000000000005,33273.699999999997,158.96600000000001,72329.56,2,158.96600000000001,72329.56,0,0]
[29,"Лук репчатый","кг",{"$f":"[15]цены!E37","v":45},{"$f":"'[15]3'!E43","v":2.3E-2},{"$f":"'[15]3'!F43","v":0.02},{"$f":"'[15]3'!G43","v":2.99E-3},{"$f":"'[15]3'!H43","v":0},{"$f":"'[15]3'!I43","v":0},{"$f":"'[15]3'!J43","v":2.3E-2},57.155000000000001,6.68,0,0,2872.58,13.523999999999999,608.58000000000004,77.358999999999995,3481.16,{"$f":"'[15]3'!T43","v":2.3E-2},{"$f":"'[15]3'!U43","v":0.02},{"$f":"'[15]3'!V43","v":2.99E-3},{"$f":"'[15]3'!W43","v":0},{"$f":"'[15]3'!X43","v":0},{"$f":"'[15]3'!Y43","v":2.3E-2},78.176999999999992,4.4800000000000004,0,0,3719.57,15.64,703.8,98.296999999999997,4423.37,2.3E-2,0.02,2.3E-2,0.02,1.7999999999999999E-2,2.3E-2,69.114999999999995,8,0,0,3470.18,18.399999999999999,828,95.514999999999986,4298.18,{"$f":"'[15]3'!AX43","v":2.3E-2},{"$f":"'[15]3'!AY43","v":0.02},{"$f":"'[15]3'!AZ43","v":2.99E-3},{"$f":"'[15]3'!BA43","v":0},{"$f":"'[15]3'!BB43","v":0},{"$f":"'[15]3'!BC43","v":2.3E-2},73.278000000000006,7.22,0,0,3622.41,15.731999999999999,707.94,96.23,4330.3500000000004,{"$f":"'[15]3'!BM43","v":2.5000000000000001E-2},{"$f":"'[15]3'!BN43","v":0.02},{"$f":"'[15]3'!BO43","v":2.99E-3},{"$f":"'[15]3'!BP43","v":0},{"$f":"'[15]3'!BQ43","v":0},{"$f":"'[15]3'!BR43","v":0.02},55.75,5.64,0,0,2762.55,12.540000000000001,564.29999999999995,73.930000000000007,3326.8500000000004,{"$f":"'[15]3'!CB43","v":2.5000000000000001E-2},{"$f":"'[15]3'!CC43","v":0.02},{"$f":"'[15]3'!CD43","v":2.99E-3},{"$f":"'[15]3'!CE43","v":0},{"$f":"'[15]3'!CF43","v":0},{"$f":"'[15]3'!CG43","v":0.02},40.975000000000001,5.16,0,0,2076.08,12.16,547.20000000000005,58.295000000000002,2623.2799999999997,{"$f":"'[15]3'!CQ43","v":2.5000000000000001E-2},{"$f":"'[15]3'!CR43","v":0.02},{"$f":"'[15]3'!CS43","v":2.99E-3},{"$f":"'[15]3'!CT43","v":0},{"$f":"'[15]3'!CU43","v":0},{"$f":"'[15]3'!CV43","v":2.3E-2},115.5,17.080000000000002,0,0,5966.1,11.362,511.29,143.94200000000001,6477.39,{"$f":"'[15]3'!DF43","v":2.5000000000000001E-2},{"$f":"'[15]3'!DG43","v":0.02},{"$f":"'[15]3'!DH43","v":2.99E-3},{"$f":"'[15]3'!DI43","v":0},{"$f":"'[15]3'!DJ43","v":0},{"$f":"'[15]3'!DK43","v":2.3E-2},36,7.98,0,0,1979.1,12.558,565.11,56.538000000000004,2544.21,{"$f":"'[15]3'!DU43","v":2.5000000000000001E-2},{"$f":"'[15]3'!DV43","v":0.02},{"$f":"'[15]3'!DW43","v":2.99E-3},{"$f":"'[15]3'!DX43","v":0},{"$f":"'[15]3'!DY43","v":0},{"$f":"'[15]3'!DZ43","v":2.3E-2},54.7,9.6,0,0,2893.5,12.673,570.29,76.972999999999999,3463.79,{"$f":"'[15]3'!EJ43","v":2.5000000000000001E-2},{"$f":"'[15]3'!EK43","v":0.02},{"$f":"'[15]3'!EL43","v":2.99E-3},{"$f":"'[15]3'!EM43","v":0},{"$f":"'[15]3'!EN43","v":0},{"$f":"'[15]3'!EO43","v":2.3E-2},76.3,10.200000000000001,0,0,3892.5,16.559999999999999,745.2,103.06,4637.7,{"$f":"'[15]3'!EY43","v":2.5000000000000001E-2},{"$f":"'[15]3'!EZ43","v":0.02},{"$f":"'[15]3'!FA43","v":2.99E-3},{"$f":"'[15]3'!FB43","v":0},{"$f":"'[15]3'!FC43","v":0},{"$f":"'[15]3'!FD43","v":2.3E-2},81.95,9.94,0,0,4135.05,19.664999999999999,884.93,111.55500000000001,5019.9800000000005,{"$f":"'[15]3'!FN43","v":2.5000000000000001E-2},{"$f":"'[15]3'!FO43","v":0.02},{"$f":"'[15]3'!FP43","v":2.99E-3},{"$f":"'[15]3'!FQ43","v":0},{"$f":"'[15]3'!FR43","v":0},{"$f":"'[15]3'!FS43","v":2.3E-2},93.7,10.56,0,0,4691.7,20.7,931.5,124.96000000000001,5623.2,499.62600000000003,22483.189999999995,617.02800000000002,27766.27,1116.654,50249.459999999992,4,935.14,42081.319999999985,181.51400000000001,8168.1400000000067]
[30,"Овощная смесь заморозка","кг",{"$f":"[15]цены!E38","v":240.92},{"$f":"'[15]3'!E44","v":0.01},{"$f":"'[15]3'!F44","v":7.0000000000000001E-3},{"$f":"'[15]3'!G44","v":0},{"$f":"'[15]3'!H44","v":0},{"$f":"'[15]3'!I44","v":0},{"$f":"'[15]3'!J44","v":2E-3},24.85,2.3380000000000001,0,0,6550.13,1.1759999999999999,283.32,28.364000000000001,6833.45,{"$f":"'[15]3'!T44","v":0.01},{"$f":"'[15]3'!U44","v":7.0000000000000001E-3},{"$f":"'[15]3'!V44","v":0},{"$f":"'[15]3'!W44","v":0},{"$f":"'[15]3'!X44","v":0},{"$f":"'[15]3'!Y44","v":2E-3},33.99,1.5680000000000001,0,0,8566.6299999999992,1.36,327.64999999999998,36.917999999999999,8894.2799999999988,0.01,7.0000000000000001E-3,0.01,0.01,0.01,2E-3,30.05,2.8000000000000003,0,0,7914.22,1.6,385.47,34.450000000000003,8299.69,{"$f":"'[15]3'!AX44","v":0.01},{"$f":"'[15]3'!AY44","v":7.0000000000000001E-3},{"$f":"'[15]3'!AZ44","v":0},{"$f":"'[15]3'!BA44","v":0},{"$f":"'[15]3'!BB44","v":0},{"$f":"'[15]3'!BC44","v":2E-3},31.86,2.5270000000000001,0,0,8284.52,1.3680000000000001,329.58,35.755000000000003,8614.1,{"$f":"'[15]3'!BM44","v":8.9999999999999993E-3},{"$f":"'[15]3'!BN44","v":8.9999999999999993E-3},{"$f":"'[15]3'!BO44","v":0},{"$f":"'[15]3'!BP44","v":0},{"$f":"'[15]3'!BQ44","v":0},{"$f":"'[15]3'!BR44","v":2E-3},20.069999999999997,2.5379999999999998,0,0,5446.72,1.254,302.11,23.861999999999998,5748.83,{"$f":"'[15]3'!CB44","v":8.9999999999999993E-3},{"$f":"'[15]3'!CC44","v":8.9999999999999993E-3},{"$f":"'[15]3'!CD44","v":0},{"$f":"'[15]3'!CE44","v":0},{"$f":"'[15]3'!CF44","v":0},{"$f":"'[15]3'!CG44","v":2E-3},14.750999999999999,2.3219999999999996,0,0,4113.2299999999996,1.216,292.95999999999998,18.289000000000001,4406.1899999999996,{"$f":"'[15]3'!CQ44","v":8.9999999999999993E-3},{"$f":"'[15]3'!CR44","v":6.0000000000000001E-3},{"$f":"'[15]3'!CS44","v":0},{"$f":"'[15]3'!CT44","v":0},{"$f":"'[15]3'!CU44","v":0},{"$f":"'[15]3'!CV44","v":2E-3},41.58,5.1239999999999997,0,0,11251.93,0.98799999999999999,238.03,47.692,11489.960000000001,{"$f":"'[15]3'!DF44","v":8.9999999999999993E-3},{"$f":"'[15]3'!DG44","v":5.0000000000000001E-3},{"$f":"'[15]3'!DH44","v":0},{"$f":"'[15]3'!DI44","v":0},{"$f":"'[15]3'!DJ44","v":0},{"$f":"'[15]3'!DK44","v":2E-3},12.959999999999999,1.9950000000000001,0,0,3602.96,1.0920000000000001,263.08,16.046999999999997,3866.04,{"$f":"'[15]3'!DU44","v":2E-3},{"$f":"'[15]3'!DV44","v":1E-3},{"$f":"'[15]3'!DW44","v":0},{"$f":"'[15]3'!DX44","v":0},{"$f":"'[15]3'!DY44","v":0},{"$f":"'[15]3'!DZ44","v":2E-3},4.3760000000000003,0.48,0,0,1169.9100000000001,1.1020000000000001,265.49,5.9580000000000002,1435.4,{"$f":"'[15]3'!EJ44","v":6.0000000000000001E-3},{"$f":"'[15]3'!EK44","v":3.0000000000000001E-3},{"$f":"'[15]3'!EL44","v":0},{"$f":"'[15]3'!EM44","v":0},{"$f":"'[15]3'!EN44","v":0},{"$f":"'[15]3'!EO44","v":2E-3},18.312000000000001,1.53,0,0,4780.33,1.44,346.92,21.282000000000004,5127.25,{"$f":"'[15]3'!EY44","v":8.0000000000000002E-3},{"$f":"'[15]3'!EZ44","v":6.0000000000000001E-3},{"$f":"'[15]3'!FA44","v":0},{"$f":"'[15]3'!FB44","v":0},{"$f":"'[15]3'!FC44","v":0},{"$f":"'[15]3'!FD44","v":2E-3},26.224,2.9820000000000002,0,0,7036.31,1.71,411.97,30.916,7448.2800000000007,{"$f":"'[15]3'!FN44","v":8.0000000000000002E-3},{"$f":"'[15]3'!FO44","v":6.0000000000000001E-3},{"$f":"'[15]3'!FP44","v":0},{"$f":"'[15]3'!FQ44","v":0},{"$f":"'[15]3'!FR44","v":0},{"$f":"'[15]3'!FS44","v":2E-3},29.984000000000002,3.1680000000000001,0,0,7986.98,1.8,433.66,34.951999999999998,8420.64,177.63799999999998,42796.54,156.84700000000001,37787.57,334.48500000000001,80584.11,12,318.37900000000002,76703.869999999981,16.105999999999995,3880.2400000000198]
[31,"Огурцы соленые (в ведрах)","кг",{"$f":"[15]цены!E39","v":115.94},{"$f":"'[15]3'!E45","v":0.02},{"$f":"'[15]3'!F45","v":1.4999999999999999E-2},{"$f":"'[15]3'!G45","v":0},{"$f":"'[15]3'!H45","v":0},{"$f":"'[15]3'!I45","v":0},{"$f":"'[15]3'!J45","v":1E-3},49.7,5.01,0,0,6343.08,0.58799999999999997,68.17,55.298000000000002,6411.25,{"$f":"'[15]3'!T45","v":0.02},{"$f":"'[15]3'!U45","v":1.4999999999999999E-2},{"$f":"'[15]3'!V45","v":0},{"$f":"'[15]3'!W45","v":0},{"$f":"'[15]3'!X45","v":0},{"$f":"'[15]3'!Y45","v":1E-3},67.98,3.36,0,0,8271.16,0.68,78.84,72.02000000000001,8350,0.02,1.4999999999999999E-2,0.02,1.4999999999999999E-2,7.0000000000000001E-3,1E-3,60.1,6,0,0,7663.63,0.8,92.75,66.899999999999991,7756.38,{"$f":"'[15]3'!AX45","v":0},{"$f":"'[15]3'!AY45","v":0},{"$f":"'[15]3'!AZ45","v":0},{"$f":"'[15]3'!BA45","v":0},{"$f":"'[15]3'!BB45","v":0},{"$f":"'[15]3'!BC45","v":0},0,0,0,0,0,0,0,0,0,{"$f":"'[15]3'!BM45","v":0},{"$f":"'[15]3'!BN45","v":0},{"$f":"'[15]3'!BO45","v":0},{"$f":"'[15]3'!BP45","v":0},{"$f":"'[15]3'!BQ45","v":0},{"$f":"'[15]3'!BR45","v":0},0,0,0,0,0,0,0,0,0,{"$f":"'[15]3'!CB45","v":0},{"$f":"'[15]3'!CC45","v":0},{"$f":"'[15]3'!CD45","v":0},{"$f":"'[15]3'!CE45","v":0},{"$f":"'[15]3'!CF45","v":0},{"$f":"'[15]3'!CG45","v":0},0,0,0,0,0,0,0,0,0,{"$f":"'[15]3'!CQ45","v":0},{"$f":"'[15]3'!CR45","v":0},{"$f":"'[15]3'!CS45","v":0},{"$f":"'[15]3'!CT45","v":0},{"$f":"'[15]3'!CU45","v":0},{"$f":"'[15]3'!CV45","v":0},0,0,0,0,0,0,0,0,0,{"$f":"'[15]3'!DF45","v":0},{"$f":"'[15]3'!DG45","v":0},{"$f":"'[15]3'!DH45","v":0},{"$f":"'[15]3'!DI45","v":0},{"$f":"'[15]3'!DJ45","v":0},{"$f":"'[15]3'!DK45","v":0},0,0,0,0,0,0,0,0,0,{"$f":"'[15]3'!DU45","v":0},{"$f":"'[15]3'!DV45","v":0},{"$f":"'[15]3'!DW45","v":0},{"$f":"'[15]3'!DX45","v":0},{"$f":"'[15]3'!DY45","v":0},{"$f":"'[15]3'!DZ45","v":0},0,0,0,0,0,0,0,0,0,{"$f":"'[15]3'!EJ45","v":0.02},{"$f":"'[15]3'!EK45","v":1.4E-2},{"$f":"'[15]3'!EL45","v":0},{"$f":"'[15]3'!EM45","v":0},{"$f":"'[15]3'!EN45","v":0},{"$f":"'[15]3'!EO45","v":1E-3},61.04,7.1400000000000006,0,0,7904.79,0.72,83.48,68.900000000000006,7988.2699999999995,{"$f":"'[15]3'!EY45","v":0.02},{"$f":"'[15]3'!EZ45","v":1.4E-2},{"$f":"'[15]3'!FA45","v":0},{"$f":"'[15]3'!FB45","v":0},{"$f":"'[15]3'!FC45","v":0},{"$f":"'[15]3'!FD45","v":1E-3},65.56,6.9580000000000002,0,0,8407.74,0.85499999999999998,99.13,73.373000000000005,8506.869999999999,{"$f":"'[15]3'!FN45","v":2.7E-2},{"$f":"'[15]3'!FO45","v":1.9E-2},{"$f":"'[15]3'!FP45","v":0},{"$f":"'[15]3'!FQ45","v":0},{"$f":"'[15]3'!FR45","v":0},{"$f":"'[15]3'!FS45","v":2E-3},101.196,10.032,0,0,12895.77,1.8,208.69,113.02799999999999,13104.460000000001,194.21800000000002,22517.63,255.30100000000002,29599.599999999999,449.51900000000001,52117.229999999996,12,444.07599999999991,51486.17,5.4430000000000973,631.05999999999767]
[32,"Огурцы соленые (в банках)","кг",{"$f":"[15]цены!E40","v":115.94},{"$f":"'[15]3'!E46","v":8.9999999999999993E-3},{"$f":"'[15]3'!F46","v":5.0000000000000001E-3},{"$f":"'[15]3'!G46","v":1.17E-3},{"$f":"'[15]3'!H46","v":0},{"$f":"'[15]3'!I46","v":0},{"$f":"'[15]3'!J46","v":1E-3},22.364999999999998,1.67,0,0,2786.62,0.58799999999999997,68.17,24.622999999999998,2854.79,{"$f":"'[15]3'!T46","v":8.9999999999999993E-3},{"$f":"'[15]3'!U46","v":5.0000000000000001E-3},{"$f":"'[15]3'!V46","v":1.17E-3},{"$f":"'[15]3'!W46","v":0},{"$f":"'[15]3'!X46","v":0},{"$f":"'[15]3'!Y46","v":1E-3},30.590999999999998,1.1200000000000001,0,0,3676.57,0.68,78.84,32.390999999999998,3755.4100000000003,8.9999999999999993E-3,5.0000000000000001E-3,8.9999999999999993E-3,8.9999999999999993E-3,5.0000000000000001E-3,1E-3,27.044999999999998,2,0,0,3367.48,0.8,92.75,29.844999999999999,3460.23,{"$f":"'[15]3'!AX46","v":2.9000000000000001E-2},{"$f":"'[15]3'!AY46","v":0.02},{"$f":"'[15]3'!AZ46","v":1.17E-3},{"$f":"'[15]3'!BA46","v":0},{"$f":"'[15]3'!BB46","v":0},{"$f":"'[15]3'!BC46","v":2E-3},92.394000000000005,7.22,0,0,11549.25,1.3680000000000001,158.61000000000001,100.982,11707.86,{"$f":"'[15]3'!BM46","v":2.9000000000000001E-2},{"$f":"'[15]3'!BN46","v":2.5000000000000001E-2},{"$f":"'[15]3'!BO46","v":1.17E-3},{"$f":"'[15]3'!BP46","v":0},{"$f":"'[15]3'!BQ46","v":0},{"$f":"'[15]3'!BR46","v":1E-3},64.67,7.0500000000000007,0,0,8315.2199999999993,0.627,72.69,72.346999999999994,8387.91,{"$f":"'[15]3'!CB46","v":2.9000000000000001E-2},{"$f":"'[15]3'!CC46","v":2.5000000000000001E-2},{"$f":"'[15]3'!CD46","v":1.17E-3},{"$f":"'[15]3'!CE46","v":0},{"$f":"'[15]3'!CF46","v":0},{"$f":"'[15]3'!CG46","v":1E-3},47.531000000000006,6.45,0,0,6258.56,0.60799999999999998,70.489999999999995,54.589000000000006,6329.05,{"$f":"'[15]3'!CQ46","v":3.2000000000000001E-2},{"$f":"'[15]3'!CR46","v":2.5000000000000001E-2},{"$f":"'[15]3'!CS46","v":1.17E-3},{"$f":"'[15]3'!CT46","v":0},{"$f":"'[15]3'!CU46","v":0},{"$f":"'[15]3'!CV46","v":2E-3},147.84,21.35,0,0,19615.89,0.98799999999999999,114.55,170.178,19730.439999999999,{"$f":"'[15]3'!DF46","v":0.02},{"$f":"'[15]3'!DG46","v":1.7000000000000001E-2},{"$f":"'[15]3'!DH46","v":1.17E-3},{"$f":"'[15]3'!DI46","v":0},{"$f":"'[15]3'!DJ46","v":0},{"$f":"'[15]3'!DK46","v":2E-3},28.8,6.7830000000000004,0,0,4125.49,1.0920000000000001,126.61,36.674999999999997,4252.0999999999995,{"$f":"'[15]3'!DU46","v":4.2999999999999997E-2},{"$f":"'[15]3'!DV46","v":0.03},{"$f":"'[15]3'!DW46","v":1.17E-3},{"$f":"'[15]3'!DX46","v":0},{"$f":"'[15]3'!DY46","v":0},{"$f":"'[15]3'!DZ46","v":2E-3},94.083999999999989,14.399999999999999,0,0,12577.63,1.1020000000000001,127.77,109.58599999999998,12705.4,{"$f":"'[15]3'!EJ46","v":1.0999999999999999E-2},{"$f":"'[15]3'!EK46","v":8.0000000000000002E-3},{"$f":"'[15]3'!EL46","v":1.17E-3},{"$f":"'[15]3'!EM46","v":0},{"$f":"'[15]3'!EN46","v":0},{"$f":"'[15]3'!EO46","v":3.0000000000000001E-3},33.571999999999996,4.08,0,0,4365.37,2.16,250.43,39.811999999999998,4615.8,{"$f":"'[15]3'!EY46","v":7.0000000000000001E-3},{"$f":"'[15]3'!EZ46","v":5.0000000000000001E-3},{"$f":"'[15]3'!FA46","v":1.17E-3},{"$f":"'[15]3'!FB46","v":0},{"$f":"'[15]3'!FC46","v":0},{"$f":"'[15]3'!FD46","v":1E-3},22.946000000000002,2.4849999999999999,0,0,2948.47,0.85499999999999998,99.13,26.286000000000001,3047.6,{"$f":"'[15]3'!FN46","v":0},{"$f":"'[15]3'!FO46","v":0},{"$f":"'[15]3'!FP46","v":1.17E-3},{"$f":"'[15]3'!FQ46","v":0},{"$f":"'[15]3'!FR46","v":0},{"$f":"'[15]3'!FS46","v":0},0,0,0,0,0,0,0,0,0,314.77699999999999,36495.25,382.53699999999998,44351.34,697.31399999999996,80846.59,12,686.44600000000014,79586.549999999988,10.867999999999824,1260.0400000000081]
[33,"Икра кабачковая или баклаж.","кг",{"$f":"[15]цены!E41","v":139.78},{"$f":"'[15]3'!E47","v":8.9999999999999993E-3},{"$f":"'[15]3'!F47","v":6.0000000000000001E-3},{"$f":"'[15]3'!G47","v":0},{"$f":"'[15]3'!H47","v":0},{"$f":"'[15]3'!I47","v":0},{"$f":"'[15]3'!J47","v":0},22.364999999999998,2.004,0,0,3406.3,0,0,24.369,3406.3,{"$f":"'[15]3'!T47","v":8.9999999999999993E-3},{"$f":"'[15]3'!U47","v":6.0000000000000001E-3},{"$f":"'[15]3'!V47","v":0},{"$f":"'[15]3'!W47","v":0},{"$f":"'[15]3'!X47","v":0},{"$f":"'[15]3'!Y47","v":0},30.590999999999998,1.3440000000000001,0,0,4463.87,0,0,31.934999999999999,4463.87,8.9999999999999993E-3,6.0000000000000001E-3,8.9999999999999993E-3,6.0000000000000001E-3,4.0000000000000001E-3,null,27.044999999999998,2.4,0,0,4115.82,0,0,29.444999999999997,4115.82,{"$f":"'[15]3'!AX47","v":8.9999999999999993E-3},{"$f":"'[15]3'!AY47","v":6.0000000000000001E-3},{"$f":"'[15]3'!AZ47","v":0},{"$f":"'[15]3'!BA47","v":0},{"$f":"'[15]3'!BB47","v":0},{"$f":"'[15]3'!BC47","v":0},28.673999999999999,2.1659999999999999,0,0,4310.82,0,0,30.84,4310.82,{"$f":"'[15]3'!BM47","v":1.4999999999999999E-2},{"$f":"'[15]3'!BN47","v":1.2999999999999999E-2},{"$f":"'[15]3'!BO47","v":0},{"$f":"'[15]3'!BP47","v":0},{"$f":"'[15]3'!BQ47","v":0},{"$f":"'[15]3'!BR47","v":0},33.449999999999996,3.6659999999999999,0,0,5188.07,0,0,37.115999999999993,5188.07,{"$f":"'[15]3'!CB47","v":1.4999999999999999E-2},{"$f":"'[15]3'!CC47","v":1.2999999999999999E-2},{"$f":"'[15]3'!CD47","v":0},{"$f":"'[15]3'!CE47","v":0},{"$f":"'[15]3'!CF47","v":0},{"$f":"'[15]3'!CG47","v":0},24.585000000000001,3.3539999999999996,0,0,3905.31,0,0,27.939,3905.31,{"$f":"'[15]3'!CQ47","v":0},{"$f":"'[15]3'!CR47","v":0},{"$f":"'[15]3'!CS47","v":0},{"$f":"'[15]3'!CT47","v":0},{"$f":"'[15]3'!CU47","v":0},{"$f":"'[15]3'!CV47","v":0},0,0,0,0,0,0,0,0,0,{"$f":"'[15]3'!DF47","v":0},{"$f":"'[15]3'!DG47","v":0},{"$f":"'[15]3'!DH47","v":0},{"$f":"'[15]3'!DI47","v":0},{"$f":"'[15]3'!DJ47","v":0},{"$f":"'[15]3'!DK47","v":0},0,0,0,0,0,0,0,0,0,{"$f":"'[15]3'!DU47","v":0},{"$f":"'[15]3'!DV47","v":0},{"$f":"'[15]3'!DW47","v":0},{"$f":"'[15]3'!DX47","v":0},{"$f":"'[15]3'!DY47","v":0},{"$f":"'[15]3'!DZ47","v":0},0,0,0,0,0,0,0,0,0,{"$f":"'[15]3'!EJ47","v":1.4999999999999999E-2},{"$f":"'[15]3'!EK47","v":0.01},{"$f":"'[15]3'!EL47","v":0},{"$f":"'[15]3'!EM47","v":0},{"$f":"'[15]3'!EN47","v":0},{"$f":"'[15]3'!EO47","v":0},45.78,5.1000000000000005,0,0,7112.01,0,0,50.88,7112.01,{"$f":"'[15]3'!EY47","v":1.4999999999999999E-2},{"$f":"'[15]3'!EZ47","v":0.01},{"$f":"'[15]3'!FA47","v":0},{"$f":"'[15]3'!FB47","v":0},{"$f":"'[15]3'!FC47","v":0},{"$f":"'[15]3'!FD47","v":0},49.17,4.97,0,0,7567.69,0,0,54.14,7567.69,{"$f":"'[15]3'!FN47","v":1.4999999999999999E-2},{"$f":"'[15]3'!FO47","v":0.01},{"$f":"'[15]3'!FP47","v":0},{"$f":"'[15]3'!FQ47","v":0},{"$f":"'[15]3'!FR47","v":0},{"$f":"'[15]3'!FS47","v":0},56.22,5.28,0,0,8596.4699999999993,0,0,61.5,8596.4699999999993,{"$f":"R47+AG47+AV47+BK47+BZ47+CO47","v":181.64399999999998},25390.19,{"$f":"DD47+DS47+EH47+EW47+FL47+GA47","v":166.52},23276.17,{"$f":"GC47+GE47","v":348.16399999999999},48666.36,12,348.16399999999999,48666.36,0,0]
[34,"Томаты в собственном соку","кг",{"$f":"[15]цены!E42","v":104.41},{"$f":"'[15]3'!E48","v":8.9999999999999993E-3},{"$f":"'[15]3'!F48","v":6.0000000000000001E-3},{"$f":"'[15]3'!G48","v":1.17E-3},{"$f":"'[15]3'!H48","v":0},{"$f":"'[15]3'!I48","v":0},{"$f":"'[15]3'!J48","v":1E-4},22.364999999999998,2.004,0,0,2544.37,5.8800000000000005E-2,6.14,24.427800000000001,2550.5099999999998,{"$f":"'[15]3'!T48","v":8.9999999999999993E-3},{"$f":"'[15]3'!U48","v":6.0000000000000001E-3},{"$f":"'[15]3'!V48","v":1.17E-3},{"$f":"'[15]3'!W48","v":0},{"$f":"'[15]3'!X48","v":0},{"$f":"'[15]3'!Y48","v":1E-4},30.590999999999998,1.3440000000000001,0,0,3334.33,6.8000000000000005E-2,7.1,32.003,3341.43,8.9999999999999993E-3,6.0000000000000001E-3,8.9999999999999993E-3,1.2E-2,0.01,1E-4,27.044999999999998,2.4,0,0,3074.35,0.08,8.35,29.524999999999995,3082.7,{"$f":"'[15]3'!AX48","v":8.9999999999999993E-3},{"$f":"'[15]3'!AY48","v":6.0000000000000001E-3},{"$f":"'[15]3'!AZ48","v":1.17E-3},{"$f":"'[15]3'!BA48","v":0},{"$f":"'[15]3'!BB48","v":0},{"$f":"'[15]3'!BC48","v":1E-4},28.673999999999999,2.1659999999999999,0,0,3220,6.8400000000000002E-2,7.14,30.9084,3227.14,{"$f":"'[15]3'!BM48","v":0.02},{"$f":"'[15]3'!BN48","v":1.2999999999999999E-2},{"$f":"'[15]3'!BO48","v":1.17E-3},{"$f":"'[15]3'!BP48","v":0},{"$f":"'[15]3'!BQ48","v":0},{"$f":"'[15]3'!BR48","v":1E-3},44.6,3.6659999999999999,0,0,5039.45,0.627,65.47,48.893000000000001,5104.92,{"$f":"'[15]3'!CB48","v":0.02},{"$f":"'[15]3'!CC48","v":1.2999999999999999E-2},{"$f":"'[15]3'!CD48","v":1.17E-3},{"$f":"'[15]3'!CE48","v":0},{"$f":"'[15]3'!CF48","v":0},{"$f":"'[15]3'!CG48","v":1E-3},32.78,3.3539999999999996,0,0,3772.75,0.60799999999999998,63.48,36.741999999999997,3836.23,{"$f":"'[15]3'!CQ48","v":7.0000000000000001E-3},{"$f":"'[15]3'!CR48","v":5.0000000000000001E-3},{"$f":"'[15]3'!CS48","v":1.17E-3},{"$f":"'[15]3'!CT48","v":0},{"$f":"'[15]3'!CU48","v":0},{"$f":"'[15]3'!CV48","v":0},32.340000000000003,4.2700000000000005,0,0,3822.45,0,0,36.610000000000007,3822.45,{"$f":"'[15]3'!DF48","v":7.0000000000000001E-3},{"$f":"'[15]3'!DG48","v":5.0000000000000001E-3},{"$f":"'[15]3'!DH48","v":1.17E-3},{"$f":"'[15]3'!DI48","v":0},{"$f":"'[15]3'!DJ48","v":0},{"$f":"'[15]3'!DK48","v":0},10.08,1.9950000000000001,0,0,1260.75,0,0,12.074999999999999,1260.75,{"$f":"'[15]3'!DU48","v":7.0000000000000001E-3},{"$f":"'[15]3'!DV48","v":5.0000000000000001E-3},{"$f":"'[15]3'!DW48","v":1.17E-3},{"$f":"'[15]3'!DX48","v":0},{"$f":"'[15]3'!DY48","v":0},{"$f":"'[15]3'!DZ48","v":1E-3},15.316000000000001,2.4,0,0,1849.73,0.55100000000000005,57.53,18.266999999999999,1907.26,{"$f":"'[15]3'!EJ48","v":1.4999999999999999E-2},{"$f":"'[15]3'!EK48","v":0.01},{"$f":"'[15]3'!EL48","v":1.17E-3},{"$f":"'[15]3'!EM48","v":0},{"$f":"'[15]3'!EN48","v":0},{"$f":"'[15]3'!EO48","v":0},45.78,5.1000000000000005,0,0,5312.38,0,0,50.88,5312.38,{"$f":"'[15]3'!EY48","v":1.2999999999999999E-2},{"$f":"'[15]3'!EZ48","v":0.01},{"$f":"'[15]3'!FA48","v":1.17E-3},{"$f":"'[15]3'!FB48","v":0},{"$f":"'[15]3'!FC48","v":0},{"$f":"'[15]3'!FD48","v":1E-3},42.613999999999997,4.97,0,0,4968.25,0.85499999999999998,89.27,48.438999999999993,5057.5200000000004,{"$f":"'[15]3'!FN48","v":1.2999999999999999E-2},{"$f":"'[15]3'!FO48","v":0.01},{"$f":"'[15]3'!FP48","v":1.17E-3},{"$f":"'[15]3'!FQ48","v":0},{"$f":"'[15]3'!FR48","v":0},{"$f":"'[15]3'!FS48","v":1E-3},48.723999999999997,5.28,0,0,5638.56,0.9,93.97,54.903999999999996,5732.5300000000007,202.4992,21142.929999999997,221.17499999999998,23092.89,423.67419999999998,44235.819999999992,12,419.858,43837.369999999995,3.8161999999999807,398.44999999999709]
[35,"Кабачки свежие ( июль - август )","кг",{"$f":"[15]цены!E43","v":110},{"$f":"'[15]3'!E49","v":0},{"$f":"'[15]3'!F49","v":0},{"$f":"'[15]3'!G49","v":0},{"$f":"'[15]3'!H49","v":0},{"$f":"'[15]3'!I49","v":0},{"$f":"'[15]3'!J49","v":0},0,0,0,0,0,0,0,0,0,{"$f":"'[15]3'!T49","v":0},{"$f":"'[15]3'!U49","v":0},{"$f":"'[15]3'!V49","v":0},{"$f":"'[15]3'!W49","v":0},{"$f":"'[15]3'!X49","v":0},{"$f":"'[15]3'!Y49","v":0},0,0,0,0,0,0,0,0,0,null,null,null,null,null,null,0,0,0,0,0,0,0,0,0,{"$f":"'[15]3'!AX49","v":0},{"$f":"'[15]3'!AY49","v":0},{"$f":"'[15]3'!AZ49","v":0},{"$f":"'[15]3'!BA49","v":0},{"$f":"'[15]3'!BB49","v":0},{"$f":"'[15]3'!BC49","v":0},0,0,0,0,0,0,0,0,0,{"$f":"'[15]3'!BM49","v":0},{"$f":"'[15]3'!BN49","v":0},{"$f":"'[15]3'!BO49","v":0},{"$f":"'[15]3'!BP49","v":0},{"$f":"'[15]3'!BQ49","v":0},{"$f":"'[15]3'!BR49","v":0},0,0,0,0,0,0,0,0,0,{"$f":"'[15]3'!CB49","v":0},{"$f":"'[15]3'!CC49","v":0},{"$f":"'[15]3'!CD49","v":0},{"$f":"'[15]3'!CE49","v":0},{"$f":"'[15]3'!CF49","v":0},{"$f":"'[15]3'!CG49","v":0},0,0,0,0,0,0,0,0,0,{"$f":"'[15]3'!CQ49","v":4.7E-2},{"$f":"'[15]3'!CR49","v":0.04},{"$f":"'[15]3'!CS49","v":0},{"$f":"'[15]3'!CT49","v":0},{"$f":"'[15]3'!CU49","v":0},{"$f":"'[15]3'!CV49","v":5.0000000000000001E-4},217.14,34.160000000000004,0,0,27643,0.247,27.17,251.547,27670.17,{"$f":"'[15]3'!DF49","v":4.7E-2},{"$f":"'[15]3'!DG49","v":0.04},{"$f":"'[15]3'!DH49","v":0},{"$f":"'[15]3'!DI49","v":0},{"$f":"'[15]3'!DJ49","v":0},{"$f":"'[15]3'!DK49","v":5.0000000000000001E-4},67.680000000000007,15.96,0,0,9200.4,0.27300000000000002,30.03,83.913000000000011,9230.43,{"$f":"'[15]3'!DU49","v":0},{"$f":"'[15]3'!DV49","v":0},{"$f":"'[15]3'!DW49","v":0},{"$f":"'[15]3'!DX49","v":0},{"$f":"'[15]3'!DY49","v":0},{"$f":"'[15]3'!DZ49","v":0},0,0,0,0,0,0,0,0,0,{"$f":"'[15]3'!EJ49","v":0},{"$f":"'[15]3'!EK49","v":0},{"$f":"'[15]3'!EL49","v":0},{"$f":"'[15]3'!EM49","v":0},{"$f":"'[15]3'!EN49","v":0},{"$f":"'[15]3'!EO49","v":0},0,0,0,0,0,0,0,0,0,{"$f":"'[15]3'!EY49","v":0},{"$f":"'[15]3'!EZ49","v":0},{"$f":"'[15]3'!FA49","v":0},{"$f":"'[15]3'!FB49","v":0},{"$f":"'[15]3'!FC49","v":0},{"$f":"'[15]3'!FD49","v":0},0,0,0,0,0,0,0,0,0,{"$f":"'[15]3'!FN49","v":0},{"$f":"'[15]3'!FO49","v":0},{"$f":"'[15]3'!FP49","v":0},{"$f":"'[15]3'!FQ49","v":0},{"$f":"'[15]3'!FR49","v":0},{"$f":"'[15]3'!FS49","v":0},0,0,0,0,0,0,0,0,0,0,0,335.46000000000004,36900.6,335.46000000000004,36900.6,2,334.94,36843.4,0.52000000000003865,57.19999999999709]
[36,"Зеленый горошек консервир.","кг",{"$f":"[15]цены!E44","v":135.11000000000001},{"$f":"'[15]3'!E50","v":1.2E-2},{"$f":"'[15]3'!F50","v":0.01},{"$f":"'[15]3'!G50","v":1.5600000000000002E-3},{"$f":"'[15]3'!H50","v":0},{"$f":"'[15]3'!I50","v":0},{"$f":"'[15]3'!J50","v":5.0000000000000001E-4},29.82,3.34,0,0,4480.25,0.29399999999999998,39.72,33.453999999999994,4519.97,{"$f":"'[15]3'!T50","v":1.2E-2},{"$f":"'[15]3'!U50","v":0.01},{"$f":"'[15]3'!V50","v":1.5600000000000002E-3},{"$f":"'[15]3'!W50","v":0},{"$f":"'[15]3'!X50","v":0},{"$f":"'[15]3'!Y50","v":5.0000000000000001E-4},40.788000000000004,2.2400000000000002,0,0,5813.51,0.34,45.94,43.368000000000009,5859.45,1.2E-2,0.01,1.2E-2,0.02,1.4999999999999999E-2,5.0000000000000001E-4,36.06,4,0,0,5412.51,0.4,54.04,40.46,5466.55,{"$f":"'[15]3'!AX50","v":1.2E-2},{"$f":"'[15]3'!AY50","v":0.01},{"$f":"'[15]3'!AZ50","v":1.5600000000000002E-3},{"$f":"'[15]3'!BA50","v":0},{"$f":"'[15]3'!BB50","v":0},{"$f":"'[15]3'!BC50","v":5.0000000000000001E-4},38.231999999999999,3.61,0,0,5653.27,0.34200000000000003,46.21,42.183999999999997,5699.4800000000005,{"$f":"'[15]3'!BM50","v":1.2E-2},{"$f":"'[15]3'!BN50","v":1.0999999999999999E-2},{"$f":"'[15]3'!BO50","v":1.5600000000000002E-3},{"$f":"'[15]3'!BP50","v":0},{"$f":"'[15]3'!BQ50","v":0},{"$f":"'[15]3'!BR50","v":5.0000000000000001E-4},26.76,3.1019999999999999,0,0,4034.65,0.3135,42.36,30.175500000000003,4077.01,{"$f":"'[15]3'!CB50","v":1.2E-2},{"$f":"'[15]3'!CC50","v":1.0999999999999999E-2},{"$f":"'[15]3'!CD50","v":1.5600000000000002E-3},{"$f":"'[15]3'!CE50","v":0},{"$f":"'[15]3'!CF50","v":0},{"$f":"'[15]3'!CG50","v":5.0000000000000001E-4},19.667999999999999,2.8379999999999996,0,0,3040.79,0.30399999999999999,41.07,22.81,3081.86,{"$f":"'[15]3'!CQ50","v":5.0000000000000001E-3},{"$f":"'[15]3'!CR50","v":4.0000000000000001E-3},{"$f":"'[15]3'!CS50","v":1.5600000000000002E-3},{"$f":"'[15]3'!CT50","v":0},{"$f":"'[15]3'!CU50","v":0},{"$f":"'[15]3'!CV50","v":5.0000000000000001E-4},23.1,3.4159999999999999,0,0,3582.58,0.247,33.369999999999997,26.763000000000002,3615.95,{"$f":"'[15]3'!DF50","v":5.0000000000000001E-3},{"$f":"'[15]3'!DG50","v":4.0000000000000001E-3},{"$f":"'[15]3'!DH50","v":1.5600000000000002E-3},{"$f":"'[15]3'!DI50","v":0},{"$f":"'[15]3'!DJ50","v":0},{"$f":"'[15]3'!DK50","v":5.0000000000000001E-4},7.2,1.5960000000000001,0,0,1188.43,0.27300000000000002,36.89,9.0689999999999991,1225.3200000000002,{"$f":"'[15]3'!DU50","v":1.4999999999999999E-2},{"$f":"'[15]3'!DV50","v":1.2999999999999999E-2},{"$f":"'[15]3'!DW50","v":1.5600000000000002E-3},{"$f":"'[15]3'!DX50","v":0},{"$f":"'[15]3'!DY50","v":0},{"$f":"'[15]3'!DZ50","v":5.0000000000000001E-4},32.82,6.2399999999999993,0,0,5277.4,0.27550000000000002,37.22,39.335500000000003,5314.62,{"$f":"'[15]3'!EJ50","v":1.2E-2},{"$f":"'[15]3'!EK50","v":0.01},{"$f":"'[15]3'!EL50","v":1.5600000000000002E-3},{"$f":"'[15]3'!EM50","v":0},{"$f":"'[15]3'!EN50","v":0},{"$f":"'[15]3'!EO50","v":5.0000000000000001E-4},36.624000000000002,5.1000000000000005,0,0,5637.33,0.36,48.64,42.084000000000003,5685.97,{"$f":"'[15]3'!EY50","v":1.2E-2},{"$f":"'[15]3'!EZ50","v":0.01},{"$f":"'[15]3'!FA50","v":1.5600000000000002E-3},{"$f":"'[15]3'!FB50","v":0},{"$f":"'[15]3'!FC50","v":0},{"$f":"'[15]3'!FD50","v":5.0000000000000001E-4},39.335999999999999,4.97,0,0,5986.18,0.42749999999999999,57.76,44.733499999999999,6043.9400000000005,{"$f":"'[15]3'!FN50","v":1.2E-2},{"$f":"'[15]3'!FO50","v":0.01},{"$f":"'[15]3'!FP50","v":1.5600000000000002E-3},{"$f":"'[15]3'!FQ50","v":0},{"$f":"'[15]3'!FR50","v":0},{"$f":"'[15]3'!FS50","v":5.0000000000000001E-4},44.975999999999999,5.28,0,0,6790.09,0.45,60.8,50.706000000000003,6850.89,212.45150000000001,28704.32,212.69100000000003,28736.690000000002,425.14250000000004,57441.01,12,421.1160000000001,56896.989999999991,4.0264999999999418,544.02000000001135]
[37,"Томатная паста","кг",{"$f":"[15]цены!E45","v":179.52},{"$f":"'[15]3'!E51","v":5.0000000000000001E-3},{"$f":"'[15]3'!F51","v":4.0000000000000001E-3},{"$f":"'[15]3'!G51","v":0},{"$f":"'[15]3'!H51","v":0},{"$f":"'[15]3'!I51","v":0},{"$f":"'[15]3'!J51","v":3.0000000000000001E-3},12.425000000000001,1.3360000000000001,0,0,2470.37,1.764,316.67,15.525,2787.04,{"$f":"'[15]3'!T51","v":5.0000000000000001E-3},{"$f":"'[15]3'!U51","v":4.0000000000000001E-3},{"$f":"'[15]3'!V51","v":0},{"$f":"'[15]3'!W51","v":0},{"$f":"'[15]3'!X51","v":0},{"$f":"'[15]3'!Y51","v":3.0000000000000001E-3},16.995000000000001,0.89600000000000002,0,0,3211.79,2.04,366.22,19.931000000000001,3578.01,5.0000000000000001E-3,4.0000000000000001E-3,5.0000000000000001E-3,5.0000000000000001E-3,4.0000000000000001E-3,3.0000000000000001E-3,15.025,1.6,0,0,2984.52,2.4,430.85,19.024999999999999,3415.37,{"$f":"'[15]3'!AX51","v":5.0000000000000001E-3},{"$f":"'[15]3'!AY51","v":4.0000000000000001E-3},{"$f":"'[15]3'!AZ51","v":0},{"$f":"'[15]3'!BA51","v":0},{"$f":"'[15]3'!BB51","v":0},{"$f":"'[15]3'!BC51","v":3.0000000000000001E-3},15.93,1.444,0,0,3118.98,2.052,368.38,19.425999999999998,3487.36,{"$f":"'[15]3'!BM51","v":5.0000000000000001E-3},{"$f":"'[15]3'!BN51","v":3.0000000000000001E-3},{"$f":"'[15]3'!BO51","v":0},{"$f":"'[15]3'!BP51","v":0},{"$f":"'[15]3'!BQ51","v":0},{"$f":"'[15]3'!BR51","v":3.0000000000000001E-3},11.15,0.84599999999999997,0,0,2153.52,1.881,337.68,13.877000000000001,2491.1999999999998,{"$f":"'[15]3'!CB51","v":5.0000000000000001E-3},{"$f":"'[15]3'!CC51","v":3.0000000000000001E-3},{"$f":"'[15]3'!CD51","v":0},{"$f":"'[15]3'!CE51","v":0},{"$f":"'[15]3'!CF51","v":0},{"$f":"'[15]3'!CG51","v":3.0000000000000001E-3},8.1950000000000003,0.77400000000000002,0,0,1610.11,1.8240000000000001,327.44,10.793000000000001,1937.55,{"$f":"'[15]3'!CQ51","v":5.0000000000000001E-3},{"$f":"'[15]3'!CR51","v":3.0000000000000001E-3},{"$f":"'[15]3'!CS51","v":0},{"$f":"'[15]3'!CT51","v":0},{"$f":"'[15]3'!CU51","v":0},{"$f":"'[15]3'!CV51","v":3.0000000000000001E-3},23.1,2.5619999999999998,0,0,4606.84,1.482,266.05,27.144000000000002,4872.8900000000003,{"$f":"'[15]3'!DF51","v":5.0000000000000001E-3},{"$f":"'[15]3'!DG51","v":3.0000000000000001E-3},{"$f":"'[15]3'!DH51","v":0},{"$f":"'[15]3'!DI51","v":0},{"$f":"'[15]3'!DJ51","v":0},{"$f":"'[15]3'!DK51","v":3.0000000000000001E-3},7.2,1.1970000000000001,0,0,1507.43,1.6380000000000001,294.05,10.035,1801.48,{"$f":"'[15]3'!DU51","v":5.0000000000000001E-3},{"$f":"'[15]3'!DV51","v":3.0000000000000001E-3},{"$f":"'[15]3'!DW51","v":0},{"$f":"'[15]3'!DX51","v":0},{"$f":"'[15]3'!DY51","v":0},{"$f":"'[15]3'!DZ51","v":3.0000000000000001E-3},10.94,1.44,0,0,2222.46,1.653,296.75,14.032999999999999,2519.21,{"$f":"'[15]3'!EJ51","v":5.0000000000000001E-3},{"$f":"'[15]3'!EK51","v":2E-3},{"$f":"'[15]3'!EL51","v":0},{"$f":"'[15]3'!EM51","v":0},{"$f":"'[15]3'!EN51","v":0},{"$f":"'[15]3'!EO51","v":3.0000000000000001E-3},15.26,1.02,0,0,2922.59,2.16,387.76,18.440000000000001,3310.3500000000004,{"$f":"'[15]3'!EY51","v":5.0000000000000001E-3},{"$f":"'[15]3'!EZ51","v":3.0000000000000001E-3},{"$f":"'[15]3'!FA51","v":0},{"$f":"'[15]3'!FB51","v":0},{"$f":"'[15]3'!FC51","v":0},{"$f":"'[15]3'!FD51","v":3.0000000000000001E-3},16.39,1.4910000000000001,0,0,3210,2.5649999999999999,460.47,20.446000000000002,3670.4700000000003,{"$f":"'[15]3'!FN51","v":5.0000000000000001E-3},{"$f":"'[15]3'!FO51","v":3.0000000000000001E-3},{"$f":"'[15]3'!FP51","v":0},{"$f":"'[15]3'!FQ51","v":0},{"$f":"'[15]3'!FR51","v":0},{"$f":"'[15]3'!FS51","v":3.0000000000000001E-3},18.740000000000002,1.5840000000000001,0,0,3648.56,2.7,484.7,23.024000000000001,4133.26,98.576999999999998,17696.53,113.122,20307.660000000003,211.69900000000001,38004.19,12,187.54000000000002,33667.17,24.158999999999992,4337.0200000000041]
[38,"Ягода свежеморожен (вишня,малина и т.д.)","кг",{"$f":"[15]цены!E46","v":256.19},{"$f":"'[15]3'!E52","v":3.0000000000000001E-3},{"$f":"'[15]3'!F52","v":3.0000000000000001E-3},{"$f":"'[15]3'!G52","v":0},{"$f":"'[15]3'!H52","v":0},{"$f":"'[15]3'!I52","v":0},{"$f":"'[15]3'!J52","v":1E-3},7.4550000000000001,1.002,0,0,2166.6,0.58799999999999997,150.63999999999999,9.0449999999999999,2317.2399999999998,{"$f":"'[15]3'!T52","v":3.0000000000000001E-3},{"$f":"'[15]3'!U52","v":3.0000000000000001E-3},{"$f":"'[15]3'!V52","v":0},{"$f":"'[15]3'!W52","v":0},{"$f":"'[15]3'!X52","v":0},{"$f":"'[15]3'!Y52","v":1E-3},10.197000000000001,0.67200000000000004,0,0,2784.53,0.68,174.21,11.549000000000001,2958.7400000000002,3.0000000000000001E-3,3.0000000000000001E-3,3.0000000000000001E-3,3.0000000000000001E-3,1E-3,1E-3,9.0150000000000006,1.2,0,0,2616.98,0.8,204.95,11.015000000000001,2821.93,{"$f":"'[15]3'!AX52","v":3.0000000000000001E-3},{"$f":"'[15]3'!AY52","v":3.0000000000000001E-3},{"$f":"'[15]3'!AZ52","v":0},{"$f":"'[15]3'!BA52","v":0},{"$f":"'[15]3'!BB52","v":0},{"$f":"'[15]3'!BC52","v":1E-3},9.5579999999999998,1.083,0,0,2726.12,0.68400000000000005,175.23,11.324999999999999,2901.35,{"$f":"'[15]3'!BM52","v":3.0000000000000001E-3},{"$f":"'[15]3'!BN52","v":3.0000000000000001E-3},{"$f":"'[15]3'!BO52","v":0},{"$f":"'[15]3'!BP52","v":0},{"$f":"'[15]3'!BQ52","v":0},{"$f":"'[15]3'!BR52","v":1E-3},6.69,0.84599999999999997,0,0,1930.65,0.627,160.63,8.1630000000000003,2091.2800000000002,{"$f":"'[15]3'!CB52","v":3.0000000000000001E-3},{"$f":"'[15]3'!CC52","v":3.0000000000000001E-3},{"$f":"'[15]3'!CD52","v":0},{"$f":"'[15]3'!CE52","v":0},{"$f":"'[15]3'!CF52","v":0},{"$f":"'[15]3'!CG52","v":1E-3},4.9169999999999998,0.77400000000000002,0,0,1457.98,0.60799999999999998,155.76,6.2989999999999995,1613.74,{"$f":"'[15]3'!CQ52","v":2E-3},{"$f":"'[15]3'!CR52","v":2E-3},{"$f":"'[15]3'!CS52","v":0},{"$f":"'[15]3'!CT52","v":0},{"$f":"'[15]3'!CU52","v":0},{"$f":"'[15]3'!CV52","v":1E-3},9.24,1.708,0,0,2804.77,0.49399999999999999,126.56,11.442,2931.33,{"$f":"'[15]3'!DF52","v":2E-3},{"$f":"'[15]3'!DG52","v":2E-3},{"$f":"'[15]3'!DH52","v":0},{"$f":"'[15]3'!DI52","v":0},{"$f":"'[15]3'!DJ52","v":0},{"$f":"'[15]3'!DK52","v":1E-3},2.88,0.79800000000000004,0,0,942.27,0.54600000000000004,139.88,4.2240000000000002,1082.1500000000001,{"$f":"'[15]3'!DU52","v":2E-3},{"$f":"'[15]3'!DV52","v":2E-3},{"$f":"'[15]3'!DW52","v":0},{"$f":"'[15]3'!DX52","v":0},{"$f":"'[15]3'!DY52","v":0},{"$f":"'[15]3'!DZ52","v":1E-3},4.3760000000000003,0.96,0,0,1367.03,0.55100000000000005,141.16,5.8870000000000005,1508.19,{"$f":"'[15]3'!EJ52","v":4.0000000000000001E-3},{"$f":"'[15]3'!EK52","v":4.0000000000000001E-3},{"$f":"'[15]3'!EL52","v":0},{"$f":"'[15]3'!EM52","v":0},{"$f":"'[15]3'!EN52","v":0},{"$f":"'[15]3'!EO52","v":1E-3},12.208,2.04,0,0,3650.2,0.72,184.46,14.968000000000002,3834.66,{"$f":"'[15]3'!EY52","v":4.0000000000000001E-3},{"$f":"'[15]3'!EZ52","v":4.0000000000000001E-3},{"$f":"'[15]3'!FA52","v":0},{"$f":"'[15]3'!FB52","v":0},{"$f":"'[15]3'!FC52","v":0},{"$f":"'[15]3'!FD52","v":1E-3},13.112,1.988,0,0,3868.47,0.85499999999999998,219.04,15.955,4087.5099999999998,{"$f":"'[15]3'!FN52","v":4.0000000000000001E-3},{"$f":"'[15]3'!FO52","v":4.0000000000000001E-3},{"$f":"'[15]3'!FP52","v":0},{"$f":"'[15]3'!FQ52","v":0},{"$f":"'[15]3'!FR52","v":0},{"$f":"'[15]3'!FS52","v":1E-3},14.992000000000001,2.1120000000000001,0,0,4381.87,0.9,230.57,18.003999999999998,4612.4399999999996,57.395999999999994,14704.28,70.47999999999999,18056.28,127.87599999999998,32760.559999999998,12,119.82299999999996,30697.469999999998,8.0530000000000115,2063.09]
[39,"Клюква свежеморож.","кг",{"$f":"[15]цены!E47","v":286.74},{"$f":"'[15]3'!E53","v":2E-3},{"$f":"'[15]3'!F53","v":2E-3},{"$f":"'[15]3'!G53","v":2.6000000000000003E-4},{"$f":"'[15]3'!H53","v":0},{"$f":"'[15]3'!I53","v":0},{"$f":"'[15]3'!J53","v":1E-3},4.97,0.66800000000000004,0,0,1616.64,0.58799999999999997,168.6,6.226,1785.24,{"$f":"'[15]3'!T53","v":2E-3},{"$f":"'[15]3'!U53","v":2E-3},{"$f":"'[15]3'!V53","v":2.6000000000000003E-4},{"$f":"'[15]3'!W53","v":0},{"$f":"'[15]3'!X53","v":0},{"$f":"'[15]3'!Y53","v":1E-3},6.798,0.44800000000000001,0,0,2077.7199999999998,0.68,194.98,7.9260000000000002,2272.6999999999998,2E-3,2E-3,2E-3,2E-3,1E-3,1E-3,6.01,0.8,0,0,1952.7,0.8,229.39,7.6099999999999994,2182.09,{"$f":"'[15]3'!AX53","v":2E-3},{"$f":"'[15]3'!AY53","v":2E-3},{"$f":"'[15]3'!AZ53","v":2.6000000000000003E-4},{"$f":"'[15]3'!BA53","v":0},{"$f":"'[15]3'!BB53","v":0},{"$f":"'[15]3'!BC53","v":1E-3},6.3719999999999999,0.72199999999999998,0,0,2034.13,0.68400000000000005,196.13,7.7779999999999996,2230.2600000000002,{"$f":"'[15]3'!BM53","v":2E-3},{"$f":"'[15]3'!BN53","v":2E-3},{"$f":"'[15]3'!BO53","v":2.6000000000000003E-4},{"$f":"'[15]3'!BP53","v":0},{"$f":"'[15]3'!BQ53","v":0},{"$f":"'[15]3'!BR53","v":1E-3},4.46,0.56400000000000006,0,0,1440.58,0.627,179.79,5.6509999999999998,1620.37,{"$f":"'[15]3'!CB53","v":0},{"$f":"'[15]3'!CC53","v":0},{"$f":"'[15]3'!CD53","v":2.6000000000000003E-4},{"$f":"'[15]3'!CE53","v":0},{"$f":"'[15]3'!CF53","v":0},{"$f":"'[15]3'!CG53","v":0},0,0,0,0,0,0,0,0,0,{"$f":"'[15]3'!CQ53","v":0},{"$f":"'[15]3'!CR53","v":0},{"$f":"'[15]3'!CS53","v":2.6000000000000003E-4},{"$f":"'[15]3'!CT53","v":0},{"$f":"'[15]3'!CU53","v":0},{"$f":"'[15]3'!CV53","v":0},0,0,0,0,0,0,0,0,0,{"$f":"'[15]3'!DF53","v":0},{"$f":"'[15]3'!DG53","v":0},{"$f":"'[15]3'!DH53","v":2.6000000000000003E-4},{"$f":"'[15]3'!DI53","v":0},{"$f":"'[15]3'!DJ53","v":0},{"$f":"'[15]3'!DK53","v":0},0,0,0,0,0,0,0,0,0,{"$f":"'[15]3'!DU53","v":2E-3},{"$f":"'[15]3'!DV53","v":2E-3},{"$f":"'[15]3'!DW53","v":2.6000000000000003E-4},{"$f":"'[15]3'!DX53","v":0},{"$f":"'[15]3'!DY53","v":0},{"$f":"'[15]3'!DZ53","v":1E-3},4.3760000000000003,0.96,0,0,1530.04,0.55100000000000005,157.99,5.8870000000000005,1688.03,{"$f":"'[15]3'!EJ53","v":2E-3},{"$f":"'[15]3'!EK53","v":2E-3},{"$f":"'[15]3'!EL53","v":2.6000000000000003E-4},{"$f":"'[15]3'!EM53","v":0},{"$f":"'[15]3'!EN53","v":0},{"$f":"'[15]3'!EO53","v":1E-3},6.1040000000000001,1.02,0,0,2042.74,0.72,206.45,7.8440000000000003,2249.19,{"$f":"'[15]3'!EY53","v":2E-3},{"$f":"'[15]3'!EZ53","v":2E-3},{"$f":"'[15]3'!FA53","v":2.6000000000000003E-4},{"$f":"'[15]3'!FB53","v":0},{"$f":"'[15]3'!FC53","v":0},{"$f":"'[15]3'!FD53","v":1E-3},6.556,0.99399999999999999,0,0,2164.89,0.85499999999999998,245.16,8.4049999999999994,2410.0499999999997,{"$f":"'[15]3'!FN53","v":2E-3},{"$f":"'[15]3'!FO53","v":2E-3},{"$f":"'[15]3'!FP53","v":2.6000000000000003E-4},{"$f":"'[15]3'!FQ53","v":0},{"$f":"'[15]3'!FR53","v":0},{"$f":"'[15]3'!FS53","v":1E-3},7.4960000000000004,1.056,0,0,2452.1999999999998,0.9,258.07,9.452,2710.27,35.191000000000003,10090.66,31.588000000000001,9057.5400000000009,66.778999999999996,19148.2,12,60.374000000000002,17311.64,6.404999999999994,1836.5600000000013]
[40,"Брусника свежеморож.","кг",{"$f":"[15]цены!E48","v":283.93},{"$f":"'[15]3'!E54","v":2E-3},{"$f":"'[15]3'!F54","v":2E-3},{"$f":"'[15]3'!G54","v":2.6000000000000003E-4},{"$f":"'[15]3'!H54","v":0},{"$f":"'[15]3'!I54","v":0},{"$f":"'[15]3'!J54","v":1E-3},4.97,0.66800000000000004,0,0,1600.8,0.58799999999999997,166.95,6.226,1767.75,{"$f":"'[15]3'!T54","v":2E-3},{"$f":"'[15]3'!U54","v":2E-3},{"$f":"'[15]3'!V54","v":2.6000000000000003E-4},{"$f":"'[15]3'!W54","v":0},{"$f":"'[15]3'!X54","v":0},{"$f":"'[15]3'!Y54","v":1E-3},6.798,0.44800000000000001,0,0,2057.36,0.68,193.07,7.9260000000000002,2250.4300000000003,2E-3,2E-3,2E-3,2E-3,1E-3,1E-3,6.01,0.8,0,0,1933.56,0.8,227.14,7.6099999999999994,2160.6999999999998,{"$f":"'[15]3'!AX54","v":2E-3},{"$f":"'[15]3'!AY54","v":2E-3},{"$f":"'[15]3'!AZ54","v":2.6000000000000003E-4},{"$f":"'[15]3'!BA54","v":0},{"$f":"'[15]3'!BB54","v":0},{"$f":"'[15]3'!BC54","v":1E-3},6.3719999999999999,0.72199999999999998,0,0,2014.2,0.68400000000000005,194.21,7.7779999999999996,2208.41,{"$f":"'[15]3'!BM54","v":2E-3},{"$f":"'[15]3'!BN54","v":2E-3},{"$f":"'[15]3'!BO54","v":2.6000000000000003E-4},{"$f":"'[15]3'!BP54","v":0},{"$f":"'[15]3'!BQ54","v":0},{"$f":"'[15]3'!BR54","v":1E-3},4.46,0.56400000000000006,0,0,1426.46,0.627,178.02,5.6509999999999998,1604.48,{"$f":"'[15]3'!CB54","v":0},{"$f":"'[15]3'!CC54","v":0},{"$f":"'[15]3'!CD54","v":2.6000000000000003E-4},{"$f":"'[15]3'!CE54","v":0},{"$f":"'[15]3'!CF54","v":0},{"$f":"'[15]3'!CG54","v":0},0,0,0,0,0,0,0,0,0,{"$f":"'[15]3'!CQ54","v":0},{"$f":"'[15]3'!CR54","v":0},{"$f":"'[15]3'!CS54","v":2.6000000000000003E-4},{"$f":"'[15]3'!CT54","v":0},{"$f":"'[15]3'!CU54","v":0},{"$f":"'[15]3'!CV54","v":0},0,0,0,0,0,0,0,0,0,{"$f":"'[15]3'!DF54","v":0},{"$f":"'[15]3'!DG54","v":0},{"$f":"'[15]3'!DH54","v":2.6000000000000003E-4},{"$f":"'[15]3'!DI54","v":0},{"$f":"'[15]3'!DJ54","v":0},{"$f":"'[15]3'!DK54","v":0},0,0,0,0,0,0,0,0,0,{"$f":"'[15]3'!DU54","v":0},{"$f":"'[15]3'!DV54","v":0},{"$f":"'[15]3'!DW54","v":2.6000000000000003E-4},{"$f":"'[15]3'!DX54","v":0},{"$f":"'[15]3'!DY54","v":0},{"$f":"'[15]3'!DZ54","v":0},0,0,0,0,0,0,0,0,0,{"$f":"'[15]3'!EJ54","v":3.0000000000000001E-3},{"$f":"'[15]3'!EK54","v":3.0000000000000001E-3},{"$f":"'[15]3'!EL54","v":2.6000000000000003E-4},{"$f":"'[15]3'!EM54","v":0},{"$f":"'[15]3'!EN54","v":0},{"$f":"'[15]3'!EO54","v":0},9.1560000000000006,1.53,0,0,3034.08,0,0,10.686,3034.08,{"$f":"'[15]3'!EY54","v":3.0000000000000001E-3},{"$f":"'[15]3'!EZ54","v":3.0000000000000001E-3},{"$f":"'[15]3'!FA54","v":2.6000000000000003E-4},{"$f":"'[15]3'!FB54","v":0},{"$f":"'[15]3'!FC54","v":0},{"$f":"'[15]3'!FD54","v":0},9.8339999999999996,1.4910000000000001,0,0,3215.51,0,0,11.324999999999999,3215.51,{"$f":"'[15]3'!FN54","v":3.0000000000000001E-3},{"$f":"'[15]3'!FO54","v":3.0000000000000001E-3},{"$f":"'[15]3'!FP54","v":2.6000000000000003E-4},{"$f":"'[15]3'!FQ54","v":0},{"$f":"'[15]3'!FR54","v":0},{"$f":"'[15]3'!FS54","v":0},11.244,1.5840000000000001,0,0,3642.25,0,0,12.827999999999999,3642.25,35.191000000000003,9991.77,34.838999999999999,9891.84,70.03,19883.61,12,66.65100000000001,18924.22,3.3789999999999907,959.38999999999942]
[41,"Мандарины","кг",{"$f":"[15]цены!E49","v":172.33},{"$f":"'[15]3'!E55","v":0.02},{"$f":"'[15]3'!F55","v":0.02},{"$f":"'[15]3'!G55","v":0},{"$f":"'[15]3'!H55","v":0},{"$f":"'[15]3'!I55","v":0},{"$f":"'[15]3'!J55","v":5.0000000000000001E-4},49.7,6.68,0,0,9715.9699999999993,0.29399999999999998,50.67,56.673999999999999,9766.64,{"$f":"'[15]3'!T55","v":0.02},{"$f":"'[15]3'!U55","v":0.02},{"$f":"'[15]3'!V55","v":0},{"$f":"'[15]3'!W55","v":0},{"$f":"'[15]3'!X55","v":0},{"$f":"'[15]3'!Y55","v":5.0000000000000001E-4},67.98,4.4800000000000004,0,0,12487.03,0.34,58.59,72.800000000000011,12545.62,0.02,0.02,0.02,3.5000000000000003E-2,0.02,5.0000000000000001E-4,60.1,8,0,0,11735.67,0.4,68.930000000000007,68.5,11804.6,{"$f":"'[15]3'!AX55","v":0.02},{"$f":"'[15]3'!AY55","v":0.02},{"$f":"'[15]3'!AZ55","v":0},{"$f":"'[15]3'!BA55","v":0},{"$f":"'[15]3'!BB55","v":0},{"$f":"'[15]3'!BC55","v":5.0000000000000001E-4},63.72,7.22,0,0,12225.09,0.34200000000000003,58.94,71.281999999999996,12284.03,{"$f":"'[15]3'!BM55","v":0.02},{"$f":"'[15]3'!BN55","v":0.02},{"$f":"'[15]3'!BO55","v":0},{"$f":"'[15]3'!BP55","v":0},{"$f":"'[15]3'!BQ55","v":0},{"$f":"'[15]3'!BR55","v":5.0000000000000001E-4},44.6,5.64,0,0,8657.86,0.3135,54.03,50.5535,8711.8900000000012,{"$f":"'[15]3'!CB55","v":0.02},{"$f":"'[15]3'!CC55","v":0.02},{"$f":"'[15]3'!CD55","v":0},{"$f":"'[15]3'!CE55","v":0},{"$f":"'[15]3'!CF55","v":0},{"$f":"'[15]3'!CG55","v":5.0000000000000001E-4},32.78,5.16,0,0,6538.2,0.30399999999999999,52.39,38.244,6590.59,{"$f":"'[15]3'!CQ55","v":5.0000000000000001E-3},{"$f":"'[15]3'!CR55","v":5.0000000000000001E-3},{"$f":"'[15]3'!CS55","v":0},{"$f":"'[15]3'!CT55","v":0},{"$f":"'[15]3'!CU55","v":0},{"$f":"'[15]3'!CV55","v":5.0000000000000001E-4},23.1,4.2700000000000005,0,0,4716.67,0.247,42.57,27.617000000000001,4759.24,{"$f":"'[15]3'!DF55","v":1.4999999999999999E-2},{"$f":"'[15]3'!DG55","v":1.4999999999999999E-2},{"$f":"'[15]3'!DH55","v":0},{"$f":"'[15]3'!DI55","v":0},{"$f":"'[15]3'!DJ55","v":0},{"$f":"'[15]3'!DK55","v":5.0000000000000001E-4},21.599999999999998,5.9849999999999994,0,0,4753.72,0.27300000000000002,47.05,27.857999999999997,4800.7700000000004,{"$f":"'[15]3'!DU55","v":0.01},{"$f":"'[15]3'!DV55","v":0.01},{"$f":"'[15]3'!DW55","v":0},{"$f":"'[15]3'!DX55","v":0},{"$f":"'[15]3'!DY55","v":0},{"$f":"'[15]3'!DZ55","v":1E-3},21.88,4.8,0,0,4597.76,0.55100000000000005,94.95,27.230999999999998,4692.71,{"$f":"'[15]3'!EJ55","v":1.4999999999999999E-2},{"$f":"'[15]3'!EK55","v":1.4999999999999999E-2},{"$f":"'[15]3'!EL55","v":0},{"$f":"'[15]3'!EM55","v":0},{"$f":"'[15]3'!EN55","v":0},{"$f":"'[15]3'!EO55","v":1E-3},45.78,7.6499999999999995,0,0,9207.59,0.72,124.08,54.15,9331.67,{"$f":"'[15]3'!EY55","v":0.02},{"$f":"'[15]3'!EZ55","v":0.02},{"$f":"'[15]3'!FA55","v":0},{"$f":"'[15]3'!FB55","v":0},{"$f":"'[15]3'!FC55","v":0},{"$f":"'[15]3'!FD55","v":1E-3},65.56,9.94,0,0,13010.92,0.85499999999999998,147.34,76.355000000000004,13158.26,{"$f":"'[15]3'!FN55","v":0.02},{"$f":"'[15]3'!FO55","v":0.02},{"$f":"'[15]3'!FP55","v":0},{"$f":"'[15]3'!FQ55","v":0},{"$f":"'[15]3'!FR55","v":0},{"$f":"'[15]3'!FS55","v":1E-3},74.960000000000008,10.56,0,0,14737.66,0.9,155.1,86.420000000000016,14892.76,358.05349999999999,61703.369999999995,299.63100000000003,51635.41,657.68450000000007,113338.78,1,652.1450000000001,112384.14,5.5394999999999754,954.63999999999942]
[42,"Яблоки","кг",{"$f":"[15]цены!E50","v":127.33},{"$f":"'[15]3'!E56","v":0.04},{"$f":"'[15]3'!F56","v":0.04},{"$f":"'[15]3'!G56","v":0},{"$f":"'[15]3'!H56","v":0},{"$f":"'[15]3'!I56","v":0},{"$f":"'[15]3'!J56","v":1E-3},99.4,13.36,0,0,14357.73,0.58799999999999997,74.87,113.348,14432.6,{"$f":"'[15]3'!T56","v":0.04},{"$f":"'[15]3'!U56","v":0.04},{"$f":"'[15]3'!V56","v":0},{"$f":"'[15]3'!W56","v":0},{"$f":"'[15]3'!X56","v":0},{"$f":"'[15]3'!Y56","v":1E-3},135.96,8.9600000000000009,0,0,18452.66,0.68,86.58,145.60000000000002,18539.240000000002,0.04,0.04,0.04,0.05,0.02,1E-3,120.2,16,0,0,17342.349999999999,0.8,101.86,137,17444.21,{"$f":"'[15]3'!AX56","v":0.04},{"$f":"'[15]3'!AY56","v":0.04},{"$f":"'[15]3'!AZ56","v":0},{"$f":"'[15]3'!BA56","v":0},{"$f":"'[15]3'!BB56","v":0},{"$f":"'[15]3'!BC56","v":1E-3},127.44,14.44,0,0,18065.580000000002,0.68400000000000005,87.09,142.56399999999999,18152.670000000002,{"$f":"'[15]3'!BM56","v":0.04},{"$f":"'[15]3'!BN56","v":0.04},{"$f":"'[15]3'!BO56","v":0},{"$f":"'[15]3'!BP56","v":0},{"$f":"'[15]3'!BQ56","v":0},{"$f":"'[15]3'!BR56","v":1E-3},89.2,11.28,0,0,12794.12,0.627,79.84,101.107,12873.960000000001,{"$f":"'[15]3'!CB56","v":0.03},{"$f":"'[15]3'!CC56","v":0.03},{"$f":"'[15]3'!CD56","v":0},{"$f":"'[15]3'!CE56","v":0},{"$f":"'[15]3'!CF56","v":0},{"$f":"'[15]3'!CG56","v":1E-3},49.17,7.7399999999999993,0,0,7246.35,0.60799999999999998,77.42,57.518000000000001,7323.77,{"$f":"'[15]3'!CQ56","v":0.03},{"$f":"'[15]3'!CR56","v":0.03},{"$f":"'[15]3'!CS56","v":0},{"$f":"'[15]3'!CT56","v":0},{"$f":"'[15]3'!CU56","v":0},{"$f":"'[15]3'!CV56","v":1E-3},138.6,25.619999999999997,0,0,20910.13,0.49399999999999999,62.9,164.714,20973.030000000002,{"$f":"'[15]3'!DF56","v":2.3E-2},{"$f":"'[15]3'!DG56","v":2.3E-2},{"$f":"'[15]3'!DH56","v":0},{"$f":"'[15]3'!DI56","v":0},{"$f":"'[15]3'!DJ56","v":0},{"$f":"'[15]3'!DK56","v":1E-3},33.119999999999997,9.1769999999999996,0,0,5385.68,0.54600000000000004,69.52,42.842999999999996,5455.2000000000007,{"$f":"'[15]3'!DU56","v":3.5000000000000003E-2},{"$f":"'[15]3'!DV56","v":3.5000000000000003E-2},{"$f":"'[15]3'!DW56","v":0},{"$f":"'[15]3'!DX56","v":0},{"$f":"'[15]3'!DY56","v":0},{"$f":"'[15]3'!DZ56","v":1E-3},76.580000000000013,16.8,0,0,11890.08,0.55100000000000005,70.16,93.931000000000012,11960.24,{"$f":"'[15]3'!EJ56","v":3.5000000000000003E-2},{"$f":"'[15]3'!EK56","v":3.5000000000000003E-2},{"$f":"'[15]3'!EL56","v":0},{"$f":"'[15]3'!EM56","v":0},{"$f":"'[15]3'!EN56","v":0},{"$f":"'[15]3'!EO56","v":1E-3},106.82000000000001,17.850000000000001,0,0,15874.23,0.72,91.68,125.39000000000001,15965.91,{"$f":"'[15]3'!EY56","v":3.4000000000000002E-2},{"$f":"'[15]3'!EZ56","v":3.4000000000000002E-2},{"$f":"'[15]3'!FA56","v":0},{"$f":"'[15]3'!FB56","v":0},{"$f":"'[15]3'!FC56","v":0},{"$f":"'[15]3'!FD56","v":1E-3},111.45200000000001,16.898,0,0,16342.81,0.85499999999999998,108.87,129.20500000000001,16451.68,{"$f":"'[15]3'!FN56","v":3.4000000000000002E-2},{"$f":"'[15]3'!FO56","v":3.4000000000000002E-2},{"$f":"'[15]3'!FP56","v":0},{"$f":"'[15]3'!FQ56","v":0},{"$f":"'[15]3'!FR56","v":0},{"$f":"'[15]3'!FS56","v":1E-3},127.432,17.952000000000002,0,0,18511.740000000002,0.9,114.6,146.28400000000002,18626.34,697.13700000000006,88766.450000000012,702.36700000000008,89432.4,1399.5040000000001,178198.85,1,1391.4510000000002,177173.46000000005,8.0529999999998836,1025.3899999999558]
[43,"Груши","кг",{"$f":"[15]цены!E51","v":169.67000000000002},{"$f":"'[15]3'!E57","v":2.5000000000000001E-2},{"$f":"'[15]3'!F57","v":2.5000000000000001E-2},{"$f":"'[15]3'!G57","v":0},{"$f":"'[15]3'!H57","v":0},{"$f":"'[15]3'!I57","v":0},{"$f":"'[15]3'!J57","v":1E-3},62.125,8.35,0,0,11957.49,0.58799999999999997,99.77,71.062999999999988,12057.26,{"$f":"'[15]3'!T57","v":2.5000000000000001E-2},{"$f":"'[15]3'!U57","v":2.5000000000000001E-2},{"$f":"'[15]3'!V57","v":0},{"$f":"'[15]3'!W57","v":0},{"$f":"'[15]3'!X57","v":0},{"$f":"'[15]3'!Y57","v":1E-3},84.975000000000009,5.6000000000000005,0,0,15367.86,0.68,115.38,91.25500000000001,15483.24,2.5000000000000001E-2,2.5000000000000001E-2,2.5000000000000001E-2,3.2000000000000001E-2,1.7000000000000001E-2,1E-3,75.125,10,0,0,14443.16,0.8,135.74,85.924999999999997,14578.9,{"$f":"'[15]3'!AX57","v":2.5000000000000001E-2},{"$f":"'[15]3'!AY57","v":2.5000000000000001E-2},{"$f":"'[15]3'!AZ57","v":0},{"$f":"'[15]3'!BA57","v":0},{"$f":"'[15]3'!BB57","v":0},{"$f":"'[15]3'!BC57","v":1E-3},79.650000000000006,9.0250000000000004,0,0,15045.49,0.68400000000000005,116.05,89.359000000000009,15161.539999999999,{"$f":"'[15]3'!BM57","v":2.3E-2},{"$f":"'[15]3'!BN57","v":2.3E-2},{"$f":"'[15]3'!BO57","v":0},{"$f":"'[15]3'!BP57","v":0},{"$f":"'[15]3'!BQ57","v":0},{"$f":"'[15]3'!BR57","v":1E-3},51.29,6.4859999999999998,0,0,9802.85,0.627,106.38,58.402999999999999,9909.23,{"$f":"'[15]3'!CB57","v":2.7E-2},{"$f":"'[15]3'!CC57","v":2.7E-2},{"$f":"'[15]3'!CD57","v":0},{"$f":"'[15]3'!CE57","v":0},{"$f":"'[15]3'!CF57","v":0},{"$f":"'[15]3'!CG57","v":1E-3},44.253,6.9660000000000002,0,0,8690.33,0.60799999999999998,103.16,51.826999999999998,8793.49,{"$f":"'[15]3'!CQ57","v":1.2999999999999999E-2},{"$f":"'[15]3'!CR57","v":1.2999999999999999E-2},{"$f":"'[15]3'!CS57","v":0},{"$f":"'[15]3'!CT57","v":0},{"$f":"'[15]3'!CU57","v":0},{"$f":"'[15]3'!CV57","v":1E-3},60.059999999999995,11.102,0,0,12074.06,0.49399999999999999,83.82,71.655999999999992,12157.88,{"$f":"'[15]3'!DF57","v":0.02},{"$f":"'[15]3'!DG57","v":0.02},{"$f":"'[15]3'!DH57","v":0},{"$f":"'[15]3'!DI57","v":0},{"$f":"'[15]3'!DJ57","v":0},{"$f":"'[15]3'!DK57","v":1E-3},28.8,7.98,0,0,6240.46,0.54600000000000004,92.64,37.326000000000001,6333.1,{"$f":"'[15]3'!DU57","v":2.5000000000000001E-2},{"$f":"'[15]3'!DV57","v":2.5000000000000001E-2},{"$f":"'[15]3'!DW57","v":0},{"$f":"'[15]3'!DX57","v":0},{"$f":"'[15]3'!DY57","v":0},{"$f":"'[15]3'!DZ57","v":1E-3},54.7,12,0,0,11316.99,0.55100000000000005,93.49,67.251000000000005,11410.48,{"$f":"'[15]3'!EJ57","v":0.01},{"$f":"'[15]3'!EK57","v":0.01},{"$f":"'[15]3'!EL57","v":0},{"$f":"'[15]3'!EM57","v":0},{"$f":"'[15]3'!EN57","v":0},{"$f":"'[15]3'!EO57","v":1E-3},30.52,5.1000000000000005,0,0,6043.65,0.72,122.16,36.339999999999996,6165.8099999999995,{"$f":"'[15]3'!EY57","v":1.7000000000000001E-2},{"$f":"'[15]3'!EZ57","v":1.7000000000000001E-2},{"$f":"'[15]3'!FA57","v":0},{"$f":"'[15]3'!FB57","v":0},{"$f":"'[15]3'!FC57","v":0},{"$f":"'[15]3'!FD57","v":1E-3},55.726000000000006,8.4489999999999998,0,0,10888.57,0.85499999999999998,145.07,65.030000000000015,11033.64,{"$f":"'[15]3'!FN57","v":1.7000000000000001E-2},{"$f":"'[15]3'!FO57","v":1.7000000000000001E-2},{"$f":"'[15]3'!FP57","v":0},{"$f":"'[15]3'!FQ57","v":0},{"$f":"'[15]3'!FR57","v":0},{"$f":"'[15]3'!FS57","v":1E-3},63.716000000000001,8.9760000000000009,0,0,12333.65,0.9,152.69999999999999,73.592000000000013,12486.35,447.83199999999999,75983.66,351.19500000000005,59587.259999999995,799.02700000000004,135570.91999999998,1,790.97400000000016,134204.55999999997,8.0529999999998836,1366.3600000000151]
[44,"Апельсины","кг",{"$f":"[15]цены!E52","v":140.66999999999999},{"$f":"'[15]3'!E58","v":1.4999999999999999E-2},{"$f":"'[15]3'!F58","v":1.4999999999999999E-2},{"$f":"'[15]3'!G58","v":0},{"$f":"'[15]3'!H58","v":0},{"$f":"'[15]3'!I58","v":0},{"$f":"'[15]3'!J58","v":5.0000000000000001E-4},37.274999999999999,5.01,0,0,5948.23,0.29399999999999998,41.36,42.578999999999994,5989.5899999999992,{"$f":"'[15]3'!T58","v":1.4999999999999999E-2},{"$f":"'[15]3'!U58","v":1.4999999999999999E-2},{"$f":"'[15]3'!V58","v":0},{"$f":"'[15]3'!W58","v":0},{"$f":"'[15]3'!X58","v":0},{"$f":"'[15]3'!Y58","v":5.0000000000000001E-4},50.984999999999999,3.36,0,0,7644.71,0.34,47.83,54.685000000000002,7692.54,1.4999999999999999E-2,1.4999999999999999E-2,1.4999999999999999E-2,0.03,0.02,5.0000000000000001E-4,45.074999999999996,6,0,0,7184.72,0.4,56.27,51.474999999999994,7240.9900000000007,{"$f":"'[15]3'!AX58","v":1.4999999999999999E-2},{"$f":"'[15]3'!AY58","v":1.4999999999999999E-2},{"$f":"'[15]3'!AZ58","v":0},{"$f":"'[15]3'!BA58","v":0},{"$f":"'[15]3'!BB58","v":0},{"$f":"'[15]3'!BC58","v":5.0000000000000001E-4},47.79,5.415,0,0,7484.35,0.34200000000000003,48.11,53.546999999999997,7532.46,{"$f":"'[15]3'!BM58","v":1.4999999999999999E-2},{"$f":"'[15]3'!BN58","v":1.4999999999999999E-2},{"$f":"'[15]3'!BO58","v":0},{"$f":"'[15]3'!BP58","v":0},{"$f":"'[15]3'!BQ58","v":0},{"$f":"'[15]3'!BR58","v":5.0000000000000001E-4},33.449999999999996,4.2299999999999995,0,0,5300.45,0.3135,44.1,37.99349999999999,5344.55,{"$f":"'[15]3'!CB58","v":1.4999999999999999E-2},{"$f":"'[15]3'!CC58","v":1.4999999999999999E-2},{"$f":"'[15]3'!CD58","v":0},{"$f":"'[15]3'!CE58","v":0},{"$f":"'[15]3'!CF58","v":0},{"$f":"'[15]3'!CG58","v":5.0000000000000001E-4},24.585000000000001,3.8699999999999997,0,0,4002.76,0.30399999999999999,42.76,28.759,4045.5200000000004,{"$f":"'[15]3'!CQ58","v":1.4999999999999999E-2},{"$f":"'[15]3'!CR58","v":1.4999999999999999E-2},{"$f":"'[15]3'!CS58","v":0},{"$f":"'[15]3'!CT58","v":0},{"$f":"'[15]3'!CU58","v":0},{"$f":"'[15]3'!CV58","v":5.0000000000000001E-4},69.3,12.809999999999999,0,0,11550.41,0.247,34.75,82.356999999999999,11585.16,{"$f":"'[15]3'!DF58","v":0.01},{"$f":"'[15]3'!DG58","v":0.01},{"$f":"'[15]3'!DH58","v":0},{"$f":"'[15]3'!DI58","v":0},{"$f":"'[15]3'!DJ58","v":0},{"$f":"'[15]3'!DK58","v":5.0000000000000001E-4},14.4,3.99,0,0,2586.92,0.27300000000000002,38.4,18.663,2625.32,{"$f":"'[15]3'!DU58","v":1.4999999999999999E-2},{"$f":"'[15]3'!DV58","v":1.4999999999999999E-2},{"$f":"'[15]3'!DW58","v":0},{"$f":"'[15]3'!DX58","v":0},{"$f":"'[15]3'!DY58","v":0},{"$f":"'[15]3'!DZ58","v":1E-3},32.82,7.1999999999999993,0,0,5629.61,0.55100000000000005,77.510000000000005,40.570999999999998,5707.12,{"$f":"'[15]3'!EJ58","v":1.4999999999999999E-2},{"$f":"'[15]3'!EK58","v":1.4999999999999999E-2},{"$f":"'[15]3'!EL58","v":0},{"$f":"'[15]3'!EM58","v":0},{"$f":"'[15]3'!EN58","v":0},{"$f":"'[15]3'!EO58","v":1E-3},45.78,7.6499999999999995,0,0,7516,0.72,101.28,54.15,7617.28,{"$f":"'[15]3'!EY58","v":0.02},{"$f":"'[15]3'!EZ58","v":0.02},{"$f":"'[15]3'!FA58","v":0},{"$f":"'[15]3'!FB58","v":0},{"$f":"'[15]3'!FC58","v":0},{"$f":"'[15]3'!FD58","v":1E-3},65.56,9.94,0,0,10620.59,0.85499999999999998,120.27,76.355000000000004,10740.86,{"$f":"'[15]3'!FN58","v":0.02},{"$f":"'[15]3'!FO58","v":0.02},{"$f":"'[15]3'!FP58","v":0},{"$f":"'[15]3'!FQ58","v":0},{"$f":"'[15]3'!FR58","v":0},{"$f":"'[15]3'!FS58","v":1E-3},74.960000000000008,10.56,0,0,12030.1,0.9,126.6,86.420000000000016,12156.7,269.03849999999994,37845.649999999994,358.51600000000002,50432.44,627.55449999999996,88278.09,1,622.01499999999999,87498.849999999991,5.5394999999999754,779.24000000000524]
[45,"Лимоны","кг",{"$f":"[15]цены!E53","v":205},{"$f":"'[15]3'!E59","v":5.0000000000000001E-3},{"$f":"'[15]3'!F59","v":5.0000000000000001E-3},{"$f":"'[15]3'!G59","v":0},{"$f":"'[15]3'!H59","v":0},{"$f":"'[15]3'!I59","v":0},{"$f":"'[15]3'!J59","v":5.0000000000000001E-4},12.425000000000001,1.67,0,0,2889.48,0.29399999999999998,60.27,14.389000000000001,2949.75,{"$f":"'[15]3'!T59","v":5.0000000000000001E-3},{"$f":"'[15]3'!U59","v":5.0000000000000001E-3},{"$f":"'[15]3'!V59","v":0},{"$f":"'[15]3'!W59","v":0},{"$f":"'[15]3'!X59","v":0},{"$f":"'[15]3'!Y59","v":5.0000000000000001E-4},16.995000000000001,1.1200000000000001,0,0,3713.58,0.34,69.7,18.455000000000002,3783.2799999999997,5.0000000000000001E-3,5.0000000000000001E-3,5.0000000000000001E-3,8.0000000000000002E-3,2E-3,5.0000000000000001E-4,15.025,2,0,0,3490.13,0.4,82,17.424999999999997,3572.13,{"$f":"'[15]3'!AX59","v":5.0000000000000001E-3},{"$f":"'[15]3'!AY59","v":5.0000000000000001E-3},{"$f":"'[15]3'!AZ59","v":0},{"$f":"'[15]3'!BA59","v":0},{"$f":"'[15]3'!BB59","v":0},{"$f":"'[15]3'!BC59","v":5.0000000000000001E-4},15.93,1.8049999999999999,0,0,3635.68,0.34200000000000003,70.11,18.076999999999998,3705.79,{"$f":"'[15]3'!BM59","v":5.0000000000000001E-3},{"$f":"'[15]3'!BN59","v":5.0000000000000001E-3},{"$f":"'[15]3'!BO59","v":0},{"$f":"'[15]3'!BP59","v":0},{"$f":"'[15]3'!BQ59","v":0},{"$f":"'[15]3'!BR59","v":5.0000000000000001E-4},11.15,1.41,0,0,2574.8000000000002,0.3135,64.27,12.8735,2639.07,{"$f":"'[15]3'!CB59","v":5.0000000000000001E-3},{"$f":"'[15]3'!CC59","v":5.0000000000000001E-3},{"$f":"'[15]3'!CD59","v":0},{"$f":"'[15]3'!CE59","v":0},{"$f":"'[15]3'!CF59","v":0},{"$f":"'[15]3'!CG59","v":5.0000000000000001E-4},8.1950000000000003,1.29,0,0,1944.43,0.30399999999999999,62.32,9.7889999999999997,2006.75,{"$f":"'[15]3'!CQ59","v":5.0000000000000001E-3},{"$f":"'[15]3'!CR59","v":5.0000000000000001E-3},{"$f":"'[15]3'!CS59","v":0},{"$f":"'[15]3'!CT59","v":0},{"$f":"'[15]3'!CU59","v":0},{"$f":"'[15]3'!CV59","v":5.0000000000000001E-4},23.1,4.2700000000000005,0,0,5610.85,0.247,50.64,27.617000000000001,5661.4900000000007,{"$f":"'[15]3'!DF59","v":5.0000000000000001E-3},{"$f":"'[15]3'!DG59","v":5.0000000000000001E-3},{"$f":"'[15]3'!DH59","v":0},{"$f":"'[15]3'!DI59","v":0},{"$f":"'[15]3'!DJ59","v":0},{"$f":"'[15]3'!DK59","v":5.0000000000000001E-4},7.2,1.9950000000000001,0,0,1884.98,0.27300000000000002,55.97,9.468,1940.95,{"$f":"'[15]3'!DU59","v":5.0000000000000001E-3},{"$f":"'[15]3'!DV59","v":5.0000000000000001E-3},{"$f":"'[15]3'!DW59","v":0},{"$f":"'[15]3'!DX59","v":0},{"$f":"'[15]3'!DY59","v":0},{"$f":"'[15]3'!DZ59","v":1E-3},10.94,2.4,0,0,2734.7,0.55100000000000005,112.96,13.891,2847.66,{"$f":"'[15]3'!EJ59","v":5.0000000000000001E-3},{"$f":"'[15]3'!EK59","v":5.0000000000000001E-3},{"$f":"'[15]3'!EL59","v":0},{"$f":"'[15]3'!EM59","v":0},{"$f":"'[15]3'!EN59","v":0},{"$f":"'[15]3'!EO59","v":1E-3},15.26,2.5500000000000003,0,0,3651.05,0.72,147.6,18.529999999999998,3798.65,{"$f":"'[15]3'!EY59","v":5.0000000000000001E-3},{"$f":"'[15]3'!EZ59","v":5.0000000000000001E-3},{"$f":"'[15]3'!FA59","v":0},{"$f":"'[15]3'!FB59","v":0},{"$f":"'[15]3'!FC59","v":0},{"$f":"'[15]3'!FD59","v":1E-3},16.39,2.4849999999999999,0,0,3869.38,0.85499999999999998,175.28,19.73,4044.6600000000003,{"$f":"'[15]3'!FN59","v":5.0000000000000001E-3},{"$f":"'[15]3'!FO59","v":5.0000000000000001E-3},{"$f":"'[15]3'!FP59","v":0},{"$f":"'[15]3'!FQ59","v":0},{"$f":"'[15]3'!FR59","v":0},{"$f":"'[15]3'!FS59","v":1E-3},18.740000000000002,2.64,0,0,4382.8999999999996,0.9,184.5,22.28,4567.3999999999996,91.008500000000012,18656.77,111.51600000000001,22860.809999999998,202.52450000000002,41517.58,1,196.98499999999999,40381.960000000014,5.5395000000000323,1135.6199999999881]
[46,"Виноград свежий","кг",{"$f":"[15]цены!E54","v":280.67},{"$f":"'[15]3'!E60","v":8.0000000000000002E-3},{"$f":"'[15]3'!F60","v":8.0000000000000002E-3},{"$f":"'[15]3'!G60","v":0},{"$f":"'[15]3'!H60","v":0},{"$f":"'[15]3'!I60","v":0},{"$f":"'[15]3'!J60","v":0},19.88,2.6720000000000002,0,0,6329.67,0,0,22.552,6329.67,{"$f":"'[15]3'!T60","v":8.0000000000000002E-3},{"$f":"'[15]3'!U60","v":8.0000000000000002E-3},{"$f":"'[15]3'!V60","v":0},{"$f":"'[15]3'!W60","v":0},{"$f":"'[15]3'!X60","v":0},{"$f":"'[15]3'!Y60","v":0},27.192,1.792,0,0,8134.94,0,0,28.984000000000002,8134.94,8.0000000000000002E-3,8.0000000000000002E-3,8.0000000000000002E-3,8.0000000000000002E-3,3.0000000000000001E-3,null,24.04,3.2,0,0,7645.45,0,0,27.24,7645.45,{"$f":"'[15]3'!AX60","v":8.0000000000000002E-3},{"$f":"'[15]3'!AY60","v":8.0000000000000002E-3},{"$f":"'[15]3'!AZ60","v":0},{"$f":"'[15]3'!BA60","v":0},{"$f":"'[15]3'!BB60","v":0},{"$f":"'[15]3'!BC60","v":0},25.488,2.8879999999999999,0,0,7964.29,0,0,28.375999999999998,7964.29,{"$f":"'[15]3'!BM60","v":0.01},{"$f":"'[15]3'!BN60","v":0.01},{"$f":"'[15]3'!BO60","v":0},{"$f":"'[15]3'!BP60","v":0},{"$f":"'[15]3'!BQ60","v":0},{"$f":"'[15]3'!BR60","v":0},22.3,2.82,0,0,7050.43,0,0,25.12,7050.43,{"$f":"'[15]3'!CB60","v":0.02},{"$f":"'[15]3'!CC60","v":0.02},{"$f":"'[15]3'!CD60","v":0},{"$f":"'[15]3'!CE60","v":0},{"$f":"'[15]3'!CF60","v":0},{"$f":"'[15]3'!CG60","v":0},32.78,5.16,0,0,10648.62,0,0,37.94,10648.62,{"$f":"'[15]3'!CQ60","v":1.4999999999999999E-2},{"$f":"'[15]3'!CR60","v":1.4999999999999999E-2},{"$f":"'[15]3'!CS60","v":0},{"$f":"'[15]3'!CT60","v":0},{"$f":"'[15]3'!CU60","v":0},{"$f":"'[15]3'!CV60","v":0},69.3,12.809999999999999,0,0,23045.81,0,0,82.11,23045.81,{"$f":"'[15]3'!DF60","v":0.02},{"$f":"'[15]3'!DG60","v":0.02},{"$f":"'[15]3'!DH60","v":0},{"$f":"'[15]3'!DI60","v":0},{"$f":"'[15]3'!DJ60","v":0},{"$f":"'[15]3'!DK60","v":0},28.8,7.98,0,0,10323.040000000001,0,0,36.78,10323.040000000001,{"$f":"'[15]3'!DU60","v":2.5999999999999999E-2},{"$f":"'[15]3'!DV60","v":2.5999999999999999E-2},{"$f":"'[15]3'!DW60","v":0},{"$f":"'[15]3'!DX60","v":0},{"$f":"'[15]3'!DY60","v":0},{"$f":"'[15]3'!DZ60","v":0},56.887999999999998,12.479999999999999,0,0,19469.52,0,0,69.367999999999995,19469.52,{"$f":"'[15]3'!EJ60","v":2.5999999999999999E-2},{"$f":"'[15]3'!EK60","v":2.5999999999999999E-2},{"$f":"'[15]3'!EL60","v":0},{"$f":"'[15]3'!EM60","v":0},{"$f":"'[15]3'!EN60","v":0},{"$f":"'[15]3'!EO60","v":0},79.35199999999999,13.26,0,0,25993.41,0,0,92.611999999999995,25993.41,{"$f":"'[15]3'!EY60","v":1.4999999999999999E-2},{"$f":"'[15]3'!EZ60","v":1.4999999999999999E-2},{"$f":"'[15]3'!FA60","v":0},{"$f":"'[15]3'!FB60","v":0},{"$f":"'[15]3'!FC60","v":0},{"$f":"'[15]3'!FD60","v":0},49.17,7.4550000000000001,0,0,15892.94,0,0,56.625,15892.94,{"$f":"'[15]3'!FN60","v":1.4999999999999999E-2},{"$f":"'[15]3'!FO60","v":1.4999999999999999E-2},{"$f":"'[15]3'!FP60","v":0},{"$f":"'[15]3'!FQ60","v":0},{"$f":"'[15]3'!FR60","v":0},{"$f":"'[15]3'!FS60","v":0},56.22,7.92,0,0,18002.169999999998,0,0,64.14,18002.169999999998,170.21199999999999,47773.4,401.63499999999999,112726.89000000001,571.84699999999998,160500.29,1,571.84699999999998,160500.29,0,0]
[47,"Черешня (июль)","кг",{"$f":"[15]цены!E55","v":348.33},{"$f":"'[15]3'!E61","v":0},{"$f":"'[15]3'!F61","v":0},{"$f":"'[15]3'!G61","v":0},{"$f":"'[15]3'!H61","v":0},{"$f":"'[15]3'!I61","v":0},{"$f":"'[15]3'!J61","v":0},0,0,0,0,0,0,0,0,0,{"$f":"'[15]3'!T61","v":0},{"$f":"'[15]3'!U61","v":0},{"$f":"'[15]3'!V61","v":0},{"$f":"'[15]3'!W61","v":0},{"$f":"'[15]3'!X61","v":0},{"$f":"'[15]3'!Y61","v":0},0,0,0,0,0,0,0,0,0,null,null,null,null,null,null,0,0,0,0,0,0,0,0,0,{"$f":"'[15]3'!AX61","v":0},{"$f":"'[15]3'!AY61","v":0},{"$f":"'[15]3'!AZ61","v":0},{"$f":"'[15]3'!BA61","v":0},{"$f":"'[15]3'!BB61","v":0},{"$f":"'[15]3'!BC61","v":0},0,0,0,0,0,0,0,0,0,{"$f":"'[15]3'!BM61","v":0},{"$f":"'[15]3'!BN61","v":0},{"$f":"'[15]3'!BO61","v":0},{"$f":"'[15]3'!BP61","v":0},{"$f":"'[15]3'!BQ61","v":0},{"$f":"'[15]3'!BR61","v":0},0,0,0,0,0,0,0,0,0,{"$f":"'[15]3'!CB61","v":0},{"$f":"'[15]3'!CC61","v":0},{"$f":"'[15]3'!CD61","v":0},{"$f":"'[15]3'!CE61","v":0},{"$f":"'[15]3'!CF61","v":0},{"$f":"'[15]3'!CG61","v":0},0,0,0,0,0,0,0,0,0,{"$f":"'[15]3'!CQ61","v":0.02},{"$f":"'[15]3'!CR61","v":0.02},{"$f":"'[15]3'!CS61","v":0},{"$f":"'[15]3'!CT61","v":0},{"$f":"'[15]3'!CU61","v":0},{"$f":"'[15]3'!CV61","v":0},92.4,17.080000000000002,0,0,38135.17,0,0,109.48,38135.17,{"$f":"'[15]3'!DF61","v":0},{"$f":"'[15]3'!DG61","v":0},{"$f":"'[15]3'!DH61","v":0},{"$f":"'[15]3'!DI61","v":0},{"$f":"'[15]3'!DJ61","v":0},{"$f":"'[15]3'!DK61","v":0},0,0,0,0,0,0,0,0,0,{"$f":"'[15]3'!DU61","v":0},{"$f":"'[15]3'!DV61","v":0},{"$f":"'[15]3'!DW61","v":0},{"$f":"'[15]3'!DX61","v":0},{"$f":"'[15]3'!DY61","v":0},{"$f":"'[15]3'!DZ61","v":0},0,0,0,0,0,0,0,0,0,{"$f":"'[15]3'!EJ61","v":0},{"$f":"'[15]3'!EK61","v":0},{"$f":"'[15]3'!EL61","v":0},{"$f":"'[15]3'!EM61","v":0},{"$f":"'[15]3'!EN61","v":0},{"$f":"'[15]3'!EO61","v":0},0,0,0,0,0,0,0,0,0,{"$f":"'[15]3'!EY61","v":0},{"$f":"'[15]3'!EZ61","v":0},{"$f":"'[15]3'!FA61","v":0},{"$f":"'[15]3'!FB61","v":0},{"$f":"'[15]3'!FC61","v":0},{"$f":"'[15]3'!FD61","v":0},0,0,0,0,0,0,0,0,0,{"$f":"'[15]3'!FN61","v":0},{"$f":"'[15]3'!FO61","v":0},{"$f":"'[15]3'!FP61","v":0},{"$f":"'[15]3'!FQ61","v":0},{"$f":"'[15]3'!FR61","v":0},{"$f":"'[15]3'!FS61","v":0},0,0,0,0,0,0,0,0,0,0,0,109.48,38135.17,109.48,38135.17,1,109.48,38135.17,0,0]
[48,"Абрикосы свежие (июль,август)","кг",{"$f":"[15]цены!E56","v":200},{"$f":"'[15]3'!E62","v":0},{"$f":"'[15]3'!F62","v":0},{"$f":"'[15]3'!G62","v":0},{"$f":"'[15]3'!H62","v":0},{"$f":"'[15]3'!I62","v":0},{"$f":"'[15]3'!J62","v":0},0,0,0,0,0,0,0,0,0,{"$f":"'[15]3'!T62","v":0},{"$f":"'[15]3'!U62","v":0},{"$f":"'[15]3'!V62","v":0},{"$f":"'[15]3'!W62","v":0},{"$f":"'[15]3'!X62","v":0},{"$f":"'[15]3'!Y62","v":0},0,0,0,0,0,0,0,0,0,null,null,null,null,null,null,0,0,0,0,0,0,0,0,0,{"$f":"'[15]3'!AX62","v":0},{"$f":"'[15]3'!AY62","v":0},{"$f":"'[15]3'!AZ62","v":0},{"$f":"'[15]3'!BA62","v":0},{"$f":"'[15]3'!BB62","v":0},{"$f":"'[15]3'!BC62","v":0},0,0,0,0,0,0,0,0,0,{"$f":"'[15]3'!BM62","v":0},{"$f":"'[15]3'!BN62","v":0},{"$f":"'[15]3'!BO62","v":0},{"$f":"'[15]3'!BP62","v":0},{"$f":"'[15]3'!BQ62","v":0},{"$f":"'[15]3'!BR62","v":0},0,0,0,0,0,0,0,0,0,{"$f":"'[15]3'!CB62","v":0},{"$f":"'[15]3'!CC62","v":0},{"$f":"'[15]3'!CD62","v":0},{"$f":"'[15]3'!CE62","v":0},{"$f":"'[15]3'!CF62","v":0},{"$f":"'[15]3'!CG62","v":0},0,0,0,0,0,0,0,0,0,{"$f":"'[15]3'!CQ62","v":0.02},{"$f":"'[15]3'!CR62","v":0.02},{"$f":"'[15]3'!CS62","v":0},{"$f":"'[15]3'!CT62","v":0},{"$f":"'[15]3'!CU62","v":0},{"$f":"'[15]3'!CV62","v":0},92.4,17.080000000000002,0,0,21896,0,0,109.48,21896,{"$f":"'[15]3'!DF62","v":2.5000000000000001E-2},{"$f":"'[15]3'!DG62","v":2.5000000000000001E-2},{"$f":"'[15]3'!DH62","v":0},{"$f":"'[15]3'!DI62","v":0},{"$f":"'[15]3'!DJ62","v":0},{"$f":"'[15]3'!DK62","v":0},36,9.9750000000000014,0,0,9195,0,0,45.975000000000001,9195,{"$f":"'[15]3'!DU62","v":0},{"$f":"'[15]3'!DV62","v":0},{"$f":"'[15]3'!DW62","v":0},{"$f":"'[15]3'!DX62","v":0},{"$f":"'[15]3'!DY62","v":0},{"$f":"'[15]3'!DZ62","v":0},0,0,0,0,0,0,0,0,0,{"$f":"'[15]3'!EJ62","v":0},{"$f":"'[15]3'!EK62","v":0},{"$f":"'[15]3'!EL62","v":0},{"$f":"'[15]3'!EM62","v":0},{"$f":"'[15]3'!EN62","v":0},{"$f":"'[15]3'!EO62","v":0},0,0,0,0,0,0,0,0,0,{"$f":"'[15]3'!EY62","v":0},{"$f":"'[15]3'!EZ62","v":0},{"$f":"'[15]3'!FA62","v":0},{"$f":"'[15]3'!FB62","v":0},{"$f":"'[15]3'!FC62","v":0},{"$f":"'[15]3'!FD62","v":0},0,0,0,0,0,0,0,0,0,{"$f":"'[15]3'!FN62","v":0},{"$f":"'[15]3'!FO62","v":0},{"$f":"'[15]3'!FP62","v":0},{"$f":"'[15]3'!FQ62","v":0},{"$f":"'[15]3'!FR62","v":0},{"$f":"'[15]3'!FS62","v":0},0,0,0,0,0,0,0,0,0,0,0,155.45500000000001,31091,155.45500000000001,31091,1,155.45500000000001,31091,0,0]
[49,"Бананы","кг",{"$f":"[15]цены!E57","v":140},{"$f":"'[15]3'!E63","v":0.02},{"$f":"'[15]3'!F63","v":0.02},{"$f":"'[15]3'!G63","v":0},{"$f":"'[15]3'!H63","v":0},{"$f":"'[15]3'!I63","v":0},{"$f":"'[15]3'!J63","v":0},49.7,6.68,0,0,7893.2,0,0,56.38,7893.2,{"$f":"'[15]3'!T63","v":0.02},{"$f":"'[15]3'!U63","v":0.02},{"$f":"'[15]3'!V63","v":0},{"$f":"'[15]3'!W63","v":0},{"$f":"'[15]3'!X63","v":0},{"$f":"'[15]3'!Y63","v":0},67.98,4.4800000000000004,0,0,10144.4,0,0,72.460000000000008,10144.4,0.02,0.02,0.02,0.03,1.4999999999999999E-2,null,60.1,8,0,0,9534,0,0,68.099999999999994,9534,{"$f":"'[15]3'!AX63","v":0.02},{"$f":"'[15]3'!AY63","v":0.02},{"$f":"'[15]3'!AZ63","v":0},{"$f":"'[15]3'!BA63","v":0},{"$f":"'[15]3'!BB63","v":0},{"$f":"'[15]3'!BC63","v":0},63.72,7.22,0,0,9931.6,0,0,70.94,9931.6,{"$f":"'[15]3'!BM63","v":0.02},{"$f":"'[15]3'!BN63","v":0.02},{"$f":"'[15]3'!BO63","v":0},{"$f":"'[15]3'!BP63","v":0},{"$f":"'[15]3'!BQ63","v":0},{"$f":"'[15]3'!BR63","v":0},44.6,5.64,0,0,7033.6,0,0,50.24,7033.6,{"$f":"'[15]3'!CB63","v":0.02},{"$f":"'[15]3'!CC63","v":0.02},{"$f":"'[15]3'!CD63","v":0},{"$f":"'[15]3'!CE63","v":0},{"$f":"'[15]3'!CF63","v":0},{"$f":"'[15]3'!CG63","v":0},32.78,5.16,0,0,5311.6,0,0,37.94,5311.6,{"$f":"'[15]3'!CQ63","v":1.4999999999999999E-2},{"$f":"'[15]3'!CR63","v":1.4999999999999999E-2},{"$f":"'[15]3'!CS63","v":0},{"$f":"'[15]3'!CT63","v":0},{"$f":"'[15]3'!CU63","v":0},{"$f":"'[15]3'!CV63","v":0},69.3,12.809999999999999,0,0,11495.4,0,0,82.11,11495.4,{"$f":"'[15]3'!DF63","v":0.02},{"$f":"'[15]3'!DG63","v":0.02},{"$f":"'[15]3'!DH63","v":0},{"$f":"'[15]3'!DI63","v":0},{"$f":"'[15]3'!DJ63","v":0},{"$f":"'[15]3'!DK63","v":0},28.8,7.98,0,0,5149.2,0,0,36.78,5149.2,{"$f":"'[15]3'!DU63","v":0.02},{"$f":"'[15]3'!DV63","v":0.02},{"$f":"'[15]3'!DW63","v":0},{"$f":"'[15]3'!DX63","v":0},{"$f":"'[15]3'!DY63","v":0},{"$f":"'[15]3'!DZ63","v":0},43.76,9.6,0,0,7470.4,0,0,53.36,7470.4,{"$f":"'[15]3'!EJ63","v":2.5000000000000001E-2},{"$f":"'[15]3'!EK63","v":2.5000000000000001E-2},{"$f":"'[15]3'!EL63","v":0},{"$f":"'[15]3'!EM63","v":0},{"$f":"'[15]3'!EN63","v":0},{"$f":"'[15]3'!EO63","v":0},76.3,12.75,0,0,12467,0,0,89.05,12467,{"$f":"'[15]3'!EY63","v":0.02},{"$f":"'[15]3'!EZ63","v":0.02},{"$f":"'[15]3'!FA63","v":0},{"$f":"'[15]3'!FB63","v":0},{"$f":"'[15]3'!FC63","v":0},{"$f":"'[15]3'!FD63","v":0},65.56,9.94,0,0,10570,0,0,75.5,10570,{"$f":"'[15]3'!FN63","v":0.02},{"$f":"'[15]3'!FO63","v":0.02},{"$f":"'[15]3'!FP63","v":0},{"$f":"'[15]3'!FQ63","v":0},{"$f":"'[15]3'!FR63","v":0},{"$f":"'[15]3'!FS63","v":0},74.960000000000008,10.56,0,0,11972.8,0,0,85.52000000000001,11972.8,356.06,49848.399999999994,422.32000000000005,59124.800000000003,778.38000000000011,108973.2,1,778.38000000000011,108973.2,0,0]
[50,"Сухофрукты","кг",{"$f":"[15]цены!E58","v":173.91},{"$f":"'[15]3'!E64","v":5.0000000000000001E-3},{"$f":"'[15]3'!F64","v":4.0000000000000001E-3},{"$f":"'[15]3'!G64","v":0},{"$f":"'[15]3'!H64","v":0},{"$f":"'[15]3'!I64","v":0},{"$f":"'[15]3'!J64","v":1E-3},12.425000000000001,1.3360000000000001,0,0,2393.1799999999998,0.58799999999999997,102.26,14.349,2495.44,{"$f":"'[15]3'!T64","v":5.0000000000000001E-3},{"$f":"'[15]3'!U64","v":4.0000000000000001E-3},{"$f":"'[15]3'!V64","v":0},{"$f":"'[15]3'!W64","v":0},{"$f":"'[15]3'!X64","v":0},{"$f":"'[15]3'!Y64","v":1E-3},16.995000000000001,0.89600000000000002,0,0,3111.42,0.68,118.26,18.571000000000002,3229.6800000000003,5.0000000000000001E-3,4.0000000000000001E-3,5.0000000000000001E-3,5.0000000000000001E-3,4.0000000000000001E-3,1E-3,15.025,1.6,0,0,2891.25,0.8,139.13,17.425000000000001,3030.38,{"$f":"'[15]3'!AX64","v":5.0000000000000001E-3},{"$f":"'[15]3'!AY64","v":4.0000000000000001E-3},{"$f":"'[15]3'!AZ64","v":0},{"$f":"'[15]3'!BA64","v":0},{"$f":"'[15]3'!BB64","v":0},{"$f":"'[15]3'!BC64","v":1E-3},15.93,1.444,0,0,3021.51,0.68400000000000005,118.95,18.058,3140.46,{"$f":"'[15]3'!BM64","v":5.0000000000000001E-3},{"$f":"'[15]3'!BN64","v":4.0000000000000001E-3},{"$f":"'[15]3'!BO64","v":0},{"$f":"'[15]3'!BP64","v":0},{"$f":"'[15]3'!BQ64","v":0},{"$f":"'[15]3'!BR64","v":1E-3},11.15,1.1280000000000001,0,0,2135.27,0.627,109.04,12.905000000000001,2244.31,{"$f":"'[15]3'!CB64","v":5.0000000000000001E-3},{"$f":"'[15]3'!CC64","v":4.0000000000000001E-3},{"$f":"'[15]3'!CD64","v":0},{"$f":"'[15]3'!CE64","v":0},{"$f":"'[15]3'!CF64","v":0},{"$f":"'[15]3'!CG64","v":1E-3},8.1950000000000003,1.032,0,0,1604.67,0.60799999999999998,105.74,9.8350000000000009,1710.41,{"$f":"'[15]3'!CQ64","v":5.0000000000000001E-3},{"$f":"'[15]3'!CR64","v":4.0000000000000001E-3},{"$f":"'[15]3'!CS64","v":0},{"$f":"'[15]3'!CT64","v":0},{"$f":"'[15]3'!CU64","v":0},{"$f":"'[15]3'!CV64","v":1E-3},23.1,3.4159999999999999,0,0,4611.3999999999996,0.49399999999999999,85.91,27.01,4697.3099999999995,{"$f":"'[15]3'!DF64","v":5.0000000000000001E-3},{"$f":"'[15]3'!DG64","v":4.0000000000000001E-3},{"$f":"'[15]3'!DH64","v":0},{"$f":"'[15]3'!DI64","v":0},{"$f":"'[15]3'!DJ64","v":0},{"$f":"'[15]3'!DK64","v":1E-3},7.2,1.5960000000000001,0,0,1529.71,0.54600000000000004,94.95,9.3419999999999987,1624.66,{"$f":"'[15]3'!DU64","v":5.0000000000000001E-3},{"$f":"'[15]3'!DV64","v":4.0000000000000001E-3},{"$f":"'[15]3'!DW64","v":0},{"$f":"'[15]3'!DX64","v":0},{"$f":"'[15]3'!DY64","v":0},{"$f":"'[15]3'!DZ64","v":1E-3},10.94,1.92,0,0,2236.48,0.55100000000000005,95.82,13.411,2332.3000000000002,{"$f":"'[15]3'!EJ64","v":5.0000000000000001E-3},{"$f":"'[15]3'!EK64","v":4.0000000000000001E-3},{"$f":"'[15]3'!EL64","v":0},{"$f":"'[15]3'!EM64","v":0},{"$f":"'[15]3'!EN64","v":0},{"$f":"'[15]3'!EO64","v":1E-3},15.26,2.04,0,0,3008.64,0.72,125.22,18.02,3133.8599999999997,{"$f":"'[15]3'!EY64","v":5.0000000000000001E-3},{"$f":"'[15]3'!EZ64","v":4.0000000000000001E-3},{"$f":"'[15]3'!FA64","v":0},{"$f":"'[15]3'!FB64","v":0},{"$f":"'[15]3'!FC64","v":0},{"$f":"'[15]3'!FD64","v":1E-3},16.39,1.988,0,0,3196.12,0.85499999999999998,148.69,19.233000000000001,3344.81,{"$f":"'[15]3'!FN64","v":5.0000000000000001E-3},{"$f":"'[15]3'!FO64","v":4.0000000000000001E-3},{"$f":"'[15]3'!FP64","v":0},{"$f":"'[15]3'!FQ64","v":0},{"$f":"'[15]3'!FR64","v":0},{"$f":"'[15]3'!FS64","v":1E-3},18.740000000000002,2.1120000000000001,0,0,3626.37,0.9,156.52000000000001,21.752000000000002,3782.89,91.143000000000001,15850.679999999998,108.768,18915.830000000002,199.911,34766.51,12,191.858,33366.020000000004,8.0529999999999973,1400.489999999998]
[51,"изюм без косточек","кг",{"$f":"[15]цены!E59","v":225.96},{"$f":"'[15]3'!E65","v":3.0000000000000001E-3},{"$f":"'[15]3'!F65","v":3.0000000000000001E-3},{"$f":"'[15]3'!G65","v":0},{"$f":"'[15]3'!H65","v":0},{"$f":"'[15]3'!I65","v":0},{"$f":"'[15]3'!J65","v":1E-3},7.4550000000000001,1.002,0,0,1910.94,0.58799999999999997,132.86000000000001,9.0449999999999999,2043.8000000000002,{"$f":"'[15]3'!T65","v":3.0000000000000001E-3},{"$f":"'[15]3'!U65","v":3.0000000000000001E-3},{"$f":"'[15]3'!V65","v":0},{"$f":"'[15]3'!W65","v":0},{"$f":"'[15]3'!X65","v":0},{"$f":"'[15]3'!Y65","v":1E-3},10.197000000000001,0.67200000000000004,0,0,2455.96,0.68,153.65,11.549000000000001,2609.61,3.0000000000000001E-3,3.0000000000000001E-3,3.0000000000000001E-3,6.0000000000000001E-3,3.0000000000000001E-3,1E-3,9.0150000000000006,1.2,0,0,2308.1799999999998,0.8,180.77,11.015000000000001,2488.9499999999998,{"$f":"'[15]3'!AX65","v":3.0000000000000001E-3},{"$f":"'[15]3'!AY65","v":3.0000000000000001E-3},{"$f":"'[15]3'!AZ65","v":0},{"$f":"'[15]3'!BA65","v":0},{"$f":"'[15]3'!BB65","v":0},{"$f":"'[15]3'!BC65","v":1E-3},9.5579999999999998,1.083,0,0,2404.44,0.68400000000000005,154.56,11.324999999999999,2559,{"$f":"'[15]3'!BM65","v":3.0000000000000001E-3},{"$f":"'[15]3'!BN65","v":3.0000000000000001E-3},{"$f":"'[15]3'!BO65","v":0},{"$f":"'[15]3'!BP65","v":0},{"$f":"'[15]3'!BQ65","v":0},{"$f":"'[15]3'!BR65","v":1E-3},6.69,0.84599999999999997,0,0,1702.83,0.627,141.68,8.1630000000000003,1844.51,{"$f":"'[15]3'!CB65","v":3.0000000000000001E-3},{"$f":"'[15]3'!CC65","v":3.0000000000000001E-3},{"$f":"'[15]3'!CD65","v":0},{"$f":"'[15]3'!CE65","v":0},{"$f":"'[15]3'!CF65","v":0},{"$f":"'[15]3'!CG65","v":1E-3},4.9169999999999998,0.77400000000000002,0,0,1285.94,0.60799999999999998,137.38,6.2989999999999995,1423.3200000000002,{"$f":"'[15]3'!CQ65","v":3.0000000000000001E-3},{"$f":"'[15]3'!CR65","v":3.0000000000000001E-3},{"$f":"'[15]3'!CS65","v":0},{"$f":"'[15]3'!CT65","v":0},{"$f":"'[15]3'!CU65","v":0},{"$f":"'[15]3'!CV65","v":1E-3},13.86,2.5619999999999998,0,0,3710.72,0.49399999999999999,111.62,16.916,3822.3399999999997,{"$f":"'[15]3'!DF65","v":3.0000000000000001E-3},{"$f":"'[15]3'!DG65","v":3.0000000000000001E-3},{"$f":"'[15]3'!DH65","v":0},{"$f":"'[15]3'!DI65","v":0},{"$f":"'[15]3'!DJ65","v":0},{"$f":"'[15]3'!DK65","v":1E-3},4.32,1.1970000000000001,0,0,1246.6199999999999,0.54600000000000004,123.37,6.0630000000000006,1369.9899999999998,{"$f":"'[15]3'!DU65","v":3.0000000000000001E-3},{"$f":"'[15]3'!DV65","v":3.0000000000000001E-3},{"$f":"'[15]3'!DW65","v":0},{"$f":"'[15]3'!DX65","v":0},{"$f":"'[15]3'!DY65","v":0},{"$f":"'[15]3'!DZ65","v":1E-3},6.5640000000000001,1.44,0,0,1808.58,0.55100000000000005,124.5,8.5549999999999997,1933.08,{"$f":"'[15]3'!EJ65","v":3.0000000000000001E-3},{"$f":"'[15]3'!EK65","v":3.0000000000000001E-3},{"$f":"'[15]3'!EL65","v":0},{"$f":"'[15]3'!EM65","v":0},{"$f":"'[15]3'!EN65","v":0},{"$f":"'[15]3'!EO65","v":1E-3},9.1560000000000006,1.53,0,0,2414.61,0.72,162.69,11.406000000000001,2577.3000000000002,{"$f":"'[15]3'!EY65","v":3.0000000000000001E-3},{"$f":"'[15]3'!EZ65","v":3.0000000000000001E-3},{"$f":"'[15]3'!FA65","v":0},{"$f":"'[15]3'!FB65","v":0},{"$f":"'[15]3'!FC65","v":0},{"$f":"'[15]3'!FD65","v":1E-3},9.8339999999999996,1.4910000000000001,0,0,2559,0.85499999999999998,193.2,12.18,2752.2,{"$f":"'[15]3'!FN65","v":3.0000000000000001E-3},{"$f":"'[15]3'!FO65","v":3.0000000000000001E-3},{"$f":"'[15]3'!FP65","v":0},{"$f":"'[15]3'!FQ65","v":0},{"$f":"'[15]3'!FR65","v":0},{"$f":"'[15]3'!FS65","v":1E-3},11.244,1.5840000000000001,0,0,2898.61,0.9,203.36,13.728,3101.9700000000003,57.395999999999994,12969.19,68.847999999999999,15556.880000000001,126.244,28526.07,12,118.19099999999999,26706.429999999997,8.0530000000000115,1819.6400000000031]
[52,"курага без косточек","кг",{"$f":"[15]цены!E60","v":289.85000000000002},{"$f":"'[15]3'!E66","v":1E-3},{"$f":"'[15]3'!F66","v":1E-3},{"$f":"'[15]3'!G66","v":0},{"$f":"'[15]3'!H66","v":0},{"$f":"'[15]3'!I66","v":0},{"$f":"'[15]3'!J66","v":1E-3},2.4849999999999999,0.33400000000000002,0,0,817.09,0.58799999999999997,170.43,3.407,987.52,{"$f":"'[15]3'!T66","v":1E-3},{"$f":"'[15]3'!U66","v":1E-3},{"$f":"'[15]3'!V66","v":0},{"$f":"'[15]3'!W66","v":0},{"$f":"'[15]3'!X66","v":0},{"$f":"'[15]3'!Y66","v":1E-3},3.399,0.224,0,0,1050.1300000000001,0.68,197.1,4.3029999999999999,1247.23,1E-3,1E-3,1E-3,2E-3,1E-3,1E-3,3.0049999999999999,0.4,0,0,986.94,0.8,231.88,4.2050000000000001,1218.8200000000002,{"$f":"'[15]3'!AX66","v":1E-3},{"$f":"'[15]3'!AY66","v":1E-3},{"$f":"'[15]3'!AZ66","v":0},{"$f":"'[15]3'!BA66","v":0},{"$f":"'[15]3'!BB66","v":0},{"$f":"'[15]3'!BC66","v":1E-3},3.1859999999999999,0.36099999999999999,0,0,1028.0999999999999,0.68400000000000005,198.26,4.2309999999999999,1226.3599999999999,{"$f":"'[15]3'!BM66","v":1E-3},{"$f":"'[15]3'!BN66","v":1E-3},{"$f":"'[15]3'!BO66","v":0},{"$f":"'[15]3'!BP66","v":0},{"$f":"'[15]3'!BQ66","v":0},{"$f":"'[15]3'!BR66","v":1E-3},2.23,0.28200000000000003,0,0,728.1,0.627,181.74,3.1390000000000002,909.84,{"$f":"'[15]3'!CB66","v":1E-3},{"$f":"'[15]3'!CC66","v":1E-3},{"$f":"'[15]3'!CD66","v":0},{"$f":"'[15]3'!CE66","v":0},{"$f":"'[15]3'!CF66","v":0},{"$f":"'[15]3'!CG66","v":1E-3},1.639,0.25800000000000001,0,0,549.85,0.60799999999999998,176.23,2.5049999999999999,726.08,{"$f":"'[15]3'!CQ66","v":1E-3},{"$f":"'[15]3'!CR66","v":1E-3},{"$f":"'[15]3'!CS66","v":0},{"$f":"'[15]3'!CT66","v":0},{"$f":"'[15]3'!CU66","v":0},{"$f":"'[15]3'!CV66","v":1E-3},4.62,0.85399999999999998,0,0,1586.64,0.49399999999999999,143.19,5.968,1729.8300000000002,{"$f":"'[15]3'!DF66","v":1E-3},{"$f":"'[15]3'!DG66","v":1E-3},{"$f":"'[15]3'!DH66","v":0},{"$f":"'[15]3'!DI66","v":0},{"$f":"'[15]3'!DJ66","v":0},{"$f":"'[15]3'!DK66","v":1E-3},1.44,0.39900000000000002,0,0,533.03,0.54600000000000004,158.26,2.3849999999999998,691.29,{"$f":"'[15]3'!DU66","v":1E-3},{"$f":"'[15]3'!DV66","v":1E-3},{"$f":"'[15]3'!DW66","v":0},{"$f":"'[15]3'!DX66","v":0},{"$f":"'[15]3'!DY66","v":0},{"$f":"'[15]3'!DZ66","v":1E-3},2.1880000000000002,0.48,0,0,773.32,0.55100000000000005,159.71,3.2190000000000003,933.03000000000009,{"$f":"'[15]3'!EJ66","v":1E-3},{"$f":"'[15]3'!EK66","v":1E-3},{"$f":"'[15]3'!EL66","v":0},{"$f":"'[15]3'!EM66","v":0},{"$f":"'[15]3'!EN66","v":0},{"$f":"'[15]3'!EO66","v":1E-3},3.052,0.51,0,0,1032.45,0.72,208.69,4.282,1241.1400000000001,{"$f":"'[15]3'!EY66","v":1E-3},{"$f":"'[15]3'!EZ66","v":1E-3},{"$f":"'[15]3'!FA66","v":0},{"$f":"'[15]3'!FB66","v":0},{"$f":"'[15]3'!FC66","v":0},{"$f":"'[15]3'!FD66","v":1E-3},3.278,0.497,0,0,1094.18,0.85499999999999998,247.82,4.63,1342,{"$f":"'[15]3'!FN66","v":1E-3},{"$f":"'[15]3'!FO66","v":1E-3},{"$f":"'[15]3'!FP66","v":0},{"$f":"'[15]3'!FQ66","v":0},{"$f":"'[15]3'!FR66","v":0},{"$f":"'[15]3'!FS66","v":1E-3},3.7480000000000002,0.52800000000000002,0,0,1239.4000000000001,0.9,260.87,5.1760000000000002,1500.27,21.79,6315.85,25.659999999999997,7437.5599999999995,47.449999999999996,13753.41,12,39.397000000000006,11419.23,8.0529999999999902,2334.1800000000003]
[53,"чернослив без косточек","кг",{"$f":"[15]цены!E61","v":249.34},{"$f":"'[15]3'!E67","v":2E-3},{"$f":"'[15]3'!F67","v":1E-3},{"$f":"'[15]3'!G67","v":0},{"$f":"'[15]3'!H67","v":0},{"$f":"'[15]3'!I67","v":0},{"$f":"'[15]3'!J67","v":1E-3},4.97,0.33400000000000002,0,0,1322.5,0.58799999999999997,146.61000000000001,5.8919999999999995,1469.1100000000001,{"$f":"'[15]3'!T67","v":2E-3},{"$f":"'[15]3'!U67","v":1E-3},{"$f":"'[15]3'!V67","v":0},{"$f":"'[15]3'!W67","v":0},{"$f":"'[15]3'!X67","v":0},{"$f":"'[15]3'!Y67","v":1E-3},6.798,0.224,0,0,1750.87,0.68,169.55,7.702,1920.4199999999998,2E-3,1E-3,2E-3,2E-3,2E-3,1E-3,6.01,0.4,0,0,1598.27,0.8,199.47,7.21,1797.74,{"$f":"'[15]3'!AX67","v":2E-3},{"$f":"'[15]3'!AY67","v":1E-3},{"$f":"'[15]3'!AZ67","v":0},{"$f":"'[15]3'!BA67","v":0},{"$f":"'[15]3'!BB67","v":0},{"$f":"'[15]3'!BC67","v":1E-3},6.3719999999999999,0.36099999999999999,0,0,1678.81,0.68400000000000005,170.55,7.4169999999999998,1849.36,{"$f":"'[15]3'!BM67","v":2E-3},{"$f":"'[15]3'!BN67","v":1E-3},{"$f":"'[15]3'!BO67","v":0},{"$f":"'[15]3'!BP67","v":0},{"$f":"'[15]3'!BQ67","v":0},{"$f":"'[15]3'!BR67","v":1E-3},4.46,0.28200000000000003,0,0,1182.3699999999999,0.627,156.34,5.3689999999999998,1338.7099999999998,{"$f":"'[15]3'!CB67","v":2E-3},{"$f":"'[15]3'!CC67","v":1E-3},{"$f":"'[15]3'!CD67","v":0},{"$f":"'[15]3'!CE67","v":0},{"$f":"'[15]3'!CF67","v":0},{"$f":"'[15]3'!CG67","v":1E-3},3.278,0.25800000000000001,0,0,881.67,0.60799999999999998,151.6,4.1440000000000001,1033.27,{"$f":"'[15]3'!CQ67","v":2E-3},{"$f":"'[15]3'!CR67","v":1E-3},{"$f":"'[15]3'!CS67","v":0},{"$f":"'[15]3'!CT67","v":0},{"$f":"'[15]3'!CU67","v":0},{"$f":"'[15]3'!CV67","v":1E-3},9.24,0.85399999999999998,0,0,2516.84,0.49399999999999999,123.17,10.587999999999999,2640.01,{"$f":"'[15]3'!DF67","v":2E-3},{"$f":"'[15]3'!DG67","v":1E-3},{"$f":"'[15]3'!DH67","v":0},{"$f":"'[15]3'!DI67","v":0},{"$f":"'[15]3'!DJ67","v":0},{"$f":"'[15]3'!DK67","v":1E-3},2.88,0.39900000000000002,0,0,817.59,0.54600000000000004,136.13999999999999,3.8250000000000002,953.73,{"$f":"'[15]3'!DU67","v":2E-3},{"$f":"'[15]3'!DV67","v":1E-3},{"$f":"'[15]3'!DW67","v":0},{"$f":"'[15]3'!DX67","v":0},{"$f":"'[15]3'!DY67","v":0},{"$f":"'[15]3'!DZ67","v":1E-3},4.3760000000000003,0.48,0,0,1210.8,0.55100000000000005,137.38999999999999,5.407,1348.19,{"$f":"'[15]3'!EJ67","v":2E-3},{"$f":"'[15]3'!EK67","v":1E-3},{"$f":"'[15]3'!EL67","v":0},{"$f":"'[15]3'!EM67","v":0},{"$f":"'[15]3'!EN67","v":0},{"$f":"'[15]3'!EO67","v":1E-3},6.1040000000000001,0.51,0,0,1649.13,0.72,179.52,7.3339999999999996,1828.65,{"$f":"'[15]3'!EY67","v":2E-3},{"$f":"'[15]3'!EZ67","v":1E-3},{"$f":"'[15]3'!FA67","v":0},{"$f":"'[15]3'!FB67","v":0},{"$f":"'[15]3'!FC67","v":0},{"$f":"'[15]3'!FD67","v":1E-3},6.556,0.497,0,0,1758.6,0.85499999999999998,213.19,7.9079999999999995,1971.79,{"$f":"'[15]3'!FN67","v":2E-3},{"$f":"'[15]3'!FO67","v":1E-3},{"$f":"'[15]3'!FP67","v":0},{"$f":"'[15]3'!FQ67","v":0},{"$f":"'[15]3'!FR67","v":0},{"$f":"'[15]3'!FS67","v":1E-3},7.4960000000000004,0.52800000000000002,0,0,2000.7,0.9,224.41,8.9240000000000013,2225.11,37.733999999999995,9408.6099999999988,43.985999999999997,10967.48,81.72,20376.089999999997,12,73.666999999999987,18368.150000000001,8.0530000000000115,2007.9399999999951]
[54,"компот консервированный ","кг",{"$f":"[15]цены!E62","v":153.34},{"$f":"'[15]3'!E68","v":0.01},{"$f":"'[15]3'!F68","v":0.01},{"$f":"'[15]3'!G68","v":0},{"$f":"'[15]3'!H68","v":0},{"$f":"'[15]3'!I68","v":0},{"$f":"'[15]3'!J68","v":0},24.85,3.34,0,0,4322.6499999999996,0,0,28.19,4322.6499999999996,{"$f":"'[15]3'!T68","v":0.01},{"$f":"'[15]3'!U68","v":0.01},{"$f":"'[15]3'!V68","v":0},{"$f":"'[15]3'!W68","v":0},{"$f":"'[15]3'!X68","v":0},{"$f":"'[15]3'!Y68","v":0},33.99,2.2400000000000002,0,0,5555.51,0,0,36.230000000000004,5555.51,0.01,0.01,0.01,0.01,0.01,null,30.05,4,0,0,5221.2299999999996,0,0,34.049999999999997,5221.2299999999996,{"$f":"'[15]3'!AX68","v":0.01},{"$f":"'[15]3'!AY68","v":0.01},{"$f":"'[15]3'!AZ68","v":0},{"$f":"'[15]3'!BA68","v":0},{"$f":"'[15]3'!BB68","v":0},{"$f":"'[15]3'!BC68","v":0},31.86,3.61,0,0,5438.97,0,0,35.47,5438.97,{"$f":"'[15]3'!BM68","v":0.01},{"$f":"'[15]3'!BN68","v":0.01},{"$f":"'[15]3'!BO68","v":0},{"$f":"'[15]3'!BP68","v":0},{"$f":"'[15]3'!BQ68","v":0},{"$f":"'[15]3'!BR68","v":0},22.3,2.82,0,0,3851.9,0,0,25.12,3851.9,{"$f":"'[15]3'!CB68","v":0.01},{"$f":"'[15]3'!CC68","v":0.01},{"$f":"'[15]3'!CD68","v":0},{"$f":"'[15]3'!CE68","v":0},{"$f":"'[15]3'!CF68","v":0},{"$f":"'[15]3'!CG68","v":0},16.39,2.58,0,0,2908.86,0,0,18.97,2908.86,{"$f":"'[15]3'!CQ68","v":0.01},{"$f":"'[15]3'!CR68","v":0.01},{"$f":"'[15]3'!CS68","v":0},{"$f":"'[15]3'!CT68","v":0},{"$f":"'[15]3'!CU68","v":0},{"$f":"'[15]3'!CV68","v":0},46.2,8.5400000000000009,0,0,8393.83,0,0,54.74,8393.83,{"$f":"'[15]3'!DF68","v":0.01},{"$f":"'[15]3'!DG68","v":0.01},{"$f":"'[15]3'!DH68","v":0},{"$f":"'[15]3'!DI68","v":0},{"$f":"'[15]3'!DJ68","v":0},{"$f":"'[15]3'!DK68","v":0},14.4,3.99,0,0,2819.92,0,0,18.39,2819.92,{"$f":"'[15]3'!DU68","v":0.01},{"$f":"'[15]3'!DV68","v":0.01},{"$f":"'[15]3'!DW68","v":0},{"$f":"'[15]3'!DX68","v":0},{"$f":"'[15]3'!DY68","v":0},{"$f":"'[15]3'!DZ68","v":0},21.88,4.8,0,0,4091.11,0,0,26.68,4091.11,{"$f":"'[15]3'!EJ68","v":0.01},{"$f":"'[15]3'!EK68","v":0.01},{"$f":"'[15]3'!EL68","v":0},{"$f":"'[15]3'!EM68","v":0},{"$f":"'[15]3'!EN68","v":0},{"$f":"'[15]3'!EO68","v":0},30.52,5.1000000000000005,0,0,5461.97,0,0,35.619999999999997,5461.97,{"$f":"'[15]3'!EY68","v":0.01},{"$f":"'[15]3'!EZ68","v":0.01},{"$f":"'[15]3'!FA68","v":0},{"$f":"'[15]3'!FB68","v":0},{"$f":"'[15]3'!FC68","v":0},{"$f":"'[15]3'!FD68","v":0},32.78,4.97,0,0,5788.59,0,0,37.75,5788.59,{"$f":"'[15]3'!FN68","v":0.01},{"$f":"'[15]3'!FO68","v":0.01},{"$f":"'[15]3'!FP68","v":0},{"$f":"'[15]3'!FQ68","v":0},{"$f":"'[15]3'!FR68","v":0},{"$f":"'[15]3'!FS68","v":0},37.480000000000004,5.28,0,0,6556.82,0,0,42.760000000000005,6556.82,178.03,27299.120000000003,215.94,33112.240000000005,393.97,60411.360000000008,12,393.97,60411.360000000008,0,0]
[55,"Сок в ассортименте","л",{"$f":"[15]цены!E63","v":86.02},{"$f":"'[15]3'!E69","v":0.14000000000000001},{"$f":"'[15]3'!F69","v":0.09},{"$f":"'[15]3'!G69","v":0},{"$f":"'[15]3'!H69","v":0},{"$f":"'[15]3'!I69","v":0},{"$f":"'[15]3'!J69","v":0},347.90000000000003,30.06,0,0,32512.12,0,0,377.96000000000004,32512.12,{"$f":"'[15]3'!T69","v":0.14000000000000001},{"$f":"'[15]3'!U69","v":0.09},{"$f":"'[15]3'!V69","v":0},{"$f":"'[15]3'!W69","v":0},{"$f":"'[15]3'!X69","v":0},{"$f":"'[15]3'!Y69","v":0},475.86000000000007,20.16,0,0,42667.64,0,0,496.0200000000001,42667.64,0.14000000000000001,0.09,0.14000000000000001,0.19,0.14000000000000001,null,420.70000000000005,36,0,0,39285.33,0,0,456.70000000000005,39285.33,{"$f":"'[15]3'!AX69","v":0.14000000000000001},{"$f":"'[15]3'!AY69","v":0.09},{"$f":"'[15]3'!AZ69","v":0},{"$f":"'[15]3'!BA69","v":0},{"$f":"'[15]3'!BB69","v":0},{"$f":"'[15]3'!BC69","v":0},446.04,32.49,0,0,41163.15,0,0,478.53000000000003,41163.15,{"$f":"'[15]3'!BM69","v":0.14000000000000001},{"$f":"'[15]3'!BN69","v":0.09},{"$f":"'[15]3'!BO69","v":0},{"$f":"'[15]3'!BP69","v":0},{"$f":"'[15]3'!BQ69","v":0},{"$f":"'[15]3'!BR69","v":0},312.20000000000005,25.38,0,0,29038.63,0,0,337.58000000000004,29038.63,{"$f":"'[15]3'!CB69","v":0.14000000000000001},{"$f":"'[15]3'!CC69","v":0.09},{"$f":"'[15]3'!CD69","v":0},{"$f":"'[15]3'!CE69","v":0},{"$f":"'[15]3'!CF69","v":0},{"$f":"'[15]3'!CG69","v":0},229.46,23.22,0,0,21735.53,0,0,252.68,21735.53,{"$f":"'[15]3'!CQ69","v":0.14000000000000001},{"$f":"'[15]3'!CR69","v":0.09},{"$f":"'[15]3'!CS69","v":0},{"$f":"'[15]3'!CT69","v":0},{"$f":"'[15]3'!CU69","v":0},{"$f":"'[15]3'!CV69","v":0},646.80000000000007,76.86,0,0,62249.23,0,0,723.66000000000008,62249.23,{"$f":"'[15]3'!DF69","v":0.14000000000000001},{"$f":"'[15]3'!DG69","v":0.09},{"$f":"'[15]3'!DH69","v":0},{"$f":"'[15]3'!DI69","v":0},{"$f":"'[15]3'!DJ69","v":0},{"$f":"'[15]3'!DK69","v":0},201.60000000000002,35.909999999999997,0,0,20430.61,0,0,237.51000000000002,20430.61,{"$f":"'[15]3'!DU69","v":0.14000000000000001},{"$f":"'[15]3'!DV69","v":0.09},{"$f":"'[15]3'!DW69","v":0},{"$f":"'[15]3'!DX69","v":0},{"$f":"'[15]3'!DY69","v":0},{"$f":"'[15]3'!DZ69","v":0},306.32000000000005,43.199999999999996,0,0,30065.71,0,0,349.52000000000004,30065.71,{"$f":"'[15]3'!EJ69","v":0.14000000000000001},{"$f":"'[15]3'!EK69","v":0.09},{"$f":"'[15]3'!EL69","v":0},{"$f":"'[15]3'!EM69","v":0},{"$f":"'[15]3'!EN69","v":0},{"$f":"'[15]3'!EO69","v":0},427.28000000000003,45.9,0,0,40702.94,0,0,473.18,40702.94,{"$f":"'[15]3'!EY69","v":0.14000000000000001},{"$f":"'[15]3'!EZ69","v":0.09},{"$f":"'[15]3'!FA69","v":0},{"$f":"'[15]3'!FB69","v":0},{"$f":"'[15]3'!FC69","v":0},{"$f":"'[15]3'!FD69","v":0},458.92,44.73,0,0,43323.97,0,0,503.65000000000003,43323.97,{"$f":"'[15]3'!FN69","v":0.14000000000000001},{"$f":"'[15]3'!FO69","v":0.09},{"$f":"'[15]3'!FP69","v":0},{"$f":"'[15]3'!FQ69","v":0},{"$f":"'[15]3'!FR69","v":0},{"$f":"'[15]3'!FS69","v":0},524.72,47.519999999999996,0,0,49224.08,0,0,572.24,49224.08,2399.4700000000003,206402.4,2859.76,245996.53999999998,5259.2300000000005,452398.93999999994,12,5259.2300000000005,452398.93999999994,0,0]
[56,"Шоколад молочный (1шт -25 г)","кг",{"$f":"[15]цены!E64","v":808.67},{"$f":"'[15]3'!E70","v":1.1999999999999999E-3},{"$f":"'[15]3'!F70","v":1.1999999999999999E-3},{"$f":"'[15]3'!G70","v":0},{"$f":"'[15]3'!H70","v":0},{"$f":"'[15]3'!I70","v":0},{"$f":"'[15]3'!J70","v":0},2.9819999999999998,0.40079999999999999,0,0,2735.57,0,0,3.3827999999999996,2735.57,{"$f":"'[15]3'!T70","v":1.1999999999999999E-3},{"$f":"'[15]3'!U70","v":1.1999999999999999E-3},{"$f":"'[15]3'!V70","v":0},{"$f":"'[15]3'!W70","v":0},{"$f":"'[15]3'!X70","v":0},{"$f":"'[15]3'!Y70","v":0},4.0787999999999993,0.26879999999999998,0,0,3515.77,0,0,4.347599999999999,3515.77,1.1999999999999999E-3,1.1999999999999999E-3,1.1999999999999999E-3,1.1999999999999999E-3,1E-3,null,3.6059999999999999,0.48,0,0,3304.23,0,0,4.0860000000000003,3304.23,{"$f":"'[15]3'!AX70","v":0},{"$f":"'[15]3'!AY70","v":0},{"$f":"'[15]3'!AZ70","v":0},{"$f":"'[15]3'!BA70","v":0},{"$f":"'[15]3'!BB70","v":0},{"$f":"'[15]3'!BC70","v":0},0,0,0,0,0,0,0,0,0,{"$f":"'[15]3'!BM70","v":2.3999999999999998E-3},{"$f":"'[15]3'!BN70","v":2.3999999999999998E-3},{"$f":"'[15]3'!BO70","v":0},{"$f":"'[15]3'!BP70","v":0},{"$f":"'[15]3'!BQ70","v":0},{"$f":"'[15]3'!BR70","v":0},5.3519999999999994,0.67679999999999996,0,0,4875.3100000000004,0,0,6.0287999999999995,4875.3100000000004,{"$f":"'[15]3'!CB70","v":1.1999999999999999E-3},{"$f":"'[15]3'!CC70","v":1.1999999999999999E-3},{"$f":"'[15]3'!CD70","v":0},{"$f":"'[15]3'!CE70","v":0},{"$f":"'[15]3'!CF70","v":0},{"$f":"'[15]3'!CG70","v":0},1.9667999999999999,0.30959999999999999,0,0,1840.86,0,0,2.2763999999999998,1840.86,{"$f":"'[15]3'!CQ70","v":0},{"$f":"'[15]3'!CR70","v":0},{"$f":"'[15]3'!CS70","v":0},{"$f":"'[15]3'!CT70","v":0},{"$f":"'[15]3'!CU70","v":0},{"$f":"'[15]3'!CV70","v":0},0,0,0,0,0,0,0,0,0,{"$f":"'[15]3'!DF70","v":0},{"$f":"'[15]3'!DG70","v":0},{"$f":"'[15]3'!DH70","v":0},{"$f":"'[15]3'!DI70","v":0},{"$f":"'[15]3'!DJ70","v":0},{"$f":"'[15]3'!DK70","v":0},0,0,0,0,0,0,0,0,0,{"$f":"'[15]3'!DU70","v":0},{"$f":"'[15]3'!DV70","v":0},{"$f":"'[15]3'!DW70","v":0},{"$f":"'[15]3'!DX70","v":0},{"$f":"'[15]3'!DY70","v":0},{"$f":"'[15]3'!DZ70","v":0},0,0,0,0,0,0,0,0,0,{"$f":"'[15]3'!EJ70","v":0},{"$f":"'[15]3'!EK70","v":0},{"$f":"'[15]3'!EL70","v":0},{"$f":"'[15]3'!EM70","v":0},{"$f":"'[15]3'!EN70","v":0},{"$f":"'[15]3'!EO70","v":0},0,0,0,0,0,0,0,0,0,{"$f":"'[15]3'!EY70","v":0},{"$f":"'[15]3'!EZ70","v":0},{"$f":"'[15]3'!FA70","v":0},{"$f":"'[15]3'!FB70","v":0},{"$f":"'[15]3'!FC70","v":0},{"$f":"'[15]3'!FD70","v":0},0,0,0,0,0,0,0,0,0,{"$f":"'[15]3'!FN70","v":2.3999999999999998E-3},{"$f":"'[15]3'!FO70","v":2.3999999999999998E-3},{"$f":"'[15]3'!FP70","v":0},{"$f":"'[15]3'!FQ70","v":0},{"$f":"'[15]3'!FR70","v":0},{"$f":"'[15]3'!FS70","v":0},8.9951999999999988,1.2671999999999999,0,0,8298.9,0,0,10.2624,8298.9,20.121599999999997,16271.740000000002,10.2624,8298.9,30.383999999999997,24570.639999999999,9,30.383999999999997,24570.639999999999,0,0]
[57,"Печенье","кг",{"$f":"[15]цены!E65","v":164.83},{"$f":"'[15]3'!E71","v":5.0000000000000001E-3},{"$f":"'[15]3'!F71","v":1E-3},{"$f":"'[15]3'!G71","v":6.5000000000000008E-4},{"$f":"'[15]3'!H71","v":0},{"$f":"'[15]3'!I71","v":0},{"$f":"'[15]3'!J71","v":0},12.425000000000001,0.33400000000000002,0,0,2103.0700000000002,0,0,12.759,2103.0700000000002,{"$f":"'[15]3'!T71","v":5.0000000000000001E-3},{"$f":"'[15]3'!U71","v":1E-3},{"$f":"'[15]3'!V71","v":6.5000000000000008E-4},{"$f":"'[15]3'!W71","v":0},{"$f":"'[15]3'!X71","v":0},{"$f":"'[15]3'!Y71","v":0},16.995000000000001,0.224,0,0,2838.21,0,0,17.219000000000001,2838.21,5.0000000000000001E-3,1E-3,5.0000000000000001E-3,4.0000000000000001E-3,3.0000000000000001E-3,null,15.025,0.4,0,0,2542.5,0,0,15.425000000000001,2542.5,{"$f":"'[15]3'!AX71","v":5.0000000000000001E-3},{"$f":"'[15]3'!AY71","v":1E-3},{"$f":"'[15]3'!AZ71","v":6.5000000000000008E-4},{"$f":"'[15]3'!BA71","v":0},{"$f":"'[15]3'!BB71","v":0},{"$f":"'[15]3'!BC71","v":0},15.93,0.36099999999999999,0,0,2685.25,0,0,16.291,2685.25,{"$f":"'[15]3'!BM71","v":4.4000000000000003E-3},{"$f":"'[15]3'!BN71","v":1E-3},{"$f":"'[15]3'!BO71","v":6.5000000000000008E-4},{"$f":"'[15]3'!BP71","v":0},{"$f":"'[15]3'!BQ71","v":0},{"$f":"'[15]3'!BR71","v":0},9.8120000000000012,0.28200000000000003,0,0,1663.79,0,0,10.094000000000001,1663.79,{"$f":"'[15]3'!CB71","v":5.0000000000000001E-3},{"$f":"'[15]3'!CC71","v":1E-3},{"$f":"'[15]3'!CD71","v":6.5000000000000008E-4},{"$f":"'[15]3'!CE71","v":0},{"$f":"'[15]3'!CF71","v":0},{"$f":"'[15]3'!CG71","v":0},8.1950000000000003,0.25800000000000001,0,0,1393.31,0,0,8.4529999999999994,1393.31,{"$f":"'[15]3'!CQ71","v":5.0000000000000001E-3},{"$f":"'[15]3'!CR71","v":1E-3},{"$f":"'[15]3'!CS71","v":6.5000000000000008E-4},{"$f":"'[15]3'!CT71","v":0},{"$f":"'[15]3'!CU71","v":0},{"$f":"'[15]3'!CV71","v":0},23.1,0.85399999999999998,0,0,3948.34,0,0,23.954000000000001,3948.34,{"$f":"'[15]3'!DF71","v":5.0000000000000001E-3},{"$f":"'[15]3'!DG71","v":1E-3},{"$f":"'[15]3'!DH71","v":6.5000000000000008E-4},{"$f":"'[15]3'!DI71","v":0},{"$f":"'[15]3'!DJ71","v":0},{"$f":"'[15]3'!DK71","v":0},7.2,0.39900000000000002,0,0,1252.54,0,0,7.5990000000000002,1252.54,{"$f":"'[15]3'!DU71","v":5.0000000000000001E-3},{"$f":"'[15]3'!DV71","v":1E-3},{"$f":"'[15]3'!DW71","v":6.5000000000000008E-4},{"$f":"'[15]3'!DX71","v":0},{"$f":"'[15]3'!DY71","v":0},{"$f":"'[15]3'!DZ71","v":0},10.94,0.48,0,0,1882.36,0,0,11.42,1882.36,{"$f":"'[15]3'!EJ71","v":5.0000000000000001E-3},{"$f":"'[15]3'!EK71","v":1E-3},{"$f":"'[15]3'!EL71","v":6.5000000000000008E-4},{"$f":"'[15]3'!EM71","v":0},{"$f":"'[15]3'!EN71","v":0},{"$f":"'[15]3'!EO71","v":0},15.26,0.51,0,0,2599.37,0,0,15.77,2599.37,{"$f":"'[15]3'!EY71","v":5.0000000000000001E-3},{"$f":"'[15]3'!EZ71","v":1E-3},{"$f":"'[15]3'!FA71","v":6.5000000000000008E-4},{"$f":"'[15]3'!FB71","v":0},{"$f":"'[15]3'!FC71","v":0},{"$f":"'[15]3'!FD71","v":0},16.39,0.497,0,0,2783.48,0,0,16.887,2783.48,{"$f":"'[15]3'!FN71","v":4.4000000000000003E-3},{"$f":"'[15]3'!FO71","v":1E-3},{"$f":"'[15]3'!FP71","v":6.5000000000000008E-4},{"$f":"'[15]3'!FQ71","v":0},{"$f":"'[15]3'!FR71","v":0},{"$f":"'[15]3'!FS71","v":0},16.491200000000003,0.52800000000000002,0,0,2805.27,0,0,17.019200000000001,2805.27,80.241000000000014,13226.13,92.649199999999993,15271.36,172.89019999999999,28497.489999999998,9,172.89019999999999,28497.489999999998,0,0]
[58,"Вафли","кг",{"$f":"[15]цены!E66","v":184.83},{"$f":"'[15]3'!E72","v":5.0000000000000001E-3},{"$f":"'[15]3'!F72","v":1E-3},{"$f":"'[15]3'!G72","v":6.5000000000000008E-4},{"$f":"'[15]3'!H72","v":0},{"$f":"'[15]3'!I72","v":0},{"$f":"'[15]3'!J72","v":0},12.425000000000001,0.33400000000000002,0,0,2358.25,0,0,12.759,2358.25,{"$f":"'[15]3'!T72","v":5.0000000000000001E-3},{"$f":"'[15]3'!U72","v":1E-3},{"$f":"'[15]3'!V72","v":6.5000000000000008E-4},{"$f":"'[15]3'!W72","v":0},{"$f":"'[15]3'!X72","v":0},{"$f":"'[15]3'!Y72","v":0},16.995000000000001,0.224,0,0,3182.59,0,0,17.219000000000001,3182.59,5.0000000000000001E-3,1E-3,5.0000000000000001E-3,4.0000000000000001E-3,4.0000000000000001E-3,null,15.025,0.4,0,0,2851,0,0,15.425000000000001,2851,{"$f":"'[15]3'!AX72","v":5.0000000000000001E-3},{"$f":"'[15]3'!AY72","v":1E-3},{"$f":"'[15]3'!AZ72","v":6.5000000000000008E-4},{"$f":"'[15]3'!BA72","v":0},{"$f":"'[15]3'!BB72","v":0},{"$f":"'[15]3'!BC72","v":0},15.93,0.36099999999999999,0,0,3011.07,0,0,16.291,3011.07,{"$f":"'[15]3'!BM72","v":4.4000000000000003E-3},{"$f":"'[15]3'!BN72","v":1E-3},{"$f":"'[15]3'!BO72","v":6.5000000000000008E-4},{"$f":"'[15]3'!BP72","v":0},{"$f":"'[15]3'!BQ72","v":0},{"$f":"'[15]3'!BR72","v":0},9.8120000000000012,0.28200000000000003,0,0,1865.67,0,0,10.094000000000001,1865.67,{"$f":"'[15]3'!CB72","v":5.0000000000000001E-3},{"$f":"'[15]3'!CC72","v":1E-3},{"$f":"'[15]3'!CD72","v":6.5000000000000008E-4},{"$f":"'[15]3'!CE72","v":0},{"$f":"'[15]3'!CF72","v":0},{"$f":"'[15]3'!CG72","v":0},8.1950000000000003,0.25800000000000001,0,0,1562.37,0,0,8.4529999999999994,1562.37,{"$f":"'[15]3'!CQ72","v":5.0000000000000001E-3},{"$f":"'[15]3'!CR72","v":1E-3},{"$f":"'[15]3'!CS72","v":6.5000000000000008E-4},{"$f":"'[15]3'!CT72","v":0},{"$f":"'[15]3'!CU72","v":0},{"$f":"'[15]3'!CV72","v":0},23.1,0.85399999999999998,0,0,4427.42,0,0,23.954000000000001,4427.42,{"$f":"'[15]3'!DF72","v":5.0000000000000001E-3},{"$f":"'[15]3'!DG72","v":1E-3},{"$f":"'[15]3'!DH72","v":6.5000000000000008E-4},{"$f":"'[15]3'!DI72","v":0},{"$f":"'[15]3'!DJ72","v":0},{"$f":"'[15]3'!DK72","v":0},7.2,0.39900000000000002,0,0,1404.52,0,0,7.5990000000000002,1404.52,{"$f":"'[15]3'!DU72","v":5.0000000000000001E-3},{"$f":"'[15]3'!DV72","v":1E-3},{"$f":"'[15]3'!DW72","v":6.5000000000000008E-4},{"$f":"'[15]3'!DX72","v":0},{"$f":"'[15]3'!DY72","v":0},{"$f":"'[15]3'!DZ72","v":0},10.94,0.48,0,0,2110.7600000000002,0,0,11.42,2110.7600000000002,{"$f":"'[15]3'!EJ72","v":5.0000000000000001E-3},{"$f":"'[15]3'!EK72","v":1E-3},{"$f":"'[15]3'!EL72","v":6.5000000000000008E-4},{"$f":"'[15]3'!EM72","v":0},{"$f":"'[15]3'!EN72","v":0},{"$f":"'[15]3'!EO72","v":0},15.26,0.51,0,0,2914.77,0,0,15.77,2914.77,{"$f":"'[15]3'!EY72","v":5.0000000000000001E-3},{"$f":"'[15]3'!EZ72","v":1E-3},{"$f":"'[15]3'!FA72","v":6.5000000000000008E-4},{"$f":"'[15]3'!FB72","v":0},{"$f":"'[15]3'!FC72","v":0},{"$f":"'[15]3'!FD72","v":0},16.39,0.497,0,0,3121.22,0,0,16.887,3121.22,{"$f":"'[15]3'!FN72","v":4.4000000000000003E-3},{"$f":"'[15]3'!FO72","v":1E-3},{"$f":"'[15]3'!FP72","v":6.5000000000000008E-4},{"$f":"'[15]3'!FQ72","v":0},{"$f":"'[15]3'!FR72","v":0},{"$f":"'[15]3'!FS72","v":0},16.491200000000003,0.52800000000000002,0,0,3145.66,0,0,17.019200000000001,3145.66,80.241000000000014,14830.95,92.649199999999993,17124.349999999999,172.89019999999999,31955.3,9,172.89019999999999,31955.3,0,0]
[59,"Сахар-песок","кг",{"$f":"[15]цены!E67","v":87.5},{"$f":"'[15]3'!E73","v":4.7E-2},{"$f":"'[15]3'!F73","v":3.6999999999999998E-2},{"$f":"'[15]3'!G73","v":6.11E-3},{"$f":"'[15]3'!H73","v":0},{"$f":"'[15]3'!I73","v":0},{"$f":"'[15]3'!J73","v":1.6E-2},116.795,12.357999999999999,0,0,11300.89,9.4079999999999995,823.2,138.56099999999998,12124.09,{"$f":"'[15]3'!T73","v":4.7E-2},{"$f":"'[15]3'!U73","v":3.6999999999999998E-2},{"$f":"'[15]3'!V73","v":6.11E-3},{"$f":"'[15]3'!W73","v":0},{"$f":"'[15]3'!X73","v":0},{"$f":"'[15]3'!Y73","v":1.6E-2},159.75300000000001,8.2880000000000003,0,0,14703.59,10.88,952,178.92100000000002,15655.59,4.7E-2,3.6999999999999998E-2,4.7E-2,5.5E-2,0.05,1.6E-2,141.23500000000001,14.799999999999999,0,0,13653.06,12.8,1120,168.83500000000004,14773.06,{"$f":"'[15]3'!AX73","v":4.7E-2},{"$f":"'[15]3'!AY73","v":3.6999999999999998E-2},{"$f":"'[15]3'!AZ73","v":6.11E-3},{"$f":"'[15]3'!BA73","v":0},{"$f":"'[15]3'!BB73","v":0},{"$f":"'[15]3'!BC73","v":1.6E-2},149.74199999999999,13.356999999999999,0,0,14271.16,10.944000000000001,957.6,174.04299999999998,15228.76,{"$f":"'[15]3'!BM73","v":4.7E-2},{"$f":"'[15]3'!BN73","v":3.6999999999999998E-2},{"$f":"'[15]3'!BO73","v":6.11E-3},{"$f":"'[15]3'!BP73","v":0},{"$f":"'[15]3'!BQ73","v":0},{"$f":"'[15]3'!BR73","v":1.6E-2},104.81,10.433999999999999,0,0,10083.85,10.032,877.8,125.276,10961.65,{"$f":"'[15]3'!CB73","v":4.7E-2},{"$f":"'[15]3'!CC73","v":3.6999999999999998E-2},{"$f":"'[15]3'!CD73","v":6.11E-3},{"$f":"'[15]3'!CE73","v":0},{"$f":"'[15]3'!CF73","v":0},{"$f":"'[15]3'!CG73","v":1.6E-2},77.033000000000001,9.5459999999999994,0,0,7575.66,9.7279999999999998,851.2,96.307000000000002,8426.86,{"$f":"'[15]3'!CQ73","v":4.7E-2},{"$f":"'[15]3'!CR73","v":3.6999999999999998E-2},{"$f":"'[15]3'!CS73","v":6.11E-3},{"$f":"'[15]3'!CT73","v":0},{"$f":"'[15]3'!CU73","v":0},{"$f":"'[15]3'!CV73","v":1.6E-2},217.14,31.597999999999999,0,0,21764.58,7.9039999999999999,691.6,256.642,22456.18,{"$f":"'[15]3'!DF73","v":4.7E-2},{"$f":"'[15]3'!DG73","v":3.6999999999999998E-2},{"$f":"'[15]3'!DH73","v":6.11E-3},{"$f":"'[15]3'!DI73","v":0},{"$f":"'[15]3'!DJ73","v":0},{"$f":"'[15]3'!DK73","v":1.6E-2},67.680000000000007,14.763,0,0,7213.76,8.7360000000000007,764.4,91.179000000000016,7978.16,{"$f":"'[15]3'!DU73","v":4.7E-2},{"$f":"'[15]3'!DV73","v":3.6999999999999998E-2},{"$f":"'[15]3'!DW73","v":6.11E-3},{"$f":"'[15]3'!DX73","v":0},{"$f":"'[15]3'!DY73","v":0},{"$f":"'[15]3'!DZ73","v":1.6E-2},102.836,17.759999999999998,0,0,10552.15,8.8160000000000007,771.4,129.41200000000001,11323.55,{"$f":"'[15]3'!EJ73","v":4.7E-2},{"$f":"'[15]3'!EK73","v":3.6999999999999998E-2},{"$f":"'[15]3'!EL73","v":6.11E-3},{"$f":"'[15]3'!EM73","v":0},{"$f":"'[15]3'!EN73","v":0},{"$f":"'[15]3'!EO73","v":1.6E-2},143.44399999999999,18.869999999999997,0,0,14202.48,11.52,1008,173.834,15210.48,{"$f":"'[15]3'!EY73","v":4.7E-2},{"$f":"'[15]3'!EZ73","v":3.6999999999999998E-2},{"$f":"'[15]3'!FA73","v":6.11E-3},{"$f":"'[15]3'!FB73","v":0},{"$f":"'[15]3'!FC73","v":0},{"$f":"'[15]3'!FD73","v":1.6E-2},154.066,18.388999999999999,0,0,15089.81,13.68,1197,186.13500000000002,16286.81,{"$f":"'[15]3'!FN73","v":4.7E-2},{"$f":"'[15]3'!FO73","v":3.6999999999999998E-2},{"$f":"'[15]3'!FP73","v":6.11E-3},{"$f":"'[15]3'!FQ73","v":0},{"$f":"'[15]3'!FR73","v":0},{"$f":"'[15]3'!FS73","v":1.6E-2},176.15600000000001,19.535999999999998,0,0,17123.05,14.4,1260,210.09200000000001,18383.05,881.94299999999998,77170.009999999995,1047.2940000000001,91638.23,1929.2370000000001,168808.24,8,1800.3889999999999,157534.03999999998,128.84800000000018,11274.200000000012]
[60,"Мед натуральный","кг",{"$f":"[15]цены!E68","v":420},{"$f":"'[15]3'!E74","v":1E-3},{"$f":"'[15]3'!F74","v":1E-3},{"$f":"'[15]3'!G74","v":0},{"$f":"'[15]3'!H74","v":0},{"$f":"'[15]3'!I74","v":0},{"$f":"'[15]3'!J74","v":0},2.4849999999999999,0.33400000000000002,0,0,1183.98,0,0,2.819,1183.98,{"$f":"'[15]3'!T74","v":1E-3},{"$f":"'[15]3'!U74","v":1E-3},{"$f":"'[15]3'!V74","v":0},{"$f":"'[15]3'!W74","v":0},{"$f":"'[15]3'!X74","v":0},{"$f":"'[15]3'!Y74","v":0},3.399,0.224,0,0,1521.66,0,0,3.6230000000000002,1521.66,1E-3,1E-3,1E-3,1.2999999999999999E-3,1E-4,null,3.0049999999999999,0.4,0,0,1430.1,0,0,3.4049999999999998,1430.1,{"$f":"'[15]3'!AX74","v":1E-3},{"$f":"'[15]3'!AY74","v":1E-3},{"$f":"'[15]3'!AZ74","v":0},{"$f":"'[15]3'!BA74","v":0},{"$f":"'[15]3'!BB74","v":0},{"$f":"'[15]3'!BC74","v":0},3.1859999999999999,0.36099999999999999,0,0,1489.74,0,0,3.5469999999999997,1489.74,{"$f":"'[15]3'!BM74","v":1E-3},{"$f":"'[15]3'!BN74","v":4.0000000000000002E-4},{"$f":"'[15]3'!BO74","v":0},{"$f":"'[15]3'!BP74","v":0},{"$f":"'[15]3'!BQ74","v":0},{"$f":"'[15]3'!BR74","v":0},2.23,0.11280000000000001,0,0,983.98,0,0,2.3428,983.98,{"$f":"'[15]3'!CB74","v":1E-3},{"$f":"'[15]3'!CC74","v":1E-3},{"$f":"'[15]3'!CD74","v":0},{"$f":"'[15]3'!CE74","v":0},{"$f":"'[15]3'!CF74","v":0},{"$f":"'[15]3'!CG74","v":0},1.639,0.25800000000000001,0,0,796.74,0,0,1.897,796.74,{"$f":"'[15]3'!CQ74","v":1E-3},{"$f":"'[15]3'!CR74","v":1E-3},{"$f":"'[15]3'!CS74","v":0},{"$f":"'[15]3'!CT74","v":0},{"$f":"'[15]3'!CU74","v":0},{"$f":"'[15]3'!CV74","v":0},4.62,0.85399999999999998,0,0,2299.08,0,0,5.4740000000000002,2299.08,{"$f":"'[15]3'!DF74","v":1E-3},{"$f":"'[15]3'!DG74","v":1E-3},{"$f":"'[15]3'!DH74","v":0},{"$f":"'[15]3'!DI74","v":0},{"$f":"'[15]3'!DJ74","v":0},{"$f":"'[15]3'!DK74","v":0},1.44,0.39900000000000002,0,0,772.38,0,0,1.839,772.38,{"$f":"'[15]3'!DU74","v":1E-3},{"$f":"'[15]3'!DV74","v":1E-3},{"$f":"'[15]3'!DW74","v":0},{"$f":"'[15]3'!DX74","v":0},{"$f":"'[15]3'!DY74","v":0},{"$f":"'[15]3'!DZ74","v":0},2.1880000000000002,0.48,0,0,1120.56,0,0,2.6680000000000001,1120.56,{"$f":"'[15]3'!EJ74","v":1E-3},{"$f":"'[15]3'!EK74","v":1E-3},{"$f":"'[15]3'!EL74","v":0},{"$f":"'[15]3'!EM74","v":0},{"$f":"'[15]3'!EN74","v":0},{"$f":"'[15]3'!EO74","v":0},3.052,0.51,0,0,1496.04,0,0,3.5620000000000003,1496.04,{"$f":"'[15]3'!EY74","v":1E-3},{"$f":"'[15]3'!EZ74","v":1E-3},{"$f":"'[15]3'!FA74","v":0},{"$f":"'[15]3'!FB74","v":0},{"$f":"'[15]3'!FC74","v":0},{"$f":"'[15]3'!FD74","v":0},3.278,0.497,0,0,1585.5,0,0,3.7749999999999999,1585.5,{"$f":"'[15]3'!FN74","v":1E-3},{"$f":"'[15]3'!FO74","v":4.0000000000000002E-4},{"$f":"'[15]3'!FP74","v":0},{"$f":"'[15]3'!FQ74","v":0},{"$f":"'[15]3'!FR74","v":0},{"$f":"'[15]3'!FS74","v":0},3.7480000000000002,0.2112,0,0,1662.86,0,0,3.9592000000000001,1662.86,17.633799999999997,7406.1999999999989,21.277200000000001,8936.42,38.911000000000001,16342.619999999999,3,38.911000000000001,16342.619999999999,0,0]
[61,"Повидло","кг",{"$f":"[15]цены!E69","v":96.3},{"$f":"'[15]3'!E75","v":4.0000000000000001E-3},{"$f":"'[15]3'!F75","v":1E-3},{"$f":"'[15]3'!G75","v":5.2000000000000006E-4},{"$f":"'[15]3'!H75","v":0},{"$f":"'[15]3'!I75","v":0},{"$f":"'[15]3'!J75","v":0},9.94,0.33400000000000002,0,0,989.39,0,0,10.273999999999999,989.39,{"$f":"'[15]3'!T75","v":4.0000000000000001E-3},{"$f":"'[15]3'!U75","v":1E-3},{"$f":"'[15]3'!V75","v":5.2000000000000006E-4},{"$f":"'[15]3'!W75","v":0},{"$f":"'[15]3'!X75","v":0},{"$f":"'[15]3'!Y75","v":0},13.596,0.224,0,0,1330.87,0,0,13.82,1330.87,4.0000000000000001E-3,1E-3,4.0000000000000001E-3,2E-3,5.0000000000000001E-4,null,12.02,0.4,0,0,1196.05,0,0,12.42,1196.05,{"$f":"'[15]3'!AX75","v":4.0000000000000001E-3},{"$f":"'[15]3'!AY75","v":1E-3},{"$f":"'[15]3'!AZ75","v":5.2000000000000006E-4},{"$f":"'[15]3'!BA75","v":0},{"$f":"'[15]3'!BB75","v":0},{"$f":"'[15]3'!BC75","v":0},12.744,0.36099999999999999,0,0,1262.01,0,0,13.105,1262.01,{"$f":"'[15]3'!BM75","v":4.0000000000000001E-3},{"$f":"'[15]3'!BN75","v":1E-3},{"$f":"'[15]3'!BO75","v":5.2000000000000006E-4},{"$f":"'[15]3'!BP75","v":0},{"$f":"'[15]3'!BQ75","v":0},{"$f":"'[15]3'!BR75","v":0},8.92,0.28200000000000003,0,0,886.15,0,0,9.202,886.15,{"$f":"'[15]3'!CB75","v":4.0000000000000001E-3},{"$f":"'[15]3'!CC75","v":1E-3},{"$f":"'[15]3'!CD75","v":5.2000000000000006E-4},{"$f":"'[15]3'!CE75","v":0},{"$f":"'[15]3'!CF75","v":0},{"$f":"'[15]3'!CG75","v":0},6.556,0.25800000000000001,0,0,656.19,0,0,6.8140000000000001,656.19,{"$f":"'[15]3'!CQ75","v":4.0000000000000001E-3},{"$f":"'[15]3'!CR75","v":1E-3},{"$f":"'[15]3'!CS75","v":5.2000000000000006E-4},{"$f":"'[15]3'!CT75","v":0},{"$f":"'[15]3'!CU75","v":0},{"$f":"'[15]3'!CV75","v":0},18.48,0.85399999999999998,0,0,1861.86,0,0,19.334,1861.86,{"$f":"'[15]3'!DF75","v":4.0000000000000001E-3},{"$f":"'[15]3'!DG75","v":1E-3},{"$f":"'[15]3'!DH75","v":5.2000000000000006E-4},{"$f":"'[15]3'!DI75","v":0},{"$f":"'[15]3'!DJ75","v":0},{"$f":"'[15]3'!DK75","v":0},5.76,0.39900000000000002,0,0,593.11,0,0,6.1589999999999998,593.11,{"$f":"'[15]3'!DU75","v":4.0000000000000001E-3},{"$f":"'[15]3'!DV75","v":1E-3},{"$f":"'[15]3'!DW75","v":5.2000000000000006E-4},{"$f":"'[15]3'!DX75","v":0},{"$f":"'[15]3'!DY75","v":0},{"$f":"'[15]3'!DZ75","v":0},8.7520000000000007,0.48,0,0,889.04,0,0,9.2320000000000011,889.04,{"$f":"'[15]3'!EJ75","v":4.0000000000000001E-3},{"$f":"'[15]3'!EK75","v":1E-3},{"$f":"'[15]3'!EL75","v":5.2000000000000006E-4},{"$f":"'[15]3'!EM75","v":0},{"$f":"'[15]3'!EN75","v":0},{"$f":"'[15]3'!EO75","v":0},12.208,0.51,0,0,1224.74,0,0,12.718,1224.74,{"$f":"'[15]3'!EY75","v":4.0000000000000001E-3},{"$f":"'[15]3'!EZ75","v":1E-3},{"$f":"'[15]3'!FA75","v":5.2000000000000006E-4},{"$f":"'[15]3'!FB75","v":0},{"$f":"'[15]3'!FC75","v":0},{"$f":"'[15]3'!FD75","v":0},13.112,0.497,0,0,1310.55,0,0,13.609,1310.55,{"$f":"'[15]3'!FN75","v":4.0000000000000001E-3},{"$f":"'[15]3'!FO75","v":1E-3},{"$f":"'[15]3'!FP75","v":5.2000000000000006E-4},{"$f":"'[15]3'!FQ75","v":0},{"$f":"'[15]3'!FR75","v":0},{"$f":"'[15]3'!FS75","v":0},14.992000000000001,0.52800000000000002,0,0,1494.58,0,0,15.520000000000001,1494.58,65.634999999999991,6320.66,76.572000000000003,7373.88,142.20699999999999,13694.54,12,142.20699999999999,13694.54,0,0]
[62,"Варенье","кг",{"$f":"[15]цены!E70","v":243.1},{"$f":"'[15]3'!E76","v":2.3E-3},{"$f":"'[15]3'!F76","v":8.0000000000000004E-4},{"$f":"'[15]3'!G76","v":2.99E-4},{"$f":"'[15]3'!H76","v":0},{"$f":"'[15]3'!I76","v":0},{"$f":"'[15]3'!J76","v":1E-4},5.7154999999999996,0.26719999999999999,0,0,1454.39,5.8800000000000005E-2,14.29,6.0414999999999992,1468.68,{"$f":"'[15]3'!T76","v":2.3E-3},{"$f":"'[15]3'!U76","v":8.0000000000000004E-4},{"$f":"'[15]3'!V76","v":2.99E-4},{"$f":"'[15]3'!W76","v":0},{"$f":"'[15]3'!X76","v":0},{"$f":"'[15]3'!Y76","v":1E-4},7.8176999999999994,0.1792,0,0,1944.05,6.8000000000000005E-2,16.53,8.0648999999999997,1960.58,2.3E-3,8.0000000000000004E-4,2.3E-3,1E-3,4.0000000000000002E-4,1E-4,6.9115000000000002,0.32,0,0,1757.98,0.08,19.45,7.3115000000000006,1777.43,{"$f":"'[15]3'!AX76","v":3.5000000000000001E-3},{"$f":"'[15]3'!AY76","v":2E-3},{"$f":"'[15]3'!AZ76","v":2.99E-4},{"$f":"'[15]3'!BA76","v":0},{"$f":"'[15]3'!BB76","v":0},{"$f":"'[15]3'!BC76","v":1E-4},11.151,0.72199999999999998,0,0,2886.33,6.8400000000000002E-2,16.63,11.9414,2902.96,{"$f":"'[15]3'!BM76","v":2.3E-3},{"$f":"'[15]3'!BN76","v":8.0000000000000004E-4},{"$f":"'[15]3'!BO76","v":2.99E-4},{"$f":"'[15]3'!BP76","v":0},{"$f":"'[15]3'!BQ76","v":0},{"$f":"'[15]3'!BR76","v":1E-4},5.1289999999999996,0.22560000000000002,0,0,1301.7,6.2700000000000006E-2,15.24,5.4173,1316.94,{"$f":"'[15]3'!CB76","v":2.3E-3},{"$f":"'[15]3'!CC76","v":8.0000000000000004E-4},{"$f":"'[15]3'!CD76","v":2.99E-4},{"$f":"'[15]3'!CE76","v":0},{"$f":"'[15]3'!CF76","v":0},{"$f":"'[15]3'!CG76","v":1E-4},3.7696999999999998,0.2064,0,0,966.59,6.08E-2,14.78,4.0369000000000002,981.37,{"$f":"'[15]3'!CQ76","v":3.5000000000000001E-3},{"$f":"'[15]3'!CR76","v":2E-3},{"$f":"'[15]3'!CS76","v":2.99E-4},{"$f":"'[15]3'!CT76","v":0},{"$f":"'[15]3'!CU76","v":0},{"$f":"'[15]3'!CV76","v":1E-4},16.170000000000002,1.708,0,0,4346.1400000000003,4.9399999999999999E-2,12.01,17.927399999999999,4358.1500000000005,{"$f":"'[15]3'!DF76","v":3.5000000000000001E-3},{"$f":"'[15]3'!DG76","v":2E-3},{"$f":"'[15]3'!DH76","v":2.99E-4},{"$f":"'[15]3'!DI76","v":0},{"$f":"'[15]3'!DJ76","v":0},{"$f":"'[15]3'!DK76","v":1E-4},5.04,0.79800000000000004,0,0,1419.22,5.4600000000000003E-2,13.27,5.8925999999999998,1432.49,{"$f":"'[15]3'!DU76","v":3.5000000000000001E-3},{"$f":"'[15]3'!DV76","v":2E-3},{"$f":"'[15]3'!DW76","v":2.99E-4},{"$f":"'[15]3'!DX76","v":0},{"$f":"'[15]3'!DY76","v":0},{"$f":"'[15]3'!DZ76","v":1E-4},7.6580000000000004,0.96,0,0,2095.04,5.5100000000000003E-2,13.39,8.6730999999999998,2108.4299999999998,{"$f":"'[15]3'!EJ76","v":3.5000000000000001E-3},{"$f":"'[15]3'!EK76","v":2E-3},{"$f":"'[15]3'!EL76","v":2.99E-4},{"$f":"'[15]3'!EM76","v":0},{"$f":"'[15]3'!EN76","v":0},{"$f":"'[15]3'!EO76","v":1E-4},10.682,1.02,0,0,2844.76,7.2000000000000008E-2,17.5,11.773999999999999,2862.26,{"$f":"'[15]3'!EY76","v":3.5000000000000001E-3},{"$f":"'[15]3'!EZ76","v":2E-3},{"$f":"'[15]3'!FA76","v":2.99E-4},{"$f":"'[15]3'!FB76","v":0},{"$f":"'[15]3'!FC76","v":0},{"$f":"'[15]3'!FD76","v":1E-4},11.473000000000001,0.99399999999999999,0,0,3030.73,8.5500000000000007E-2,20.79,12.5525,3051.52,{"$f":"'[15]3'!FN76","v":2.3E-3},{"$f":"'[15]3'!FO76","v":8.0000000000000004E-4},{"$f":"'[15]3'!FP76","v":2.99E-4},{"$f":"'[15]3'!FQ76","v":0},{"$f":"'[15]3'!FR76","v":0},{"$f":"'[15]3'!FS76","v":1E-4},8.6204000000000001,0.4224,0,0,2198.3000000000002,9.0000000000000011E-2,21.88,9.1327999999999996,2220.1800000000003,42.813499999999998,10407.960000000001,65.952399999999997,16033.03,108.76589999999999,26440.99,12,107.96059999999999,26245.23,0.80530000000000257,195.76000000000204]
[63,"Молоко сгущеное цельное","кг",{"$f":"[15]цены!E71","v":174.83},{"$f":"'[15]3'!E77","v":1.5E-3},{"$f":"'[15]3'!F77","v":1E-3},{"$f":"'[15]3'!G77","v":0},{"$f":"'[15]3'!H77","v":0},{"$f":"'[15]3'!I77","v":0},{"$f":"'[15]3'!J77","v":0},3.7275,0.33400000000000002,0,0,710.07,0,0,4.0614999999999997,710.07,{"$f":"'[15]3'!T77","v":1.5E-3},{"$f":"'[15]3'!U77","v":1E-3},{"$f":"'[15]3'!V77","v":0},{"$f":"'[15]3'!W77","v":0},{"$f":"'[15]3'!X77","v":0},{"$f":"'[15]3'!Y77","v":0},5.0985000000000005,0.224,0,0,930.53,0,0,5.3225000000000007,930.53,1.5E-3,1E-3,1.5E-3,1.5E-3,1E-3,null,4.5075000000000003,0.4,0,0,857.98,0,0,4.9075000000000006,857.98,{"$f":"'[15]3'!AX77","v":1.5E-3},{"$f":"'[15]3'!AY77","v":1E-3},{"$f":"'[15]3'!AZ77","v":0},{"$f":"'[15]3'!BA77","v":0},{"$f":"'[15]3'!BB77","v":0},{"$f":"'[15]3'!BC77","v":0},4.7789999999999999,0.36099999999999999,0,0,898.63,0,0,5.14,898.63,{"$f":"'[15]3'!BM77","v":1.5E-3},{"$f":"'[15]3'!BN77","v":4.0000000000000002E-4},{"$f":"'[15]3'!BO77","v":0},{"$f":"'[15]3'!BP77","v":0},{"$f":"'[15]3'!BQ77","v":0},{"$f":"'[15]3'!BR77","v":0},3.3450000000000002,0.11280000000000001,0,0,604.53,0,0,3.4578000000000002,604.53,{"$f":"'[15]3'!CB77","v":1.5E-3},{"$f":"'[15]3'!CC77","v":1E-3},{"$f":"'[15]3'!CD77","v":0},{"$f":"'[15]3'!CE77","v":0},{"$f":"'[15]3'!CF77","v":0},{"$f":"'[15]3'!CG77","v":0},2.4584999999999999,0.25800000000000001,0,0,474.93,0,0,2.7164999999999999,474.93,{"$f":"'[15]3'!CQ77","v":1.5E-3},{"$f":"'[15]3'!CR77","v":1E-3},{"$f":"'[15]3'!CS77","v":0},{"$f":"'[15]3'!CT77","v":0},{"$f":"'[15]3'!CU77","v":0},{"$f":"'[15]3'!CV77","v":0},6.93,0.85399999999999998,0,0,1360.88,0,0,7.7839999999999998,1360.88,{"$f":"'[15]3'!DF77","v":1.5E-3},{"$f":"'[15]3'!DG77","v":1E-3},{"$f":"'[15]3'!DH77","v":0},{"$f":"'[15]3'!DI77","v":0},{"$f":"'[15]3'!DJ77","v":0},{"$f":"'[15]3'!DK77","v":0},2.16,0.39900000000000002,0,0,447.39,0,0,2.5590000000000002,447.39,{"$f":"'[15]3'!DU77","v":1.5E-3},{"$f":"'[15]3'!DV77","v":1E-3},{"$f":"'[15]3'!DW77","v":0},{"$f":"'[15]3'!DX77","v":0},{"$f":"'[15]3'!DY77","v":0},{"$f":"'[15]3'!DZ77","v":0},3.282,0.48,0,0,657.71,0,0,3.762,657.71,{"$f":"'[15]3'!EJ77","v":1.5E-3},{"$f":"'[15]3'!EK77","v":1E-3},{"$f":"'[15]3'!EL77","v":0},{"$f":"'[15]3'!EM77","v":0},{"$f":"'[15]3'!EN77","v":0},{"$f":"'[15]3'!EO77","v":0},4.5780000000000003,0.51,0,0,889.54,0,0,5.0880000000000001,889.54,{"$f":"'[15]3'!EY77","v":1.5E-3},{"$f":"'[15]3'!EZ77","v":1E-3},{"$f":"'[15]3'!FA77","v":0},{"$f":"'[15]3'!FB77","v":0},{"$f":"'[15]3'!FC77","v":0},{"$f":"'[15]3'!FD77","v":0},4.9169999999999998,0.497,0,0,946.53,0,0,5.4139999999999997,946.53,{"$f":"'[15]3'!FN77","v":1.5E-3},{"$f":"'[15]3'!FO77","v":4.0000000000000002E-4},{"$f":"'[15]3'!FP77","v":0},{"$f":"'[15]3'!FQ77","v":0},{"$f":"'[15]3'!FR77","v":0},{"$f":"'[15]3'!FS77","v":0},5.6219999999999999,0.2112,0,0,1019.82,0,0,5.8331999999999997,1019.82,25.605799999999999,4476.67,30.440199999999997,5321.87,56.045999999999992,9798.5400000000009,10,56.045999999999992,9798.5400000000009,0,0]
[64,"Кофейный напиток","кг",{"$f":"[15]цены!E72","v":162},{"$f":"'[15]3'!E78","v":1.1999999999999999E-3},{"$f":"'[15]3'!F78","v":1E-3},{"$f":"'[15]3'!G78","v":0},{"$f":"'[15]3'!H78","v":0},{"$f":"'[15]3'!I78","v":0},{"$f":"'[15]3'!J78","v":0},2.9819999999999998,0.33400000000000002,0,0,537.19000000000005,0,0,3.3159999999999998,537.19000000000005,{"$f":"'[15]3'!T78","v":1.1999999999999999E-3},{"$f":"'[15]3'!U78","v":1E-3},{"$f":"'[15]3'!V78","v":0},{"$f":"'[15]3'!W78","v":0},{"$f":"'[15]3'!X78","v":0},{"$f":"'[15]3'!Y78","v":0},4.0787999999999993,0.224,0,0,697.05,0,0,4.3027999999999995,697.05,1.1999999999999999E-3,1E-3,1.1999999999999999E-3,1E-3,1E-3,null,3.6059999999999999,0.4,0,0,648.97,0,0,4.0060000000000002,648.97,{"$f":"'[15]3'!AX78","v":1.1999999999999999E-3},{"$f":"'[15]3'!AY78","v":1E-3},{"$f":"'[15]3'!AZ78","v":0},{"$f":"'[15]3'!BA78","v":0},{"$f":"'[15]3'!BB78","v":0},{"$f":"'[15]3'!BC78","v":0},3.8231999999999995,0.36099999999999999,0,0,677.84,0,0,4.1841999999999997,677.84,{"$f":"'[15]3'!BM78","v":1.1999999999999999E-3},{"$f":"'[15]3'!BN78","v":1E-3},{"$f":"'[15]3'!BO78","v":0},{"$f":"'[15]3'!BP78","v":0},{"$f":"'[15]3'!BQ78","v":0},{"$f":"'[15]3'!BR78","v":0},2.6759999999999997,0.28200000000000003,0,0,479.2,0,0,2.9579999999999997,479.2,{"$f":"'[15]3'!CB78","v":1.1999999999999999E-3},{"$f":"'[15]3'!CC78","v":1E-3},{"$f":"'[15]3'!CD78","v":0},{"$f":"'[15]3'!CE78","v":0},{"$f":"'[15]3'!CF78","v":0},{"$f":"'[15]3'!CG78","v":0},1.9667999999999999,0.25800000000000001,0,0,360.42,0,0,2.2248000000000001,360.42,{"$f":"'[15]3'!CQ78","v":1.1999999999999999E-3},{"$f":"'[15]3'!CR78","v":1E-3},{"$f":"'[15]3'!CS78","v":0},{"$f":"'[15]3'!CT78","v":0},{"$f":"'[15]3'!CU78","v":0},{"$f":"'[15]3'!CV78","v":0},5.5439999999999996,0.85399999999999998,0,0,1036.48,0,0,6.3979999999999997,1036.48,{"$f":"'[15]3'!DF78","v":1.1999999999999999E-3},{"$f":"'[15]3'!DG78","v":1E-3},{"$f":"'[15]3'!DH78","v":0},{"$f":"'[15]3'!DI78","v":0},{"$f":"'[15]3'!DJ78","v":0},{"$f":"'[15]3'!DK78","v":0},1.7279999999999998,0.39900000000000002,0,0,344.57,0,0,2.1269999999999998,344.57,{"$f":"'[15]3'!DU78","v":1.1999999999999999E-3},{"$f":"'[15]3'!DV78","v":1E-3},{"$f":"'[15]3'!DW78","v":0},{"$f":"'[15]3'!DX78","v":0},{"$f":"'[15]3'!DY78","v":0},{"$f":"'[15]3'!DZ78","v":0},2.6255999999999999,0.48,0,0,503.11,0,0,3.1055999999999999,503.11,{"$f":"'[15]3'!EJ78","v":1.1999999999999999E-3},{"$f":"'[15]3'!EK78","v":1E-3},{"$f":"'[15]3'!EL78","v":0},{"$f":"'[15]3'!EM78","v":0},{"$f":"'[15]3'!EN78","v":0},{"$f":"'[15]3'!EO78","v":0},3.6623999999999999,0.51,0,0,675.93,0,0,4.1723999999999997,675.93,{"$f":"'[15]3'!EY78","v":1.1999999999999999E-3},{"$f":"'[15]3'!EZ78","v":1E-3},{"$f":"'[15]3'!FA78","v":0},{"$f":"'[15]3'!FB78","v":0},{"$f":"'[15]3'!FC78","v":0},{"$f":"'[15]3'!FD78","v":0},3.9335999999999998,0.497,0,0,717.76,0,0,4.4306000000000001,717.76,{"$f":"'[15]3'!FN78","v":1.1999999999999999E-3},{"$f":"'[15]3'!FO78","v":1E-3},{"$f":"'[15]3'!FP78","v":0},{"$f":"'[15]3'!FQ78","v":0},{"$f":"'[15]3'!FR78","v":0},{"$f":"'[15]3'!FS78","v":0},4.4975999999999994,0.52800000000000002,0,0,814.15,0,0,5.025599999999999,814.15,{"$f":"R78+AG78+AV78+BK78+BZ78+CO78","v":20.991799999999998},3400.67,{"$f":"DD78+DS78+EH78+EW78+FL78+GA78","v":25.259199999999993},4091.9999999999995,{"$f":"GC78+GE78","v":46.250999999999991},7492.67,9,46.250999999999991,7492.67,0,0]
[65,"Какао-порошок","кг",{"$f":"[15]цены!E73","v":498.67},{"$f":"'[15]3'!E79","v":5.9999999999999995E-4},{"$f":"'[15]3'!F79","v":5.0000000000000001E-4},{"$f":"'[15]3'!G79","v":0},{"$f":"'[15]3'!H79","v":0},{"$f":"'[15]3'!I79","v":0},{"$f":"'[15]3'!J79","v":0},1.4909999999999999,0.16700000000000001,{"$f":"$I$11*$M$11*G79","v":0},{"$f":"$I$11*$N$11*G79","v":0},{"$f":"ROUND(SUM((K79+L79+M79+N79)*D79),2)","v":826.79},{"$f":"$I$11*$P$11*J79","v":0},{"$f":"ROUND(SUM(P79*D79),2)","v":0},{"$f":"K79+L79+M79+N79+P79","v":1.6579999999999999},{"$f":"O79+Q79","v":826.79},{"$f":"'[15]3'!T79","v":5.9999999999999995E-4},{"$f":"'[15]3'!U79","v":5.0000000000000001E-4},{"$f":"'[15]3'!V79","v":0},{"$f":"'[15]3'!W79","v":0},{"$f":"'[15]3'!X79","v":0},{"$f":"'[15]3'!Y79","v":0},2.0393999999999997,0.112,{"$f":"$X$11*$AB$11*V79","v":0},{"$f":"$X$11*$AC$11*V79","v":0},{"$f":"ROUND((Z79+AA79+AB79+AC79)*D79,2)","v":1072.8399999999999},{"$f":"$X$11*$AE$11*Y79","v":0},{"$f":"ROUND(AE79*D79,2)","v":0},{"$f":"Z79+AA79+AB79+AC79+AE79","v":2.1513999999999998},{"$f":"AD79+AF79","v":1072.8399999999999},5.9999999999999995E-4,5.0000000000000001E-4,5.9999999999999995E-4,1E-3,1E-3,null,1.8029999999999999,0.2,{"$f":"$AQ$11*$AM$11*AK79","v":0},{"$f":"$AR$11*$AM$11*AK79","v":0},{"$f":"ROUND((AO79+AP79+AQ79+AR79)*D79,2)","v":998.84},{"$f":"$AM$11*$AT$11*AN79","v":0},{"$f":"ROUND(AT79*D79,2)","v":0},{"$f":"AO79+AP79+AQ79+AR79+AT79","v":2.0030000000000001},{"$f":"AS79+AU79","v":998.84},{"$f":"'[15]3'!AX79","v":5.9999999999999995E-4},{"$f":"'[15]3'!AY79","v":5.0000000000000001E-4},{"$f":"'[15]3'!AZ79","v":0},{"$f":"'[15]3'!BA79","v":0},{"$f":"'[15]3'!BB79","v":0},{"$f":"'[15]3'!BC79","v":0},1.9115999999999997,0.18049999999999999,{"$f":"$BB$11*$BF$11*AZ79","v":0},{"$f":"$BB$11*$BG$11*AZ79","v":0},{"$f":"ROUND((BD79+BE79+BF79+BG79)*D79,2)","v":1043.27},{"$f":"$BB$11*$BI$11*BC79","v":0},{"$f":"ROUND(BI79*D79,2)","v":0},{"$f":"BD79+BE79+BF79+BG79+BI79","v":2.0920999999999998},{"$f":"BH79+BJ79","v":1043.27},{"$f":"'[15]3'!BM79","v":5.9999999999999995E-4},{"$f":"'[15]3'!BN79","v":5.0000000000000001E-4},{"$f":"'[15]3'!BO79","v":0},{"$f":"'[15]3'!BP79","v":0},{"$f":"'[15]3'!BQ79","v":0},{"$f":"'[15]3'!BR79","v":0},1.3379999999999999,0.14100000000000001,{"$f":"$BQ$11*$BU$11*BO79","v":0},{"$f":"$BQ$11*$BV$11*BO79","v":0},{"$f":"ROUND((BS79+BT79+BU79+BV79)*D79,2)","v":737.53},{"$f":"$BQ$11*$BX$11*BR79","v":0},{"$f":"ROUND(BX79*D79,2)","v":0},{"$f":"BS79+BT79+BU79+BV79+BX79","v":1.4789999999999999},{"$f":"BW79+BY79","v":737.53},{"$f":"'[15]3'!CB79","v":5.9999999999999995E-4},{"$f":"'[15]3'!CC79","v":5.0000000000000001E-4},{"$f":"'[15]3'!CD79","v":0},{"$f":"'[15]3'!CE79","v":0},{"$f":"'[15]3'!CF79","v":0},{"$f":"'[15]3'!CG79","v":0},0.98339999999999994,0.129,{"$f":"$CF$11*$CJ$11*CD79","v":0},{"$f":"$CF$11*$CK$11*CD79","v":0},{"$f":"ROUND((CH79+CI79+CJ79+CK79)*D79,2)","v":554.72},{"$f":"$CF$11*$CM$11*CG79","v":0},{"$f":"ROUND(CM79*D79,2)","v":0},{"$f":"CH79+CI79+CJ79+CK79+CM79","v":1.1124000000000001},{"$f":"CL79+CN79","v":554.72},{"$f":"'[15]3'!CQ79","v":5.9999999999999995E-4},{"$f":"'[15]3'!CR79","v":5.0000000000000001E-4},{"$f":"'[15]3'!CS79","v":0},{"$f":"'[15]3'!CT79","v":0},{"$f":"'[15]3'!CU79","v":0},{"$f":"'[15]3'!CV79","v":0},2.7719999999999998,0.42699999999999999,{"$f":"$CU$11*$CY$11*CS79","v":0},{"$f":"$CU$11*$CZ$11*CS79","v":0},{"$f":"ROUND((CW79+CX79+CY79+CZ79)*D79,2)","v":1595.25},{"$f":"$DB$11*$CU$11*CV79","v":0},{"$f":"ROUND(DB79*D79,2)","v":0},{"$f":"CW79+CX79+CY79+CZ79+DB79","v":3.1989999999999998},{"$f":"DA79+DC79","v":1595.25},{"$f":"'[15]3'!DF79","v":5.9999999999999995E-4},{"$f":"'[15]3'!DG79","v":5.0000000000000001E-4},{"$f":"'[15]3'!DH79","v":0},{"$f":"'[15]3'!DI79","v":0},{"$f":"'[15]3'!DJ79","v":0},{"$f":"'[15]3'!DK79","v":0},0.86399999999999988,0.19950000000000001,{"$f":"$DJ$11*$DN$11*DH79","v":0},{"$f":"$DJ$11*$DO$11*DI79","v":0},{"$f":"ROUND((DL79+DM79+DN79+DO79)*D79,2)","v":530.34},{"$f":"$DJ$11*$DQ$11*DK79","v":0},{"$f":"ROUND(DQ79*D79,2)","v":0},{"$f":"DL79+DM79+DN79+DO79+DQ79","v":1.0634999999999999},{"$f":"DP79+DR79","v":530.34},{"$f":"'[15]3'!DU79","v":5.9999999999999995E-4},{"$f":"'[15]3'!DV79","v":5.0000000000000001E-4},{"$f":"'[15]3'!DW79","v":0},{"$f":"'[15]3'!DX79","v":0},{"$f":"'[15]3'!DY79","v":0},{"$f":"'[15]3'!DZ79","v":0},1.3128,0.24,{"$f":"$DY$11*$EC$11*DW79","v":0},{"$f":"$DY$11*$ED$11*DW79","v":0},{"$f":"ROUND((EA79+EB79+EC79+ED79)*D79,2)","v":774.33},{"$f":"$DY$11*$EF$11*DZ79","v":0},{"$f":"ROUND(EF79*D79,2)","v":0},{"$f":"EA79+EB79+EC79+ED79+EF79","v":1.5528},{"$f":"EE79+EG79","v":774.33},{"$f":"'[15]3'!EJ79","v":5.9999999999999995E-4},{"$f":"'[15]3'!EK79","v":5.0000000000000001E-4},{"$f":"'[15]3'!EL79","v":0},{"$f":"'[15]3'!EM79","v":0},{"$f":"'[15]3'!EN79","v":0},{"$f":"'[15]3'!EO79","v":0},1.8311999999999999,0.255,{"$f":"$EN$11*$ER$11*EL79","v":0},{"$f":"$EN$11*$ES$11*EL79","v":0},{"$f":"ROUND((EP79+EQ79+ER79+ES79)*D79,2)","v":1040.33},{"$f":"$EN$11*$EU$11*EO79","v":0},{"$f":"ROUND(EU79*D79,2)","v":0},{"$f":"EP79+EQ79+ER79+ES79+EU79","v":2.0861999999999998},{"$f":"ET79+EV79","v":1040.33},{"$f":"'[15]3'!EY79","v":5.9999999999999995E-4},{"$f":"'[15]3'!EZ79","v":5.0000000000000001E-4},{"$f":"'[15]3'!FA79","v":0},{"$f":"'[15]3'!FB79","v":0},{"$f":"'[15]3'!FC79","v":0},{"$f":"'[15]3'!FD79","v":0},1.9667999999999999,0.2485,{"$f":"$FC$11*$FG$11*FA79","v":0},{"$f":"$FC$11*$FH$11*FA79","v":0},{"$f":"ROUND((FE79+FF79+FG79+FH79)*D79,2)","v":1104.7},{"$f":"$FC$11*$FJ$11*FD79","v":0},{"$f":"ROUND(FJ79*D79,2)","v":0},{"$f":"FE79+FF79+FG79+FH79+FJ79","v":2.2153},{"$f":"FI79+FK79","v":1104.7},{"$f":"'[15]3'!FN79","v":5.9999999999999995E-4},{"$f":"'[15]3'!FO79","v":5.0000000000000001E-4},{"$f":"'[15]3'!FP79","v":0},{"$f":"'[15]3'!FQ79","v":0},{"$f":"'[15]3'!FR79","v":0},{"$f":"'[15]3'!FS79","v":0},2.2487999999999997,0.26400000000000001,{"$f":"$FR$11*$FV$11*FP79","v":0},{"$f":"$FR$11*$FW$11*FP79","v":0},1253.06,{"$f":"$FR$11*$FY$11*FS79","v":0},{"$f":"ROUND(FY79*D79,2)","v":0},{"$f":"FT79+FU79+FV79+FW79+FY79","v":2.5127999999999995},{"$f":"FX79+FZ79","v":1253.06},10.495899999999999,5233.99,12.629599999999996,6298.01,23.125499999999995,11532,9,23.125499999999995,11532,0,0]
[66,"Масло растительное","кг",{"$f":"[15]цены!E74","v":98.33},{"$f":"'[15]3'!E80","v":1.0999999999999999E-2},{"$f":"'[15]3'!F80","v":8.9999999999999993E-3},{"$f":"'[15]3'!G80","v":1.4300000000000001E-3},{"$f":"'[15]3'!H80","v":0},{"$f":"'[15]3'!I80","v":0},{"$f":"'[15]3'!J80","v":1E-3},{"$f":"$J$11*$K$11*E80","v":27.334999999999997},{"$f":"$J$11*$L$11*F80","v":3.0059999999999998},0,0,2983.43,0.58799999999999997,57.82,30.928999999999998,3041.25,{"$f":"'[15]3'!T80","v":1.0999999999999999E-2},{"$f":"'[15]3'!U80","v":8.9999999999999993E-3},{"$f":"'[15]3'!V80","v":1.4300000000000001E-3},{"$f":"'[15]3'!W80","v":0},{"$f":"'[15]3'!X80","v":0},{"$f":"'[15]3'!Y80","v":1E-3},{"$f":"$Y$11*$Z$11*T80","v":37.388999999999996},{"$f":"$Y$11*$AA$11*U80","v":2.016},0,0,3874.69,0.68,66.86,40.084999999999994,3941.55,1.0999999999999999E-2,8.9999999999999993E-3,1.0999999999999999E-2,0.01,5.0000000000000001E-3,1E-3,{"$f":"$AO$11*$AN$11*AI80","v":33.055},{"$f":"$AP$11*$AN$11*AJ80","v":3.5999999999999996},0,0,3604.29,0.8,78.66,37.454999999999998,3682.95,{"$f":"'[15]3'!AX80","v":1.0999999999999999E-2},{"$f":"'[15]3'!AY80","v":8.9999999999999993E-3},{"$f":"'[15]3'!AZ80","v":1.4300000000000001E-3},{"$f":"'[15]3'!BA80","v":0},{"$f":"'[15]3'!BB80","v":0},{"$f":"'[15]3'!BC80","v":1E-3},{"$f":"$BC$11*$BD$11*AX80","v":35.045999999999999},{"$f":"$BC$11*$BE$11*AY80","v":3.2489999999999997},0,0,3765.55,0.68400000000000005,67.260000000000005,38.978999999999999,3832.8100000000004,{"$f":"'[15]3'!BM80","v":1.0999999999999999E-2},{"$f":"'[15]3'!BN80","v":8.9999999999999993E-3},{"$f":"'[15]3'!BO80","v":1.4300000000000001E-3},{"$f":"'[15]3'!BP80","v":0},{"$f":"'[15]3'!BQ80","v":0},{"$f":"'[15]3'!BR80","v":1E-3},{"$f":"$BR$11*$BS$11*BM80","v":24.529999999999998},{"$f":"$BR$11*$BT$11*BN80","v":2.5379999999999998},0,0,2661.6,0.627,61.65,27.694999999999997,2723.25,{"$f":"'[15]3'!CB80","v":1.0999999999999999E-2},{"$f":"'[15]3'!CC80","v":8.9999999999999993E-3},{"$f":"'[15]3'!CD80","v":1.4300000000000001E-3},{"$f":"'[15]3'!CE80","v":0},{"$f":"'[15]3'!CF80","v":0},{"$f":"'[15]3'!CG80","v":1E-3},{"$f":"$CG$11*$CH$11*CB80","v":18.029},{"$f":"$CG$11*$CI$11*CC80","v":2.3219999999999996},0,0,2001.11,0.60799999999999998,59.78,20.959,2060.89,{"$f":"'[15]3'!CQ80","v":1.0999999999999999E-2},{"$f":"'[15]3'!CR80","v":8.9999999999999993E-3},{"$f":"'[15]3'!CS80","v":1.4300000000000001E-3},{"$f":"'[15]3'!CT80","v":0},{"$f":"'[15]3'!CU80","v":0},{"$f":"'[15]3'!CV80","v":1E-3},{"$f":"$CV$11*$CW$11*CQ80","v":50.82},{"$f":"$CV$11*$CX$11*CR80","v":7.6859999999999991},0,0,5752.89,0.49399999999999999,48.58,59,5801.47,{"$f":"'[15]3'!DF80","v":1.0999999999999999E-2},{"$f":"'[15]3'!DG80","v":8.9999999999999993E-3},{"$f":"'[15]3'!DH80","v":1.4300000000000001E-3},{"$f":"'[15]3'!DI80","v":0},{"$f":"'[15]3'!DJ80","v":0},{"$f":"'[15]3'!DK80","v":1E-3},{"$f":"$DK$11*$DL$11*DF80","v":15.84},{"$f":"$DK$11*$DM$11*DG80","v":3.5909999999999997},0,0,1910.65,0.54600000000000004,53.69,19.977,1964.3400000000001,{"$f":"'[15]3'!DU80","v":1.0999999999999999E-2},{"$f":"'[15]3'!DV80","v":8.9999999999999993E-3},{"$f":"'[15]3'!DW80","v":1.4300000000000001E-3},{"$f":"'[15]3'!DX80","v":0},{"$f":"'[15]3'!DY80","v":0},{"$f":"'[15]3'!DZ80","v":1E-3},{"$f":"$DZ$11*$EA$11*DU80","v":24.067999999999998},{"$f":"$DZ$11*$EB$11*DV80","v":4.3199999999999994},0,0,2791.39,0.55100000000000005,54.18,28.938999999999997,2845.5699999999997,{"$f":"'[15]3'!EJ80","v":1.0999999999999999E-2},{"$f":"'[15]3'!EK80","v":8.9999999999999993E-3},{"$f":"'[15]3'!EL80","v":1.4300000000000001E-3},{"$f":"'[15]3'!EM80","v":0},{"$f":"'[15]3'!EN80","v":0},{"$f":"'[15]3'!EO80","v":1E-3},{"$f":"$EO$11*$EP$11*EJ80","v":33.571999999999996},{"$f":"$EO$11*$EQ$11*EK80","v":4.59},0,0,3752.47,0.72,70.8,38.881999999999991,3823.27,{"$f":"'[15]3'!EY80","v":1.0999999999999999E-2},{"$f":"'[15]3'!EZ80","v":8.9999999999999993E-3},{"$f":"'[15]3'!FA80","v":1.4300000000000001E-3},{"$f":"'[15]3'!FB80","v":0},{"$f":"'[15]3'!FC80","v":0},{"$f":"'[15]3'!FD80","v":1E-3},{"$f":"$FD$11*$FE$11*EY80","v":36.058},{"$f":"$FD$11*$FF$11*EZ80","v":4.4729999999999999},0,0,3985.41,0.85499999999999998,84.07,41.385999999999996,4069.48,{"$f":"'[15]3'!FN80","v":1.0999999999999999E-2},{"$f":"'[15]3'!FO80","v":8.9999999999999993E-3},{"$f":"'[15]3'!FP80","v":1.4300000000000001E-3},{"$f":"'[15]3'!FQ80","v":0},{"$f":"'[15]3'!FR80","v":0},{"$f":"'[15]3'!FS80","v":1E-3},{"$f":"$FS$11*$FT$11*FN80","v":41.227999999999994},{"$f":"$FS$11*$FU$11*FO80","v":4.7519999999999998},0,0,{"$f":"ROUND((FT80+FU80+FV80+FW80)*D80,2)","v":4521.21},0.9,88.5,46.879999999999995,4609.71,196.10199999999998,19282.7,235.06399999999999,23113.84,431.16599999999994,42396.54,9,423.11299999999983,{"$f":"GH80-FZ80-FK80-EV80-EG80-DR80-DC80-CN80-BY80-BJ80-AU80-AF80-Q80","v":41604.689999999988},{"$f":"GG80-GJ80","v":8.053000000000111},791.8500000000131]
[67,"Масло сливочное","кг",{"$f":"[15]цены!E75","v":408.83},{"$f":"'[15]3'!E81","v":2.1000000000000001E-2},{"$f":"'[15]3'!F81","v":1.7999999999999999E-2},{"$f":"'[15]3'!G81","v":2.7300000000000002E-3},{"$f":"'[15]3'!H81","v":0},{"$f":"'[15]3'!I81","v":0},{"$f":"'[15]3'!J81","v":1.4999999999999999E-2},52.185000000000002,6.0119999999999996,0,0,23792.68,8.82,3605.88,67.016999999999996,27398.560000000001,{"$f":"'[15]3'!T81","v":2.1000000000000001E-2},{"$f":"'[15]3'!U81","v":1.7999999999999999E-2},{"$f":"'[15]3'!V81","v":2.7300000000000002E-3},{"$f":"'[15]3'!W81","v":0},{"$f":"'[15]3'!X81","v":0},{"$f":"'[15]3'!Y81","v":1.4999999999999999E-2},71.379000000000005,4.032,0,0,30830.28,10.199999999999999,4170.07,85.611000000000004,35000.35,2.1000000000000001E-2,1.7999999999999999E-2,2.1000000000000001E-2,3.5000000000000003E-2,0.03,1.4999999999999999E-2,63.105000000000004,7.1999999999999993,0,0,28742.79,12,4905.96,82.305000000000007,33648.75,{"$f":"'[15]3'!AX81","v":2.1000000000000001E-2},{"$f":"'[15]3'!AY81","v":1.7999999999999999E-2},{"$f":"'[15]3'!AZ81","v":2.7300000000000002E-3},{"$f":"'[15]3'!BA81","v":0},{"$f":"'[15]3'!BB81","v":0},{"$f":"'[15]3'!BC81","v":1.4999999999999999E-2},66.906000000000006,6.4979999999999993,0,0,30009.759999999998,10.26,4194.6000000000004,83.664000000000016,34204.36,{"$f":"'[15]3'!BM81","v":2.1000000000000001E-2},{"$f":"'[15]3'!BN81","v":1.7999999999999999E-2},{"$f":"'[15]3'!BO81","v":2.7300000000000002E-3},{"$f":"'[15]3'!BP81","v":0},{"$f":"'[15]3'!BQ81","v":0},{"$f":"'[15]3'!BR81","v":1.4999999999999999E-2},46.830000000000005,5.0759999999999996,0,0,21220.73,9.4049999999999994,3845.05,61.311000000000007,25065.78,{"$f":"'[15]3'!CB81","v":2.1000000000000001E-2},{"$f":"'[15]3'!CC81","v":1.7999999999999999E-2},{"$f":"'[15]3'!CD81","v":2.7300000000000002E-3},{"$f":"'[15]3'!CE81","v":0},{"$f":"'[15]3'!CF81","v":0},{"$f":"'[15]3'!CG81","v":1.4999999999999999E-2},34.419000000000004,4.6439999999999992,0,0,15970.13,9.1199999999999992,3728.53,48.183,19698.66,{"$f":"'[15]3'!CQ81","v":2.1000000000000001E-2},{"$f":"'[15]3'!CR81","v":1.7999999999999999E-2},{"$f":"'[15]3'!CS81","v":2.7300000000000002E-3},{"$f":"'[15]3'!CT81","v":0},{"$f":"'[15]3'!CU81","v":0},{"$f":"'[15]3'!CV81","v":1.4999999999999999E-2},97.02000000000001,15.371999999999998,0,0,45949.22,7.41,3029.43,119.80200000000001,48978.65,{"$f":"'[15]3'!DF81","v":2.1000000000000001E-2},{"$f":"'[15]3'!DG81","v":1.7999999999999999E-2},{"$f":"'[15]3'!DH81","v":2.7300000000000002E-3},{"$f":"'[15]3'!DI81","v":0},{"$f":"'[15]3'!DJ81","v":0},{"$f":"'[15]3'!DK81","v":1.4999999999999999E-2},30.240000000000002,7.1819999999999995,0,0,15299.24,8.19,3348.32,45.612000000000002,18647.560000000001,{"$f":"'[15]3'!DU81","v":2.1000000000000001E-2},{"$f":"'[15]3'!DV81","v":1.7999999999999999E-2},{"$f":"'[15]3'!DW81","v":2.7300000000000002E-3},{"$f":"'[15]3'!DX81","v":0},{"$f":"'[15]3'!DY81","v":0},{"$f":"'[15]3'!DZ81","v":1.4999999999999999E-2},45.948,8.6399999999999988,0,0,22317.21,8.2650000000000006,3378.98,62.853000000000002,25696.19,{"$f":"'[15]3'!EJ81","v":2.1000000000000001E-2},{"$f":"'[15]3'!EK81","v":1.7999999999999999E-2},{"$f":"'[15]3'!EL81","v":2.7300000000000002E-3},{"$f":"'[15]3'!EM81","v":0},{"$f":"'[15]3'!EN81","v":0},{"$f":"'[15]3'!EO81","v":1.4999999999999999E-2},64.091999999999999,9.18,0,0,29955.79,10.799999999999999,4415.3599999999997,84.071999999999989,34371.15,{"$f":"'[15]3'!EY81","v":2.1000000000000001E-2},{"$f":"'[15]3'!EZ81","v":1.7999999999999999E-2},{"$f":"'[15]3'!FA81","v":2.7300000000000002E-3},{"$f":"'[15]3'!FB81","v":0},{"$f":"'[15]3'!FC81","v":0},{"$f":"'[15]3'!FD81","v":1.4999999999999999E-2},68.838000000000008,8.9459999999999997,0,0,31800.43,12.824999999999999,5243.24,90.609000000000009,37043.67,{"$f":"'[15]3'!FN81","v":2.1000000000000001E-2},{"$f":"'[15]3'!FO81","v":1.7999999999999999E-2},{"$f":"'[15]3'!FP81","v":2.7300000000000002E-3},{"$f":"'[15]3'!FQ81","v":0},{"$f":"'[15]3'!FR81","v":0},{"$f":"'[15]3'!FS81","v":1.4999999999999999E-2},78.707999999999998,9.5039999999999996,0,0,36063.71,13.5,5519.21,101.712,41582.92,428.09100000000001,175016.46,504.65999999999997,206320.14,932.75099999999998,381336.6,10,{"$f":"GG81-P81-AE81-AT81-BI81-BX81-CM81-DB81-DQ81-EF81-EU81-FJ81-FY81","v":811.9559999999999},331951.96999999997,120.79500000000007,49384.630000000005]
[68,"Сыр твердый","кг",{"$f":"[15]цены!E76","v":507.67},{"$f":"'[15]3'!E82","v":6.4000000000000003E-3},{"$f":"'[15]3'!F82","v":4.3E-3},{"$f":"'[15]3'!G82","v":0},{"$f":"'[15]3'!H82","v":0},{"$f":"'[15]3'!I82","v":0},{"$f":"'[15]3'!J82","v":5.0000000000000001E-4},15.904,1.4361999999999999,0,0,8803.1,0.29399999999999998,149.25,17.6342,8952.35,{"$f":"'[15]3'!T82","v":6.4000000000000003E-3},{"$f":"'[15]3'!U82","v":4.3E-3},{"$f":"'[15]3'!V82","v":0},{"$f":"'[15]3'!W82","v":0},{"$f":"'[15]3'!X82","v":0},{"$f":"'[15]3'!Y82","v":5.0000000000000001E-4},21.753600000000002,0.96320000000000006,0,0,11532.64,0.34,172.61,23.056800000000003,11705.25,6.4000000000000003E-3,4.3E-3,6.4000000000000003E-3,0.01,5.0000000000000001E-3,5.0000000000000001E-4,19.231999999999999,1.72,0,0,10636.7,0.4,203.07,21.351999999999997,10839.77,{"$f":"'[15]3'!AX82","v":6.4000000000000003E-3},{"$f":"'[15]3'!AY82","v":4.3E-3},{"$f":"'[15]3'!AZ82","v":0},{"$f":"'[15]3'!BA82","v":0},{"$f":"'[15]3'!BB82","v":0},{"$f":"'[15]3'!BC82","v":5.0000000000000001E-4},20.3904,1.5523,0,0,11139.65,0.34200000000000003,173.62,22.284699999999997,11313.27,{"$f":"'[15]3'!BM82","v":6.4000000000000003E-3},{"$f":"'[15]3'!BN82","v":4.3E-3},{"$f":"'[15]3'!BO82","v":0},{"$f":"'[15]3'!BP82","v":0},{"$f":"'[15]3'!BQ82","v":0},{"$f":"'[15]3'!BR82","v":5.0000000000000001E-4},14.272,1.2125999999999999,0,0,7861.07,0.3135,159.15,15.7981,8020.2199999999993,{"$f":"'[15]3'!CB82","v":6.4000000000000003E-3},{"$f":"'[15]3'!CC82","v":4.3E-3},{"$f":"'[15]3'!CD82","v":0},{"$f":"'[15]3'!CE82","v":0},{"$f":"'[15]3'!CF82","v":0},{"$f":"'[15]3'!CG82","v":5.0000000000000001E-4},10.489600000000001,1.1093999999999999,0,0,5888.46,0.30399999999999999,154.33000000000001,11.903,6042.79,{"$f":"'[15]3'!CQ82","v":6.4000000000000003E-3},{"$f":"'[15]3'!CR82","v":4.3E-3},{"$f":"'[15]3'!CS82","v":0},{"$f":"'[15]3'!CT82","v":0},{"$f":"'[15]3'!CU82","v":0},{"$f":"'[15]3'!CV82","v":5.0000000000000001E-4},29.568000000000001,3.6722000000000001,0,0,16875.05,0.247,125.39,33.487200000000001,17000.439999999999,{"$f":"'[15]3'!DF82","v":6.4000000000000003E-3},{"$f":"'[15]3'!DG82","v":4.3E-3},{"$f":"'[15]3'!DH82","v":0},{"$f":"'[15]3'!DI82","v":0},{"$f":"'[15]3'!DJ82","v":0},{"$f":"'[15]3'!DK82","v":5.0000000000000001E-4},9.2160000000000011,1.7157,0,0,5549.7,0.27300000000000002,138.59,11.204700000000001,5688.29,{"$f":"'[15]3'!DU82","v":6.4000000000000003E-3},{"$f":"'[15]3'!DV82","v":4.3E-3},{"$f":"'[15]3'!DW82","v":0},{"$f":"'[15]3'!DX82","v":0},{"$f":"'[15]3'!DY82","v":0},{"$f":"'[15]3'!DZ82","v":5.0000000000000001E-4},14.003200000000001,2.0640000000000001,0,0,8156.84,0.27550000000000002,139.86000000000001,16.342700000000001,8296.7000000000007,{"$f":"'[15]3'!EJ82","v":6.4000000000000003E-3},{"$f":"'[15]3'!EK82","v":4.3E-3},{"$f":"'[15]3'!EL82","v":0},{"$f":"'[15]3'!EM82","v":0},{"$f":"'[15]3'!EN82","v":0},{"$f":"'[15]3'!EO82","v":5.0000000000000001E-4},19.532800000000002,2.1930000000000001,0,0,11029.54,0.36,182.76,22.085800000000003,11212.300000000001,{"$f":"'[15]3'!EY82","v":6.4000000000000003E-3},{"$f":"'[15]3'!EZ82","v":4.3E-3},{"$f":"'[15]3'!FA82","v":0},{"$f":"'[15]3'!FB82","v":0},{"$f":"'[15]3'!FC82","v":0},{"$f":"'[15]3'!FD82","v":5.0000000000000001E-4},20.979200000000002,2.1371000000000002,0,0,11735.45,0.42749999999999999,217.03,23.543800000000001,11952.480000000001,{"$f":"'[15]3'!FN82","v":6.4000000000000003E-3},{"$f":"'[15]3'!FO82","v":4.3E-3},{"$f":"'[15]3'!FP82","v":0},{"$f":"'[15]3'!FQ82","v":0},{"$f":"'[15]3'!FR82","v":0},{"$f":"'[15]3'!FS82","v":5.0000000000000001E-4},23.987200000000001,2.2704,0,0,13330.2,0.45,228.45,26.707599999999999,13558.650000000001,112.0288,56873.65,133.37180000000001,67708.860000000015,245.4006,124582.51000000001,10,241.37409999999994,122538.40000000002,4.0265000000000555,2044.109999999986]
[69,"Цыплята-бройлеры","кг",{"$f":"[15]цены!E77","v":203.67},{"$f":"'[15]3'!E83","v":1.7000000000000001E-2},{"$f":"'[15]3'!F83","v":1.4E-2},{"$f":"'[15]3'!G83","v":2.2100000000000002E-3},{"$f":"'[15]3'!H83","v":0},{"$f":"'[15]3'!I83","v":0},{"$f":"'[15]3'!J83","v":1.7000000000000001E-2},42.245000000000005,4.6760000000000002,0,0,9556.4,9.9960000000000004,2035.89,56.917000000000009,11592.289999999999,{"$f":"'[15]3'!T83","v":1.7000000000000001E-2},{"$f":"'[15]3'!U83","v":1.4E-2},{"$f":"'[15]3'!V83","v":2.2100000000000002E-3},{"$f":"'[15]3'!W83","v":0},{"$f":"'[15]3'!X83","v":0},{"$f":"'[15]3'!Y83","v":1.7000000000000001E-2},57.783000000000001,3.1360000000000001,0,0,12407.37,11.56,2354.4299999999998,72.478999999999999,14761.800000000001,1.7000000000000001E-2,1.4E-2,1.7000000000000001E-2,0.02,0.02,1.7000000000000001E-2,51.085000000000001,5.6000000000000005,0,0,11545.03,13.600000000000001,2769.91,70.284999999999997,14314.94,{"$f":"'[15]3'!AX83","v":1.7000000000000001E-2},{"$f":"'[15]3'!AY83","v":1.4E-2},{"$f":"'[15]3'!AZ83","v":2.2100000000000002E-3},{"$f":"'[15]3'!BA83","v":0},{"$f":"'[15]3'!BB83","v":0},{"$f":"'[15]3'!BC83","v":1.7000000000000001E-2},54.162000000000006,5.0540000000000003,0,0,12060.52,11.628,2368.27,70.844000000000008,14428.79,{"$f":"'[15]3'!BM83","v":1.7000000000000001E-2},{"$f":"'[15]3'!BN83","v":1.4E-2},{"$f":"'[15]3'!BO83","v":2.2100000000000002E-3},{"$f":"'[15]3'!BP83","v":0},{"$f":"'[15]3'!BQ83","v":0},{"$f":"'[15]3'!BR83","v":1.7000000000000001E-2},37.910000000000004,3.948,0,0,8525.2199999999993,10.659000000000001,2170.92,52.517000000000003,10696.14,{"$f":"'[15]3'!CB83","v":1.7000000000000001E-2},{"$f":"'[15]3'!CC83","v":1.4E-2},{"$f":"'[15]3'!CD83","v":2.2100000000000002E-3},{"$f":"'[15]3'!CE83","v":0},{"$f":"'[15]3'!CF83","v":0},{"$f":"'[15]3'!CG83","v":1.7000000000000001E-2},27.863000000000003,3.6120000000000001,0,0,6410.51,10.336,2105.13,41.811,8515.64,{"$f":"'[15]3'!CQ83","v":1.7000000000000001E-2},{"$f":"'[15]3'!CR83","v":1.4E-2},{"$f":"'[15]3'!CS83","v":2.2100000000000002E-3},{"$f":"'[15]3'!CT83","v":0},{"$f":"'[15]3'!CU83","v":0},{"$f":"'[15]3'!CV83","v":1.7000000000000001E-2},78.540000000000006,11.956,0,0,18431.32,8.3980000000000015,1710.42,98.894000000000005,20141.739999999998,{"$f":"'[15]3'!DF83","v":1.7000000000000001E-2},{"$f":"'[15]3'!DG83","v":1.4E-2},{"$f":"'[15]3'!DH83","v":2.2100000000000002E-3},{"$f":"'[15]3'!DI83","v":0},{"$f":"'[15]3'!DJ83","v":0},{"$f":"'[15]3'!DK83","v":1.7000000000000001E-2},24.48,5.5860000000000003,0,0,6123.54,9.282,1890.46,39.347999999999999,8014,{"$f":"'[15]3'!DU83","v":1.7000000000000001E-2},{"$f":"'[15]3'!DV83","v":1.4E-2},{"$f":"'[15]3'!DW83","v":2.2100000000000002E-3},{"$f":"'[15]3'!DX83","v":0},{"$f":"'[15]3'!DY83","v":0},{"$f":"'[15]3'!DZ83","v":1.7000000000000001E-2},37.196000000000005,6.72,0,0,8944.3700000000008,9.3670000000000009,1907.78,53.283000000000001,10852.150000000001,{"$f":"'[15]3'!EJ83","v":1.7000000000000001E-2},{"$f":"'[15]3'!EK83","v":1.4E-2},{"$f":"'[15]3'!EL83","v":2.2100000000000002E-3},{"$f":"'[15]3'!EM83","v":0},{"$f":"'[15]3'!EN83","v":0},{"$f":"'[15]3'!EO83","v":1.7000000000000001E-2},51.884,7.1400000000000006,0,0,12021.42,12.24,2492.92,71.263999999999996,14514.34,{"$f":"'[15]3'!EY83","v":1.7000000000000001E-2},{"$f":"'[15]3'!EZ83","v":1.4E-2},{"$f":"'[15]3'!FA83","v":2.2100000000000002E-3},{"$f":"'[15]3'!FB83","v":0},{"$f":"'[15]3'!FC83","v":0},{"$f":"'[15]3'!FD83","v":1.7000000000000001E-2},55.726000000000006,6.9580000000000002,0,0,12766.85,14.535000000000002,2960.34,77.219000000000008,15727.19,{"$f":"'[15]3'!FN83","v":1.7000000000000001E-2},{"$f":"'[15]3'!FO83","v":1.4E-2},{"$f":"'[15]3'!FP83","v":2.2100000000000002E-3},{"$f":"'[15]3'!FQ83","v":0},{"$f":"'[15]3'!FR83","v":0},{"$f":"'[15]3'!FS83","v":1.7000000000000001E-2},63.716000000000001,7.3920000000000003,0,0,14482.57,15.3,3116.15,86.408000000000001,17598.72,364.85300000000001,74309.599999999991,426.41600000000005,86848.14,791.26900000000001,161157.74,5,654.36800000000005,133275.11999999997,136.90099999999995,27882.620000000024]
[70,"Бедра куриные","кг",{"$f":"[15]цены!E78","v":204},{"$f":"'[15]3'!E84","v":5.0000000000000001E-3},{"$f":"'[15]3'!F84","v":5.0000000000000001E-3},{"$f":"'[15]3'!G84","v":6.5000000000000008E-4},{"$f":"'[15]3'!H84","v":0},{"$f":"'[15]3'!I84","v":0},{"$f":"'[15]3'!J84","v":5.0000000000000001E-3},12.425000000000001,1.67,0,0,2875.38,2.94,599.76,17.035,3475.1400000000003,{"$f":"'[15]3'!T84","v":5.0000000000000001E-3},{"$f":"'[15]3'!U84","v":5.0000000000000001E-3},{"$f":"'[15]3'!V84","v":6.5000000000000008E-4},{"$f":"'[15]3'!W84","v":0},{"$f":"'[15]3'!X84","v":0},{"$f":"'[15]3'!Y84","v":5.0000000000000001E-3},16.995000000000001,1.1200000000000001,0,0,3695.46,3.4,693.6,21.515000000000001,4389.0600000000004,5.0000000000000001E-3,5.0000000000000001E-3,5.0000000000000001E-3,0.01,3.0000000000000001E-3,5.0000000000000001E-3,15.025,2,0,0,3473.1,4,816,21.024999999999999,4289.1000000000004,{"$f":"'[15]3'!AX84","v":5.0000000000000001E-3},{"$f":"'[15]3'!AY84","v":5.0000000000000001E-3},{"$f":"'[15]3'!AZ84","v":6.5000000000000008E-4},{"$f":"'[15]3'!BA84","v":0},{"$f":"'[15]3'!BB84","v":0},{"$f":"'[15]3'!BC84","v":5.0000000000000001E-3},15.93,1.8049999999999999,0,0,3617.94,3.42,697.68,21.155000000000001,4315.62,{"$f":"'[15]3'!BM84","v":5.0000000000000001E-3},{"$f":"'[15]3'!BN84","v":5.0000000000000001E-3},{"$f":"'[15]3'!BO84","v":6.5000000000000008E-4},{"$f":"'[15]3'!BP84","v":0},{"$f":"'[15]3'!BQ84","v":0},{"$f":"'[15]3'!BR84","v":5.0000000000000001E-3},11.15,1.41,0,0,2562.2399999999998,3.1350000000000002,639.54,15.695,3201.7799999999997,{"$f":"'[15]3'!CB84","v":5.0000000000000001E-3},{"$f":"'[15]3'!CC84","v":5.0000000000000001E-3},{"$f":"'[15]3'!CD84","v":6.5000000000000008E-4},{"$f":"'[15]3'!CE84","v":0},{"$f":"'[15]3'!CF84","v":0},{"$f":"'[15]3'!CG84","v":5.0000000000000001E-3},8.1950000000000003,1.29,0,0,1934.94,3.04,620.16,12.524999999999999,2555.1,{"$f":"'[15]3'!CQ84","v":5.0000000000000001E-3},{"$f":"'[15]3'!CR84","v":5.0000000000000001E-3},{"$f":"'[15]3'!CS84","v":6.5000000000000008E-4},{"$f":"'[15]3'!CT84","v":0},{"$f":"'[15]3'!CU84","v":0},{"$f":"'[15]3'!CV84","v":5.0000000000000001E-3},23.1,4.2700000000000005,0,0,5583.48,2.4700000000000002,503.88,29.84,6087.36,{"$f":"'[15]3'!DF84","v":5.0000000000000001E-3},{"$f":"'[15]3'!DG84","v":5.0000000000000001E-3},{"$f":"'[15]3'!DH84","v":6.5000000000000008E-4},{"$f":"'[15]3'!DI84","v":0},{"$f":"'[15]3'!DJ84","v":0},{"$f":"'[15]3'!DK84","v":5.0000000000000001E-3},7.2,1.9950000000000001,0,0,1875.78,2.73,556.91999999999996,11.925000000000001,2432.6999999999998,{"$f":"'[15]3'!DU84","v":5.0000000000000001E-3},{"$f":"'[15]3'!DV84","v":5.0000000000000001E-3},{"$f":"'[15]3'!DW84","v":6.5000000000000008E-4},{"$f":"'[15]3'!DX84","v":0},{"$f":"'[15]3'!DY84","v":0},{"$f":"'[15]3'!DZ84","v":5.0000000000000001E-3},10.94,2.4,0,0,2721.36,2.7549999999999999,562.02,16.094999999999999,3283.38,{"$f":"'[15]3'!EJ84","v":5.0000000000000001E-3},{"$f":"'[15]3'!EK84","v":5.0000000000000001E-3},{"$f":"'[15]3'!EL84","v":6.5000000000000008E-4},{"$f":"'[15]3'!EM84","v":0},{"$f":"'[15]3'!EN84","v":0},{"$f":"'[15]3'!EO84","v":5.0000000000000001E-3},15.26,2.5500000000000003,0,0,3633.24,3.6,734.4,21.41,4367.6399999999994,{"$f":"'[15]3'!EY84","v":5.0000000000000001E-3},{"$f":"'[15]3'!EZ84","v":5.0000000000000001E-3},{"$f":"'[15]3'!FA84","v":6.5000000000000008E-4},{"$f":"'[15]3'!FB84","v":0},{"$f":"'[15]3'!FC84","v":0},{"$f":"'[15]3'!FD84","v":5.0000000000000001E-3},16.39,2.4849999999999999,0,0,3850.5,4.2750000000000004,872.1,23.15,4722.6000000000004,{"$f":"'[15]3'!FN84","v":5.0000000000000001E-3},{"$f":"'[15]3'!FO84","v":5.0000000000000001E-3},{"$f":"'[15]3'!FP84","v":6.5000000000000008E-4},{"$f":"'[15]3'!FQ84","v":0},{"$f":"'[15]3'!FR84","v":0},{"$f":"'[15]3'!FS84","v":5.0000000000000001E-3},18.740000000000002,2.64,0,0,4361.5200000000004,4.5,918,25.880000000000003,5279.52,108.94999999999999,22225.8,128.29999999999998,26173.200000000001,237.24999999999997,48399,5,196.98500000000001,40184.94,40.264999999999958,8214.0599999999977]
[71,"Окорочка куриные","кг",{"$f":"[15]цены!E79","v":204},{"$f":"'[15]3'!E85","v":5.0000000000000001E-3},{"$f":"'[15]3'!F85","v":4.0000000000000001E-3},{"$f":"'[15]3'!G85","v":6.5000000000000008E-4},{"$f":"'[15]3'!H85","v":0},{"$f":"'[15]3'!I85","v":0},{"$f":"'[15]3'!J85","v":5.0000000000000001E-3},12.425000000000001,1.3360000000000001,0,0,2807.24,2.94,599.76,16.701000000000001,3407,{"$f":"'[15]3'!T85","v":5.0000000000000001E-3},{"$f":"'[15]3'!U85","v":4.0000000000000001E-3},{"$f":"'[15]3'!V85","v":6.5000000000000008E-4},{"$f":"'[15]3'!W85","v":0},{"$f":"'[15]3'!X85","v":0},{"$f":"'[15]3'!Y85","v":5.0000000000000001E-3},16.995000000000001,0.89600000000000002,0,0,3649.76,3.4,693.6,21.291,4343.3600000000006,5.0000000000000001E-3,4.0000000000000001E-3,5.0000000000000001E-3,0.01,3.0000000000000001E-3,5.0000000000000001E-3,15.025,1.6,0,0,3391.5,4,816,20.625,4207.5,{"$f":"'[15]3'!AX85","v":5.0000000000000001E-3},{"$f":"'[15]3'!AY85","v":4.0000000000000001E-3},{"$f":"'[15]3'!AZ85","v":6.5000000000000008E-4},{"$f":"'[15]3'!BA85","v":0},{"$f":"'[15]3'!BB85","v":0},{"$f":"'[15]3'!BC85","v":5.0000000000000001E-3},15.93,1.444,0,0,3544.3,3.42,697.68,20.793999999999997,4241.9800000000005,{"$f":"'[15]3'!BM85","v":5.0000000000000001E-3},{"$f":"'[15]3'!BN85","v":4.0000000000000001E-3},{"$f":"'[15]3'!BO85","v":6.5000000000000008E-4},{"$f":"'[15]3'!BP85","v":0},{"$f":"'[15]3'!BQ85","v":0},{"$f":"'[15]3'!BR85","v":5.0000000000000001E-3},11.15,1.1280000000000001,0,0,2504.71,3.1350000000000002,639.54,15.413,3144.25,{"$f":"'[15]3'!CB85","v":5.0000000000000001E-3},{"$f":"'[15]3'!CC85","v":4.0000000000000001E-3},{"$f":"'[15]3'!CD85","v":6.5000000000000008E-4},{"$f":"'[15]3'!CE85","v":0},{"$f":"'[15]3'!CF85","v":0},{"$f":"'[15]3'!CG85","v":5.0000000000000001E-3},8.1950000000000003,1.032,0,0,1882.31,3.04,620.16,12.266999999999999,2502.4699999999998,{"$f":"'[15]3'!CQ85","v":5.0000000000000001E-3},{"$f":"'[15]3'!CR85","v":4.0000000000000001E-3},{"$f":"'[15]3'!CS85","v":6.5000000000000008E-4},{"$f":"'[15]3'!CT85","v":0},{"$f":"'[15]3'!CU85","v":0},{"$f":"'[15]3'!CV85","v":5.0000000000000001E-3},23.1,3.4159999999999999,0,0,5409.26,2.4700000000000002,503.88,28.986000000000001,5913.14,{"$f":"'[15]3'!DF85","v":5.0000000000000001E-3},{"$f":"'[15]3'!DG85","v":4.0000000000000001E-3},{"$f":"'[15]3'!DH85","v":6.5000000000000008E-4},{"$f":"'[15]3'!DI85","v":0},{"$f":"'[15]3'!DJ85","v":0},{"$f":"'[15]3'!DK85","v":5.0000000000000001E-3},7.2,1.5960000000000001,0,0,1794.38,2.73,556.91999999999996,11.526,2351.3000000000002,{"$f":"'[15]3'!DU85","v":5.0000000000000001E-3},{"$f":"'[15]3'!DV85","v":4.0000000000000001E-3},{"$f":"'[15]3'!DW85","v":6.5000000000000008E-4},{"$f":"'[15]3'!DX85","v":0},{"$f":"'[15]3'!DY85","v":0},{"$f":"'[15]3'!DZ85","v":5.0000000000000001E-3},10.94,1.92,0,0,2623.44,2.7549999999999999,562.02,15.614999999999998,3185.46,{"$f":"'[15]3'!EJ85","v":5.0000000000000001E-3},{"$f":"'[15]3'!EK85","v":4.0000000000000001E-3},{"$f":"'[15]3'!EL85","v":6.5000000000000008E-4},{"$f":"'[15]3'!EM85","v":0},{"$f":"'[15]3'!EN85","v":0},{"$f":"'[15]3'!EO85","v":5.0000000000000001E-3},15.26,2.04,0,0,3529.2,3.6,734.4,20.900000000000002,4263.5999999999995,{"$f":"'[15]3'!EY85","v":5.0000000000000001E-3},{"$f":"'[15]3'!EZ85","v":4.0000000000000001E-3},{"$f":"'[15]3'!FA85","v":6.5000000000000008E-4},{"$f":"'[15]3'!FB85","v":0},{"$f":"'[15]3'!FC85","v":0},{"$f":"'[15]3'!FD85","v":5.0000000000000001E-3},16.39,1.988,0,0,3749.11,4.2750000000000004,872.1,22.652999999999999,4621.21,{"$f":"'[15]3'!FN85","v":5.0000000000000001E-3},{"$f":"'[15]3'!FO85","v":4.0000000000000001E-3},{"$f":"'[15]3'!FP85","v":6.5000000000000008E-4},{"$f":"'[15]3'!FQ85","v":0},{"$f":"'[15]3'!FR85","v":0},{"$f":"'[15]3'!FS85","v":5.0000000000000001E-3},18.740000000000002,2.1120000000000001,0,0,4253.8100000000004,4.5,918,25.352000000000004,5171.8100000000004,107.09099999999999,21846.560000000001,125.03200000000001,25506.52,232.12299999999999,47353.08,5,191.85800000000003,39139.020000000004,40.264999999999958,8214.0599999999977]
[72,"Говядина 1 катег. бескостная","кг",{"$f":"[15]цены!E80","v":421.33},{"$f":"'[15]3'!E86","v":5.2499999999999998E-2},{"$f":"'[15]3'!F86","v":4.8000000000000001E-2},{"$f":"'[15]3'!G86","v":6.8250000000000003E-3},{"$f":"'[15]3'!H86","v":0},{"$f":"'[15]3'!I86","v":0},{"$f":"'[15]3'!J86","v":7.0000000000000007E-2},130.46250000000001,16.032,0,0,61722.53,41.160000000000004,17341.939999999999,187.65450000000001,79064.47,{"$f":"'[15]3'!T86","v":5.2499999999999998E-2},{"$f":"'[15]3'!U86","v":4.8000000000000001E-2},{"$f":"'[15]3'!V86","v":6.8250000000000003E-3},{"$f":"'[15]3'!W86","v":0},{"$f":"'[15]3'!X86","v":0},{"$f":"'[15]3'!Y86","v":7.0000000000000007E-2},178.44749999999999,10.752000000000001,0,0,79715.429999999993,47.6,20055.310000000001,236.79949999999999,99770.739999999991,5.2499999999999998E-2,4.8000000000000001E-2,5.2499999999999998E-2,0.11,0.09,7.0000000000000007E-2,157.76249999999999,19.2,0,0,74559.61,56.000000000000007,23594.48,232.96249999999998,98154.09,{"$f":"'[15]3'!AX86","v":5.2499999999999998E-2},{"$f":"'[15]3'!AY86","v":4.8000000000000001E-2},{"$f":"'[15]3'!AZ86","v":6.8250000000000003E-3},{"$f":"'[15]3'!BA86","v":0},{"$f":"'[15]3'!BB86","v":0},{"$f":"'[15]3'!BC86","v":7.0000000000000007E-2},167.26499999999999,17.327999999999999,0,0,77774.570000000007,47.88,20173.28,232.47299999999998,97947.85,{"$f":"'[15]3'!BM86","v":5.2499999999999998E-2},{"$f":"'[15]3'!BN86","v":4.8000000000000001E-2},{"$f":"'[15]3'!BO86","v":6.8250000000000003E-3},{"$f":"'[15]3'!BP86","v":0},{"$f":"'[15]3'!BQ86","v":0},{"$f":"'[15]3'!BR86","v":7.0000000000000007E-2},117.07499999999999,13.536,0,0,55030.33,43.890000000000008,18492.169999999998,174.501,73522.5,{"$f":"'[15]3'!CB86","v":5.2499999999999998E-2},{"$f":"'[15]3'!CC86","v":4.8000000000000001E-2},{"$f":"'[15]3'!CD86","v":6.8250000000000003E-3},{"$f":"'[15]3'!CE86","v":0},{"$f":"'[15]3'!CF86","v":0},{"$f":"'[15]3'!CG86","v":7.0000000000000007E-2},86.047499999999999,12.384,0,0,41472.14,42.56,17931.8,140.9915,59403.94,{"$f":"'[15]3'!CQ86","v":5.2499999999999998E-2},{"$f":"'[15]3'!CR86","v":4.8000000000000001E-2},{"$f":"'[15]3'!CS86","v":6.8250000000000003E-3},{"$f":"'[15]3'!CT86","v":0},{"$f":"'[15]3'!CU86","v":0},{"$f":"'[15]3'!CV86","v":7.0000000000000007E-2},242.54999999999998,40.991999999999997,0,0,119464.75,34.580000000000005,14569.59,318.12199999999996,134034.34,{"$f":"'[15]3'!DF86","v":5.2499999999999998E-2},{"$f":"'[15]3'!DG86","v":4.8000000000000001E-2},{"$f":"'[15]3'!DH86","v":6.8250000000000003E-3},{"$f":"'[15]3'!DI86","v":0},{"$f":"'[15]3'!DJ86","v":0},{"$f":"'[15]3'!DK86","v":7.0000000000000007E-2},75.599999999999994,19.152000000000001,0,0,39921.86,38.220000000000006,16103.23,132.97200000000001,56025.09,{"$f":"'[15]3'!DU86","v":5.2499999999999998E-2},{"$f":"'[15]3'!DV86","v":4.8000000000000001E-2},{"$f":"'[15]3'!DW86","v":6.8250000000000003E-3},{"$f":"'[15]3'!DX86","v":0},{"$f":"'[15]3'!DY86","v":0},{"$f":"'[15]3'!DZ86","v":7.0000000000000007E-2},114.86999999999999,23.04,0,0,58105.62,38.57,16250.7,176.48,74356.320000000007,{"$f":"'[15]3'!EJ86","v":5.2499999999999998E-2},{"$f":"'[15]3'!EK86","v":4.8000000000000001E-2},{"$f":"'[15]3'!EL86","v":6.8250000000000003E-3},{"$f":"'[15]3'!EM86","v":0},{"$f":"'[15]3'!EN86","v":0},{"$f":"'[15]3'!EO86","v":7.0000000000000007E-2},160.22999999999999,24.48,0,0,77823.86,50.400000000000006,21235.03,235.10999999999999,99058.89,{"$f":"'[15]3'!EY86","v":5.2499999999999998E-2},{"$f":"'[15]3'!EZ86","v":4.8000000000000001E-2},{"$f":"'[15]3'!FA86","v":6.8250000000000003E-3},{"$f":"'[15]3'!FB86","v":0},{"$f":"'[15]3'!FC86","v":0},{"$f":"'[15]3'!FD86","v":7.0000000000000007E-2},172.095,23.856000000000002,0,0,82560.03,59.850000000000009,25216.6,255.80099999999999,107776.63,{"$f":"'[15]3'!FN86","v":5.0799999999999998E-2},{"$f":"'[15]3'!FO86","v":4.6699999999999998E-2},{"$f":"'[15]3'!FP86","v":6.8250000000000003E-3},{"$f":"'[15]3'!FQ86","v":0},{"$f":"'[15]3'!FR86","v":0},{"$f":"'[15]3'!FS86","v":7.0000000000000007E-2},190.39839999999998,24.657599999999999,0,0,90609.54,63.000000000000007,26543.79,278.05599999999998,117153.32999999999,1205.3820000000001,507863.59,1396.5409999999999,588404.6,2601.9229999999998,1096268.19,5,2038.2130000000002,858760.2699999999,563.70999999999958,237507.92000000004]
[73,"Говядина тушеная (декабрь) ","кг",{"$f":"[15]цены!E81","v":341.67},{"$f":"'[15]3'!E87","v":0},{"$f":"'[15]3'!F87","v":0},{"$f":"'[15]3'!G87","v":0},{"$f":"'[15]3'!H87","v":0},{"$f":"'[15]3'!I87","v":0},{"$f":"'[15]3'!J87","v":0},0,0,0,0,0,0,0,0,0,{"$f":"'[15]3'!T87","v":0},{"$f":"'[15]3'!U87","v":0},{"$f":"'[15]3'!V87","v":0},{"$f":"'[15]3'!W87","v":0},{"$f":"'[15]3'!X87","v":0},{"$f":"'[15]3'!Y87","v":0},0,0,0,0,0,0,0,0,0,null,null,null,null,null,null,0,0,0,0,0,0,0,0,0,{"$f":"'[15]3'!AX87","v":0},{"$f":"'[15]3'!AY87","v":0},{"$f":"'[15]3'!AZ87","v":0},{"$f":"'[15]3'!BA87","v":0},{"$f":"'[15]3'!BB87","v":0},{"$f":"'[15]3'!BC87","v":0},0,0,0,0,0,0,0,0,0,{"$f":"'[15]3'!BM87","v":0},{"$f":"'[15]3'!BN87","v":0},{"$f":"'[15]3'!BO87","v":0},{"$f":"'[15]3'!BP87","v":0},{"$f":"'[15]3'!BQ87","v":0},{"$f":"'[15]3'!BR87","v":0},0,0,0,0,0,0,0,0,0,{"$f":"'[15]3'!CB87","v":0},{"$f":"'[15]3'!CC87","v":0},{"$f":"'[15]3'!CD87","v":0},{"$f":"'[15]3'!CE87","v":0},{"$f":"'[15]3'!CF87","v":0},{"$f":"'[15]3'!CG87","v":0},0,0,0,0,0,0,0,0,0,{"$f":"'[15]3'!CQ87","v":0},{"$f":"'[15]3'!CR87","v":0},{"$f":"'[15]3'!CS87","v":0},{"$f":"'[15]3'!CT87","v":0},{"$f":"'[15]3'!CU87","v":0},{"$f":"'[15]3'!CV87","v":0},0,0,0,0,0,0,0,0,0,{"$f":"'[15]3'!DF87","v":0},{"$f":"'[15]3'!DG87","v":0},{"$f":"'[15]3'!DH87","v":0},{"$f":"'[15]3'!DI87","v":0},{"$f":"'[15]3'!DJ87","v":0},{"$f":"'[15]3'!DK87","v":0},0,0,0,0,0,0,0,0,0,{"$f":"'[15]3'!DU87","v":0},{"$f":"'[15]3'!DV87","v":0},{"$f":"'[15]3'!DW87","v":0},{"$f":"'[15]3'!DX87","v":0},{"$f":"'[15]3'!DY87","v":0},{"$f":"'[15]3'!DZ87","v":0},0,0,0,0,0,0,0,0,0,{"$f":"'[15]3'!EJ87","v":0},{"$f":"'[15]3'!EK87","v":0},{"$f":"'[15]3'!EL87","v":0},{"$f":"'[15]3'!EM87","v":0},{"$f":"'[15]3'!EN87","v":0},{"$f":"'[15]3'!EO87","v":0},0,0,0,0,0,0,0,0,0,{"$f":"'[15]3'!EY87","v":0},{"$f":"'[15]3'!EZ87","v":0},{"$f":"'[15]3'!FA87","v":0},{"$f":"'[15]3'!FB87","v":0},{"$f":"'[15]3'!FC87","v":0},{"$f":"'[15]3'!FD87","v":0},0,0,0,0,0,0,0,0,0,{"$f":"'[15]3'!FN87","v":1.6999999999999999E-3},{"$f":"'[15]3'!FO87","v":1.2999999999999999E-3},{"$f":"'[15]3'!FP87","v":0},{"$f":"'[15]3'!FQ87","v":0},{"$f":"'[15]3'!FR87","v":0},{"$f":"'[15]3'!FS87","v":0},6.3715999999999999,0.68640000000000001,0,0,2411.5100000000002,0,0,7.0579999999999998,2411.5100000000002,0,0,7.0579999999999998,2411.5100000000002,7.0579999999999998,2411.5100000000002,5,7.0579999999999998,2411.5100000000002,0,0]
[74,"Печень говяжья","кг",{"$f":"[15]цены!E82","v":224.67},{"$f":"'[15]3'!E88","v":8.0000000000000002E-3},{"$f":"'[15]3'!F88","v":7.0000000000000001E-3},{"$f":"'[15]3'!G88","v":0},{"$f":"'[15]3'!H88","v":0},{"$f":"'[15]3'!I88","v":0},{"$f":"'[15]3'!J88","v":8.0000000000000002E-3},19.88,2.3380000000000001,0,0,4991.72,4.7039999999999997,1056.8499999999999,26.922000000000001,6048.57,{"$f":"'[15]3'!T88","v":8.0000000000000002E-3},{"$f":"'[15]3'!U88","v":7.0000000000000001E-3},{"$f":"'[15]3'!V88","v":0},{"$f":"'[15]3'!W88","v":0},{"$f":"'[15]3'!X88","v":0},{"$f":"'[15]3'!Y88","v":8.0000000000000002E-3},27.192,1.5680000000000001,0,0,6461.51,5.44,1222.2,34.200000000000003,7683.71,8.0000000000000002E-3,7.0000000000000001E-3,8.0000000000000002E-3,0.01,0.01,8.0000000000000002E-3,24.04,2.8000000000000003,0,0,6030.14,6.4,1437.89,33.24,7468.0300000000007,{"$f":"'[15]3'!AX88","v":8.0000000000000002E-3},{"$f":"'[15]3'!AY88","v":7.0000000000000001E-3},{"$f":"'[15]3'!AZ88","v":0},{"$f":"'[15]3'!BA88","v":0},{"$f":"'[15]3'!BB88","v":0},{"$f":"'[15]3'!BC88","v":8.0000000000000002E-3},25.488,2.5270000000000001,0,0,6294.13,5.4720000000000004,1229.3900000000001,33.487000000000002,7523.52,{"$f":"'[15]3'!BM88","v":8.0000000000000002E-3},{"$f":"'[15]3'!BN88","v":7.0000000000000001E-3},{"$f":"'[15]3'!BO88","v":0},{"$f":"'[15]3'!BP88","v":0},{"$f":"'[15]3'!BQ88","v":0},{"$f":"'[15]3'!BR88","v":8.0000000000000002E-3},17.84,1.974,0,0,4451.6099999999997,5.016,1126.94,24.83,5578.5499999999993,{"$f":"'[15]3'!CB88","v":8.0000000000000002E-3},{"$f":"'[15]3'!CC88","v":7.0000000000000001E-3},{"$f":"'[15]3'!CD88","v":0},{"$f":"'[15]3'!CE88","v":0},{"$f":"'[15]3'!CF88","v":0},{"$f":"'[15]3'!CG88","v":8.0000000000000002E-3},13.112,1.806,0,0,3351.63,4.8639999999999999,1092.79,19.782,4444.42,{"$f":"'[15]3'!CQ88","v":8.0000000000000002E-3},{"$f":"'[15]3'!CR88","v":7.0000000000000001E-3},{"$f":"'[15]3'!CS88","v":0},{"$f":"'[15]3'!CT88","v":0},{"$f":"'[15]3'!CU88","v":0},{"$f":"'[15]3'!CV88","v":8.0000000000000002E-3},36.96,5.9779999999999998,0,0,9646.8799999999992,3.952,887.9,46.89,10534.779999999999,{"$f":"'[15]3'!DF88","v":8.0000000000000002E-3},{"$f":"'[15]3'!DG88","v":7.0000000000000001E-3},{"$f":"'[15]3'!DH88","v":0},{"$f":"'[15]3'!DI88","v":0},{"$f":"'[15]3'!DJ88","v":0},{"$f":"'[15]3'!DK88","v":8.0000000000000002E-3},11.52,2.7930000000000001,0,0,3215.7,4.3680000000000003,981.36,18.680999999999997,4197.0599999999995,{"$f":"'[15]3'!DU88","v":8.0000000000000002E-3},{"$f":"'[15]3'!DV88","v":7.0000000000000001E-3},{"$f":"'[15]3'!DW88","v":0},{"$f":"'[15]3'!DX88","v":0},{"$f":"'[15]3'!DY88","v":0},{"$f":"'[15]3'!DZ88","v":8.0000000000000002E-3},17.504000000000001,3.36,0,0,4687.51,4.4080000000000004,990.35,25.272000000000002,5677.8600000000006,{"$f":"'[15]3'!EJ88","v":8.0000000000000002E-3},{"$f":"'[15]3'!EK88","v":7.0000000000000001E-3},{"$f":"'[15]3'!EL88","v":0},{"$f":"'[15]3'!EM88","v":0},{"$f":"'[15]3'!EN88","v":0},{"$f":"'[15]3'!EO88","v":8.0000000000000002E-3},24.416,3.5700000000000003,0,0,6287.61,5.76,1294.0999999999999,33.746000000000002,7581.7099999999991,{"$f":"'[15]3'!EY88","v":8.0000000000000002E-3},{"$f":"'[15]3'!EZ88","v":7.0000000000000001E-3},{"$f":"'[15]3'!FA88","v":0},{"$f":"'[15]3'!FB88","v":0},{"$f":"'[15]3'!FC88","v":0},{"$f":"'[15]3'!FD88","v":8.0000000000000002E-3},26.224,3.4790000000000001,0,0,6673.37,6.84,1536.74,36.542999999999999,8210.11,{"$f":"'[15]3'!FN88","v":8.0000000000000002E-3},{"$f":"'[15]3'!FO88","v":7.0000000000000001E-3},{"$f":"'[15]3'!FP88","v":0},{"$f":"'[15]3'!FQ88","v":0},{"$f":"'[15]3'!FR88","v":0},{"$f":"'[15]3'!FS88","v":8.0000000000000002E-3},29.984000000000002,3.6960000000000002,0,0,7566.89,7.2,1617.62,40.880000000000003,9184.51,172.46099999999998,38746.799999999996,202.012,45386.03,374.47299999999996,84132.829999999987,5,310.04900000000004,69658.699999999983,64.423999999999921,14474.130000000005]
[75,"Сосиски молочные","кг",{"$f":"[15]цены!E83","v":370.67},{"$f":"'[15]3'!E89","v":7.0000000000000001E-3},{"$f":"'[15]3'!F89","v":0},{"$f":"'[15]3'!G89","v":0},{"$f":"'[15]3'!H89","v":0},{"$f":"'[15]3'!I89","v":0},{"$f":"'[15]3'!J89","v":4.0000000000000001E-3},17.395,0,0,0,6447.8,2.3519999999999999,871.82,19.747,7319.62,{"$f":"'[15]3'!T89","v":7.0000000000000001E-3},{"$f":"'[15]3'!U89","v":0},{"$f":"'[15]3'!V89","v":0},{"$f":"'[15]3'!W89","v":0},{"$f":"'[15]3'!X89","v":0},{"$f":"'[15]3'!Y89","v":4.0000000000000001E-3},23.792999999999999,0,0,0,8819.35,2.72,1008.22,26.512999999999998,9827.57,7.0000000000000001E-3,0,7.0000000000000001E-3,0.01,0,4.0000000000000001E-3,21.035,0,0,0,7797.04,3.2,1186.1400000000001,24.234999999999999,8983.18,{"$f":"'[15]3'!AX89","v":7.0000000000000001E-3},{"$f":"'[15]3'!AY89","v":0},{"$f":"'[15]3'!AZ89","v":0},{"$f":"'[15]3'!BA89","v":0},{"$f":"'[15]3'!BB89","v":0},{"$f":"'[15]3'!BC89","v":4.0000000000000001E-3},22.302,0,0,0,8266.68,2.7360000000000002,1014.15,25.038,9280.83,{"$f":"'[15]3'!BM89","v":7.0000000000000001E-3},{"$f":"'[15]3'!BN89","v":0},{"$f":"'[15]3'!BO89","v":0},{"$f":"'[15]3'!BP89","v":0},{"$f":"'[15]3'!BQ89","v":0},{"$f":"'[15]3'!BR89","v":4.0000000000000001E-3},15.610000000000001,0,0,0,5786.16,2.508,929.64,18.118000000000002,6715.8,{"$f":"'[15]3'!CB89","v":7.0000000000000001E-3},{"$f":"'[15]3'!CC89","v":0},{"$f":"'[15]3'!CD89","v":0},{"$f":"'[15]3'!CE89","v":0},{"$f":"'[15]3'!CF89","v":0},{"$f":"'[15]3'!CG89","v":4.0000000000000001E-3},11.473000000000001,0,0,0,4252.7,2.4319999999999999,901.47,13.905000000000001,5154.17,{"$f":"'[15]3'!CQ89","v":7.0000000000000001E-3},{"$f":"'[15]3'!CR89","v":0},{"$f":"'[15]3'!CS89","v":0},{"$f":"'[15]3'!CT89","v":0},{"$f":"'[15]3'!CU89","v":0},{"$f":"'[15]3'!CV89","v":4.0000000000000001E-3},32.340000000000003,0,0,0,11987.47,1.976,732.44,34.316000000000003,12719.91,{"$f":"'[15]3'!DF89","v":7.0000000000000001E-3},{"$f":"'[15]3'!DG89","v":0},{"$f":"'[15]3'!DH89","v":0},{"$f":"'[15]3'!DI89","v":0},{"$f":"'[15]3'!DJ89","v":0},{"$f":"'[15]3'!DK89","v":4.0000000000000001E-3},10.08,0,0,0,3736.35,2.1840000000000002,809.54,12.263999999999999,4545.8899999999994,{"$f":"'[15]3'!DU89","v":7.0000000000000001E-3},{"$f":"'[15]3'!DV89","v":0},{"$f":"'[15]3'!DW89","v":0},{"$f":"'[15]3'!DX89","v":0},{"$f":"'[15]3'!DY89","v":0},{"$f":"'[15]3'!DZ89","v":4.0000000000000001E-3},15.316000000000001,0,0,0,5677.18,2.2040000000000002,816.96,17.52,6494.14,{"$f":"'[15]3'!EJ89","v":7.0000000000000001E-3},{"$f":"'[15]3'!EK89","v":0},{"$f":"'[15]3'!EL89","v":0},{"$f":"'[15]3'!EM89","v":0},{"$f":"'[15]3'!EN89","v":0},{"$f":"'[15]3'!EO89","v":4.0000000000000001E-3},21.364000000000001,0,0,0,7918.99,2.88,1067.53,24.244,8986.52,{"$f":"'[15]3'!EY89","v":7.0000000000000001E-3},{"$f":"'[15]3'!EZ89","v":0},{"$f":"'[15]3'!FA89","v":0},{"$f":"'[15]3'!FB89","v":0},{"$f":"'[15]3'!FC89","v":0},{"$f":"'[15]3'!FD89","v":4.0000000000000001E-3},22.946000000000002,0,0,0,8505.39,3.42,1267.69,26.366,9773.08,{"$f":"'[15]3'!FN89","v":7.0000000000000001E-3},{"$f":"'[15]3'!FO89","v":0},{"$f":"'[15]3'!FP89","v":0},{"$f":"'[15]3'!FQ89","v":0},{"$f":"'[15]3'!FR89","v":0},{"$f":"'[15]3'!FS89","v":4.0000000000000001E-3},26.236000000000001,0,0,0,9724.9,3.6,1334.41,29.836000000000002,11059.31,127.55600000000001,47281.17,144.54599999999999,53578.85,272.10199999999998,100860.01999999999,7,239.89000000000001,88920.00999999998,32.211999999999961,11940.010000000009]
[76,"Минтай б/г потрошеный","кг",{"$f":"[15]цены!E84","v":172.67},{"$f":"'[15]3'!E90","v":7.4999999999999997E-3},{"$f":"'[15]3'!F90","v":7.4999999999999997E-3},{"$f":"'[15]3'!G90","v":0},{"$f":"'[15]3'!H90","v":0},{"$f":"'[15]3'!I90","v":0},{"$f":"'[15]3'!J90","v":3.0000000000000001E-3},18.637499999999999,2.5049999999999999,0,0,3650.68,1.764,304.58999999999997,22.906499999999998,3955.27,{"$f":"'[15]3'!T90","v":7.4999999999999997E-3},{"$f":"'[15]3'!U90","v":7.4999999999999997E-3},{"$f":"'[15]3'!V90","v":0},{"$f":"'[15]3'!W90","v":0},{"$f":"'[15]3'!X90","v":0},{"$f":"'[15]3'!Y90","v":3.0000000000000001E-3},25.4925,1.68,0,0,4691.88,2.04,352.25,29.212499999999999,5044.13,7.4999999999999997E-3,7.4999999999999997E-3,7.4999999999999997E-3,0.01,6.1999999999999998E-3,3.0000000000000001E-3,22.537499999999998,3,0,0,4409.5600000000004,2.4,414.41,27.937499999999996,4823.97,{"$f":"'[15]3'!AX90","v":7.4999999999999997E-3},{"$f":"'[15]3'!AY90","v":7.4999999999999997E-3},{"$f":"'[15]3'!AZ90","v":0},{"$f":"'[15]3'!BA90","v":0},{"$f":"'[15]3'!BB90","v":0},{"$f":"'[15]3'!BC90","v":3.0000000000000001E-3},23.895,2.7075,0,0,4593.45,2.052,354.32,28.654499999999999,4947.7699999999995,{"$f":"'[15]3'!BM90","v":7.4999999999999997E-3},{"$f":"'[15]3'!BN90","v":7.4999999999999997E-3},{"$f":"'[15]3'!BO90","v":0},{"$f":"'[15]3'!BP90","v":0},{"$f":"'[15]3'!BQ90","v":0},{"$f":"'[15]3'!BR90","v":3.0000000000000001E-3},16.724999999999998,2.1149999999999998,0,0,3253.1,1.881,324.79000000000002,20.720999999999997,3577.89,{"$f":"'[15]3'!CB90","v":7.4999999999999997E-3},{"$f":"'[15]3'!CC90","v":7.4999999999999997E-3},{"$f":"'[15]3'!CD90","v":0},{"$f":"'[15]3'!CE90","v":0},{"$f":"'[15]3'!CF90","v":0},{"$f":"'[15]3'!CG90","v":3.0000000000000001E-3},12.2925,1.9349999999999998,0,0,2456.66,1.8240000000000001,314.95,16.051500000000001,2771.6099999999997,{"$f":"'[15]3'!CQ90","v":7.4999999999999997E-3},{"$f":"'[15]3'!CR90","v":7.4999999999999997E-3},{"$f":"'[15]3'!CS90","v":0},{"$f":"'[15]3'!CT90","v":0},{"$f":"'[15]3'!CU90","v":0},{"$f":"'[15]3'!CV90","v":3.0000000000000001E-3},34.65,6.4049999999999994,0,0,7088.97,1.482,255.9,42.536999999999999,7344.87,{"$f":"'[15]3'!DF90","v":7.4999999999999997E-3},{"$f":"'[15]3'!DG90","v":7.4999999999999997E-3},{"$f":"'[15]3'!DH90","v":0},{"$f":"'[15]3'!DI90","v":0},{"$f":"'[15]3'!DJ90","v":0},{"$f":"'[15]3'!DK90","v":3.0000000000000001E-3},10.799999999999999,2.9924999999999997,0,0,2381.5500000000002,1.6380000000000001,282.83,15.430499999999999,2664.38,{"$f":"'[15]3'!DU90","v":7.4999999999999997E-3},{"$f":"'[15]3'!DV90","v":7.4999999999999997E-3},{"$f":"'[15]3'!DW90","v":0},{"$f":"'[15]3'!DX90","v":0},{"$f":"'[15]3'!DY90","v":0},{"$f":"'[15]3'!DZ90","v":3.0000000000000001E-3},16.41,3.5999999999999996,0,0,3455.13,1.653,285.42,21.662999999999997,3740.55,{"$f":"'[15]3'!EJ90","v":7.4999999999999997E-3},{"$f":"'[15]3'!EK90","v":7.4999999999999997E-3},{"$f":"'[15]3'!EL90","v":0},{"$f":"'[15]3'!EM90","v":0},{"$f":"'[15]3'!EN90","v":0},{"$f":"'[15]3'!EO90","v":3.0000000000000001E-3},22.89,3.8249999999999997,0,0,4612.88,2.16,372.97,28.875,4985.8500000000004,{"$f":"'[15]3'!EY90","v":7.4999999999999997E-3},{"$f":"'[15]3'!EZ90","v":7.4999999999999997E-3},{"$f":"'[15]3'!FA90","v":0},{"$f":"'[15]3'!FB90","v":0},{"$f":"'[15]3'!FC90","v":0},{"$f":"'[15]3'!FD90","v":3.0000000000000001E-3},24.585000000000001,3.7275,0,0,4888.72,2.5649999999999999,442.9,30.877500000000001,5331.62,{"$f":"'[15]3'!FN90","v":7.4999999999999997E-3},{"$f":"'[15]3'!FO90","v":7.4999999999999997E-3},{"$f":"'[15]3'!FP90","v":0},{"$f":"'[15]3'!FQ90","v":0},{"$f":"'[15]3'!FR90","v":0},{"$f":"'[15]3'!FS90","v":3.0000000000000001E-3},28.11,3.96,0,0,5537.53,2.7,466.21,34.770000000000003,6003.74,145.48349999999999,25120.639999999999,174.15300000000002,30071.010000000002,319.63650000000001,55191.65,6,295.47749999999996,51020.11,24.159000000000049,4171.5400000000009]
[77,"Треска б/г потрошеная","кг",{"$f":"[15]цены!E85","v":271.67},{"$f":"'[15]3'!E91","v":7.7999999999999996E-3},{"$f":"'[15]3'!F91","v":7.7999999999999996E-3},{"$f":"'[15]3'!G91","v":0},{"$f":"'[15]3'!H91","v":0},{"$f":"'[15]3'!I91","v":0},{"$f":"'[15]3'!J91","v":3.0000000000000001E-3},19.382999999999999,2.6052,0,0,5973.53,1.764,479.23,23.752199999999998,6452.76,{"$f":"'[15]3'!T91","v":7.7999999999999996E-3},{"$f":"'[15]3'!U91","v":7.7999999999999996E-3},{"$f":"'[15]3'!V91","v":0},{"$f":"'[15]3'!W91","v":0},{"$f":"'[15]3'!X91","v":0},{"$f":"'[15]3'!Y91","v":3.0000000000000001E-3},26.5122,1.7471999999999999,0,0,7677.23,2.04,554.21,30.299399999999999,8231.4399999999987,7.7999999999999996E-3,7.7999999999999996E-3,7.7999999999999996E-3,9.1999999999999998E-3,5.3E-3,3.0000000000000001E-3,23.439,3.1199999999999997,0,0,7215.28,2.4,652.01,28.959,7867.29,{"$f":"'[15]3'!AX91","v":7.7999999999999996E-3},{"$f":"'[15]3'!AY91","v":7.7999999999999996E-3},{"$f":"'[15]3'!AZ91","v":0},{"$f":"'[15]3'!BA91","v":0},{"$f":"'[15]3'!BB91","v":0},{"$f":"'[15]3'!BC91","v":3.0000000000000001E-3},24.8508,2.8157999999999999,0,0,7516.19,2.052,557.47,29.718599999999999,8073.66,{"$f":"'[15]3'!BM91","v":7.7999999999999996E-3},{"$f":"'[15]3'!BN91","v":7.7999999999999996E-3},{"$f":"'[15]3'!BO91","v":0},{"$f":"'[15]3'!BP91","v":0},{"$f":"'[15]3'!BQ91","v":0},{"$f":"'[15]3'!BR91","v":3.0000000000000001E-3},17.393999999999998,2.1995999999999998,0,0,5322.99,1.881,511.01,21.474599999999999,5834,{"$f":"'[15]3'!CB91","v":7.7999999999999996E-3},{"$f":"'[15]3'!CC91","v":7.7999999999999996E-3},{"$f":"'[15]3'!CD91","v":0},{"$f":"'[15]3'!CE91","v":0},{"$f":"'[15]3'!CF91","v":0},{"$f":"'[15]3'!CG91","v":3.0000000000000001E-3},12.7842,2.0124,0,0,4019.79,1.8240000000000001,495.53,16.6206,4515.32,{"$f":"'[15]3'!CQ91","v":7.7999999999999996E-3},{"$f":"'[15]3'!CR91","v":7.7999999999999996E-3},{"$f":"'[15]3'!CS91","v":0},{"$f":"'[15]3'!CT91","v":0},{"$f":"'[15]3'!CU91","v":0},{"$f":"'[15]3'!CV91","v":3.0000000000000001E-3},36.036000000000001,6.6612,0,0,11599.55,1.482,402.61,44.179200000000002,12002.16,{"$f":"'[15]3'!DF91","v":7.7999999999999996E-3},{"$f":"'[15]3'!DG91","v":7.7999999999999996E-3},{"$f":"'[15]3'!DH91","v":0},{"$f":"'[15]3'!DI91","v":0},{"$f":"'[15]3'!DJ91","v":0},{"$f":"'[15]3'!DK91","v":3.0000000000000001E-3},11.231999999999999,3.1122000000000001,0,0,3896.89,1.6380000000000001,445,15.982199999999999,4341.8899999999994,{"$f":"'[15]3'!DU91","v":7.7999999999999996E-3},{"$f":"'[15]3'!DV91","v":7.7999999999999996E-3},{"$f":"'[15]3'!DW91","v":0},{"$f":"'[15]3'!DX91","v":0},{"$f":"'[15]3'!DY91","v":0},{"$f":"'[15]3'!DZ91","v":3.0000000000000001E-3},17.066399999999998,3.7439999999999998,0,0,5653.56,1.653,449.07,22.463399999999996,6102.63,{"$f":"'[15]3'!EJ91","v":7.7999999999999996E-3},{"$f":"'[15]3'!EK91","v":7.7999999999999996E-3},{"$f":"'[15]3'!EL91","v":0},{"$f":"'[15]3'!EM91","v":0},{"$f":"'[15]3'!EN91","v":0},{"$f":"'[15]3'!EO91","v":3.0000000000000001E-3},23.805599999999998,3.9779999999999998,0,0,7547.97,2.16,586.80999999999995,29.9436,8134.7800000000007,{"$f":"'[15]3'!EY91","v":7.7999999999999996E-3},{"$f":"'[15]3'!EZ91","v":7.7999999999999996E-3},{"$f":"'[15]3'!FA91","v":0},{"$f":"'[15]3'!FB91","v":0},{"$f":"'[15]3'!FC91","v":0},{"$f":"'[15]3'!FD91","v":3.0000000000000001E-3},25.5684,3.8765999999999998,0,0,7999.32,2.5649999999999999,696.83,32.01,8696.15,{"$f":"'[15]3'!FN91","v":7.7999999999999996E-3},{"$f":"'[15]3'!FO91","v":7.7999999999999996E-3},{"$f":"'[15]3'!FP91","v":0},{"$f":"'[15]3'!FQ91","v":0},{"$f":"'[15]3'!FR91","v":0},{"$f":"'[15]3'!FS91","v":3.0000000000000001E-3},29.234399999999997,4.1183999999999994,0,0,9060.9599999999991,2.7,733.51,36.052799999999998,9794.4699999999993,150.8244,40974.469999999994,180.63119999999998,49072.08,331.4556,90046.549999999988,6,307.29659999999996,83483.259999999995,24.159000000000049,6563.2899999999936]
[78,"Хек б/г потрошеный","кг",{"$f":"[15]цены!E86","v":278},{"$f":"'[15]3'!E92","v":8.0999999999999996E-3},{"$f":"'[15]3'!F92","v":8.0999999999999996E-3},{"$f":"'[15]3'!G92","v":0},{"$f":"'[15]3'!H92","v":0},{"$f":"'[15]3'!I92","v":0},{"$f":"'[15]3'!J92","v":3.0000000000000001E-3},20.128499999999999,2.7054,0,0,6347.82,1.764,490.39,24.597899999999999,6838.21,{"$f":"'[15]3'!T92","v":8.0999999999999996E-3},{"$f":"'[15]3'!U92","v":8.0999999999999996E-3},{"$f":"'[15]3'!V92","v":0},{"$f":"'[15]3'!W92","v":0},{"$f":"'[15]3'!X92","v":0},{"$f":"'[15]3'!Y92","v":3.0000000000000001E-3},27.5319,1.8144,0,0,8158.27,2.04,567.12,31.386299999999999,8725.3900000000012,8.0999999999999996E-3,8.0999999999999996E-3,8.0999999999999996E-3,8.0999999999999996E-3,6.7999999999999996E-3,3.0000000000000001E-3,24.340499999999999,3.2399999999999998,0,0,7667.38,2.4,667.2,29.980499999999996,8334.58,{"$f":"'[15]3'!AX92","v":8.0999999999999996E-3},{"$f":"'[15]3'!AY92","v":8.0999999999999996E-3},{"$f":"'[15]3'!AZ92","v":0},{"$f":"'[15]3'!BA92","v":0},{"$f":"'[15]3'!BB92","v":0},{"$f":"'[15]3'!BC92","v":3.0000000000000001E-3},25.8066,2.9240999999999997,0,0,7987.13,2.052,570.46,30.782699999999998,8557.59,{"$f":"'[15]3'!BM92","v":8.0999999999999996E-3},{"$f":"'[15]3'!BN92","v":8.0999999999999996E-3},{"$f":"'[15]3'!BO92","v":0},{"$f":"'[15]3'!BP92","v":0},{"$f":"'[15]3'!BQ92","v":0},{"$f":"'[15]3'!BR92","v":3.0000000000000001E-3},18.062999999999999,2.2841999999999998,0,0,5656.52,1.881,522.91999999999996,22.228199999999998,6179.4400000000005,{"$f":"'[15]3'!CB92","v":8.0999999999999996E-3},{"$f":"'[15]3'!CC92","v":8.0999999999999996E-3},{"$f":"'[15]3'!CD92","v":0},{"$f":"'[15]3'!CE92","v":0},{"$f":"'[15]3'!CF92","v":0},{"$f":"'[15]3'!CG92","v":3.0000000000000001E-3},13.2759,2.0897999999999999,0,0,4271.66,1.8240000000000001,507.07,17.189700000000002,4778.7299999999996,{"$f":"'[15]3'!CQ92","v":8.0999999999999996E-3},{"$f":"'[15]3'!CR92","v":8.0999999999999996E-3},{"$f":"'[15]3'!CS92","v":0},{"$f":"'[15]3'!CT92","v":0},{"$f":"'[15]3'!CU92","v":0},{"$f":"'[15]3'!CV92","v":3.0000000000000001E-3},37.421999999999997,6.9173999999999998,0,0,12326.35,1.482,412,45.821399999999997,12738.35,{"$f":"'[15]3'!DF92","v":8.0999999999999996E-3},{"$f":"'[15]3'!DG92","v":8.0999999999999996E-3},{"$f":"'[15]3'!DH92","v":0},{"$f":"'[15]3'!DI92","v":0},{"$f":"'[15]3'!DJ92","v":0},{"$f":"'[15]3'!DK92","v":3.0000000000000001E-3},11.664,3.2319,0,0,4141.0600000000004,1.6380000000000001,455.36,16.533899999999999,4596.42,{"$f":"'[15]3'!DU92","v":8.0999999999999996E-3},{"$f":"'[15]3'!DV92","v":8.0999999999999996E-3},{"$f":"'[15]3'!DW92","v":0},{"$f":"'[15]3'!DX92","v":0},{"$f":"'[15]3'!DY92","v":0},{"$f":"'[15]3'!DZ92","v":3.0000000000000001E-3},17.722799999999999,3.8879999999999999,0,0,6007.8,1.653,459.53,23.263799999999996,6467.33,{"$f":"'[15]3'!EJ92","v":8.0999999999999996E-3},{"$f":"'[15]3'!EK92","v":8.0999999999999996E-3},{"$f":"'[15]3'!EL92","v":0},{"$f":"'[15]3'!EM92","v":0},{"$f":"'[15]3'!EN92","v":0},{"$f":"'[15]3'!EO92","v":3.0000000000000001E-3},24.7212,4.1309999999999993,0,0,8020.91,2.16,600.48,31.0122,8621.39,{"$f":"'[15]3'!EY92","v":8.0999999999999996E-3},{"$f":"'[15]3'!EZ92","v":8.0999999999999996E-3},{"$f":"'[15]3'!FA92","v":0},{"$f":"'[15]3'!FB92","v":0},{"$f":"'[15]3'!FC92","v":0},{"$f":"'[15]3'!FD92","v":3.0000000000000001E-3},26.5518,4.0256999999999996,0,0,8500.5499999999993,2.5649999999999999,713.07,33.142499999999998,9213.619999999999,{"$f":"'[15]3'!FN92","v":8.0999999999999996E-3},{"$f":"'[15]3'!FO92","v":8.0999999999999996E-3},{"$f":"'[15]3'!FP92","v":0},{"$f":"'[15]3'!FQ92","v":0},{"$f":"'[15]3'!FR92","v":0},{"$f":"'[15]3'!FS92","v":3.0000000000000001E-3},30.358799999999999,4.2767999999999997,0,0,9628.7000000000007,2.7,750.6,37.335599999999999,10379.300000000001,156.1653,43413.94,187.10939999999999,52016.41,343.2747,95430.35,6,319.11569999999995,88714.15,24.159000000000049,6716.2000000000116]
[79,"Сиг свежеморож.","кг",{"$f":"[15]цены!E87","v":232.67},{"$f":"'[15]3'!E93","v":0.01},{"$f":"'[15]3'!F93","v":0.01},{"$f":"'[15]3'!G93","v":0},{"$f":"'[15]3'!H93","v":0},{"$f":"'[15]3'!I93","v":0},{"$f":"'[15]3'!J93","v":3.0000000000000001E-3},24.85,3.34,0,0,6558.97,1.764,410.43,29.954000000000001,6969.4000000000005,{"$f":"'[15]3'!T93","v":0.01},{"$f":"'[15]3'!U93","v":0.01},{"$f":"'[15]3'!V93","v":0},{"$f":"'[15]3'!W93","v":0},{"$f":"'[15]3'!X93","v":0},{"$f":"'[15]3'!Y93","v":3.0000000000000001E-3},33.99,2.2400000000000002,0,0,8429.6299999999992,2.04,474.65,38.270000000000003,8904.2799999999988,0.01,0.01,0.01,0.01,8.3000000000000001E-3,3.0000000000000001E-3,30.05,4,0,0,7922.41,2.4,558.41,36.449999999999996,8480.82,{"$f":"'[15]3'!AX93","v":0.01},{"$f":"'[15]3'!AY93","v":0.01},{"$f":"'[15]3'!AZ93","v":0},{"$f":"'[15]3'!BA93","v":0},{"$f":"'[15]3'!BB93","v":0},{"$f":"'[15]3'!BC93","v":3.0000000000000001E-3},31.86,3.61,0,0,8252.7999999999993,2.052,477.44,37.521999999999998,8730.24,{"$f":"'[15]3'!BM93","v":0.01},{"$f":"'[15]3'!BN93","v":0.01},{"$f":"'[15]3'!BO93","v":0},{"$f":"'[15]3'!BP93","v":0},{"$f":"'[15]3'!BQ93","v":0},{"$f":"'[15]3'!BR93","v":3.0000000000000001E-3},22.3,2.82,0,0,5844.67,1.881,437.65,27.001000000000001,6282.32,{"$f":"'[15]3'!CB93","v":0.01},{"$f":"'[15]3'!CC93","v":0.01},{"$f":"'[15]3'!CD93","v":0},{"$f":"'[15]3'!CE93","v":0},{"$f":"'[15]3'!CF93","v":0},{"$f":"'[15]3'!CG93","v":3.0000000000000001E-3},16.39,2.58,0,0,4413.75,1.8240000000000001,424.39,20.794,4838.1400000000003,{"$f":"'[15]3'!CQ93","v":0.01},{"$f":"'[15]3'!CR93","v":0.01},{"$f":"'[15]3'!CS93","v":0},{"$f":"'[15]3'!CT93","v":0},{"$f":"'[15]3'!CU93","v":0},{"$f":"'[15]3'!CV93","v":3.0000000000000001E-3},46.2,8.5400000000000009,0,0,12736.36,1.482,344.82,56.222000000000001,13081.18,{"$f":"'[15]3'!DF93","v":0.01},{"$f":"'[15]3'!DG93","v":0.01},{"$f":"'[15]3'!DH93","v":0},{"$f":"'[15]3'!DI93","v":0},{"$f":"'[15]3'!DJ93","v":0},{"$f":"'[15]3'!DK93","v":3.0000000000000001E-3},14.4,3.99,0,0,4278.8,1.6380000000000001,381.11,20.028000000000002,4659.91,{"$f":"'[15]3'!DU93","v":0.01},{"$f":"'[15]3'!DV93","v":0.01},{"$f":"'[15]3'!DW93","v":0},{"$f":"'[15]3'!DX93","v":0},{"$f":"'[15]3'!DY93","v":0},{"$f":"'[15]3'!DZ93","v":3.0000000000000001E-3},21.88,4.8,0,0,6207.64,1.653,384.6,28.332999999999998,6592.2400000000007,{"$f":"'[15]3'!EJ93","v":0.01},{"$f":"'[15]3'!EK93","v":0.01},{"$f":"'[15]3'!EL93","v":0},{"$f":"'[15]3'!EM93","v":0},{"$f":"'[15]3'!EN93","v":0},{"$f":"'[15]3'!EO93","v":3.0000000000000001E-3},30.52,5.1000000000000005,0,0,8287.7099999999991,2.16,502.57,37.78,8790.2799999999988,{"$f":"'[15]3'!EY93","v":0.01},{"$f":"'[15]3'!EZ93","v":0.01},{"$f":"'[15]3'!FA93","v":0},{"$f":"'[15]3'!FB93","v":0},{"$f":"'[15]3'!FC93","v":0},{"$f":"'[15]3'!FD93","v":3.0000000000000001E-3},32.78,4.97,0,0,8783.2900000000009,2.5649999999999999,596.79999999999995,40.314999999999998,9380.09,{"$f":"'[15]3'!FN93","v":0.01},{"$f":"'[15]3'!FO93","v":0.01},{"$f":"'[15]3'!FP93","v":0},{"$f":"'[15]3'!FQ93","v":0},{"$f":"'[15]3'!FR93","v":0},{"$f":"'[15]3'!FS93","v":3.0000000000000001E-3},37.480000000000004,5.28,0,0,9948.9699999999993,2.7,628.21,45.460000000000008,10577.18,189.99100000000001,44205.2,228.13800000000001,53080.88,418.12900000000002,97286.079999999987,6,393.96999999999997,91664.999999999971,24.159000000000049,5621.0800000000163]
[80,"Муксун свежеморож.","кг",{"$f":"[15]цены!E88","v":278},{"$f":"'[15]3'!E94","v":7.7999999999999996E-3},{"$f":"'[15]3'!F94","v":6.0000000000000001E-3},{"$f":"'[15]3'!G94","v":0},{"$f":"'[15]3'!H94","v":0},{"$f":"'[15]3'!I94","v":0},{"$f":"'[15]3'!J94","v":3.0000000000000001E-3},19.382999999999999,2.004,0,0,5945.59,1.764,490.39,23.151,6435.9800000000005,{"$f":"'[15]3'!T94","v":7.7999999999999996E-3},{"$f":"'[15]3'!U94","v":6.0000000000000001E-3},{"$f":"'[15]3'!V94","v":0},{"$f":"'[15]3'!W94","v":0},{"$f":"'[15]3'!X94","v":0},{"$f":"'[15]3'!Y94","v":3.0000000000000001E-3},26.5122,1.3440000000000001,0,0,7744.02,2.04,567.12,29.8962,8311.1400000000012,7.7999999999999996E-3,6.0000000000000001E-3,7.7999999999999996E-3,0.01,8.3000000000000001E-3,3.0000000000000001E-3,23.439,2.4,0,0,7183.24,2.4,667.2,28.238999999999997,7850.44,{"$f":"'[15]3'!AX94","v":7.7999999999999996E-3},{"$f":"'[15]3'!AY94","v":6.0000000000000001E-3},{"$f":"'[15]3'!AZ94","v":0},{"$f":"'[15]3'!BA94","v":0},{"$f":"'[15]3'!BB94","v":0},{"$f":"'[15]3'!BC94","v":3.0000000000000001E-3},24.8508,2.1659999999999999,0,0,7510.67,2.052,570.46,29.0688,8081.13,{"$f":"'[15]3'!BM94","v":7.7999999999999996E-3},{"$f":"'[15]3'!BN94","v":6.0000000000000001E-3},{"$f":"'[15]3'!BO94","v":0},{"$f":"'[15]3'!BP94","v":0},{"$f":"'[15]3'!BQ94","v":0},{"$f":"'[15]3'!BR94","v":3.0000000000000001E-3},17.393999999999998,1.6919999999999999,0,0,5305.91,1.881,522.91999999999996,20.966999999999999,5828.83,{"$f":"'[15]3'!CB94","v":7.7999999999999996E-3},{"$f":"'[15]3'!CC94","v":6.0000000000000001E-3},{"$f":"'[15]3'!CD94","v":0},{"$f":"'[15]3'!CE94","v":0},{"$f":"'[15]3'!CF94","v":0},{"$f":"'[15]3'!CG94","v":3.0000000000000001E-3},12.7842,1.548,0,0,3984.35,1.8240000000000001,507.07,16.156200000000002,4491.42,{"$f":"'[15]3'!CQ94","v":7.7999999999999996E-3},{"$f":"'[15]3'!CR94","v":6.0000000000000001E-3},{"$f":"'[15]3'!CS94","v":0},{"$f":"'[15]3'!CT94","v":0},{"$f":"'[15]3'!CU94","v":0},{"$f":"'[15]3'!CV94","v":3.0000000000000001E-3},36.036000000000001,5.1239999999999997,0,0,11442.48,1.482,412,42.642000000000003,11854.48,{"$f":"'[15]3'!DF94","v":7.7999999999999996E-3},{"$f":"'[15]3'!DG94","v":6.0000000000000001E-3},{"$f":"'[15]3'!DH94","v":0},{"$f":"'[15]3'!DI94","v":0},{"$f":"'[15]3'!DJ94","v":0},{"$f":"'[15]3'!DK94","v":3.0000000000000001E-3},11.231999999999999,2.3940000000000001,0,0,3788.03,1.6380000000000001,455.36,15.263999999999999,4243.3900000000003,{"$f":"'[15]3'!DU94","v":7.7999999999999996E-3},{"$f":"'[15]3'!DV94","v":6.0000000000000001E-3},{"$f":"'[15]3'!DW94","v":0},{"$f":"'[15]3'!DX94","v":0},{"$f":"'[15]3'!DY94","v":0},{"$f":"'[15]3'!DZ94","v":3.0000000000000001E-3},17.066399999999998,2.88,0,0,5545.1,1.653,459.53,21.599399999999996,6004.63,{"$f":"'[15]3'!EJ94","v":7.7999999999999996E-3},{"$f":"'[15]3'!EK94","v":6.0000000000000001E-3},{"$f":"'[15]3'!EL94","v":0},{"$f":"'[15]3'!EM94","v":0},{"$f":"'[15]3'!EN94","v":0},{"$f":"'[15]3'!EO94","v":3.0000000000000001E-3},23.805599999999998,3.06,0,0,7468.64,2.16,600.48,29.025599999999997,8069.1200000000008,{"$f":"'[15]3'!EY94","v":7.7999999999999996E-3},{"$f":"'[15]3'!EZ94","v":6.0000000000000001E-3},{"$f":"'[15]3'!FA94","v":0},{"$f":"'[15]3'!FB94","v":0},{"$f":"'[15]3'!FC94","v":0},{"$f":"'[15]3'!FD94","v":3.0000000000000001E-3},25.5684,2.9820000000000002,0,0,7937.01,2.5649999999999999,713.07,31.115400000000001,8650.08,{"$f":"'[15]3'!FN94","v":7.7999999999999996E-3},{"$f":"'[15]3'!FO94","v":6.0000000000000001E-3},{"$f":"'[15]3'!FP94","v":0},{"$f":"'[15]3'!FQ94","v":0},{"$f":"'[15]3'!FR94","v":0},{"$f":"'[15]3'!FS94","v":3.0000000000000001E-3},29.234399999999997,3.1680000000000001,0,0,9007.8700000000008,2.7,750.6,35.102400000000003,9758.4700000000012,147.47820000000002,40998.94,174.74880000000002,48580.170000000006,322.22700000000003,89579.110000000015,6,298.06799999999998,82862.91,24.159000000000049,6716.2000000000116]
[81,"Горбуша потрошеная с головой","кг",{"$f":"[15]цены!E89","v":260.33},{"$f":"'[15]3'!E95","v":8.2000000000000007E-3},{"$f":"'[15]3'!F95","v":6.0000000000000001E-3},{"$f":"'[15]3'!G95","v":0},{"$f":"'[15]3'!H95","v":0},{"$f":"'[15]3'!I95","v":0},{"$f":"'[15]3'!J95","v":3.0000000000000001E-3},20.377000000000002,2.004,0,0,5826.45,1.764,459.22,24.145000000000003,6285.67,{"$f":"'[15]3'!T95","v":8.2000000000000007E-3},{"$f":"'[15]3'!U95","v":6.0000000000000001E-3},{"$f":"'[15]3'!V95","v":0},{"$f":"'[15]3'!W95","v":0},{"$f":"'[15]3'!X95","v":0},{"$f":"'[15]3'!Y95","v":3.0000000000000001E-3},27.871800000000004,1.3440000000000001,0,0,7605.75,2.04,531.07000000000005,31.255800000000004,8136.82,8.2000000000000007E-3,6.0000000000000001E-3,8.2000000000000007E-3,8.2000000000000007E-3,6.7999999999999996E-3,3.0000000000000001E-3,24.641000000000002,2.4,0,0,7039.58,2.4,624.79,29.440999999999999,7664.37,{"$f":"'[15]3'!AX95","v":8.2000000000000007E-3},{"$f":"'[15]3'!AY95","v":6.0000000000000001E-3},{"$f":"'[15]3'!AZ95","v":0},{"$f":"'[15]3'!BA95","v":0},{"$f":"'[15]3'!BB95","v":0},{"$f":"'[15]3'!BC95","v":3.0000000000000001E-3},26.125200000000003,2.1659999999999999,0,0,7365.05,2.052,534.20000000000005,30.343200000000003,7899.25,{"$f":"'[15]3'!BM95","v":8.2000000000000007E-3},{"$f":"'[15]3'!BN95","v":6.0000000000000001E-3},{"$f":"'[15]3'!BO95","v":0},{"$f":"'[15]3'!BP95","v":0},{"$f":"'[15]3'!BQ95","v":0},{"$f":"'[15]3'!BR95","v":3.0000000000000001E-3},18.286000000000001,1.6919999999999999,0,0,5200.87,1.881,489.68,21.859000000000002,5690.55,{"$f":"'[15]3'!CB95","v":8.2000000000000007E-3},{"$f":"'[15]3'!CC95","v":6.0000000000000001E-3},{"$f":"'[15]3'!CD95","v":0},{"$f":"'[15]3'!CE95","v":0},{"$f":"'[15]3'!CF95","v":0},{"$f":"'[15]3'!CG95","v":3.0000000000000001E-3},13.439800000000002,1.548,0,0,3901.77,1.8240000000000001,474.84,16.811800000000002,4376.6099999999997,{"$f":"'[15]3'!CQ95","v":8.2000000000000007E-3},{"$f":"'[15]3'!CR95","v":6.0000000000000001E-3},{"$f":"'[15]3'!CS95","v":0},{"$f":"'[15]3'!CT95","v":0},{"$f":"'[15]3'!CU95","v":0},{"$f":"'[15]3'!CV95","v":3.0000000000000001E-3},37.884,5.1239999999999997,0,0,11196.27,1.482,385.81,44.49,11582.08,{"$f":"'[15]3'!DF95","v":8.2000000000000007E-3},{"$f":"'[15]3'!DG95","v":6.0000000000000001E-3},{"$f":"'[15]3'!DH95","v":0},{"$f":"'[15]3'!DI95","v":0},{"$f":"'[15]3'!DJ95","v":0},{"$f":"'[15]3'!DK95","v":3.0000000000000001E-3},11.808000000000002,2.3940000000000001,0,0,3697.21,1.6380000000000001,426.42,15.840000000000002,4123.63,{"$f":"'[15]3'!DU95","v":8.2000000000000007E-3},{"$f":"'[15]3'!DV95","v":6.0000000000000001E-3},{"$f":"'[15]3'!DW95","v":0},{"$f":"'[15]3'!DX95","v":0},{"$f":"'[15]3'!DY95","v":0},{"$f":"'[15]3'!DZ95","v":3.0000000000000001E-3},17.941600000000001,2.88,0,0,5420.49,1.653,430.33,22.474599999999999,5850.82,{"$f":"'[15]3'!EJ95","v":8.2000000000000007E-3},{"$f":"'[15]3'!EK95","v":6.0000000000000001E-3},{"$f":"'[15]3'!EL95","v":0},{"$f":"'[15]3'!EM95","v":0},{"$f":"'[15]3'!EN95","v":0},{"$f":"'[15]3'!EO95","v":3.0000000000000001E-3},25.026400000000002,3.06,0,0,7311.73,2.16,562.30999999999995,30.246400000000001,7874.0399999999991,{"$f":"'[15]3'!EY95","v":8.2000000000000007E-3},{"$f":"'[15]3'!EZ95","v":6.0000000000000001E-3},{"$f":"'[15]3'!FA95","v":0},{"$f":"'[15]3'!FB95","v":0},{"$f":"'[15]3'!FC95","v":0},{"$f":"'[15]3'!FD95","v":3.0000000000000001E-3},26.879600000000003,2.9820000000000002,0,0,7773.87,2.5649999999999999,667.75,32.426600000000001,8441.619999999999,{"$f":"'[15]3'!FN95","v":8.2000000000000007E-3},{"$f":"'[15]3'!FO95","v":6.0000000000000001E-3},{"$f":"'[15]3'!FP95","v":0},{"$f":"'[15]3'!FQ95","v":0},{"$f":"'[15]3'!FR95","v":0},{"$f":"'[15]3'!FS95","v":3.0000000000000001E-3},30.733600000000003,3.1680000000000001,0,0,8825.6,2.7,702.89,36.601600000000005,9528.49,153.85580000000002,40053.270000000004,182.07920000000001,47400.68,335.93500000000006,87453.950000000012,6,311.77600000000001,81164.640000000029,24.159000000000049,6289.3099999999831]
[82,"Сельдь соленая","кг",{"$f":"[15]цены!E90","v":176.67},{"$f":"'[15]3'!E96","v":6.0000000000000001E-3},{"$f":"'[15]3'!F96","v":3.0000000000000001E-3},{"$f":"'[15]3'!G96","v":0},{"$f":"'[15]3'!H96","v":0},{"$f":"'[15]3'!I96","v":0},{"$f":"'[15]3'!J96","v":0},14.91,1.002,0,0,2811.17,0,0,15.912000000000001,2811.17,{"$f":"'[15]3'!T96","v":6.0000000000000001E-3},{"$f":"'[15]3'!U96","v":3.0000000000000001E-3},{"$f":"'[15]3'!V96","v":0},{"$f":"'[15]3'!W96","v":0},{"$f":"'[15]3'!X96","v":0},{"$f":"'[15]3'!Y96","v":0},20.394000000000002,0.67200000000000004,0,0,3721.73,0,0,21.066000000000003,3721.73,6.0000000000000001E-3,3.0000000000000001E-3,6.0000000000000001E-3,6.0000000000000001E-3,3.0000000000000001E-3,null,18.03,1.2,0,0,3397.36,0,0,19.23,3397.36,{"$f":"'[15]3'!AX96","v":6.0000000000000001E-3},{"$f":"'[15]3'!AY96","v":3.0000000000000001E-3},{"$f":"'[15]3'!AZ96","v":0},{"$f":"'[15]3'!BA96","v":0},{"$f":"'[15]3'!BB96","v":0},{"$f":"'[15]3'!BC96","v":0},19.116,1.083,0,0,3568.56,0,0,20.198999999999998,3568.56,{"$f":"'[15]3'!BM96","v":6.0000000000000001E-3},{"$f":"'[15]3'!BN96","v":3.0000000000000001E-3},{"$f":"'[15]3'!BO96","v":0},{"$f":"'[15]3'!BP96","v":0},{"$f":"'[15]3'!BQ96","v":0},{"$f":"'[15]3'!BR96","v":0},13.38,0.84599999999999997,0,0,2513.31,0,0,14.226000000000001,2513.31,{"$f":"'[15]3'!CB96","v":6.0000000000000001E-3},{"$f":"'[15]3'!CC96","v":3.0000000000000001E-3},{"$f":"'[15]3'!CD96","v":0},{"$f":"'[15]3'!CE96","v":0},{"$f":"'[15]3'!CF96","v":0},{"$f":"'[15]3'!CG96","v":0},9.8339999999999996,0.77400000000000002,0,0,1874.12,0,0,10.608000000000001,1874.12,{"$f":"'[15]3'!CQ96","v":6.0000000000000001E-3},{"$f":"'[15]3'!CR96","v":3.0000000000000001E-3},{"$f":"'[15]3'!CS96","v":0},{"$f":"'[15]3'!CT96","v":0},{"$f":"'[15]3'!CU96","v":0},{"$f":"'[15]3'!CV96","v":0},27.72,2.5619999999999998,0,0,5349.92,0,0,30.282,5349.92,{"$f":"'[15]3'!DF96","v":6.0000000000000001E-3},{"$f":"'[15]3'!DG96","v":3.0000000000000001E-3},{"$f":"'[15]3'!DH96","v":0},{"$f":"'[15]3'!DI96","v":0},{"$f":"'[15]3'!DJ96","v":0},{"$f":"'[15]3'!DK96","v":0},8.64,1.1970000000000001,0,0,1737.9,0,0,9.8369999999999997,1737.9,{"$f":"'[15]3'!DU96","v":6.0000000000000001E-3},{"$f":"'[15]3'!DV96","v":3.0000000000000001E-3},{"$f":"'[15]3'!DW96","v":0},{"$f":"'[15]3'!DX96","v":0},{"$f":"'[15]3'!DY96","v":0},{"$f":"'[15]3'!DZ96","v":0},13.128,1.44,0,0,2573.73,0,0,14.568,2573.73,{"$f":"'[15]3'!EJ96","v":6.0000000000000001E-3},{"$f":"'[15]3'!EK96","v":3.0000000000000001E-3},{"$f":"'[15]3'!EL96","v":0},{"$f":"'[15]3'!EM96","v":0},{"$f":"'[15]3'!EN96","v":0},{"$f":"'[15]3'!EO96","v":0},18.312000000000001,1.53,0,0,3505.49,0,0,19.842000000000002,3505.49,{"$f":"'[15]3'!EY96","v":6.0000000000000001E-3},{"$f":"'[15]3'!EZ96","v":3.0000000000000001E-3},{"$f":"'[15]3'!FA96","v":0},{"$f":"'[15]3'!FB96","v":0},{"$f":"'[15]3'!FC96","v":0},{"$f":"'[15]3'!FD96","v":0},19.667999999999999,1.4910000000000001,0,0,3738.16,0,0,21.158999999999999,3738.16,{"$f":"'[15]3'!FN96","v":6.0000000000000001E-3},{"$f":"'[15]3'!FO96","v":3.0000000000000001E-3},{"$f":"'[15]3'!FP96","v":0},{"$f":"'[15]3'!FQ96","v":0},{"$f":"'[15]3'!FR96","v":0},{"$f":"'[15]3'!FS96","v":0},22.488,1.5840000000000001,0,0,4252.8,0,0,24.071999999999999,4252.8,101.241,17886.25,119.75999999999999,21157.999999999996,221.00099999999998,39044.25,6,221.00099999999998,39044.25,0,0]
[83,"Консервы рыбные","кг",{"$f":"[15]цены!E91","v":291},{"$f":"'[15]3'!E97","v":1E-3},{"$f":"'[15]3'!F97","v":1E-3},{"$f":"'[15]3'!G97","v":0},{"$f":"'[15]3'!H97","v":0},{"$f":"'[15]3'!I97","v":0},{"$f":"'[15]3'!J97","v":1E-3},2.4849999999999999,0.33400000000000002,0,0,820.33,0.58799999999999997,171.11,3.407,991.44,{"$f":"'[15]3'!T97","v":1E-3},{"$f":"'[15]3'!U97","v":1E-3},{"$f":"'[15]3'!V97","v":0},{"$f":"'[15]3'!W97","v":0},{"$f":"'[15]3'!X97","v":0},{"$f":"'[15]3'!Y97","v":1E-3},3.399,0.224,0,0,1054.29,0.68,197.88,4.3029999999999999,1252.17,1E-3,1E-3,1E-3,1E-3,1E-3,1E-3,3.0049999999999999,0.4,0,0,990.86,0.8,232.8,4.2050000000000001,1223.6600000000001,{"$f":"'[15]3'!AX97","v":1E-3},{"$f":"'[15]3'!AY97","v":1E-3},{"$f":"'[15]3'!AZ97","v":0},{"$f":"'[15]3'!BA97","v":0},{"$f":"'[15]3'!BB97","v":0},{"$f":"'[15]3'!BC97","v":1E-3},3.1859999999999999,0.36099999999999999,0,0,1032.18,0.68400000000000005,199.04,4.2309999999999999,1231.22,{"$f":"'[15]3'!BM97","v":1E-3},{"$f":"'[15]3'!BN97","v":1E-3},{"$f":"'[15]3'!BO97","v":0},{"$f":"'[15]3'!BP97","v":0},{"$f":"'[15]3'!BQ97","v":0},{"$f":"'[15]3'!BR97","v":1E-3},2.23,0.28200000000000003,0,0,730.99,0.627,182.46,3.1390000000000002,913.45,{"$f":"'[15]3'!CB97","v":1E-3},{"$f":"'[15]3'!CC97","v":1E-3},{"$f":"'[15]3'!CD97","v":0},{"$f":"'[15]3'!CE97","v":0},{"$f":"'[15]3'!CF97","v":0},{"$f":"'[15]3'!CG97","v":1E-3},1.639,0.25800000000000001,0,0,552.03,0.60799999999999998,176.93,2.5049999999999999,728.96,{"$f":"'[15]3'!CQ97","v":1E-3},{"$f":"'[15]3'!CR97","v":1E-3},{"$f":"'[15]3'!CS97","v":0},{"$f":"'[15]3'!CT97","v":0},{"$f":"'[15]3'!CU97","v":0},{"$f":"'[15]3'!CV97","v":1E-3},4.62,0.85399999999999998,0,0,1592.93,0.49399999999999999,143.75,5.968,1736.68,{"$f":"'[15]3'!DF97","v":1E-3},{"$f":"'[15]3'!DG97","v":1E-3},{"$f":"'[15]3'!DH97","v":0},{"$f":"'[15]3'!DI97","v":0},{"$f":"'[15]3'!DJ97","v":0},{"$f":"'[15]3'!DK97","v":1E-3},1.44,0.39900000000000002,0,0,535.15,0.54600000000000004,158.88999999999999,2.3849999999999998,694.04,{"$f":"'[15]3'!DU97","v":1E-3},{"$f":"'[15]3'!DV97","v":1E-3},{"$f":"'[15]3'!DW97","v":0},{"$f":"'[15]3'!DX97","v":0},{"$f":"'[15]3'!DY97","v":0},{"$f":"'[15]3'!DZ97","v":1E-3},2.1880000000000002,0.48,0,0,776.39,0.55100000000000005,160.34,3.2190000000000003,936.73,{"$f":"'[15]3'!EJ97","v":1E-3},{"$f":"'[15]3'!EK97","v":1E-3},{"$f":"'[15]3'!EL97","v":0},{"$f":"'[15]3'!EM97","v":0},{"$f":"'[15]3'!EN97","v":0},{"$f":"'[15]3'!EO97","v":1E-3},3.052,0.51,0,0,1036.54,0.72,209.52,4.282,1246.06,{"$f":"'[15]3'!EY97","v":1E-3},{"$f":"'[15]3'!EZ97","v":1E-3},{"$f":"'[15]3'!FA97","v":0},{"$f":"'[15]3'!FB97","v":0},{"$f":"'[15]3'!FC97","v":0},{"$f":"'[15]3'!FD97","v":1E-3},3.278,0.497,0,0,1098.53,0.85499999999999998,248.81,4.63,1347.34,{"$f":"'[15]3'!FN97","v":1E-3},{"$f":"'[15]3'!FO97","v":1E-3},{"$f":"'[15]3'!FP97","v":0},{"$f":"'[15]3'!FQ97","v":0},{"$f":"'[15]3'!FR97","v":0},{"$f":"'[15]3'!FS97","v":1E-3},3.7480000000000002,0.52800000000000002,0,0,1244.32,0.9,261.89999999999998,5.1760000000000002,1506.2199999999998,21.79,6340.9000000000005,25.659999999999997,7467.07,47.449999999999996,13807.970000000001,6,39.397000000000006,11464.540000000003,8.0529999999999902,2343.4299999999985]
[84,"Яйцо куриное (1 шт. - 40гр.)","кг",{"$f":"[15]цены!E92","v":214},{"$f":"'[15]3'!E98","v":2.4E-2},{"$f":"'[15]3'!F98","v":0.02},{"$f":"'[15]3'!G98","v":3.1200000000000004E-3},{"$f":"'[15]3'!H98","v":0},{"$f":"'[15]3'!I98","v":0},{"$f":"'[15]3'!J98","v":1E-3},59.64,6.68,0,0,14192.48,0.58799999999999997,125.83,66.907999999999987,14318.31,{"$f":"'[15]3'!T98","v":2.4E-2},{"$f":"'[15]3'!U98","v":0.02},{"$f":"'[15]3'!V98","v":3.1200000000000004E-3},{"$f":"'[15]3'!W98","v":0},{"$f":"'[15]3'!X98","v":0},{"$f":"'[15]3'!Y98","v":1E-3},81.576000000000008,4.4800000000000004,0,0,18415.98,0.68,145.52000000000001,86.736000000000018,18561.5,2.4E-2,0.02,2.4E-2,0.04,0.02,1E-3,72.12,8,0,0,17145.68,0.8,171.2,80.92,17316.88,{"$f":"'[15]3'!AX98","v":2.4E-2},{"$f":"'[15]3'!AY98","v":0.02},{"$f":"'[15]3'!AZ98","v":3.1200000000000004E-3},{"$f":"'[15]3'!BA98","v":0},{"$f":"'[15]3'!BB98","v":0},{"$f":"'[15]3'!BC98","v":1E-3},76.463999999999999,7.22,0,0,17908.38,0.68400000000000005,146.38,84.367999999999995,18054.760000000002,{"$f":"'[15]3'!BM98","v":2.4E-2},{"$f":"'[15]3'!BN98","v":0.02},{"$f":"'[15]3'!BO98","v":3.1200000000000004E-3},{"$f":"'[15]3'!BP98","v":0},{"$f":"'[15]3'!BQ98","v":0},{"$f":"'[15]3'!BR98","v":1E-3},53.52,5.64,0,0,12660.24,0.627,134.18,59.787000000000006,12794.42,{"$f":"'[15]3'!CB98","v":2.4E-2},{"$f":"'[15]3'!CC98","v":0.02},{"$f":"'[15]3'!CD98","v":3.1200000000000004E-3},{"$f":"'[15]3'!CE98","v":0},{"$f":"'[15]3'!CF98","v":0},{"$f":"'[15]3'!CG98","v":1E-3},39.335999999999999,5.16,0,0,9522.14,0.60799999999999998,130.11000000000001,45.103999999999992,9652.25,{"$f":"'[15]3'!CQ98","v":2.4E-2},{"$f":"'[15]3'!CR98","v":0.02},{"$f":"'[15]3'!CS98","v":3.1200000000000004E-3},{"$f":"'[15]3'!CT98","v":0},{"$f":"'[15]3'!CU98","v":0},{"$f":"'[15]3'!CV98","v":1E-3},110.88,17.080000000000002,0,0,27383.439999999999,0.49399999999999999,105.72,128.45400000000001,27489.16,{"$f":"'[15]3'!DF98","v":2.4E-2},{"$f":"'[15]3'!DG98","v":0.02},{"$f":"'[15]3'!DH98","v":3.1200000000000004E-3},{"$f":"'[15]3'!DI98","v":0},{"$f":"'[15]3'!DJ98","v":0},{"$f":"'[15]3'!DK98","v":1E-3},34.56,7.98,0,0,9103.56,0.54600000000000004,116.84,43.086000000000006,9220.4,{"$f":"'[15]3'!DU98","v":2.4E-2},{"$f":"'[15]3'!DV98","v":0.02},{"$f":"'[15]3'!DW98","v":3.1200000000000004E-3},{"$f":"'[15]3'!DX98","v":0},{"$f":"'[15]3'!DY98","v":0},{"$f":"'[15]3'!DZ98","v":1E-3},52.512,9.6,0,0,13291.97,0.55100000000000005,117.91,62.663000000000004,13409.88,{"$f":"'[15]3'!EJ98","v":2.4E-2},{"$f":"'[15]3'!EK98","v":0.02},{"$f":"'[15]3'!EL98","v":3.1200000000000004E-3},{"$f":"'[15]3'!EM98","v":0},{"$f":"'[15]3'!EN98","v":0},{"$f":"'[15]3'!EO98","v":1E-3},73.248000000000005,10.200000000000001,0,0,17857.87,0.72,154.08000000000001,84.168000000000006,18011.95,{"$f":"'[15]3'!EY98","v":2.4E-2},{"$f":"'[15]3'!EZ98","v":0.02},{"$f":"'[15]3'!FA98","v":3.1200000000000004E-3},{"$f":"'[15]3'!FB98","v":0},{"$f":"'[15]3'!FC98","v":0},{"$f":"'[15]3'!FD98","v":1E-3},78.671999999999997,9.94,0,0,18962.97,0.85499999999999998,182.97,89.466999999999999,19145.940000000002,{"$f":"'[15]3'!FN98","v":2.4E-2},{"$f":"'[15]3'!FO98","v":0.02},{"$f":"'[15]3'!FP98","v":3.1200000000000004E-3},{"$f":"'[15]3'!FQ98","v":0},{"$f":"'[15]3'!FR98","v":0},{"$f":"'[15]3'!FS98","v":1E-3},89.951999999999998,10.56,0,0,21509.57,0.9,192.6,101.41200000000001,21702.17,423.82300000000004,90698.12000000001,509.25,108979.5,933.07300000000009,199677.62,3,925.02000000000021,197954.28000000003,8.0529999999998836,1723.3399999999674]
[85,"Чай","кг",{"$f":"[15]цены!E93","v":437.83},{"$f":"'[15]3'!E99","v":5.9999999999999995E-4},{"$f":"'[15]3'!F99","v":5.0000000000000001E-4},{"$f":"'[15]3'!G99","v":7.7999999999999999E-5},{"$f":"'[15]3'!H99","v":0},{"$f":"'[15]3'!I99","v":0},{"$f":"'[15]3'!J99","v":5.0000000000000001E-4},1.4909999999999999,0.16700000000000001,0,0,725.92,0.29399999999999998,128.72,1.952,854.64,{"$f":"'[15]3'!T99","v":5.9999999999999995E-4},{"$f":"'[15]3'!U99","v":5.0000000000000001E-4},{"$f":"'[15]3'!V99","v":7.7999999999999999E-5},{"$f":"'[15]3'!W99","v":0},{"$f":"'[15]3'!X99","v":0},{"$f":"'[15]3'!Y99","v":1.0000000000000001E-5},2.0393999999999997,0.112,0,0,941.95,6.8000000000000005E-3,2.98,2.1581999999999999,944.93000000000006,5.9999999999999995E-4,5.0000000000000001E-4,5.9999999999999995E-4,5.9999999999999995E-4,5.0000000000000001E-4,1.0000000000000001E-5,1.8029999999999999,0.2,0,0,876.97,8.0000000000000002E-3,3.5,2.0110000000000001,880.47,{"$f":"'[15]3'!AX99","v":5.9999999999999995E-4},{"$f":"'[15]3'!AY99","v":5.0000000000000001E-4},{"$f":"'[15]3'!AZ99","v":7.7999999999999999E-5},{"$f":"'[15]3'!BA99","v":0},{"$f":"'[15]3'!BB99","v":0},{"$f":"'[15]3'!BC99","v":1.0000000000000001E-5},1.9115999999999997,0.18049999999999999,0,0,915.98,6.8400000000000006E-3,2.99,2.0989399999999998,918.97,{"$f":"'[15]3'!BM99","v":5.9999999999999995E-4},{"$f":"'[15]3'!BN99","v":5.0000000000000001E-4},{"$f":"'[15]3'!BO99","v":7.7999999999999999E-5},{"$f":"'[15]3'!BP99","v":0},{"$f":"'[15]3'!BQ99","v":0},{"$f":"'[15]3'!BR99","v":1.0000000000000001E-5},1.3379999999999999,0.14100000000000001,0,0,647.54999999999995,6.2700000000000004E-3,2.75,1.4852699999999999,650.29999999999995,{"$f":"'[15]3'!CB99","v":5.9999999999999995E-4},{"$f":"'[15]3'!CC99","v":5.0000000000000001E-4},{"$f":"'[15]3'!CD99","v":7.7999999999999999E-5},{"$f":"'[15]3'!CE99","v":0},{"$f":"'[15]3'!CF99","v":0},{"$f":"'[15]3'!CG99","v":1.0000000000000001E-5},0.98339999999999994,0.129,0,0,487.04,6.0800000000000003E-3,2.66,1.1184800000000001,489.70000000000005,{"$f":"'[15]3'!CQ99","v":5.9999999999999995E-4},{"$f":"'[15]3'!CR99","v":5.0000000000000001E-4},{"$f":"'[15]3'!CS99","v":7.7999999999999999E-5},{"$f":"'[15]3'!CT99","v":0},{"$f":"'[15]3'!CU99","v":0},{"$f":"'[15]3'!CV99","v":1.0000000000000001E-5},2.7719999999999998,0.42699999999999999,0,0,1400.62,4.9400000000000008E-3,2.16,3.2039399999999998,1402.78,{"$f":"'[15]3'!DF99","v":5.9999999999999995E-4},{"$f":"'[15]3'!DG99","v":5.0000000000000001E-4},{"$f":"'[15]3'!DH99","v":7.7999999999999999E-5},{"$f":"'[15]3'!DI99","v":0},{"$f":"'[15]3'!DJ99","v":0},{"$f":"'[15]3'!DK99","v":1.0000000000000001E-5},0.86399999999999988,0.19950000000000001,0,0,465.63,5.4600000000000004E-3,2.39,1.0689599999999999,468.02,{"$f":"'[15]3'!DU99","v":5.9999999999999995E-4},{"$f":"'[15]3'!DV99","v":5.0000000000000001E-4},{"$f":"'[15]3'!DW99","v":7.7999999999999999E-5},{"$f":"'[15]3'!DX99","v":0},{"$f":"'[15]3'!DY99","v":0},{"$f":"'[15]3'!DZ99","v":1.0000000000000001E-5},1.3128,0.24,0,0,679.86,5.5100000000000001E-3,2.41,1.5583099999999999,682.27,{"$f":"'[15]3'!EJ99","v":5.9999999999999995E-4},{"$f":"'[15]3'!EK99","v":5.0000000000000001E-4},{"$f":"'[15]3'!EL99","v":7.7999999999999999E-5},{"$f":"'[15]3'!EM99","v":0},{"$f":"'[15]3'!EN99","v":0},{"$f":"'[15]3'!EO99","v":1.0000000000000001E-5},1.8311999999999999,0.255,0,0,913.4,7.2000000000000007E-3,3.15,2.0933999999999999,916.55,{"$f":"'[15]3'!EY99","v":5.9999999999999995E-4},{"$f":"'[15]3'!EZ99","v":5.0000000000000001E-4},{"$f":"'[15]3'!FA99","v":7.7999999999999999E-5},{"$f":"'[15]3'!FB99","v":0},{"$f":"'[15]3'!FC99","v":0},{"$f":"'[15]3'!FD99","v":1.0000000000000001E-5},1.9667999999999999,0.2485,0,0,969.92,8.5500000000000003E-3,3.74,2.2238500000000001,973.66,{"$f":"'[15]3'!FN99","v":5.9999999999999995E-4},{"$f":"'[15]3'!FO99","v":5.0000000000000001E-4},{"$f":"'[15]3'!FP99","v":7.7999999999999999E-5},{"$f":"'[15]3'!FQ99","v":0},{"$f":"'[15]3'!FR99","v":0},{"$f":"'[15]3'!FS99","v":1.0000000000000001E-5},2.2487999999999997,0.26400000000000001,0,0,1100.18,9.0000000000000011E-3,3.94,2.5217999999999994,1104.1200000000001,10.82389,4739.01,12.670259999999999,5547.4,23.494149999999998,10286.41,9,23.125499999999995,10125.020000000002,0.36865000000000236,161.3899999999976]
[86,"Соль","кг",{"$f":"[15]цены!E94","v":22.33},{"$f":"'[15]3'!E100","v":7.0000000000000001E-3},{"$f":"'[15]3'!F100","v":5.0000000000000001E-3},{"$f":"'[15]3'!G100","v":9.1E-4},{"$f":"'[15]3'!H100","v":0},{"$f":"'[15]3'!I100","v":0},{"$f":"'[15]3'!J100","v":0.01},17.395,1.67,0,0,425.72,5.88,131.30000000000001,24.944999999999997,557.02,{"$f":"'[15]3'!T100","v":7.0000000000000001E-3},{"$f":"'[15]3'!U100","v":5.0000000000000001E-3},{"$f":"'[15]3'!V100","v":9.1E-4},{"$f":"'[15]3'!W100","v":0},{"$f":"'[15]3'!X100","v":0},{"$f":"'[15]3'!Y100","v":0.01},23.792999999999999,1.1200000000000001,0,0,556.30999999999995,6.8,151.84,31.713000000000001,708.15,7.0000000000000001E-3,5.0000000000000001E-3,8.0000000000000002E-3,7.0000000000000001E-3,6.0000000000000001E-3,0.01,21.035,2,0,0,514.37,8,178.64,31.035,693.01,{"$f":"'[15]3'!AX100","v":7.0000000000000001E-3},{"$f":"'[15]3'!AY100","v":5.0000000000000001E-3},{"$f":"'[15]3'!AZ100","v":9.1E-4},{"$f":"'[15]3'!BA100","v":0},{"$f":"'[15]3'!BB100","v":0},{"$f":"'[15]3'!BC100","v":0.01},22.302,1.8049999999999999,0,0,538.30999999999995,6.84,152.74,30.946999999999999,691.05,{"$f":"'[15]3'!BM100","v":7.0000000000000001E-3},{"$f":"'[15]3'!BN100","v":5.0000000000000001E-3},{"$f":"'[15]3'!BO100","v":9.1E-4},{"$f":"'[15]3'!BP100","v":0},{"$f":"'[15]3'!BQ100","v":0},{"$f":"'[15]3'!BR100","v":0.01},15.610000000000001,1.41,0,0,380.06,6.2700000000000005,140.01,23.29,520.06999999999994,{"$f":"'[15]3'!CB100","v":7.0000000000000001E-3},{"$f":"'[15]3'!CC100","v":5.0000000000000001E-3},{"$f":"'[15]3'!CD100","v":9.1E-4},{"$f":"'[15]3'!CE100","v":0},{"$f":"'[15]3'!CF100","v":0},{"$f":"'[15]3'!CG100","v":0.01},11.473000000000001,1.29,0,0,285,6.08,135.77000000000001,18.843000000000004,420.77,{"$f":"'[15]3'!CQ100","v":7.0000000000000001E-3},{"$f":"'[15]3'!CR100","v":5.0000000000000001E-3},{"$f":"'[15]3'!CS100","v":9.1E-4},{"$f":"'[15]3'!CT100","v":0},{"$f":"'[15]3'!CU100","v":0},{"$f":"'[15]3'!CV100","v":0.01},32.340000000000003,4.2700000000000005,0,0,817.5,4.9400000000000004,110.31,41.550000000000004,927.81,{"$f":"'[15]3'!DF100","v":7.0000000000000001E-3},{"$f":"'[15]3'!DG100","v":5.0000000000000001E-3},{"$f":"'[15]3'!DH100","v":9.1E-4},{"$f":"'[15]3'!DI100","v":0},{"$f":"'[15]3'!DJ100","v":0},{"$f":"'[15]3'!DK100","v":0.01},10.08,1.9950000000000001,0,0,269.63,5.46,121.92,17.535,391.55,{"$f":"'[15]3'!DU100","v":7.0000000000000001E-3},{"$f":"'[15]3'!DV100","v":5.0000000000000001E-3},{"$f":"'[15]3'!DW100","v":9.1E-4},{"$f":"'[15]3'!DX100","v":0},{"$f":"'[15]3'!DY100","v":0},{"$f":"'[15]3'!DZ100","v":0.01},15.316000000000001,2.4,0,0,395.6,5.51,123.04,23.225999999999999,518.64,{"$f":"'[15]3'!EJ100","v":7.0000000000000001E-3},{"$f":"'[15]3'!EK100","v":5.0000000000000001E-3},{"$f":"'[15]3'!EL100","v":9.1E-4},{"$f":"'[15]3'!EM100","v":0},{"$f":"'[15]3'!EN100","v":0},{"$f":"'[15]3'!EO100","v":0.01},21.364000000000001,2.5500000000000003,0,0,534,7.2,160.78,31.114000000000001,694.78,{"$f":"'[15]3'!EY100","v":7.0000000000000001E-3},{"$f":"'[15]3'!EZ100","v":5.0000000000000001E-3},{"$f":"'[15]3'!FA100","v":9.1E-4},{"$f":"'[15]3'!FB100","v":0},{"$f":"'[15]3'!FC100","v":0},{"$f":"'[15]3'!FD100","v":0.01},22.946000000000002,2.4849999999999999,0,0,567.87,8.5500000000000007,190.92,33.981000000000002,758.79,{"$f":"'[15]3'!FN100","v":7.0000000000000001E-3},{"$f":"'[15]3'!FO100","v":5.0000000000000001E-3},{"$f":"'[15]3'!FP100","v":9.1E-4},{"$f":"'[15]3'!FQ100","v":0},{"$f":"'[15]3'!FR100","v":0},{"$f":"'[15]3'!FS100","v":0.01},26.236000000000001,2.64,0,0,644.79999999999995,9,200.97,37.876000000000005,845.77,160.77300000000002,3590.07,185.28200000000001,4137.34,346.05500000000006,7727.41,9,265.52500000000015,5929.1699999999983,80.529999999999916,1798.2400000000016]
[87,"Дрожжи","кг",{"$f":"[15]цены!E95","v":236.67},{"$f":"'[15]3'!E101","v":5.0000000000000001E-4},{"$f":"'[15]3'!F101","v":4.0000000000000002E-4},{"$f":"'[15]3'!G101","v":6.5000000000000008E-5},{"$f":"'[15]3'!H101","v":0},{"$f":"'[15]3'!I101","v":0},{"$f":"'[15]3'!J101","v":0},1.2424999999999999,0.1336,0,0,325.68,0,0,1.3760999999999999,325.68,{"$f":"'[15]3'!T101","v":5.0000000000000001E-4},{"$f":"'[15]3'!U101","v":4.0000000000000002E-4},{"$f":"'[15]3'!V101","v":6.5000000000000008E-5},{"$f":"'[15]3'!W101","v":0},{"$f":"'[15]3'!X101","v":0},{"$f":"'[15]3'!Y101","v":1E-4},1.6995,8.9599999999999999E-2,0,0,423.43,6.8000000000000005E-2,16.09,1.8571,439.52,5.0000000000000001E-4,4.0000000000000002E-4,5.0000000000000001E-4,1E-3,5.0000000000000001E-4,1E-4,1.5024999999999999,0.16,0,0,393.46,0.08,18.93,1.7424999999999999,412.39,{"$f":"'[15]3'!AX101","v":5.0000000000000001E-4},{"$f":"'[15]3'!AY101","v":4.0000000000000002E-4},{"$f":"'[15]3'!AZ101","v":6.5000000000000008E-5},{"$f":"'[15]3'!BA101","v":0},{"$f":"'[15]3'!BB101","v":0},{"$f":"'[15]3'!BC101","v":1E-4},1.593,0.1444,0,0,411.19,6.8400000000000002E-2,16.190000000000001,1.8058000000000001,427.38,{"$f":"'[15]3'!BM101","v":5.0000000000000001E-4},{"$f":"'[15]3'!BN101","v":4.0000000000000002E-4},{"$f":"'[15]3'!BO101","v":6.5000000000000008E-5},{"$f":"'[15]3'!BP101","v":0},{"$f":"'[15]3'!BQ101","v":0},{"$f":"'[15]3'!BR101","v":1E-4},1.115,0.11280000000000001,0,0,290.58,6.2700000000000006E-2,14.84,1.2905,305.41999999999996,{"$f":"'[15]3'!CB101","v":5.0000000000000001E-4},{"$f":"'[15]3'!CC101","v":4.0000000000000002E-4},{"$f":"'[15]3'!CD101","v":6.5000000000000008E-5},{"$f":"'[15]3'!CE101","v":0},{"$f":"'[15]3'!CF101","v":0},{"$f":"'[15]3'!CG101","v":1E-4},0.81950000000000001,0.1032,0,0,218.38,6.08E-2,14.39,0.98349999999999993,232.76999999999998,{"$f":"'[15]3'!CQ101","v":5.0000000000000001E-4},{"$f":"'[15]3'!CR101","v":4.0000000000000002E-4},{"$f":"'[15]3'!CS101","v":6.5000000000000008E-5},{"$f":"'[15]3'!CT101","v":0},{"$f":"'[15]3'!CU101","v":0},{"$f":"'[15]3'!CV101","v":1E-4},2.31,0.34160000000000001,0,0,627.54999999999995,4.9399999999999999E-2,11.69,2.7010000000000001,639.24,{"$f":"'[15]3'!DF101","v":5.0000000000000001E-4},{"$f":"'[15]3'!DG101","v":4.0000000000000002E-4},{"$f":"'[15]3'!DH101","v":6.5000000000000008E-5},{"$f":"'[15]3'!DI101","v":0},{"$f":"'[15]3'!DJ101","v":0},{"$f":"'[15]3'!DK101","v":1E-4},0.72,0.15960000000000002,0,0,208.17,5.4600000000000003E-2,12.92,0.93419999999999992,221.08999999999997,{"$f":"'[15]3'!DU101","v":5.0000000000000001E-4},{"$f":"'[15]3'!DV101","v":4.0000000000000002E-4},{"$f":"'[15]3'!DW101","v":6.5000000000000008E-5},{"$f":"'[15]3'!DX101","v":0},{"$f":"'[15]3'!DY101","v":0},{"$f":"'[15]3'!DZ101","v":1E-4},1.0940000000000001,0.192,0,0,304.36,5.5100000000000003E-2,13.04,1.3411,317.40000000000003,{"$f":"'[15]3'!EJ101","v":5.0000000000000001E-4},{"$f":"'[15]3'!EK101","v":4.0000000000000002E-4},{"$f":"'[15]3'!EL101","v":6.5000000000000008E-5},{"$f":"'[15]3'!EM101","v":0},{"$f":"'[15]3'!EN101","v":0},{"$f":"'[15]3'!EO101","v":1E-4},1.526,0.20400000000000001,0,0,409.44,7.2000000000000008E-2,17.04,1.802,426.48,{"$f":"'[15]3'!EY101","v":5.0000000000000001E-4},{"$f":"'[15]3'!EZ101","v":4.0000000000000002E-4},{"$f":"'[15]3'!FA101","v":6.5000000000000008E-5},{"$f":"'[15]3'!FB101","v":0},{"$f":"'[15]3'!FC101","v":0},{"$f":"'[15]3'!FD101","v":1E-4},1.639,0.1988,0,0,434.95,8.5500000000000007E-2,20.239999999999998,1.9233,455.19,{"$f":"'[15]3'!FN101","v":5.0000000000000001E-4},{"$f":"'[15]3'!FO101","v":4.0000000000000002E-4},{"$f":"'[15]3'!FP101","v":6.5000000000000008E-5},{"$f":"'[15]3'!FQ101","v":0},{"$f":"'[15]3'!FR101","v":0},{"$f":"'[15]3'!FS101","v":1E-4},1.8740000000000001,0.2112,0,0,493.5,9.0000000000000011E-2,21.3,2.1751999999999998,514.79999999999995,9.0554999999999986,2143.1600000000003,10.876799999999999,2574.1999999999998,19.932299999999998,4717.3600000000006,9,19.1858,4540.6900000000005,0.7464999999999975,176.67000000000007]
[88,"Лавровый лист","кг",{"$f":"[15]цены!E96","v":1076.33},{"$f":"'[15]3'!E102","v":2.0000000000000002E-5},{"$f":"'[15]3'!F102","v":2.0000000000000002E-5},{"$f":"'[15]3'!G102","v":0},{"$f":"'[15]3'!H102","v":0},{"$f":"'[15]3'!I102","v":0},{"$f":"'[15]3'!J102","v":0},4.9700000000000001E-2,6.6800000000000002E-3,0,0,60.68,0,0,5.638E-2,60.68,{"$f":"'[15]3'!T102","v":2.0000000000000002E-5},{"$f":"'[15]3'!U102","v":2.0000000000000002E-5},{"$f":"'[15]3'!V102","v":0},{"$f":"'[15]3'!W102","v":0},{"$f":"'[15]3'!X102","v":0},{"$f":"'[15]3'!Y102","v":0},6.7979999999999999E-2,4.4800000000000005E-3,0,0,77.989999999999995,0,0,7.2459999999999997E-2,77.989999999999995,2.0000000000000002E-5,2.0000000000000002E-5,2.0000000000000002E-5,2.0000000000000002E-5,2.0000000000000002E-5,null,6.0100000000000008E-2,8.0000000000000002E-3,0,0,73.3,0,0,6.8100000000000008E-2,73.3,{"$f":"'[15]3'!AX102","v":2.0000000000000002E-5},{"$f":"'[15]3'!AY102","v":2.0000000000000002E-5},{"$f":"'[15]3'!AZ102","v":0},{"$f":"'[15]3'!BA102","v":0},{"$f":"'[15]3'!BB102","v":0},{"$f":"'[15]3'!BC102","v":0},6.3719999999999999E-2,7.2200000000000007E-3,0,0,76.349999999999994,0,0,7.0940000000000003E-2,76.349999999999994,{"$f":"'[15]3'!BM102","v":2.0000000000000002E-5},{"$f":"'[15]3'!BN102","v":2.0000000000000002E-5},{"$f":"'[15]3'!BO102","v":0},{"$f":"'[15]3'!BP102","v":0},{"$f":"'[15]3'!BQ102","v":0},{"$f":"'[15]3'!BR102","v":0},4.4600000000000001E-2,5.64E-3,0,0,54.07,0,0,5.024E-2,54.07,{"$f":"'[15]3'!CB102","v":2.0000000000000002E-5},{"$f":"'[15]3'!CC102","v":2.0000000000000002E-5},{"$f":"'[15]3'!CD102","v":0},{"$f":"'[15]3'!CE102","v":0},{"$f":"'[15]3'!CF102","v":0},{"$f":"'[15]3'!CG102","v":0},3.2780000000000004E-2,5.1600000000000005E-3,0,0,40.840000000000003,0,0,3.7940000000000002E-2,40.840000000000003,{"$f":"'[15]3'!CQ102","v":2.0000000000000002E-5},{"$f":"'[15]3'!CR102","v":2.0000000000000002E-5},{"$f":"'[15]3'!CS102","v":0},{"$f":"'[15]3'!CT102","v":0},{"$f":"'[15]3'!CU102","v":0},{"$f":"'[15]3'!CV102","v":0},9.240000000000001E-2,1.7080000000000001E-2,0,0,117.84,0,0,0.10948000000000001,117.84,{"$f":"'[15]3'!DF102","v":2.0000000000000002E-5},{"$f":"'[15]3'!DG102","v":2.0000000000000002E-5},{"$f":"'[15]3'!DH102","v":0},{"$f":"'[15]3'!DI102","v":0},{"$f":"'[15]3'!DJ102","v":0},{"$f":"'[15]3'!DK102","v":0},2.8800000000000003E-2,7.980000000000001E-3,0,0,39.590000000000003,0,0,3.6780000000000007E-2,39.590000000000003,{"$f":"'[15]3'!DU102","v":2.0000000000000002E-5},{"$f":"'[15]3'!DV102","v":2.0000000000000002E-5},{"$f":"'[15]3'!DW102","v":0},{"$f":"'[15]3'!DX102","v":0},{"$f":"'[15]3'!DY102","v":0},{"$f":"'[15]3'!DZ102","v":0},4.376E-2,9.6000000000000009E-3,0,0,57.43,0,0,5.3360000000000005E-2,57.43,{"$f":"'[15]3'!EJ102","v":2.0000000000000002E-5},{"$f":"'[15]3'!EK102","v":2.0000000000000002E-5},{"$f":"'[15]3'!EL102","v":0},{"$f":"'[15]3'!EM102","v":0},{"$f":"'[15]3'!EN102","v":0},{"$f":"'[15]3'!EO102","v":0},6.1040000000000004E-2,1.0200000000000001E-2,0,0,76.680000000000007,0,0,7.1239999999999998E-2,76.680000000000007,{"$f":"'[15]3'!EY102","v":2.0000000000000002E-5},{"$f":"'[15]3'!EZ102","v":2.0000000000000002E-5},{"$f":"'[15]3'!FA102","v":0},{"$f":"'[15]3'!FB102","v":0},{"$f":"'[15]3'!FC102","v":0},{"$f":"'[15]3'!FD102","v":0},6.5560000000000007E-2,9.9400000000000009E-3,0,0,81.260000000000005,0,0,7.5500000000000012E-2,81.260000000000005,{"$f":"'[15]3'!FN102","v":2.0000000000000002E-5},{"$f":"'[15]3'!FO102","v":2.0000000000000002E-5},{"$f":"'[15]3'!FP102","v":0},{"$f":"'[15]3'!FQ102","v":0},{"$f":"'[15]3'!FR102","v":0},{"$f":"'[15]3'!FS102","v":0},7.4960000000000013E-2,1.0560000000000002E-2,0,0,92.05,0,0,8.5520000000000013E-2,92.05,0.35606000000000004,383.2299999999999,0.43188000000000004,464.85,0.78794000000000008,848.07999999999993,9,0.78794000000000008,848.07999999999993,0,0]
[89,"Уксус ","л",{"$f":"[15]цены!E97","v":51},{"$f":"'[15]3'!E103","v":4.0000000000000001E-3},{"$f":"'[15]3'!F103","v":3.0000000000000001E-3},{"$f":"'[15]3'!G103","v":0},{"$f":"'[15]3'!H103","v":0},{"$f":"'[15]3'!I103","v":0},{"$f":"'[15]3'!J103","v":0},9.94,1.002,0,0,558.04,0,0,10.942,558.04,{"$f":"'[15]3'!T103","v":4.0000000000000001E-3},{"$f":"'[15]3'!U103","v":3.0000000000000001E-3},{"$f":"'[15]3'!V103","v":0},{"$f":"'[15]3'!W103","v":0},{"$f":"'[15]3'!X103","v":0},{"$f":"'[15]3'!Y103","v":0},13.596,0.67200000000000004,0,0,727.67,0,0,14.268000000000001,727.67,4.0000000000000001E-3,3.0000000000000001E-3,4.0000000000000001E-3,4.0000000000000001E-3,3.0000000000000001E-3,null,12.02,1.2,0,0,674.22,0,0,13.219999999999999,674.22,{"$f":"'[15]3'!AX103","v":4.0000000000000001E-3},{"$f":"'[15]3'!AY103","v":3.0000000000000001E-3},{"$f":"'[15]3'!AZ103","v":0},{"$f":"'[15]3'!BA103","v":0},{"$f":"'[15]3'!BB103","v":0},{"$f":"'[15]3'!BC103","v":0},12.744,1.083,0,0,705.18,0,0,13.827,705.18,{"$f":"'[15]3'!BM103","v":4.0000000000000001E-3},{"$f":"'[15]3'!BN103","v":3.0000000000000001E-3},{"$f":"'[15]3'!BO103","v":0},{"$f":"'[15]3'!BP103","v":0},{"$f":"'[15]3'!BQ103","v":0},{"$f":"'[15]3'!BR103","v":0},8.92,0.84599999999999997,0,0,498.07,0,0,9.766,498.07,{"$f":"'[15]3'!CB103","v":4.0000000000000001E-3},{"$f":"'[15]3'!CC103","v":3.0000000000000001E-3},{"$f":"'[15]3'!CD103","v":0},{"$f":"'[15]3'!CE103","v":0},{"$f":"'[15]3'!CF103","v":0},{"$f":"'[15]3'!CG103","v":0},6.556,0.77400000000000002,0,0,373.83,0,0,7.33,373.83,{"$f":"'[15]3'!CQ103","v":4.0000000000000001E-3},{"$f":"'[15]3'!CR103","v":3.0000000000000001E-3},{"$f":"'[15]3'!CS103","v":0},{"$f":"'[15]3'!CT103","v":0},{"$f":"'[15]3'!CU103","v":0},{"$f":"'[15]3'!CV103","v":0},18.48,2.5619999999999998,0,0,1073.1400000000001,0,0,21.042000000000002,1073.1400000000001,{"$f":"'[15]3'!DF103","v":4.0000000000000001E-3},{"$f":"'[15]3'!DG103","v":3.0000000000000001E-3},{"$f":"'[15]3'!DH103","v":0},{"$f":"'[15]3'!DI103","v":0},{"$f":"'[15]3'!DJ103","v":0},{"$f":"'[15]3'!DK103","v":0},5.76,1.1970000000000001,0,0,354.81,0,0,6.9569999999999999,354.81,{"$f":"'[15]3'!DU103","v":4.0000000000000001E-3},{"$f":"'[15]3'!DV103","v":3.0000000000000001E-3},{"$f":"'[15]3'!DW103","v":0},{"$f":"'[15]3'!DX103","v":0},{"$f":"'[15]3'!DY103","v":0},{"$f":"'[15]3'!DZ103","v":0},8.7520000000000007,1.44,0,0,519.79,0,0,10.192,519.79,{"$f":"'[15]3'!EJ103","v":4.0000000000000001E-3},{"$f":"'[15]3'!EK103","v":3.0000000000000001E-3},{"$f":"'[15]3'!EL103","v":0},{"$f":"'[15]3'!EM103","v":0},{"$f":"'[15]3'!EN103","v":0},{"$f":"'[15]3'!EO103","v":0},12.208,1.53,0,0,700.64,0,0,13.738,700.64,{"$f":"'[15]3'!EY103","v":4.0000000000000001E-3},{"$f":"'[15]3'!EZ103","v":3.0000000000000001E-3},{"$f":"'[15]3'!FA103","v":0},{"$f":"'[15]3'!FB103","v":0},{"$f":"'[15]3'!FC103","v":0},{"$f":"'[15]3'!FD103","v":0},13.112,1.4910000000000001,0,0,744.75,0,0,14.603,744.75,{"$f":"'[15]3'!FN103","v":4.0000000000000001E-3},{"$f":"'[15]3'!FO103","v":3.0000000000000001E-3},{"$f":"'[15]3'!FP103","v":0},{"$f":"'[15]3'!FQ103","v":0},{"$f":"'[15]3'!FR103","v":0},{"$f":"'[15]3'!FS103","v":0},14.992000000000001,1.5840000000000001,0,0,845.38,0,0,16.576000000000001,845.38,69.352999999999994,3537.01,83.108000000000004,4238.51,152.46100000000001,7775.52,9,152.46100000000001,7775.52,0,0]
[90,"Хлеб черный","кг",{"$f":"[15]цены!E98","v":37.75},{"$f":"'[15]3'!E104","v":0.05},{"$f":"'[15]3'!F104","v":0.04},{"$f":"'[15]3'!G104","v":0},{"$f":"'[15]3'!H104","v":0},{"$f":"'[15]3'!I104","v":0},{"$f":"'[15]3'!J104","v":0.05},124.25,13.36,0,0,5194.78,29.400000000000002,1109.8499999999999,167.01000000000002,6304.6299999999992,{"$f":"'[15]3'!T104","v":0.05},{"$f":"'[15]3'!U104","v":0.04},{"$f":"'[15]3'!V104","v":0},{"$f":"'[15]3'!W104","v":0},{"$f":"'[15]3'!X104","v":0},{"$f":"'[15]3'!Y104","v":0.05},169.95000000000002,8.9600000000000009,0,0,6753.85,34,1283.5,212.91000000000003,8037.35,0.05,0.04,0.05,0.05,0.04,0.05,150.25,16,0,0,6275.94,40,1510,206.25,7785.94,{"$f":"'[15]3'!AX104","v":0.05},{"$f":"'[15]3'!AY104","v":0.04},{"$f":"'[15]3'!AZ104","v":0},{"$f":"'[15]3'!BA104","v":0},{"$f":"'[15]3'!BB104","v":0},{"$f":"'[15]3'!BC104","v":0.05},159.30000000000001,14.44,0,0,6558.69,34.200000000000003,1291.05,207.94,7849.74,{"$f":"'[15]3'!BM104","v":0.05},{"$f":"'[15]3'!BN104","v":0.04},{"$f":"'[15]3'!BO104","v":0},{"$f":"'[15]3'!BP104","v":0},{"$f":"'[15]3'!BQ104","v":0},{"$f":"'[15]3'!BR104","v":0.05},111.5,11.28,0,0,4634.95,31.35,1183.46,154.13,5818.41,{"$f":"'[15]3'!CB104","v":0.05},{"$f":"'[15]3'!CC104","v":0.04},{"$f":"'[15]3'!CD104","v":0},{"$f":"'[15]3'!CE104","v":0},{"$f":"'[15]3'!CF104","v":0},{"$f":"'[15]3'!CG104","v":0.05},81.95,10.32,0,0,3483.19,30.400000000000002,1147.5999999999999,122.67000000000002,4630.79,{"$f":"'[15]3'!CQ104","v":0.05},{"$f":"'[15]3'!CR104","v":0.04},{"$f":"'[15]3'!CS104","v":0},{"$f":"'[15]3'!CT104","v":0},{"$f":"'[15]3'!CU104","v":0},{"$f":"'[15]3'!CV104","v":0.05},231,34.160000000000004,0,0,10009.790000000001,24.700000000000003,932.43,289.86,10942.220000000001,{"$f":"'[15]3'!DF104","v":0.05},{"$f":"'[15]3'!DG104","v":0.04},{"$f":"'[15]3'!DH104","v":0},{"$f":"'[15]3'!DI104","v":0},{"$f":"'[15]3'!DJ104","v":0},{"$f":"'[15]3'!DK104","v":0.05},72,15.96,0,0,3320.49,27.3,1030.58,115.26,4351.07,{"$f":"'[15]3'!DU104","v":0.05},{"$f":"'[15]3'!DV104","v":0.04},{"$f":"'[15]3'!DW104","v":0},{"$f":"'[15]3'!DX104","v":0},{"$f":"'[15]3'!DY104","v":0},{"$f":"'[15]3'!DZ104","v":0.05},109.4,19.2,0,0,4854.6499999999996,27.55,1040.01,156.15,5894.66,{"$f":"'[15]3'!EJ104","v":0.05},{"$f":"'[15]3'!EK104","v":0.04},{"$f":"'[15]3'!EL104","v":0},{"$f":"'[15]3'!EM104","v":0},{"$f":"'[15]3'!EN104","v":0},{"$f":"'[15]3'!EO104","v":0.05},152.6,20.400000000000002,0,0,6530.75,36,1359,209,7889.75,{"$f":"'[15]3'!EY104","v":0.05},{"$f":"'[15]3'!EZ104","v":0.04},{"$f":"'[15]3'!FA104","v":0},{"$f":"'[15]3'!FB104","v":0},{"$f":"'[15]3'!FC104","v":0},{"$f":"'[15]3'!FD104","v":0.05},163.9,19.88,0,0,6937.7,42.75,1613.81,226.53,8551.51,{"$f":"'[15]3'!FN104","v":0.05},{"$f":"'[15]3'!FO104","v":0.04},{"$f":"'[15]3'!FP104","v":0},{"$f":"'[15]3'!FQ104","v":0},{"$f":"'[15]3'!FR104","v":0},{"$f":"'[15]3'!FS104","v":0.05},187.4,21.12,0,0,7871.63,45,1698.75,253.52,9570.380000000001,1070.9100000000001,40426.859999999993,1250.32,47199.59,2321.23,87626.449999999983,13,1918.5800000000002,72426.409999999974,402.64999999999986,15200.040000000008]
[91,"Хлеб белый","кг",{"$f":"[15]цены!E99","v":38.31},{"$f":"'[15]3'!E105","v":0.05},{"$f":"'[15]3'!F105","v":0.04},{"$f":"'[15]3'!G105","v":0},{"$f":"'[15]3'!H105","v":0},{"$f":"'[15]3'!I105","v":0},{"$f":"'[15]3'!J105","v":0.05},124.25,13.36,0,0,5271.84,29.400000000000002,1126.31,167.01000000000002,6398.15,{"$f":"'[15]3'!T105","v":0.05},{"$f":"'[15]3'!U105","v":0.04},{"$f":"'[15]3'!V105","v":0},{"$f":"'[15]3'!W105","v":0},{"$f":"'[15]3'!X105","v":0},{"$f":"'[15]3'!Y105","v":0.05},169.95000000000002,8.9600000000000009,0,0,6854.04,34,1302.54,212.91000000000003,8156.58,0.05,0.04,0.05,7.0000000000000007E-2,0.04,0.05,150.25,16,0,0,6369.04,40,1532.4,206.25,7901.4400000000005,{"$f":"'[15]3'!AX105","v":0.05},{"$f":"'[15]3'!AY105","v":0.04},{"$f":"'[15]3'!AZ105","v":0},{"$f":"'[15]3'!BA105","v":0},{"$f":"'[15]3'!BB105","v":0},{"$f":"'[15]3'!BC105","v":0.05},159.30000000000001,14.44,0,0,6655.98,34.200000000000003,1310.2,207.94,7966.1799999999994,{"$f":"'[15]3'!BM105","v":0.05},{"$f":"'[15]3'!BN105","v":0.04},{"$f":"'[15]3'!BO105","v":0},{"$f":"'[15]3'!BP105","v":0},{"$f":"'[15]3'!BQ105","v":0},{"$f":"'[15]3'!BR105","v":0.05},111.5,11.28,0,0,4703.7,31.35,1201.02,154.13,5904.7199999999993,{"$f":"'[15]3'!CB105","v":0.05},{"$f":"'[15]3'!CC105","v":0.04},{"$f":"'[15]3'!CD105","v":0},{"$f":"'[15]3'!CE105","v":0},{"$f":"'[15]3'!CF105","v":0},{"$f":"'[15]3'!CG105","v":0.05},81.95,10.32,0,0,3534.86,30.400000000000002,1164.6199999999999,122.67000000000002,4699.4799999999996,{"$f":"'[15]3'!CQ105","v":0.05},{"$f":"'[15]3'!CR105","v":0.04},{"$f":"'[15]3'!CS105","v":0},{"$f":"'[15]3'!CT105","v":0},{"$f":"'[15]3'!CU105","v":0},{"$f":"'[15]3'!CV105","v":0.05},231,34.160000000000004,0,0,10158.280000000001,24.700000000000003,946.26,289.86,11104.54,{"$f":"'[15]3'!DF105","v":0.05},{"$f":"'[15]3'!DG105","v":0.04},{"$f":"'[15]3'!DH105","v":0},{"$f":"'[15]3'!DI105","v":0},{"$f":"'[15]3'!DJ105","v":0},{"$f":"'[15]3'!DK105","v":0.05},72,15.96,0,0,3369.75,27.3,1045.8599999999999,115.26,4415.6099999999997,{"$f":"'[15]3'!DU105","v":0.05},{"$f":"'[15]3'!DV105","v":0.04},{"$f":"'[15]3'!DW105","v":0},{"$f":"'[15]3'!DX105","v":0},{"$f":"'[15]3'!DY105","v":0},{"$f":"'[15]3'!DZ105","v":0.05},109.4,19.2,0,0,4926.67,27.55,1055.44,156.15,5982.1100000000006,{"$f":"'[15]3'!EJ105","v":0.05},{"$f":"'[15]3'!EK105","v":0.04},{"$f":"'[15]3'!EL105","v":0},{"$f":"'[15]3'!EM105","v":0},{"$f":"'[15]3'!EN105","v":0},{"$f":"'[15]3'!EO105","v":0.05},152.6,20.400000000000002,0,0,6627.63,36,1379.16,209,8006.79,{"$f":"'[15]3'!EY105","v":0.05},{"$f":"'[15]3'!EZ105","v":0.04},{"$f":"'[15]3'!FA105","v":0},{"$f":"'[15]3'!FB105","v":0},{"$f":"'[15]3'!FC105","v":0},{"$f":"'[15]3'!FD105","v":0.05},163.9,19.88,0,0,7040.61,42.75,1637.75,226.53,8678.36,{"$f":"'[15]3'!FN105","v":0.05},{"$f":"'[15]3'!FO105","v":0.04},{"$f":"'[15]3'!FP105","v":0},{"$f":"'[15]3'!FQ105","v":0},{"$f":"'[15]3'!FR105","v":0},{"$f":"'[15]3'!FS105","v":0.05},187.4,21.12,0,0,7988.4,45,1723.95,253.52,9712.35,1070.9100000000001,41026.550000000003,1250.32,47899.76,2321.23,88926.31,13,1918.5800000000002,73500.800000000017,402.64999999999986,15425.50999999998]
[92,"Батон","кг",{"$f":"[15]цены!E100","v":63.05},{"$f":"'[15]3'!E106","v":0.03},{"$f":"'[15]3'!F106","v":0.02},{"$f":"'[15]3'!G106","v":3.8999999999999998E-3},{"$f":"'[15]3'!H106","v":0},{"$f":"'[15]3'!I106","v":0},{"$f":"'[15]3'!J106","v":0},74.55,6.68,0,0,5121.55,0,0,81.22999999999999,5121.55,{"$f":"'[15]3'!T106","v":0.03},{"$f":"'[15]3'!U106","v":0.02},{"$f":"'[15]3'!V106","v":3.8999999999999998E-3},{"$f":"'[15]3'!W106","v":0},{"$f":"'[15]3'!X106","v":0},{"$f":"'[15]3'!Y106","v":0},101.97,4.4800000000000004,0,0,6711.67,0,0,106.45,6711.67,0.03,0.02,0.03,0.03,0.02,null,90.149999999999991,8,0,0,6188.36,0,0,98.149999999999991,6188.36,{"$f":"'[15]3'!AX106","v":0.03},{"$f":"'[15]3'!AY106","v":0.02},{"$f":"'[15]3'!AZ106","v":3.8999999999999998E-3},{"$f":"'[15]3'!BA106","v":0},{"$f":"'[15]3'!BB106","v":0},{"$f":"'[15]3'!BC106","v":0},95.58,7.22,0,0,6481.54,0,0,102.8,6481.54,{"$f":"'[15]3'!BM106","v":0.03},{"$f":"'[15]3'!BN106","v":0.02},{"$f":"'[15]3'!BO106","v":3.8999999999999998E-3},{"$f":"'[15]3'!BP106","v":0},{"$f":"'[15]3'!BQ106","v":0},{"$f":"'[15]3'!BR106","v":0},66.899999999999991,5.64,0,0,4573.6499999999996,0,0,72.539999999999992,4573.6499999999996,{"$f":"'[15]3'!CB106","v":0.03},{"$f":"'[15]3'!CC106","v":0.02},{"$f":"'[15]3'!CD106","v":3.8999999999999998E-3},{"$f":"'[15]3'!CE106","v":0},{"$f":"'[15]3'!CF106","v":0},{"$f":"'[15]3'!CG106","v":0},49.17,5.16,0,0,3425.51,0,0,54.33,3425.51,{"$f":"'[15]3'!CQ106","v":0.03},{"$f":"'[15]3'!CR106","v":0.02},{"$f":"'[15]3'!CS106","v":3.8999999999999998E-3},{"$f":"'[15]3'!CT106","v":0},{"$f":"'[15]3'!CU106","v":0},{"$f":"'[15]3'!CV106","v":0},138.6,17.080000000000002,0,0,9815.6200000000008,0,0,155.68,9815.6200000000008,{"$f":"'[15]3'!DF106","v":0.03},{"$f":"'[15]3'!DG106","v":0.02},{"$f":"'[15]3'!DH106","v":3.8999999999999998E-3},{"$f":"'[15]3'!DI106","v":0},{"$f":"'[15]3'!DJ106","v":0},{"$f":"'[15]3'!DK106","v":0},43.199999999999996,7.98,0,0,3226.9,0,0,51.179999999999993,3226.9,{"$f":"'[15]3'!DU106","v":0.03},{"$f":"'[15]3'!DV106","v":0.02},{"$f":"'[15]3'!DW106","v":3.8999999999999998E-3},{"$f":"'[15]3'!DX106","v":0},{"$f":"'[15]3'!DY106","v":0},{"$f":"'[15]3'!DZ106","v":0},65.64,9.6,0,0,4743.88,0,0,75.239999999999995,4743.88,{"$f":"'[15]3'!EJ106","v":0.03},{"$f":"'[15]3'!EK106","v":0.02},{"$f":"'[15]3'!EL106","v":3.8999999999999998E-3},{"$f":"'[15]3'!EM106","v":0},{"$f":"'[15]3'!EN106","v":0},{"$f":"'[15]3'!EO106","v":0},91.56,10.200000000000001,0,0,6415.97,0,0,101.76,6415.97,{"$f":"'[15]3'!EY106","v":0.03},{"$f":"'[15]3'!EZ106","v":0.02},{"$f":"'[15]3'!FA106","v":3.8999999999999998E-3},{"$f":"'[15]3'!FB106","v":0},{"$f":"'[15]3'!FC106","v":0},{"$f":"'[15]3'!FD106","v":0},98.34,9.94,0,0,6827.05,0,0,108.28,6827.05,{"$f":"'[15]3'!FN106","v":0.03},{"$f":"'[15]3'!FO106","v":0.02},{"$f":"'[15]3'!FP106","v":3.8999999999999998E-3},{"$f":"'[15]3'!FQ106","v":0},{"$f":"'[15]3'!FR106","v":0},{"$f":"'[15]3'!FS106","v":0},112.44,10.56,0,0,7755.15,0,0,123,7755.15,515.5,32502.280000000006,615.14,38784.57,1130.6399999999999,71286.850000000006,13,1130.6399999999999,71286.850000000006,0,0]
[93,"Сухари панировочные","кг",{"$f":"[15]цены!E101","v":45.57},{"$f":"'[15]3'!E107","v":2E-3},{"$f":"'[15]3'!F107","v":1E-3},{"$f":"'[15]3'!G107","v":0},{"$f":"'[15]3'!H107","v":0},{"$f":"'[15]3'!I107","v":0},{"$f":"'[15]3'!J107","v":5.0000000000000001E-4},4.97,0.33400000000000002,0,0,241.7,0.29399999999999998,13.4,5.597999999999999,255.1,{"$f":"'[15]3'!T107","v":5.0000000000000001E-4},{"$f":"'[15]3'!U107","v":5.0000000000000001E-4},{"$f":"'[15]3'!V107","v":0},{"$f":"'[15]3'!W107","v":0},{"$f":"'[15]3'!X107","v":0},{"$f":"'[15]3'!Y107","v":5.0000000000000001E-4},1.6995,0.112,0,0,82.55,0.34,15.49,2.1515,98.039999999999992,5.0000000000000001E-4,5.0000000000000001E-4,5.0000000000000001E-4,5.0000000000000001E-4,5.0000000000000001E-4,5.0000000000000001E-4,1.5024999999999999,0.2,0,0,77.58,0.4,18.23,2.1025,95.81,{"$f":"'[15]3'!AX107","v":5.0000000000000001E-4},{"$f":"'[15]3'!AY107","v":5.0000000000000001E-4},{"$f":"'[15]3'!AZ107","v":0},{"$f":"'[15]3'!BA107","v":0},{"$f":"'[15]3'!BB107","v":0},{"$f":"'[15]3'!BC107","v":5.0000000000000001E-4},1.593,0.18049999999999999,0,0,80.819999999999993,0.34200000000000003,15.58,2.1154999999999999,96.399999999999991,{"$f":"'[15]3'!BM107","v":2E-3},{"$f":"'[15]3'!BN107","v":1E-3},{"$f":"'[15]3'!BO107","v":0},{"$f":"'[15]3'!BP107","v":0},{"$f":"'[15]3'!BQ107","v":0},{"$f":"'[15]3'!BR107","v":0},4.46,0.28200000000000003,0,0,216.09,0,0,4.742,216.09,{"$f":"'[15]3'!CB107","v":2E-3},{"$f":"'[15]3'!CC107","v":1E-3},{"$f":"'[15]3'!CD107","v":0},{"$f":"'[15]3'!CE107","v":0},{"$f":"'[15]3'!CF107","v":0},{"$f":"'[15]3'!CG107","v":0},3.278,0.25800000000000001,0,0,161.13999999999999,0,0,3.536,161.13999999999999,{"$f":"'[15]3'!CQ107","v":2E-3},{"$f":"'[15]3'!CR107","v":1E-3},{"$f":"'[15]3'!CS107","v":0},{"$f":"'[15]3'!CT107","v":0},{"$f":"'[15]3'!CU107","v":0},{"$f":"'[15]3'!CV107","v":0},9.24,0.85399999999999998,0,0,459.98,0,0,10.093999999999999,459.98,{"$f":"'[15]3'!DF107","v":2E-3},{"$f":"'[15]3'!DG107","v":1E-3},{"$f":"'[15]3'!DH107","v":0},{"$f":"'[15]3'!DI107","v":0},{"$f":"'[15]3'!DJ107","v":0},{"$f":"'[15]3'!DK107","v":0},2.88,0.39900000000000002,0,0,149.41999999999999,0,0,3.2789999999999999,149.41999999999999,{"$f":"'[15]3'!DU107","v":5.0000000000000001E-4},{"$f":"'[15]3'!DV107","v":5.0000000000000001E-4},{"$f":"'[15]3'!DW107","v":0},{"$f":"'[15]3'!DX107","v":0},{"$f":"'[15]3'!DY107","v":0},{"$f":"'[15]3'!DZ107","v":5.0000000000000001E-4},1.0940000000000001,0.24,0,0,60.79,0.27550000000000002,12.55,1.6095000000000002,73.34,{"$f":"'[15]3'!EJ107","v":5.0000000000000001E-4},{"$f":"'[15]3'!EK107","v":5.0000000000000001E-4},{"$f":"'[15]3'!EL107","v":0},{"$f":"'[15]3'!EM107","v":0},{"$f":"'[15]3'!EN107","v":0},{"$f":"'[15]3'!EO107","v":5.0000000000000001E-4},1.526,0.255,0,0,81.16,0.36,16.41,2.141,97.57,{"$f":"'[15]3'!EY107","v":5.0000000000000001E-4},{"$f":"'[15]3'!EZ107","v":5.0000000000000001E-4},{"$f":"'[15]3'!FA107","v":0},{"$f":"'[15]3'!FB107","v":0},{"$f":"'[15]3'!FC107","v":0},{"$f":"'[15]3'!FD107","v":5.0000000000000001E-4},1.639,0.2485,0,0,86.01,0.42749999999999999,19.48,2.3149999999999999,105.49000000000001,{"$f":"'[15]3'!FN107","v":5.0000000000000001E-4},{"$f":"'[15]3'!FO107","v":5.0000000000000001E-4},{"$f":"'[15]3'!FP107","v":0},{"$f":"'[15]3'!FQ107","v":0},{"$f":"'[15]3'!FR107","v":0},{"$f":"'[15]3'!FS107","v":5.0000000000000001E-4},1.8740000000000001,0.26400000000000001,0,0,97.43,0.45,20.51,2.5880000000000001,117.94000000000001,20.245500000000003,922.58,22.026500000000002,1003.74,42.272000000000006,1926.3200000000002,13,39.383000000000003,1794.67,2.8890000000000029,131.65000000000009]
[94,"Молоко в тетрапакетах (декабрь, январь, февраль, май)","л",{"$f":"[15]цены!E102","v":87.1},{"$f":"'[15]3'!E108","v":0.02},{"$f":"'[15]3'!F108","v":0.02},{"$f":"'[15]3'!G108","v":2.6000000000000003E-3},{"$f":"'[15]3'!H108","v":0},{"$f":"'[15]3'!I108","v":0},{"$f":"'[15]3'!J108","v":1E-3},49.7,6.68,0,0,4910.7,0.58799999999999997,51.21,56.968000000000004,4961.91,{"$f":"'[15]3'!T108","v":0.02},{"$f":"'[15]3'!U108","v":0.02},{"$f":"'[15]3'!V108","v":2.6000000000000003E-3},{"$f":"'[15]3'!W108","v":0},{"$f":"'[15]3'!X108","v":0},{"$f":"'[15]3'!Y108","v":1E-3},67.98,4.4800000000000004,0,0,6311.27,0.68,59.23,73.140000000000015,6370.5,null,null,null,null,null,null,0,0,0,0,0,0,0,0,0,{"$f":"'[15]3'!AX108","v":0},{"$f":"'[15]3'!AY108","v":0},{"$f":"'[15]3'!AZ108","v":2.6000000000000003E-3},{"$f":"'[15]3'!BA108","v":0},{"$f":"'[15]3'!BB108","v":0},{"$f":"'[15]3'!BC108","v":0},0,0,0,0,0,0,0,0,0,{"$f":"'[15]3'!BM108","v":0.02},{"$f":"'[15]3'!BN108","v":0.01},{"$f":"'[15]3'!BO108","v":2.6000000000000003E-3},{"$f":"'[15]3'!BP108","v":0},{"$f":"'[15]3'!BQ108","v":0},{"$f":"'[15]3'!BR108","v":1E-3},44.6,2.82,0,0,4130.28,0.627,54.61,48.047000000000004,4184.8899999999994,{"$f":"'[15]3'!CB108","v":0},{"$f":"'[15]3'!CC108","v":0},{"$f":"'[15]3'!CD108","v":2.6000000000000003E-3},{"$f":"'[15]3'!CE108","v":0},{"$f":"'[15]3'!CF108","v":0},{"$f":"'[15]3'!CG108","v":0},0,0,0,0,0,0,0,0,0,{"$f":"'[15]3'!CQ108","v":0},{"$f":"'[15]3'!CR108","v":0},{"$f":"'[15]3'!CS108","v":2.6000000000000003E-3},{"$f":"'[15]3'!CT108","v":0},{"$f":"'[15]3'!CU108","v":0},{"$f":"'[15]3'!CV108","v":0},0,0,0,0,0,0,0,0,0,{"$f":"'[15]3'!DF108","v":0},{"$f":"'[15]3'!DG108","v":0},{"$f":"'[15]3'!DH108","v":2.6000000000000003E-3},{"$f":"'[15]3'!DI108","v":0},{"$f":"'[15]3'!DJ108","v":0},{"$f":"'[15]3'!DK108","v":0},0,0,0,0,0,0,0,0,0,{"$f":"'[15]3'!DU108","v":0},{"$f":"'[15]3'!DV108","v":0},{"$f":"'[15]3'!DW108","v":2.6000000000000003E-3},{"$f":"'[15]3'!DX108","v":0},{"$f":"'[15]3'!DY108","v":0},{"$f":"'[15]3'!DZ108","v":0},0,0,0,0,0,0,0,0,0,{"$f":"'[15]3'!EJ108","v":0},{"$f":"'[15]3'!EK108","v":0},{"$f":"'[15]3'!EL108","v":2.6000000000000003E-3},{"$f":"'[15]3'!EM108","v":0},{"$f":"'[15]3'!EN108","v":0},{"$f":"'[15]3'!EO108","v":0},0,0,0,0,0,0,0,0,0,{"$f":"'[15]3'!EY108","v":0},{"$f":"'[15]3'!EZ108","v":0},{"$f":"'[15]3'!FA108","v":2.6000000000000003E-3},{"$f":"'[15]3'!FB108","v":0},{"$f":"'[15]3'!FC108","v":0},{"$f":"'[15]3'!FD108","v":0},0,0,0,0,0,0,0,0,0,{"$f":"'[15]3'!FN108","v":0.02},{"$f":"'[15]3'!FO108","v":0.02},{"$f":"'[15]3'!FP108","v":2.6000000000000003E-3},{"$f":"'[15]3'!FQ108","v":0},{"$f":"'[15]3'!FR108","v":0},{"$f":"'[15]3'!FS108","v":1E-3},74.960000000000008,10.56,0,0,7448.79,0.9,78.39,86.420000000000016,7527.18,178.155,15517.3,86.420000000000016,7527.18,264.57500000000005,23044.48,10,261.78000000000003,22801.040000000001,2.7950000000000159,243.43999999999869]
[95,"Молоко йодированное","л",{"$f":"[15]цены!E103","v":50.49},{"$f":"'[15]3'!E109","v":0.34},{"$f":"'[15]3'!F109","v":0.3},{"$f":"'[15]3'!G109","v":4.4200000000000003E-2},{"$f":"'[15]3'!H109","v":0},{"$f":"'[15]3'!I109","v":0},{"$f":"'[15]3'!J109","v":1E-3},844.90000000000009,100.2,0,0,47718.1,0.58799999999999997,29.69,945.6880000000001,47747.79,{"$f":"'[15]3'!T109","v":0.34},{"$f":"'[15]3'!U109","v":0.3},{"$f":"'[15]3'!V109","v":4.4200000000000003E-2},{"$f":"'[15]3'!W109","v":0},{"$f":"'[15]3'!X109","v":0},{"$f":"'[15]3'!Y109","v":1E-3},1155.6600000000001,67.2,0,0,61742.2,0.68,34.33,1223.5400000000002,61776.53,0.36,0.32,0.36,0.41,0.41,1E-3,1081.8,128,0,0,61082.8,0.8,40.39,1210.5999999999999,61123.19,{"$f":"'[15]3'!AX109","v":0.36},{"$f":"'[15]3'!AY109","v":0.32},{"$f":"'[15]3'!AZ109","v":4.4200000000000003E-2},{"$f":"'[15]3'!BA109","v":0},{"$f":"'[15]3'!BB109","v":0},{"$f":"'[15]3'!BC109","v":1E-3},1146.96,115.52,0,0,63742.62,0.68400000000000005,34.54,1263.164,63777.16,{"$f":"'[15]3'!BM109","v":0.34},{"$f":"'[15]3'!BN109","v":0.3},{"$f":"'[15]3'!BO109","v":4.4200000000000003E-2},{"$f":"'[15]3'!BP109","v":0},{"$f":"'[15]3'!BQ109","v":0},{"$f":"'[15]3'!BR109","v":1E-3},758.2,84.6,0,0,42552.97,0.627,31.66,843.42700000000002,42584.630000000005,{"$f":"'[15]3'!CB109","v":0.36},{"$f":"'[15]3'!CC109","v":0.31},{"$f":"'[15]3'!CD109","v":4.4200000000000003E-2},{"$f":"'[15]3'!CE109","v":0},{"$f":"'[15]3'!CF109","v":0},{"$f":"'[15]3'!CG109","v":1E-3},590.04,79.98,0,0,33829.31,0.60799999999999998,30.7,670.62799999999993,33860.009999999995,{"$f":"'[15]3'!CQ109","v":0.36},{"$f":"'[15]3'!CR109","v":0.31},{"$f":"'[15]3'!CS109","v":4.4200000000000003E-2},{"$f":"'[15]3'!CT109","v":0},{"$f":"'[15]3'!CU109","v":0},{"$f":"'[15]3'!CV109","v":1E-3},1663.2,264.74,0,0,97341.69,0.49399999999999999,24.94,1928.434,97366.63,{"$f":"'[15]3'!DF109","v":0.36},{"$f":"'[15]3'!DG109","v":0.31},{"$f":"'[15]3'!DH109","v":4.4200000000000003E-2},{"$f":"'[15]3'!DI109","v":0},{"$f":"'[15]3'!DJ109","v":0},{"$f":"'[15]3'!DK109","v":1E-3},518.4,123.69,0,0,32419.119999999999,0.54600000000000004,27.57,642.63599999999997,32446.69,{"$f":"'[15]3'!DU109","v":0.36},{"$f":"'[15]3'!DV109","v":0.32},{"$f":"'[15]3'!DW109","v":4.4200000000000003E-2},{"$f":"'[15]3'!DX109","v":0},{"$f":"'[15]3'!DY109","v":0},{"$f":"'[15]3'!DZ109","v":1E-3},787.68,153.6,0,0,47525.23,0.55100000000000005,27.82,941.83100000000002,47553.05,{"$f":"'[15]3'!EJ109","v":0.36},{"$f":"'[15]3'!EK109","v":0.32},{"$f":"'[15]3'!EL109","v":4.4200000000000003E-2},{"$f":"'[15]3'!EM109","v":0},{"$f":"'[15]3'!EN109","v":0},{"$f":"'[15]3'!EO109","v":1E-3},1098.72,163.20000000000002,0,0,63714.34,0.72,36.35,1262.6400000000001,63750.689999999995,{"$f":"'[15]3'!EY109","v":0.36},{"$f":"'[15]3'!EZ109","v":0.32},{"$f":"'[15]3'!FA109","v":4.4200000000000003E-2},{"$f":"'[15]3'!FB109","v":0},{"$f":"'[15]3'!FC109","v":0},{"$f":"'[15]3'!FD109","v":1E-3},1180.08,159.04,0,0,67612.17,0.85499999999999998,43.17,1339.9749999999999,67655.34,{"$f":"'[15]3'!FN109","v":0.34},{"$f":"'[15]3'!FO109","v":0.3},{"$f":"'[15]3'!FP109","v":4.4200000000000003E-2},{"$f":"'[15]3'!FQ109","v":0},{"$f":"'[15]3'!FR109","v":0},{"$f":"'[15]3'!FS109","v":1E-3},1274.3200000000002,158.4,0,0,72338.03,0.9,45.44,1433.6200000000003,72383.47,6157.0469999999996,310869.31000000006,7549.1360000000004,381155.87,13706.183000000001,692025.18,14,13698.130000000003,691618.58000000031,8.0529999999980646,406.59999999974389]
[96,"Кефир ","л",{"$f":"[15]цены!E104","v":67.099999999999994},{"$f":"'[15]3'!E110","v":0.08},{"$f":"'[15]3'!F110","v":0.06},{"$f":"'[15]3'!G110","v":1.0400000000000001E-2},{"$f":"'[15]3'!H110","v":0},{"$f":"'[15]3'!I110","v":0},{"$f":"'[15]3'!J110","v":0},198.8,20.04,0,0,{"$f":"ROUND(SUM((K110+L110+M110+N110)*D110),2)","v":14684.16},0,{"$f":"ROUND(SUM(P110*D110),2)","v":0},218.84,14684.16,{"$f":"'[15]3'!T110","v":0.08},{"$f":"'[15]3'!U110","v":0.06},{"$f":"'[15]3'!V110","v":1.0400000000000001E-2},{"$f":"'[15]3'!W110","v":0},{"$f":"'[15]3'!X110","v":0},{"$f":"'[15]3'!Y110","v":0},271.92,13.44,0,0,19147.66,0,0,285.36,19147.66,0.08,0.06,0.08,0.08,0.08,null,240.4,24,0,0,17741.240000000002,0,0,264.39999999999998,17741.240000000002,{"$f":"'[15]3'!AX110","v":0.08},{"$f":"'[15]3'!AY110","v":0.06},{"$f":"'[15]3'!AZ110","v":1.0400000000000001E-2},{"$f":"'[15]3'!BA110","v":0},{"$f":"'[15]3'!BB110","v":0},{"$f":"'[15]3'!BC110","v":0},254.88,21.66,0,0,18555.830000000002,0,0,276.54000000000002,18555.830000000002,{"$f":"'[15]3'!BM110","v":0.04},{"$f":"'[15]3'!BN110","v":0.03},{"$f":"'[15]3'!BO110","v":1.0400000000000001E-2},{"$f":"'[15]3'!BP110","v":0},{"$f":"'[15]3'!BQ110","v":0},{"$f":"'[15]3'!BR110","v":0},89.2,8.4599999999999991,0,0,6552.99,0,0,97.66,6552.99,{"$f":"'[15]3'!CB110","v":0.04},{"$f":"'[15]3'!CC110","v":0.03},{"$f":"'[15]3'!CD110","v":1.0400000000000001E-2},{"$f":"'[15]3'!CE110","v":0},{"$f":"'[15]3'!CF110","v":0},{"$f":"'[15]3'!CG110","v":0},65.56,7.7399999999999993,0,0,4918.43,0,0,73.3,4918.43,{"$f":"'[15]3'!CQ110","v":0.04},{"$f":"'[15]3'!CR110","v":0.03},{"$f":"'[15]3'!CS110","v":1.0400000000000001E-2},{"$f":"'[15]3'!CT110","v":0},{"$f":"'[15]3'!CU110","v":0},{"$f":"'[15]3'!CV110","v":0},184.8,25.619999999999997,0,0,14119.18,0,0,210.42000000000002,14119.18,{"$f":"'[15]3'!DF110","v":0.04},{"$f":"'[15]3'!DG110","v":0.03},{"$f":"'[15]3'!DH110","v":1.0400000000000001E-2},{"$f":"'[15]3'!DI110","v":0},{"$f":"'[15]3'!DJ110","v":0},{"$f":"'[15]3'!DK110","v":0},57.6,11.969999999999999,0,0,4668.1499999999996,0,0,69.569999999999993,4668.1499999999996,{"$f":"'[15]3'!DU110","v":0.08},{"$f":"'[15]3'!DV110","v":0.06},{"$f":"'[15]3'!DW110","v":1.0400000000000001E-2},{"$f":"'[15]3'!DX110","v":0},{"$f":"'[15]3'!DY110","v":0},{"$f":"'[15]3'!DZ110","v":0},175.04,28.799999999999997,0,0,13677.66,0,0,203.83999999999997,13677.66,{"$f":"'[15]3'!EJ110","v":0.08},{"$f":"'[15]3'!EK110","v":0.06},{"$f":"'[15]3'!EL110","v":1.0400000000000001E-2},{"$f":"'[15]3'!EM110","v":0},{"$f":"'[15]3'!EN110","v":0},{"$f":"'[15]3'!EO110","v":0},244.16,30.599999999999998,0,0,18436.400000000001,0,0,274.76,18436.400000000001,{"$f":"'[15]3'!EY110","v":0.08},{"$f":"'[15]3'!EZ110","v":0.06},{"$f":"'[15]3'!FA110","v":1.0400000000000001E-2},{"$f":"'[15]3'!FB110","v":0},{"$f":"'[15]3'!FC110","v":0},{"$f":"'[15]3'!FD110","v":0},262.24,29.82,0,0,19597.23,0,0,292.06,19597.23,{"$f":"'[15]3'!FN110","v":0.08},{"$f":"'[15]3'!FO110","v":0.06},{"$f":"'[15]3'!FP110","v":1.0400000000000001E-2},{"$f":"'[15]3'!FQ110","v":0},{"$f":"'[15]3'!FR110","v":0},{"$f":"'[15]3'!FS110","v":0},299.84000000000003,31.68,0,0,22244.99,0,0,331.52000000000004,22244.99,1216.1000000000001,81600.31,1382.1699999999998,92743.61,2598.27,174343.91999999998,14,2598.27,174343.91999999998,0,0]
[97,"Йогурт","кг",{"$f":"[15]цены!E105","v":130.35},{"$f":"'[15]3'!E111","v":0},{"$f":"'[15]3'!F111","v":0},{"$f":"'[15]3'!G111","v":0},{"$f":"'[15]3'!H111","v":0},{"$f":"'[15]3'!I111","v":0},{"$f":"'[15]3'!J111","v":0},0,0,0,0,0,0,0,{"$f":"K111+L111+M111+N111+P111","v":0},{"$f":"O111+Q111","v":0},{"$f":"'[15]3'!T111","v":0},{"$f":"'[15]3'!U111","v":0},{"$f":"'[15]3'!V111","v":0},{"$f":"'[15]3'!W111","v":0},{"$f":"'[15]3'!X111","v":0},{"$f":"'[15]3'!Y111","v":0},0,0,0,0,0,0,0,{"$f":"Z111+AA111+AB111+AC111+AE111","v":0},{"$f":"AD111+AF111","v":0},null,null,null,null,null,null,0,0,0,0,0,0,0,{"$f":"AO111+AP111+AQ111+AR111+AT111","v":0},{"$f":"AS111+AU111","v":0},{"$f":"'[15]3'!AX111","v":0},{"$f":"'[15]3'!AY111","v":0},{"$f":"'[15]3'!AZ111","v":0},{"$f":"'[15]3'!BA111","v":0},{"$f":"'[15]3'!BB111","v":0},{"$f":"'[15]3'!BC111","v":0},0,0,0,0,0,0,0,{"$f":"BD111+BE111+BF111+BG111+BI111","v":0},{"$f":"BH111+BJ111","v":0},{"$f":"'[15]3'!BM111","v":0.04},{"$f":"'[15]3'!BN111","v":0.04},{"$f":"'[15]3'!BO111","v":0},{"$f":"'[15]3'!BP111","v":0},{"$f":"'[15]3'!BQ111","v":0},{"$f":"'[15]3'!BR111","v":0},89.2,11.28,0,0,13097.57,0,0,{"$f":"BS111+BT111+BU111+BV111+BX111","v":100.48},{"$f":"BW111+BY111","v":13097.57},{"$f":"'[15]3'!CB111","v":0.04},{"$f":"'[15]3'!CC111","v":0.04},{"$f":"'[15]3'!CD111","v":0},{"$f":"'[15]3'!CE111","v":0},{"$f":"'[15]3'!CF111","v":0},{"$f":"'[15]3'!CG111","v":0},65.56,10.32,0,0,9890.9599999999991,0,0,{"$f":"CH111+CI111+CJ111+CK111+CM111","v":75.88},{"$f":"CL111+CN111","v":9890.9599999999991},{"$f":"'[15]3'!CQ111","v":0.04},{"$f":"'[15]3'!CR111","v":0.04},{"$f":"'[15]3'!CS111","v":0},{"$f":"'[15]3'!CT111","v":0},{"$f":"'[15]3'!CU111","v":0},{"$f":"'[15]3'!CV111","v":0},184.8,34.160000000000004,0,0,28541.439999999999,0,0,{"$f":"CW111+CX111+CY111+CZ111+DB111","v":218.96},{"$f":"DA111+DC111","v":28541.439999999999},{"$f":"'[15]3'!DF111","v":0.04},{"$f":"'[15]3'!DG111","v":0.04},{"$f":"'[15]3'!DH111","v":0},{"$f":"'[15]3'!DI111","v":0},{"$f":"'[15]3'!DJ111","v":0},{"$f":"'[15]3'!DK111","v":0},57.6,15.96,0,0,9588.5499999999993,0,0,{"$f":"DL111+DM111+DN111+DO111+DQ111","v":73.56},{"$f":"DP111+DR111","v":9588.5499999999993},{"$f":"'[15]3'!DU111","v":0},{"$f":"'[15]3'!DV111","v":0},{"$f":"'[15]3'!DW111","v":0},{"$f":"'[15]3'!DX111","v":0},{"$f":"'[15]3'!DY111","v":0},{"$f":"'[15]3'!DZ111","v":0},0,0,0,0,0,0,0,{"$f":"EA111+EB111+EC111+ED111+EF111","v":0},{"$f":"EE111+EG111","v":0},{"$f":"'[15]3'!EJ111","v":0},{"$f":"'[15]3'!EK111","v":0},{"$f":"'[15]3'!EL111","v":0},{"$f":"'[15]3'!EM111","v":0},{"$f":"'[15]3'!EN111","v":0},{"$f":"'[15]3'!EO111","v":0},0,0,0,0,0,0,0,{"$f":"EP111+EQ111+ER111+ES111+EU111","v":0},{"$f":"ET111+EV111","v":0},{"$f":"'[15]3'!EY111","v":0},{"$f":"'[15]3'!EZ111","v":0},{"$f":"'[15]3'!FA111","v":0},{"$f":"'[15]3'!FB111","v":0},{"$f":"'[15]3'!FC111","v":0},{"$f":"'[15]3'!FD111","v":0},0,0,0,0,0,0,0,{"$f":"FE111+FF111+FG111+FH111+FJ111","v":0},{"$f":"FI111+FK111","v":0},{"$f":"'[15]3'!FN111","v":0},{"$f":"'[15]3'!FO111","v":0},{"$f":"'[15]3'!FP111","v":0},{"$f":"'[15]3'!FQ111","v":0},{"$f":"'[15]3'!FR111","v":0},{"$f":"'[15]3'!FS111","v":0},0,0,0,0,0,0,0,{"$f":"FT111+FU111+FV111+FW111+FY111","v":0},{"$f":"FX111+FZ111","v":0},{"$f":"R111+AG111+AV111+BK111+BZ111+CO111","v":176.36},{"$f":"S111+AH111+AW111+BL111+CA111+CP111","v":22988.53},{"$f":"DD111+DS111+EH111+EW111+FL111+GA111","v":292.52},{"$f":"DE111+DT111+EI111+EX111+FM111+GB111","v":38129.99},{"$f":"GC111+GE111","v":468.88},{"$f":"GD111+GF111","v":61118.52},14,468.88,61118.52,0,0]
[98,"Молоко витаминизированное, номинальн. вместим. не более 200мл.","л",{"$f":"[15]цены!E106","v":140.66999999999999},{"$f":"'[15]3'!E112","v":0.01},{"$f":"'[15]3'!F112","v":0.01},{"$f":"'[15]3'!G112","v":1.3000000000000002E-3},{"$f":"'[15]3'!H112","v":0},{"$f":"'[15]3'!I112","v":0},{"$f":"'[15]3'!J112","v":0},24.85,3.34,0,0,3965.49,0,0,28.19,3965.49,{"$f":"'[15]3'!T112","v":0.01},{"$f":"'[15]3'!U112","v":0.01},{"$f":"'[15]3'!V112","v":1.3000000000000002E-3},{"$f":"'[15]3'!W112","v":0},{"$f":"'[15]3'!X112","v":0},{"$f":"'[15]3'!Y112","v":0},33.99,2.2400000000000002,0,0,5096.47,0,0,36.230000000000004,5096.47,0.01,0.01,0.01,0.01,0.01,null,30.05,4,0,0,4789.8100000000004,0,0,34.049999999999997,4789.8100000000004,{"$f":"'[15]3'!AX112","v":0.01},{"$f":"'[15]3'!AY112","v":0.01},{"$f":"'[15]3'!AZ112","v":1.3000000000000002E-3},{"$f":"'[15]3'!BA112","v":0},{"$f":"'[15]3'!BB112","v":0},{"$f":"'[15]3'!BC112","v":0},31.86,3.61,0,0,4989.5600000000004,0,0,35.47,4989.5600000000004,{"$f":"'[15]3'!BM112","v":0.01},{"$f":"'[15]3'!BN112","v":0.01},{"$f":"'[15]3'!BO112","v":1.3000000000000002E-3},{"$f":"'[15]3'!BP112","v":0},{"$f":"'[15]3'!BQ112","v":0},{"$f":"'[15]3'!BR112","v":0},22.3,2.82,0,0,3533.63,0,0,25.12,3533.63,{"$f":"'[15]3'!CB112","v":0.01},{"$f":"'[15]3'!CC112","v":0.01},{"$f":"'[15]3'!CD112","v":1.3000000000000002E-3},{"$f":"'[15]3'!CE112","v":0},{"$f":"'[15]3'!CF112","v":0},{"$f":"'[15]3'!CG112","v":0},16.39,2.58,0,0,2668.51,0,0,18.97,2668.51,{"$f":"'[15]3'!CQ112","v":0.01},{"$f":"'[15]3'!CR112","v":0.01},{"$f":"'[15]3'!CS112","v":1.3000000000000002E-3},{"$f":"'[15]3'!CT112","v":0},{"$f":"'[15]3'!CU112","v":0},{"$f":"'[15]3'!CV112","v":0},46.2,8.5400000000000009,0,0,7700.28,0,0,54.74,7700.28,{"$f":"'[15]3'!DF112","v":0.01},{"$f":"'[15]3'!DG112","v":0.01},{"$f":"'[15]3'!DH112","v":1.3000000000000002E-3},{"$f":"'[15]3'!DI112","v":0},{"$f":"'[15]3'!DJ112","v":0},{"$f":"'[15]3'!DK112","v":0},14.4,3.99,0,0,2586.92,0,0,18.39,2586.92,{"$f":"'[15]3'!DU112","v":0.01},{"$f":"'[15]3'!DV112","v":0.01},{"$f":"'[15]3'!DW112","v":1.3000000000000002E-3},{"$f":"'[15]3'!DX112","v":0},{"$f":"'[15]3'!DY112","v":0},{"$f":"'[15]3'!DZ112","v":0},21.88,4.8,0,0,3753.08,0,0,26.68,3753.08,{"$f":"'[15]3'!EJ112","v":0.01},{"$f":"'[15]3'!EK112","v":0.01},{"$f":"'[15]3'!EL112","v":1.3000000000000002E-3},{"$f":"'[15]3'!EM112","v":0},{"$f":"'[15]3'!EN112","v":0},{"$f":"'[15]3'!EO112","v":0},30.52,5.1000000000000005,0,0,5010.67,0,0,35.619999999999997,5010.67,{"$f":"'[15]3'!EY112","v":0.01},{"$f":"'[15]3'!EZ112","v":0.01},{"$f":"'[15]3'!FA112","v":1.3000000000000002E-3},{"$f":"'[15]3'!FB112","v":0},{"$f":"'[15]3'!FC112","v":0},{"$f":"'[15]3'!FD112","v":0},32.78,4.97,0,0,5310.29,0,0,37.75,5310.29,{"$f":"'[15]3'!FN112","v":0.01},{"$f":"'[15]3'!FO112","v":0.01},{"$f":"'[15]3'!FP112","v":1.3000000000000002E-3},{"$f":"'[15]3'!FQ112","v":0},{"$f":"'[15]3'!FR112","v":0},{"$f":"'[15]3'!FS112","v":0},37.480000000000004,5.28,0,0,6015.05,0,0,42.760000000000005,6015.05,178.03,25043.47,215.94,30376.29,393.97,55419.76,10,393.97,55419.76,0,0]
[99,"Творог","кг",{"$f":"[15]цены!E107","v":283.25},{"$f":"'[15]3'!E113","v":0.04},{"$f":"'[15]3'!F113","v":0.03},{"$f":"'[15]3'!G113","v":0},{"$f":"'[15]3'!H113","v":0},{"$f":"'[15]3'!I113","v":0},{"$f":"'[15]3'!J113","v":0},99.4,10.02,0,0,30993.22,0,0,109.42,30993.22,{"$f":"'[15]3'!T113","v":0.04},{"$f":"'[15]3'!U113","v":0.03},{"$f":"'[15]3'!V113","v":0},{"$f":"'[15]3'!W113","v":0},{"$f":"'[15]3'!X113","v":0},{"$f":"'[15]3'!Y113","v":0},135.96,6.72,0,0,40414.11,0,0,142.68,40414.11,0.04,0.03,0.04,0.06,0.05,null,120.2,12,0,0,37445.65,0,0,132.19999999999999,37445.65,{"$f":"'[15]3'!AX113","v":0.04},{"$f":"'[15]3'!AY113","v":0.03},{"$f":"'[15]3'!AZ113","v":0},{"$f":"'[15]3'!BA113","v":0},{"$f":"'[15]3'!BB113","v":0},{"$f":"'[15]3'!BC113","v":0},127.44,10.83,0,0,39164.980000000003,0,0,138.27000000000001,39164.980000000003,{"$f":"'[15]3'!BM113","v":0.04},{"$f":"'[15]3'!BN113","v":0.03},{"$f":"'[15]3'!BO113","v":0},{"$f":"'[15]3'!BP113","v":0},{"$f":"'[15]3'!BQ113","v":0},{"$f":"'[15]3'!BR113","v":0},89.2,8.4599999999999991,0,0,27662.2,0,0,97.66,27662.2,{"$f":"'[15]3'!CB113","v":0.04},{"$f":"'[15]3'!CC113","v":0.03},{"$f":"'[15]3'!CD113","v":0},{"$f":"'[15]3'!CE113","v":0},{"$f":"'[15]3'!CF113","v":0},{"$f":"'[15]3'!CG113","v":0},65.56,7.7399999999999993,0,0,20762.23,0,0,73.3,20762.23,{"$f":"'[15]3'!CQ113","v":0.04},{"$f":"'[15]3'!CR113","v":0.03},{"$f":"'[15]3'!CS113","v":0},{"$f":"'[15]3'!CT113","v":0},{"$f":"'[15]3'!CU113","v":0},{"$f":"'[15]3'!CV113","v":0},184.8,25.619999999999997,0,0,59601.47,0,0,210.42000000000002,59601.47,{"$f":"'[15]3'!DF113","v":0.04},{"$f":"'[15]3'!DG113","v":0.03},{"$f":"'[15]3'!DH113","v":0},{"$f":"'[15]3'!DI113","v":0},{"$f":"'[15]3'!DJ113","v":0},{"$f":"'[15]3'!DK113","v":0},57.6,11.969999999999999,0,0,19705.7,0,0,69.569999999999993,19705.7,{"$f":"'[15]3'!DU113","v":0.04},{"$f":"'[15]3'!DV113","v":0.03},{"$f":"'[15]3'!DW113","v":0},{"$f":"'[15]3'!DX113","v":0},{"$f":"'[15]3'!DY113","v":0},{"$f":"'[15]3'!DZ113","v":0},87.52,14.399999999999999,0,0,28868.84,0,0,101.91999999999999,28868.84,{"$f":"'[15]3'!EJ113","v":0.04},{"$f":"'[15]3'!EK113","v":0.03},{"$f":"'[15]3'!EL113","v":0},{"$f":"'[15]3'!EM113","v":0},{"$f":"'[15]3'!EN113","v":0},{"$f":"'[15]3'!EO113","v":0},122.08,15.299999999999999,0,0,38912.89,0,0,137.38,38912.89,{"$f":"'[15]3'!EY113","v":0.04},{"$f":"'[15]3'!EZ113","v":0.03},{"$f":"'[15]3'!FA113","v":0},{"$f":"'[15]3'!FB113","v":0},{"$f":"'[15]3'!FC113","v":0},{"$f":"'[15]3'!FD113","v":0},131.12,14.91,0,0,41363,0,0,146.03,41363,{"$f":"'[15]3'!FN113","v":0.04},{"$f":"'[15]3'!FO113","v":0.03},{"$f":"'[15]3'!FP113","v":0},{"$f":"'[15]3'!FQ113","v":0},{"$f":"'[15]3'!FR113","v":0},{"$f":"'[15]3'!FS113","v":0},149.92000000000002,15.84,0,0,46951.519999999997,0,0,165.76000000000002,46951.519999999997,693.53,196442.39000000004,831.07999999999993,235403.41999999998,1524.61,431845.81000000006,14,1524.61,431845.81000000006,0,0]
[100,"Сметана 10% жирности","кг",{"$f":"[15]цены!E108","v":132},{"$f":"'[15]3'!E114","v":1.0999999999999999E-2},{"$f":"'[15]3'!F114","v":8.9999999999999993E-3},{"$f":"'[15]3'!G114","v":1.4300000000000001E-3},{"$f":"'[15]3'!H114","v":0},{"$f":"'[15]3'!I114","v":0},{"$f":"'[15]3'!J114","v":1E-3},27.334999999999997,3.0059999999999998,0,0,4005.01,0.58799999999999997,77.62,30.928999999999998,4082.63,{"$f":"'[15]3'!T114","v":1.0999999999999999E-2},{"$f":"'[15]3'!U114","v":8.9999999999999993E-3},{"$f":"'[15]3'!V114","v":1.4300000000000001E-3},{"$f":"'[15]3'!W114","v":0},{"$f":"'[15]3'!X114","v":0},{"$f":"'[15]3'!Y114","v":1E-3},37.388999999999996,2.016,0,0,5201.46,0.68,89.76,40.084999999999994,5291.22,1.0999999999999999E-2,8.9999999999999993E-3,1.0999999999999999E-2,1.2E-2,0.01,1E-3,33.055,3.5999999999999996,0,0,4838.46,0.8,105.6,37.454999999999998,4944.0600000000004,{"$f":"'[15]3'!AX114","v":1.0999999999999999E-2},{"$f":"'[15]3'!AY114","v":8.9999999999999993E-3},{"$f":"'[15]3'!AZ114","v":1.4300000000000001E-3},{"$f":"'[15]3'!BA114","v":0},{"$f":"'[15]3'!BB114","v":0},{"$f":"'[15]3'!BC114","v":1E-3},35.045999999999999,3.2489999999999997,0,0,5054.9399999999996,0.68400000000000005,90.29,38.978999999999999,5145.2299999999996,{"$f":"'[15]3'!BM114","v":1.0999999999999999E-2},{"$f":"'[15]3'!BN114","v":8.9999999999999993E-3},{"$f":"'[15]3'!BO114","v":1.4300000000000001E-3},{"$f":"'[15]3'!BP114","v":0},{"$f":"'[15]3'!BQ114","v":0},{"$f":"'[15]3'!BR114","v":1E-3},24.529999999999998,2.5379999999999998,0,0,3572.98,0.627,82.76,27.694999999999997,3655.7400000000002,{"$f":"'[15]3'!CB114","v":1.0999999999999999E-2},{"$f":"'[15]3'!CC114","v":8.9999999999999993E-3},{"$f":"'[15]3'!CD114","v":1.4300000000000001E-3},{"$f":"'[15]3'!CE114","v":0},{"$f":"'[15]3'!CF114","v":0},{"$f":"'[15]3'!CG114","v":1E-3},18.029,2.3219999999999996,0,0,2686.33,0.60799999999999998,80.260000000000005,20.959,2766.59,{"$f":"'[15]3'!CQ114","v":1.0999999999999999E-2},{"$f":"'[15]3'!CR114","v":8.9999999999999993E-3},{"$f":"'[15]3'!CS114","v":1.4300000000000001E-3},{"$f":"'[15]3'!CT114","v":0},{"$f":"'[15]3'!CU114","v":0},{"$f":"'[15]3'!CV114","v":1E-3},50.82,7.6859999999999991,0,0,7722.79,0.49399999999999999,65.209999999999994,59,7788,{"$f":"'[15]3'!DF114","v":1.0999999999999999E-2},{"$f":"'[15]3'!DG114","v":8.9999999999999993E-3},{"$f":"'[15]3'!DH114","v":1.4300000000000001E-3},{"$f":"'[15]3'!DI114","v":0},{"$f":"'[15]3'!DJ114","v":0},{"$f":"'[15]3'!DK114","v":1E-3},15.84,3.5909999999999997,0,0,2564.89,0.54600000000000004,72.069999999999993,19.977,2636.96,{"$f":"'[15]3'!DU114","v":1.0999999999999999E-2},{"$f":"'[15]3'!DV114","v":8.9999999999999993E-3},{"$f":"'[15]3'!DW114","v":1.4300000000000001E-3},{"$f":"'[15]3'!DX114","v":0},{"$f":"'[15]3'!DY114","v":0},{"$f":"'[15]3'!DZ114","v":1E-3},24.067999999999998,4.3199999999999994,0,0,3747.22,0.55100000000000005,72.73,28.938999999999997,3819.95,{"$f":"'[15]3'!EJ114","v":1.0999999999999999E-2},{"$f":"'[15]3'!EK114","v":8.9999999999999993E-3},{"$f":"'[15]3'!EL114","v":1.4300000000000001E-3},{"$f":"'[15]3'!EM114","v":0},{"$f":"'[15]3'!EN114","v":0},{"$f":"'[15]3'!EO114","v":1E-3},33.571999999999996,4.59,0,0,5037.38,0.72,95.04,38.881999999999991,5132.42,{"$f":"'[15]3'!EY114","v":1.0999999999999999E-2},{"$f":"'[15]3'!EZ114","v":8.9999999999999993E-3},{"$f":"'[15]3'!FA114","v":1.4300000000000001E-3},{"$f":"'[15]3'!FB114","v":0},{"$f":"'[15]3'!FC114","v":0},{"$f":"'[15]3'!FD114","v":1E-3},36.058,4.4729999999999999,0,0,5350.09,0.85499999999999998,112.86,41.385999999999996,5462.95,{"$f":"'[15]3'!FN114","v":1.0999999999999999E-2},{"$f":"'[15]3'!FO114","v":8.9999999999999993E-3},{"$f":"'[15]3'!FP114","v":1.4300000000000001E-3},{"$f":"'[15]3'!FQ114","v":0},{"$f":"'[15]3'!FR114","v":0},{"$f":"'[15]3'!FS114","v":1E-3},41.227999999999994,4.7519999999999998,0,0,6069.36,0.9,118.8,46.879999999999995,6188.16,{"$f":"R114+AG114+AV114+BK114+BZ114+CO114","v":196.10199999999998},25885.47,235.06399999999999,31028.440000000002,431.16599999999994,56913.91,14,423.11299999999983,55850.909999999989,8.053000000000111,1063.0000000000146]
[null,"Пищевая добавка к готовым блюдам (аскорбинка)","гр",{"$f":"[15]цены!E109","v":3.8959999999999999},{"$f":"'[15]3'!E115","v":0.05},{"$f":"'[15]3'!F115","v":3.5000000000000003E-2},{"$f":"'[15]3'!G115","v":0},{"$f":"'[15]3'!H115","v":0},{"$f":"'[15]3'!I115","v":0},{"$f":"'[15]3'!J115","v":0},124.25,11.690000000000001,0,0,529.62,0,0,135.94,529.62,{"$f":"'[15]3'!T115","v":0.05},{"$f":"'[15]3'!U115","v":3.5000000000000003E-2},{"$f":"'[15]3'!V115","v":0},{"$f":"'[15]3'!W115","v":0},{"$f":"'[15]3'!X115","v":0},{"$f":"'[15]3'!Y115","v":0},169.95000000000002,7.8400000000000007,0,0,692.67,0,0,177.79000000000002,692.67,1.0999999999999999E-2,8.9999999999999993E-3,1.0999999999999999E-2,1.2E-2,0.01,1E-3,33.055,3.5999999999999996,0,0,142.81,0.8,3.12,37.454999999999998,145.93,{"$f":"'[15]3'!AX115","v":0.05},{"$f":"'[15]3'!AY115","v":3.5000000000000003E-2},{"$f":"'[15]3'!AZ115","v":0},{"$f":"'[15]3'!BA115","v":0},{"$f":"'[15]3'!BB115","v":0},{"$f":"'[15]3'!BC115","v":0},159.30000000000001,12.635000000000002,0,0,669.86,0,0,171.935,669.86,{"$f":"'[15]3'!BM115","v":0.05},{"$f":"'[15]3'!BN115","v":3.5000000000000003E-2},{"$f":"'[15]3'!BO115","v":0},{"$f":"'[15]3'!BP115","v":0},{"$f":"'[15]3'!BQ115","v":0},{"$f":"'[15]3'!BR115","v":0},111.5,9.870000000000001,0,0,472.86,0,0,121.37,472.86,{"$f":"'[15]3'!CB115","v":0.05},{"$f":"'[15]3'!CC115","v":3.5000000000000003E-2},{"$f":"'[15]3'!CD115","v":0},{"$f":"'[15]3'!CE115","v":0},{"$f":"'[15]3'!CF115","v":0},{"$f":"'[15]3'!CG115","v":0},81.95,9.0300000000000011,0,0,354.46,0,0,90.98,354.46,{"$f":"'[15]3'!CQ115","v":0.05},{"$f":"'[15]3'!CR115","v":3.5000000000000003E-2},{"$f":"'[15]3'!CS115","v":0},{"$f":"'[15]3'!CT115","v":0},{"$f":"'[15]3'!CU115","v":0},{"$f":"'[15]3'!CV115","v":0},231,29.890000000000004,0,0,1016.43,0,0,260.89,1016.43,{"$f":"'[15]3'!DF115","v":0.05},{"$f":"'[15]3'!DG115","v":3.5000000000000003E-2},{"$f":"'[15]3'!DH115","v":0},{"$f":"'[15]3'!DI115","v":0},{"$f":"'[15]3'!DJ115","v":0},{"$f":"'[15]3'!DK115","v":0},72,13.965000000000002,0,0,334.92,0,0,85.965000000000003,334.92,{"$f":"'[15]3'!DU115","v":0.05},{"$f":"'[15]3'!DV115","v":3.5000000000000003E-2},{"$f":"'[15]3'!DW115","v":0},{"$f":"'[15]3'!DX115","v":0},{"$f":"'[15]3'!DY115","v":0},{"$f":"'[15]3'!DZ115","v":0},109.4,16.8,0,0,491.68,0,0,126.2,491.68,{"$f":"'[15]3'!EJ115","v":0.05},{"$f":"'[15]3'!EK115","v":3.5000000000000003E-2},{"$f":"'[15]3'!EL115","v":0},{"$f":"'[15]3'!EM115","v":0},{"$f":"'[15]3'!EN115","v":0},{"$f":"'[15]3'!EO115","v":0},152.6,17.850000000000001,0,0,664.07,0,0,170.45,664.07,{"$f":"'[15]3'!EY115","v":0.05},{"$f":"'[15]3'!EZ115","v":3.5000000000000003E-2},{"$f":"'[15]3'!FA115","v":0},{"$f":"'[15]3'!FB115","v":0},{"$f":"'[15]3'!FC115","v":0},{"$f":"'[15]3'!FD115","v":0},163.9,17.395000000000003,0,0,706.33,0,0,181.29500000000002,706.33,{"$f":"'[15]3'!FN115","v":0.05},{"$f":"'[15]3'!FO115","v":3.5000000000000003E-2},{"$f":"'[15]3'!FP115","v":0},{"$f":"'[15]3'!FQ115","v":0},{"$f":"'[15]3'!FR115","v":0},{"$f":"'[15]3'!FS115","v":0},187.4,18.48,0,0,802.11,0,0,205.88,802.11,{"$f":"R115+AG115+AV115+BK115+BZ115+CO115","v":735.47},{"$f":"S115+AH115+AW115+BL115+CA115+CP115","v":2865.4},{"$f":"DD115+DS115+EH115+EW115+FL115+GA115","v":1030.6799999999998},4015.54,{"$f":"GC115+GE115","v":1766.1499999999999},6880.9400000000005,0,1765.35,{"$f":"GH115-FZ115-FK115-EV115-EG115-DR115-DC115-CN115-BY115-BJ115-AU115-AF115-Q115","v":6877.8200000000006},{"$f":"GG115-GJ115","v":0.79999999999995453},3.1199999999998909]
[null,"Всего:","кг",null,{"$f":"SUM(E15:E115)","v":1.9052199999999995},{"$f":"SUM(F15:F115)","v":1.5531200000000001},0.14961699999999994,0,0,0.61170000000000013,4734.4717000000001,518.7420800000001,0,0,556520.73999999987,359.67959999999999,43835.020000000004,5612.8933800000004,600355.75999999989,1.9037199999999994,1.5526200000000001,0.14961699999999994,0,0,0.61131000000000013,6470.7442799999944,347.78687999999988,0,0,722401.31000000029,415.69080000000025,50563.789999999994,7234.2219599999989,772965.10000000009,1.8837199999999992,1.54162,1.8594899999999994,2.1646199999999998,1.6202200000000002,0.61131000000000013,5660.5786000000007,616.64799999999991,0,0,671776.33,489.04799999999983,59420.220000000008,6766.274599999997,731196.55,1.9227199999999993,1.56762,0.14961699999999994,0,0,0.61031000000000013,6125.7859199999975,565.91082000000006,0,0,699914.93,417.45204000000012,50801.649999999994,7109.1487799999995,750716.58000000031,1.9242199999999994,1.56812,0.14961699999999994,0,0,{"$f":"SUM(BR15:BR115)","v":0.59771000000000019},4291.0105999999996,442.20983999999993,0,0,520408.93000000005,374.76417000000004,46274.460000000006,5107.9846100000004,566683.39,1.9242199999999994,1.56812,0.14961699999999994,0,0,0.59471000000000018,3153.7965799999993,404.57496000000015,0,0,390690.03,361.58368000000007,44472.239999999991,3919.9552199999998,435162.27000000008,1.9242199999999994,1.5681200000000002,0.14961699999999994,0,0,0.60821000000000025,8889.8963999999996,1339.1744800000001,0,0,1167241.1399999999,300.45574000000011,36426.62000000001,10529.526619999995,1203667.76,1.9242199999999994,1.56812,0.14961699999999994,0,0,0.60821000000000025,2770.8768000000005,625.67988000000014,0,0,381976.56000000011,332.08265999999981,40260.94999999999,3728.6393400000006,422237.51000000013,1.8757199999999996,1.5276200000000002,0.14961699999999994,0,0,0.6117100000000002,4104.0753600000016,733.25760000000014,0,{"$f":"SUM(ED15:ED115)","v":0},537353.64999999979,337.05220999999995,40970.130000000012,5174.3851700000005,578323.77999999991,1.8757199999999996,1.52762,0.14961699999999994,0,0,0.61271000000000009,5724.6974400000017,779.08619999999985,0,0,706779.08,441.15120000000042,53616.880000000005,6944.9348399999981,760395.9600000002,1.8887199999999995,1.53962,0.14961699999999994,0,0,0.6117100000000002,6191.2241599999998,765.19114000000036,0,0,743488.17999999993,523.0120500000005,63561.089999999989,7479.4273499999981,807049.26999999979,1.8887199999999995,1.5396199999999998,0.14961699999999994,0,0,0.6127100000000002,7078.9225599999982,812.91935999999998,0,0,852093.46000000031,551.43899999999951,66984.810000000012,8443.2809200000029,919078.27000000048,{"$f":"SUM(GC15:GC115)","v":35750.478550000007},3857079.6499999985,42300.19423999999,4690752.55,78050.672789999997,8547832.1999999993,null,73147.261640000041,7950644.3399999999,4903.4111499999972,597187.8600000001]
[null,null,null,null,null,null,null,null,null,null,null,null,null,null,null,null,null,null,null,null,null,null,null,null,null,null,null,null,null,null,null,null,null,null,null,null,null,null,null,null,null,null,null,null,null,null,null,null,null,null,null,null,null,null,null,null,null,null,null,null,null,null,null,null,null,null,null,null,null,null,null,null,null,null,null,null,null,null,null,null,null,null,null,null,null,null,null,null,null,null,null,null,null,null,null,null,null,null,null,null,null,null,null,null,null,null,null,null,null,null,null,null,null,null,null,null,null,null,null,null,null,null,null,null,null,null,null,null,null,null,null,null,null,null,null,null,null,null,null,null,null,null,null,null,null,null,null,null,null,null,null,null,null,null,null,null,null,null,null,null,null,null,null,null,null,null,null,null,null,null,null,null,null,null,null,null,null,null,null,null,null,null,null,null,null,null,{"$f":"SUBTOTAL(9,GE28:GE114)","v":39550.214239999987}]

{"sheet":"310,340 смета ТМЦ","index":17,"n_rows":173,"n_cols":32,"rows_kept":173,"cut":false,"hidden":false,"merged":[[164,30,171,30],[167,1,168,1],[167,2,168,2],[167,3,168,3],[169,1,171,1],[169,2,171,2],[169,3,171,3],[3,29,4,29],[3,30,4,30],[3,31,4,31],[8,2,22,2],[8,3,22,3],[3,24,4,24],[3,25,4,25],[3,26,4,26],[3,27,4,27],[3,28,4,28],[5,2,7,2],[5,3,7,3],[3,8,4,8],[3,9,4,9],[3,10,4,10],[3,11,4,11],[140,2,153,2],[140,3,145,3],[146,3,153,3],[164,0,171,0],[23,2,139,2],[23,3,139,3],[154,2,163,2],[154,3,157,3],[158,3,159,3],[160,3,163,3],[164,1,166,1],[164,2,166,2],[164,3,166,3],[3,12,4,12],[3,13,3,23],[0,0,0,10],[1,0,1,10],[3,0,4,0],[3,1,4,1],[3,2,4,2],[3,3,4,3],[3,4,4,4],[3,5,4,5],[3,6,4,6],[3,7,4,7]]}
["СМЕТА  приобретений ТМЦ в 2017-2019 году"]
["МБДОУ \"ДС №  90 \"Цветик-семицветик\""]
[]
["Наименование товара","КЦСР","Наименование КЦСР","КБК","Доп КР","Наименование Доп КР","Доп ЭК ","Наименование Доп ЭК","Кол-во ","Цена за ед.","Утвержденные              ассигнования  на    2017 год  (руб.)","Утвержденные              ассигнования  на    2018 год  (руб.)","Утвержденные              ассигнования  на    2019 год  (руб.)","Распределенные ассигнований по месяцам",null,null,null,null,null,null,null,null,null,null,"Счета, договоры I квартала","Счета, договоры II квартала","Счета, договоры III квартала","Счета, договоры IV  квартала","Резерв под размещение заявки на эл. Торги","Итоговый остаток\n","Переходящие остатки с 2016 года (ДОП ЭК 831)","ПРОВЕРКА ДОЛЖЕН БЫТЬ 0"]
[null,null,null,null,null,null,null,null,null,null,null,null,null,"февраль              ","март ","апрель ","май","июнь ","июль","август","сентябрь","октябрь ","ноябрь","декабрь"]
["Одежда и обувь спецназначения рабочая, медицинская и для пед.работников","02 1 01 01110","Мероприятие: 1.1.1 Организация предоставления общедоступного и бесплатного дошкольного образования, создание условий для осуществления присмотра и ухода за детьми","065/0701/02 1 01 01110/244",985,"Приобретение мягкого инвентаря","000","местный бюджет",null,null,29300,{"$f":"K8","v":52300},{"$f":"L6","v":52300},null,null,null,null,null,null,null,null,null,null,null,null,null,null,null,null,{"$f":"K6-Y6-Z6-AA6-AB6-AC6","v":29300},null,{"$f":"K6-N6-O6-P6-Q6-R6-S6-T6-U6-V6-W6-X6","v":29300}]
["Мягкий инвентарь ","02 1 01 01110",null,null,985,"Приобретение мягкого инвентаря","000","местный бюджет",null,null,23000,null,null,null,null,null,null,null,null,null,null,null,null,null,null,null,null,null,null,{"$f":"K7-Y7-Z7-AA7-AB7-AC7","v":23000},null,23000]
["Итого:","02 1 01 01110",null,null,985,"Приобретение мягкого инвентаря","000","местный бюджет",null,null,{"$f":"SUM(K6:K7)","v":52300},{"$f":"SUM(L6:L7)","v":52300},52300,0,0,0,0,0,0,0,0,0,0,0,0,0,0,0,0,52300,0,52300]
["Линолеум","02 1 01 01110","Мероприятие: 1.1.1 Организация предоставления общедоступного и бесплатного дошкольного образования, создание условий для осуществления присмотра и ухода за детьми","065/0701/02 1 01 01110/244",981,"Приобретение расходных материалов","000","местный бюджет",null,null,null,167800,{"$f":"L9","v":167800},null,null,null,null,null,null,null,null,null,null,null,null,null,null,null,null,{"$f":"K9-Y9-Z9-AA9-AB9-AC9","v":0},null,0]
["Лакокрасочная продукция","02 1 01 01110",null,null,981,"Приобретение расходных материалов","000","местный бюджет",null,null,130000,null,null,null,null,null,null,null,null,null,null,null,null,null,null,null,null,null,null,130000,null,130000]
["Сантехнические материалы и оборудование","02 1 01 01110",null,null,981,"Приобретение расходных материалов","000","местный бюджет",null,null,10000,null,null,null,null,null,null,null,null,null,null,null,null,null,null,null,null,null,null,10000,null,10000]
["Стекло, оконные блоки","02 1 01 01110",null,null,981,"Приобретение расходных материалов","000","местный бюджет",null,null,null,null,null,null,null,null,null,null,null,null,null,null,null,null,null,null,null,null,null,0,null,0]
["Дверные коробки полотна и комплектующие к ним ","02 1 01 01110",null,null,981,"Приобретение расходных материалов","000","местный бюджет",null,null,null,null,null,null,null,null,null,null,null,null,null,null,null,null,null,null,null,null,null,0,null,0]
["Электропродукция","02 1 01 01110",null,null,981,"Приобретение расходных материалов","000","местный бюджет",null,null,5000,null,null,null,null,null,null,null,null,null,null,null,null,null,null,null,null,null,null,5000,null,5000]
["Строительные инструменты, прочие строительные материалы","02 1 01 01110",null,null,981,"Приобретение расходных материалов","000","местный бюджет",null,null,40000,null,null,null,null,null,null,null,null,null,null,null,null,null,null,null,null,null,null,40000,null,40000]
["Моющие, чистящие средства                          (востанавливающие крема, эмульсии в соответствии с нормами СИЗ)","02 1 01 01110",null,null,981,"Приобретение расходных материалов","000","местный бюджет",null,null,100000,null,null,null,null,null,null,null,null,null,null,null,null,null,null,null,null,null,null,100000,null,100000]
["Хозяйственные товары и инвентарь ","02 1 01 01110",null,null,981,"Приобретение расходных материалов","000","местный бюджет",null,null,20000,null,null,null,null,null,null,null,null,null,null,null,null,null,null,null,null,null,null,20000,null,20000]
["Средства для дезинфекции (хлорка и др.)","02 1 01 01110",null,null,981,"Приобретение расходных материалов","000","местный бюджет",null,null,88000,null,null,null,null,null,null,null,null,null,null,null,null,null,null,null,null,null,null,88000,null,88000]
["Знаки пожарной безопасности, запасные части и комплектующие к оборудованию для прогулочных площадок","02 1 01 01110",null,null,981,"Приобретение расходных материалов","000","местный бюджет",null,null,null,null,null,null,null,null,null,null,null,null,null,null,null,null,null,null,null,null,null,0,null,0]
["Изделия медицинского назначения расходные материалы","02 1 01 01110",null,null,981,"Приобретение расходных материалов","000","местный бюджет",null,null,5000,null,null,null,null,null,null,null,null,null,null,null,null,null,null,null,null,null,null,5000,null,5000]
["Средства на приобретение расходных материалов предусмотренные бюджетом для устранений замечаний по предписаниям и выполнений перспективного плана ","02 1 01 01110",null,null,981,"Приобретение расходных материалов","000","местный бюджет",null,null,null,null,null,null,null,null,null,null,null,null,null,null,null,null,null,null,null,null,null,0,null,0]
["Расходы, вычитаемые на городские культурно-массовые мероприятия, за исключением внутрисадовских мероприятий","02 1 01 01110",null,null,981,"Приобретение расходных материалов","000","местный бюджет",null,null,null,null,null,null,null,null,null,null,null,null,null,null,null,null,null,null,null,null,null,{"$f":"K22-Y22-Z22-AA22-AB22-AC22","v":0},null,0]
["Итого:","02 1 01 01110",null,null,981,"Приобретение расходных материалов","000","местный бюджет",null,null,{"$f":"SUM(K9:K22)","v":398000},{"$f":"SUM(L9:L22)","v":167800},{"$f":"SUM(M9:M22)","v":167800},{"$f":"SUM(N9:N22)","v":0},{"$f":"SUM(O9:O22)","v":0},0,0,0,0,0,0,0,0,0,0,0,0,0,0,398000,0,398000]
["Технологическое оборудование","02 1 01 01110","Мероприятие: 1.1.1 Организация предоставления общедоступного и бесплатного дошкольного образования, создание условий для осуществления присмотра и ухода за детьми","065/0701/02 1 01 01110/244",971,"Приобретение основных средств","000","местный бюджет",{"$f":"SUM(I25:I32)","v":0},null,{"$f":"SUM(K25:K32)","v":0},{"$f":"SUM(L25:L32)","v":0},{"$f":"SUM(M25:M32)","v":0},{"$f":"SUM(N25:N32)","v":0},{"$f":"SUM(O25:O32)","v":0},{"$f":"SUM(P25:P32)","v":0},0,0,0,0,0,0,0,0,0,0,0,0,0,0,null,0]
[null,null,null,null,null,null,null,null,null,null,{"$f":"I25*J25","v":0},null,null,null,null,null,null,null,null,null,null,null,null,null,null,null,null,null,null,{"$f":"K25-Y25-Z25-AA25-AB25-AC25","v":0},null,0]
[null,null,null,null,null,null,null,null,null,null,{"$f":"I26*J26","v":0},null,null,null,null,null,null,null,null,null,null,null,null,null,null,null,null,null,null,0,null,0]
[null,null,null,null,null,null,null,null,null,null,0,null,null,null,null,null,null,null,null,null,null,null,null,null,null,null,null,null,null,0,null,0]
[null,null,null,null,null,null,null,null,null,null,0,null,null,null,null,null,null,null,null,null,null,null,null,null,null,null,null,null,null,0,null,0]
[null,null,null,null,null,null,null,null,null,null,0,null,null,null,null,null,null,null,null,null,null,null,null,null,null,null,null,null,null,0,null,0]
[null,null,null,null,null,null,null,null,null,null,0,null,null,null,null,null,null,null,null,null,null,null,null,null,null,null,null,null,null,0,null,0]
[null,null,null,null,null,null,null,null,null,null,0,null,null,null,null,null,null,null,null,null,null,null,null,null,null,null,null,null,null,0,null,0]
[null,null,null,null,null,null,null,null,null,null,0,null,null,null,null,null,null,null,null,null,null,null,null,null,null,null,null,null,null,0,null,0]
["Прачечное оборудование","02 1 01 01110",null,null,971,"Приобретение основных средств","000","местный бюджет",{"$f":"SUM(I34:I41)","v":0},null,{"$f":"SUM(K34:K41)","v":0},{"$f":"SUM(L34:L41)","v":0},{"$f":"SUM(M34:M41)","v":0},{"$f":"SUM(N34:N41)","v":0},{"$f":"SUM(O34:O41)","v":0},0,0,0,0,0,0,0,0,0,0,0,0,0,0,0,null,0]
[null,null,null,null,null,null,null,null,null,null,{"$f":"I34*J34","v":0},null,null,null,null,null,null,null,null,null,null,null,null,null,null,null,null,null,null,0,null,0]
[null,null,null,null,null,null,null,null,null,null,{"$f":"I35*J35","v":0},null,null,null,null,null,null,null,null,null,null,null,null,null,null,null,null,null,null,0,null,0]
[null,null,null,null,null,null,null,null,null,null,0,null,null,null,null,null,null,null,null,null,null,null,null,null,null,null,null,null,null,0,null,0]
[null,null,null,null,null,null,null,null,null,null,0,null,null,null,null,null,null,null,null,null,null,null,null,null,null,null,null,null,null,0,null,0]
[null,null,null,null,null,null,null,null,null,null,0,null,null,null,null,null,null,null,null,null,null,null,null,null,null,null,null,null,null,0,null,0]
[null,null,null,null,null,null,null,null,null,null,0,null,null,null,null,null,null,null,null,null,null,null,null,null,null,null,null,null,null,0,null,0]
[null,null,null,null,null,null,null,null,null,null,0,null,null,null,null,null,null,null,null,null,null,null,null,null,null,null,null,null,null,0,null,0]
[null,null,null,null,null,null,null,null,null,null,0,null,null,null,null,null,null,null,null,null,null,null,null,null,null,null,null,null,null,0,null,0]
["Медицинское оборудование","02 1 01 01110",null,null,971,"Приобретение основных средств","000","местный бюджет",{"$f":"SUM(I43:I50)","v":3},null,{"$f":"SUM(K43:K50)","v":45000},{"$f":"SUM(L43:L50)","v":0},{"$f":"SUM(M43:M50)","v":0},{"$f":"SUM(N43:N50)","v":0},{"$f":"SUM(O43:O50)","v":0},0,0,0,0,0,0,0,0,0,0,0,0,0,0,45000,null,45000]
["Облучатель-рециркулятор воздуха ультрафиолетовый бактерицидный",null,null,null,null,null,null,null,3,15000,{"$f":"I43*J43","v":45000},null,null,null,null,null,null,null,null,null,null,null,null,null,null,null,null,null,null,45000,null,45000]
[null,null,null,null,null,null,null,null,null,null,{"$f":"I44*J44","v":0},null,null,null,null,null,null,null,null,null,null,null,null,null,null,null,null,null,null,0,null,0]
[null,null,null,null,null,null,null,null,null,null,0,null,null,null,null,null,null,null,null,null,null,null,null,null,null,null,null,null,null,0,null,0]
[null,null,null,null,null,null,null,null,null,null,0,null,null,null,null,null,null,null,null,null,null,null,null,null,null,null,null,null,null,0,null,0]
[null,null,null,null,null,null,null,null,null,null,0,null,null,null,null,null,null,null,null,null,null,null,null,null,null,null,null,null,null,0,null,0]
[null,null,null,null,null,null,null,null,null,null,0,null,null,null,null,null,null,null,null,null,null,null,null,null,null,null,null,null,null,0,null,0]
[null,null,null,null,null,null,null,null,null,null,0,null,null,null,null,null,null,null,null,null,null,null,null,null,null,null,null,null,null,0,null,0]
[null,null,null,null,null,null,null,null,null,null,0,null,null,null,null,null,null,null,null,null,null,null,null,null,null,null,null,null,null,0,null,0]
["Измерительные приборы","02 1 01 01110",null,null,971,"Приобретение основных средств","000","местный бюджет",{"$f":"SUM(I52:I59)","v":5},null,{"$f":"SUM(K52:K59)","v":10000},{"$f":"SUM(L52:L59)","v":0},{"$f":"SUM(M52:M59)","v":0},{"$f":"SUM(N52:N59)","v":0},{"$f":"SUM(O52:O59)","v":0},0,0,0,0,0,0,0,0,0,0,0,0,0,0,10000,null,10000]
["Термоиндикатор",null,null,null,null,null,null,null,5,2000,{"$f":"I52*J52","v":10000},null,null,null,null,null,null,null,null,null,null,null,null,null,null,null,null,null,null,10000,null,10000]
[null,null,null,null,null,null,null,null,null,null,{"$f":"I53*J53","v":0},null,null,null,null,null,null,null,null,null,null,null,null,null,null,null,null,null,null,0,null,0]
[null,null,null,null,null,null,null,null,null,null,0,null,null,null,null,null,null,null,null,null,null,null,null,null,null,null,null,null,null,0,null,0]
[null,null,null,null,null,null,null,null,null,null,0,null,null,null,null,null,null,null,null,null,null,null,null,null,null,null,null,null,null,0,null,0]
[null,null,null,null,null,null,null,null,null,null,{"$f":"I56*J56","v":0},null,null,null,null,null,null,null,null,null,null,null,null,null,null,null,null,null,null,0,null,0]
[null,null,null,null,null,null,null,null,null,null,0,null,null,null,null,null,null,null,null,null,null,null,null,null,null,null,null,null,null,0,null,0]
[null,null,null,null,null,null,null,null,null,null,0,null,null,null,null,null,null,null,null,null,null,null,null,null,null,null,null,null,null,0,null,0]
[null,null,null,null,null,null,null,null,null,null,0,null,null,null,null,null,null,null,null,null,null,null,null,null,null,null,null,null,null,0,null,0]
["Сантехническое оборудование","02 1 01 01110",null,null,971,"Приобретение основных средств","000","местный бюджет",{"$f":"SUM(I61:I68)","v":10},null,{"$f":"SUM(K61:K68)","v":25000},{"$f":"SUM(L61:L68)","v":0},{"$f":"SUM(M61:M68)","v":0},{"$f":"SUM(N61:N68)","v":0},{"$f":"SUM(O61:O68)","v":0},0,0,0,0,0,0,0,0,0,0,0,0,0,0,25000,null,25000]
["Смеситель",null,null,null,null,null,null,null,10,2500,{"$f":"I61*J61","v":25000},null,null,null,null,null,null,null,null,null,null,null,null,null,null,null,null,null,null,25000,null,25000]
[null,null,null,null,null,null,null,null,null,null,{"$f":"I62*J62","v":0},null,null,null,null,null,null,null,null,null,null,null,null,null,null,null,null,null,null,0,null,0]
[null,null,null,null,null,null,null,null,null,null,0,null,null,null,null,null,null,null,null,null,null,null,null,null,null,null,null,null,null,0,null,0]
[null,null,null,null,null,null,null,null,null,null,0,null,null,null,null,null,null,null,null,null,null,null,null,null,null,null,null,null,null,0,null,0]
[null,null,null,null,null,null,null,null,null,null,0,null,null,null,null,null,null,null,null,null,null,null,null,null,null,null,null,null,null,0,null,0]
[null,null,null,null,null,null,null,null,null,null,0,null,null,null,null,null,null,null,null,null,null,null,null,null,null,null,null,null,null,0,null,0]
[null,null,null,null,null,null,null,null,null,null,0,null,null,null,null,null,null,null,null,null,null,null,null,null,null,null,null,null,null,0,null,0]
[null,null,null,null,null,null,null,null,null,null,0,null,null,null,null,null,null,null,null,null,null,null,null,null,null,null,null,null,null,0,null,0]
["Электропродукция (люстры, бра, облучатели и т.д.)","02 1 01 01110",null,null,971,"Приобретение основных средств","000","местный бюджет",{"$f":"SUM(I70:I77)","v":2},null,{"$f":"SUM(K70:K77)","v":30000},{"$f":"SUM(L70:L77)","v":0},{"$f":"SUM(M70:M77)","v":0},{"$f":"SUM(N70:N77)","v":0},{"$f":"SUM(O70:O77)","v":0},0,0,0,0,0,0,0,0,0,0,0,0,0,0,30000,null,30000]
["Светильник светодиодный (наружное освещение)",null,null,null,null,null,null,null,2,15000,{"$f":"I70*J70","v":30000},null,null,null,null,null,null,null,null,null,null,null,null,null,null,null,null,null,null,30000,null,{"$f":"K70-N70-O70-P70-Q70-R70-S70-T70-U70-V70-W70-X70","v":30000}]
[null,null,null,null,null,null,null,null,null,null,{"$f":"I71*J71","v":0},null,null,null,null,null,null,null,null,null,null,null,null,null,null,null,null,null,null,0,null,0]
[null,null,null,null,null,null,null,null,null,null,0,null,null,null,null,null,null,null,null,null,null,null,null,null,null,null,null,null,null,0,null,0]
[null,null,null,null,null,null,null,null,null,null,0,null,null,null,null,null,null,null,null,null,null,null,null,null,null,null,null,null,null,0,null,0]
[null,null,null,null,null,null,null,null,null,null,0,null,null,null,null,null,null,null,null,null,null,null,null,null,null,null,null,null,null,0,null,0]
[null,null,null,null,null,null,null,null,null,null,0,null,null,null,null,null,null,null,null,null,null,null,null,null,null,null,null,null,null,0,null,0]
[null,null,null,null,null,null,null,null,null,null,0,null,null,null,null,null,null,null,null,null,null,null,null,null,null,null,null,null,null,0,null,0]
[null,null,null,null,null,null,null,null,null,null,0,null,null,null,null,null,null,null,null,null,null,null,null,null,null,null,null,null,null,0,null,0]
["Бытовая техника ","02 1 01 01110",null,null,971,"Приобретение основных средств","000","местный бюджет",{"$f":"SUM(I79:I86)","v":1},null,{"$f":"SUM(K79:K86)","v":25000},{"$f":"SUM(L79:L86)","v":0},{"$f":"SUM(M79:M86)","v":0},{"$f":"SUM(N79:N86)","v":0},{"$f":"SUM(O79:O86)","v":0},0,0,0,0,0,0,0,0,0,0,0,0,0,0,25000,null,25000]
["Холодильник бытовой",null,null,null,null,null,null,null,1,25000,{"$f":"I79*J79","v":25000},null,null,null,null,null,null,null,null,null,null,null,null,null,null,null,null,null,null,25000,null,25000]
[null,null,null,null,null,null,null,null,null,null,{"$f":"I80*J80","v":0},null,null,null,null,null,null,null,null,null,null,null,null,null,null,null,null,null,null,0,null,0]
[null,null,null,null,null,null,null,null,null,null,0,null,null,null,null,null,null,null,null,null,null,null,null,null,null,null,null,null,null,0,null,0]
[null,null,null,null,null,null,null,null,null,null,0,null,null,null,null,null,null,null,null,null,null,null,null,null,null,null,null,null,null,0,null,0]
[null,null,null,null,null,null,null,null,null,null,0,null,null,null,null,null,null,null,null,null,null,null,null,null,null,null,null,null,null,0,null,0]
[null,null,null,null,null,null,null,null,null,null,0,null,null,null,null,null,null,null,null,null,null,null,null,null,null,null,null,null,null,0,null,0]
[null,null,null,null,null,null,null,null,null,null,0,null,null,null,null,null,null,null,null,null,null,null,null,null,null,null,null,null,null,0,null,0]
[null,null,null,null,null,null,null,null,null,null,0,null,null,null,null,null,null,null,null,null,null,null,null,null,null,null,null,null,null,0,null,0]
["Пожарное оборудование","02 1 01 01110",null,null,971,"Приобретение основных средств","000","местный бюджет",{"$f":"SUM(I88:I95)","v":0},null,{"$f":"SUM(K88:K95)","v":0},{"$f":"SUM(L88:L95)","v":0},{"$f":"SUM(M88:M95)","v":0},{"$f":"SUM(N88:N95)","v":0},{"$f":"SUM(O88:O95)","v":0},0,0,0,0,0,0,0,0,0,0,0,0,0,0,0,null,0]
[null,null,null,null,null,null,null,null,null,null,{"$f":"I88*J88","v":0},null,null,null,null,null,null,null,null,null,null,null,null,null,null,null,null,null,null,0,null,0]
[null,null,null,null,null,null,null,null,null,null,{"$f":"I89*J89","v":0},null,null,null,null,null,null,null,null,null,null,null,null,null,null,null,null,null,null,{"$f":"K89-Y89-Z89-AA89-AB89-AC89","v":0},null,0]
[null,null,null,null,null,null,null,null,null,null,0,null,null,null,null,null,null,null,null,null,null,null,null,null,null,null,null,null,null,0,null,0]
[null,null,null,null,null,null,null,null,null,null,0,null,null,null,null,null,null,null,null,null,null,null,null,null,null,null,null,null,null,0,null,0]
[null,null,null,null,null,null,null,null,null,null,0,null,null,null,null,null,null,null,null,null,null,null,null,null,null,null,null,null,null,0,null,0]
[null,null,null,null,null,null,null,null,null,null,0,null,null,null,null,null,null,null,null,null,null,null,null,null,null,null,null,null,null,0,null,0]
[null,null,null,null,null,null,null,null,null,null,0,null,null,null,null,null,null,null,null,null,null,null,null,null,null,null,null,null,null,0,null,0]
[null,null,null,null,null,null,null,null,null,null,0,null,null,null,null,null,null,null,null,null,null,null,null,null,null,null,null,null,null,0,null,0]
["Предметы интерьера","02 1 01 01110",null,null,971,"Приобретение основных средств","000","местный бюджет",{"$f":"SUM(I97:I104)","v":0},null,{"$f":"SUM(K97:K104)","v":0},{"$f":"SUM(L97:L104)","v":0},{"$f":"SUM(M97:M104)","v":0},{"$f":"SUM(N97:N104)","v":0},{"$f":"SUM(O97:O104)","v":0},0,0,0,0,0,0,0,0,0,0,0,0,0,0,0,null,0]
[null,null,null,null,null,null,null,null,null,null,{"$f":"I97*J97","v":0},null,null,null,null,null,null,null,null,null,null,null,null,null,null,null,null,null,null,0,null,0]
[null,null,null,null,null,null,null,null,null,null,{"$f":"I98*J98","v":0},null,null,null,null,null,null,null,null,null,null,null,null,null,null,null,null,null,null,0,null,0]
[null,null,null,null,null,null,null,null,null,null,0,null,null,null,null,null,null,null,null,null,null,null,null,null,null,null,null,null,null,0,null,0]
[null,null,null,null,null,null,null,null,null,null,0,null,null,null,null,null,null,null,null,null,null,null,null,null,null,null,null,null,null,0,null,0]
[null,null,null,null,null,null,null,null,null,null,0,null,null,null,null,null,null,null,null,null,null,null,null,null,null,null,null,null,null,0,null,0]
[null,null,null,null,null,null,null,null,null,null,0,null,null,null,null,null,null,null,null,null,null,null,null,null,null,null,null,null,null,0,null,0]
[null,null,null,null,null,null,null,null,null,null,0,null,null,null,null,null,null,null,null,null,null,null,null,null,null,null,null,null,null,0,null,0]
[null,null,null,null,null,null,null,null,null,null,0,null,null,null,null,null,null,null,null,null,null,null,null,null,null,null,null,null,null,0,null,0]
["Оборудование для прогулочных площадок ","02 1 01 01110",null,null,971,"Приобретение основных средств","000","местный бюджет",{"$f":"SUM(I106:I113)","v":5},null,{"$f":"SUM(K106:K113)","v":210000},{"$f":"SUM(L106:L113)","v":0},{"$f":"SUM(M106:M113)","v":0},{"$f":"SUM(N106:N113)","v":0},{"$f":"SUM(O106:O113)","v":0},0,0,0,0,0,0,0,0,0,0,0,0,0,0,210000,null,210000]
["Теневой навес \"Цветочек\" по 2 шт. на 3 песочницы",null,null,null,null,null,null,null,3,12000,{"$f":"I106*J106","v":36000},null,null,null,null,null,null,null,null,null,null,null,null,null,null,null,null,null,null,36000,null,36000]
["Стойки волейбольные(комплект из двух штук)",null,null,null,null,null,null,null,1,20000,{"$f":"I107*J107","v":20000},null,null,null,null,null,null,null,null,null,null,null,null,null,null,null,null,null,null,20000,null,20000]
["Манеж крытый (оборудование для прогулочной площадки)",null,null,null,null,null,null,null,1,154000,154000,null,null,null,null,null,null,null,null,null,null,null,null,null,null,null,null,null,null,154000,null,154000]
[null,null,null,null,null,null,null,null,null,null,0,null,null,null,null,null,null,null,null,null,null,null,null,null,null,null,null,null,null,0,null,0]
[null,null,null,null,null,null,null,null,null,null,0,null,null,null,null,null,null,null,null,null,null,null,null,null,null,null,null,null,null,0,null,0]
[null,null,null,null,null,null,null,null,null,null,0,null,null,null,null,null,null,null,null,null,null,null,null,null,null,null,null,null,null,0,null,0]
[null,null,null,null,null,null,null,null,null,null,0,null,null,null,null,null,null,null,null,null,null,null,null,null,null,null,null,null,null,0,null,0]
[null,null,null,null,null,null,null,null,null,null,0,null,null,null,null,null,null,null,null,null,null,null,null,null,null,null,null,null,null,0,null,0]
["Хоз. товары и хоз. инвентарь (кухонный инвентарь, инструменты и принадлежности технического персонала и т.д.)","02 1 01 01110",null,null,971,"Приобретение основных средств","000","местный бюджет",{"$f":"SUM(I115:I122)","v":0},null,{"$f":"SUM(K115:K130)","v":0},{"$f":"SUM(L115:L130)","v":0},{"$f":"SUM(M115:M130)","v":0},{"$f":"SUM(N115:N130)","v":0},0,0,0,0,0,0,0,0,0,0,0,0,0,0,0,{"$f":"SUM(AD115:AD130)","v":0},null,0]
[null,null,null,null,null,null,null,null,null,null,{"$f":"I115*J115","v":0},null,null,null,null,null,null,null,null,null,null,null,null,null,null,null,null,null,null,0,null,0]
[null,null,null,null,null,null,null,null,null,null,{"$f":"I116*J116","v":0},null,null,null,null,null,null,null,null,null,null,null,null,null,null,null,null,null,null,0,null,0]
[null,null,null,null,null,null,null,null,null,null,0,null,null,null,null,null,null,null,null,null,null,null,null,null,null,null,null,null,null,0,null,0]
[null,null,null,null,null,null,null,null,null,null,0,null,null,null,null,null,null,null,null,null,null,null,null,null,null,null,null,null,null,0,null,0]
[null,null,null,null,null,null,null,null,null,null,0,null,null,null,null,null,null,null,null,null,null,null,null,null,null,null,null,null,null,0,null,0]
[null,null,null,null,null,null,null,null,null,null,0,null,null,null,null,null,null,null,null,null,null,null,null,null,null,null,null,null,null,0,null,0]
[null,null,null,null,null,null,null,null,null,null,0,null,null,null,null,null,null,null,null,null,null,null,null,null,null,null,null,null,null,0,null,0]
[null,null,null,null,null,null,null,null,null,null,0,null,null,null,null,null,null,null,null,null,null,null,null,null,null,null,null,null,null,0,null,0]
[null,null,null,null,null,null,null,null,null,null,{"$f":"I123*J123","v":0},null,null,null,null,null,null,null,null,null,null,null,null,null,null,null,null,null,null,0,null,0]
[null,null,null,null,null,null,null,null,null,null,{"$f":"I124*J124","v":0},null,null,null,null,null,null,null,null,null,null,null,null,null,null,null,null,null,null,0,null,0]
[null,null,null,null,null,null,null,null,null,null,0,null,null,null,null,null,null,null,null,null,null,null,null,null,null,null,null,null,null,0,null,0]
[null,null,null,null,null,null,null,null,null,null,0,null,null,null,null,null,null,null,null,null,null,null,null,null,null,null,null,null,null,0,null,0]
[null,null,null,null,null,null,null,null,null,null,0,null,null,null,null,null,null,null,null,null,null,null,null,null,null,null,null,null,null,0,null,0]
[null,null,null,null,null,null,null,null,null,null,0,null,null,null,null,null,null,null,null,null,null,null,null,null,null,null,null,null,null,0,null,0]
[null,null,null,null,null,null,null,null,null,null,0,null,null,null,null,null,null,null,null,null,null,null,null,null,null,null,null,null,null,0,null,0]
[null,null,null,null,null,null,null,null,null,null,0,null,null,null,null,null,null,null,null,null,null,null,null,null,null,null,null,null,null,0,null,0]
["Мебель специального назначения, прочая","02 1 01 01110",null,null,971,"Приобретение основных средств","000","местный бюджет",{"$f":"SUM(I132:I139)","v":0},null,{"$f":"SUM(K132:K139)","v":0},{"$f":"SUM(L132:L139)","v":0},{"$f":"SUM(M132:M139)","v":0},{"$f":"SUM(N132:N139)","v":0},{"$f":"SUM(O132:O139)","v":0},0,0,0,0,0,0,0,0,0,0,0,0,0,0,0,null,0]
[null,null,null,null,null,null,null,null,null,null,{"$f":"I132*J132","v":0},null,null,null,null,null,null,null,null,null,null,null,null,null,null,null,null,null,null,0,null,0]
[null,null,null,null,null,null,null,null,null,null,{"$f":"I133*J133","v":0},null,null,null,null,null,null,null,null,null,null,null,null,null,null,null,null,null,null,0,null,0]
[null,null,null,null,null,null,null,null,null,null,0,null,null,null,null,null,null,null,null,null,null,null,null,null,null,null,null,null,null,0,null,{"$f":"K134-N134-O134-P134-Q134-R134-S134-T134-U134-V134-W134-X134","v":0}]
[null,null,null,null,null,null,null,null,null,null,0,null,null,null,null,null,null,null,null,null,null,null,null,null,null,null,null,null,null,0,null,0]
[null,null,null,null,null,null,null,null,null,null,0,null,null,null,null,null,null,null,null,null,null,null,null,null,null,null,null,null,null,0,null,0]
[null,null,null,null,null,null,null,null,null,null,0,null,null,null,null,null,null,null,null,null,null,null,null,null,null,null,null,null,null,0,null,0]
[null,null,null,null,null,null,null,null,null,null,0,null,null,null,null,null,null,null,null,null,null,null,null,null,null,null,null,null,null,0,null,0]
[null,null,null,null,null,null,null,null,null,null,0,null,null,null,null,null,null,null,null,null,null,null,null,null,null,null,null,null,null,0,null,0]
["Итого:","02 1 01 01110",null,null,971,"Приобретение основных средств","000","местный бюджет",{"$f":"I131+I114+I105+I96+I87+I78+I69+I60+I51+I42+I33+I24","v":26},null,{"$f":"K131+K114+K105+K96+K87+K78+K69+K60+K51+K42+K33+K24","v":345000},0,0,0,0,0,0,0,0,0,0,0,0,0,0,0,0,0,0,{"$f":"AD131+AD114+AD105+AD96+AD87+AD78+AD69+AD60+AD51+AD42+AD33+AD24","v":345000},{"$f":"SUM(AE24:AE131)","v":0},345000]
["Методические пособия, наглядно-информационная атрибутика, печатная продукция","02 1 00 75880","Субвенции бюджетам муниципальных образований на финансовое обеспечение государственных гарантий прав граждан на получение общедоступного и бесплатного дошкольного образования в муниципальных дошкольных образовательных организациях, общедоступного и бесплатного дошкольного образования, в муниципальных общеобразовательных организациях в рамках подпрограммы «Развитие дошкольного, общего и дополнительного образования детей» государственной программы Красноярского края «Развитие образования»","065/0701/02 1 00 75880/244",981,"Приобретение расходных материалов",475,"краевой бюджет",null,null,148700,{"$f":"K141","v":148700},{"$f":"L141","v":148700},null,null,null,null,null,null,null,null,null,null,null,null,null,null,null,null,{"$f":"K141-Y141-Z141-AA141-AB141-AC141","v":148700},null,148700]
["Запасные части и комплектующие к звуковому оборудованию и музыкальным инструментам","02 1 00 75880",null,null,981,"Приобретение расходных материалов",475,"краевой бюджет",null,null,null,null,null,null,null,null,null,null,null,null,null,null,null,null,null,null,null,null,null,{"$f":"K142-Y142-Z142-AA142-AB142-AC142","v":0},null,0]
["Швейная фурнитура","02 1 00 75880",null,null,981,"Приобретение расходных материалов",475,"краевой бюджет",null,null,null,null,null,null,null,null,null,null,null,null,null,null,null,null,null,null,null,null,null,{"$f":"K143-Y143-Z143-AA143-AB143-AC143","v":0},null,0]
["Канцелярия","02 1 00 75880",null,null,981,"Приобретение расходных материалов",475,"краевой бюджет",null,null,null,null,null,null,null,null,null,null,null,null,null,null,null,null,null,null,null,null,null,{"$f":"K144-Y144-Z144-AA144-AB144-AC144","v":0},null,0]
["Расходы, вычитаемые на городские культурно-массовые мероприятия, за исключением внутрисадовских мероприятий","02 1 00 75880",null,null,981,"Приобретение расходных материалов",475,"краевой бюджет",null,null,null,null,null,null,null,null,null,null,null,null,null,null,null,null,null,null,null,null,null,{"$f":"K145-Y145-Z145-AA145-AB145-AC145","v":0},null,0]
["Итого:","02 1 00 75880",null,null,981,"Приобретение расходных материалов",475,"краевой бюджет",null,null,{"$f":"SUM(K141:K145)","v":148700},{"$f":"SUM(L141:L145)","v":148700},{"$f":"SUM(M141:M145)","v":148700},{"$f":"SUM(N141:N145)","v":0},{"$f":"SUM(O141:O145)","v":0},0,0,0,0,0,0,0,0,0,{"$f":"SUM(Y141:Y145)","v":0},{"$f":"SUM(Z141:Z145)","v":0},{"$f":"SUM(AA141:AA145)","v":0},{"$f":"SUM(AB141:AB145)","v":0},{"$f":"SUM(AC141:AC145)","v":0},{"$f":"SUM(AD141:AD145)-AD145","v":148700},{"$f":"SUM(AE141:AE145)","v":0},148700]
["Аудио-видео-цифровая-фото техника","02 1 00 75880",null,"065/0701/02 1 00 75880/244",971,"Приобретение основных средств",475,"краевой бюджет",null,null,276200,{"$f":"K147","v":276200},{"$f":"K147","v":276200},null,null,null,null,null,null,null,null,null,null,null,null,null,null,null,null,{"$f":"K147-Y147-Z147-AA147-AB147-AC147","v":276200},null,276200]
["Мультимедийная аппаратура","02 1 00 75880",null,null,971,"Приобретение основных средств",475,"краевой бюджет",null,null,null,null,null,null,null,null,null,null,null,null,null,null,null,null,null,null,null,null,null,0,null,0]
["Музыкальные инструменты","02 1 00 75880",null,null,971,"Приобретение основных средств",475,"краевой бюджет",null,null,null,null,null,null,null,null,null,null,null,null,null,null,null,null,null,null,null,null,null,0,null,0]
["Спортивное оборудование и инвентарь ","02 1 00 75880",null,null,971,"Приобретение основных средств",475,"краевой бюджет",null,null,null,null,null,null,null,null,null,null,null,null,null,null,null,null,null,null,null,null,null,0,null,0]
["Звуковое оборудование ","02 1 00 75880",null,null,971,"Приобретение основных средств",475,"краевой бюджет",null,null,null,null,null,null,null,null,null,null,null,null,null,null,null,null,null,null,null,null,null,0,null,0]
["Мебель детская для организации учебно-образовательного процесса","02 1 00 75880",null,null,971,"Приобретение основных средств",475,"краевой бюджет",null,null,null,null,null,null,null,null,null,null,null,null,null,null,null,null,null,null,null,null,null,0,null,0]
["Учебно-игровое оборудование, методическая художественная литература (книги)","02 1 00 75880",null,null,971,"Приобретение основных средств",475,"краевой бюджет",null,null,null,null,null,null,null,null,null,null,null,null,null,null,null,null,null,null,null,null,null,0,null,0]
["Итого:","02 1 00 75880",null,null,971,"Приобретение основных средств",475,"краевой бюджет",null,null,{"$f":"SUM(K147:K153)","v":276200},276200,276200,0,0,0,0,0,0,0,0,0,0,0,0,0,0,0,0,276200,0,276200]
["Расходные материалы, комплектующие и запасные части  к компьютерной и оргтехнике","02.1.00.74080","Субвенции бюджетам муниципальных образований на обеспечение государственных гарантий реализации прав на получение общедоступного и бесплатного дошкольного образования в муниципальных дошкольных образовательных организациях, общедоступного и бесплатного дошкольного образования в муниципальных общеобразовательных организациях в части обеспечения деятельности административного и учебно-вспомогательного персонала муниципальных дошкольных образовательных и общеобразовательных организаций в рамках подпрограммы «Развитие дошкольного, общего и дополнительного образования детей» государственной программы Красноярского края «Развитие образования»","065/0701/02.1.00.74080/244",981,"Приобретение расходных материалов",475,"краевой бюджет",null,null,195900,{"$f":"K155","v":195900},{"$f":"K155","v":195900},null,null,null,null,null,null,null,null,null,null,null,null,null,null,null,null,{"$f":"K155-Y155-Z155-AA155-AB155-AC155","v":195900},null,195900]
["Бумага офисная","02.1.00.74080",null,null,981,"Приобретение расходных материалов",475,"краевой бюджет",null,null,null,null,null,null,null,null,null,null,null,null,null,null,null,null,null,null,null,null,null,{"$f":"K156-Y156-Z156-AA156-AB156-AC156","v":0},null,0]
["Канцелярские принадлежности, материалы и предметы инвентаря, ткани необходимые для организации деятельности работников ","02.1.00.74080",null,null,981,"Приобретение расходных материалов",475,"краевой бюджет",null,null,null,null,null,null,null,null,null,null,null,null,null,null,null,null,null,null,null,null,null,{"$f":"K157-Y157-Z157-AA157-AB157-AC157","v":0},null,0]
["Итого:","02.1.00.74080",null,null,981,"Приобретение расходных материалов",475,"краевой бюджет",null,null,{"$f":"SUM(K155:K157)","v":195900},{"$f":"SUM(L155:L157)","v":195900},195900,0,0,0,0,0,0,0,0,0,0,0,0,0,0,0,0,195900,0,195900]
["Изделия медицинского назначения расходные материалы (аптечки)","02.1.00.74080",null,"065/0701/02.1.00.74080/244",982,"Приобретение медикаментов, перевязочных средств, изделий медицинского назначения и дезинфицирующих средств для медицинских целей",475,"краевой бюджет",null,null,30400,{"$f":"K159","v":30400},{"$f":"K159","v":30400},null,null,null,null,null,null,null,null,null,null,null,null,null,null,null,null,{"$f":"K159-Y159-Z159-AA159-AB159-AC159","v":30400},null,30400]
["Итого:","02.1.00.74080",null,null,982,"Приобретение медикаментов, перевязочных средств, изделий медицинского назначения и дезинфицирующих средств для медицинских целей",475,"краевой бюджет",null,null,{"$f":"SUM(K159:K159)","v":30400},{"$f":"SUM(L159:L159)","v":30400},30400,0,0,0,0,0,0,0,0,0,0,0,0,0,0,0,0,30400,{"$f":"SUM(AE159)","v":0},30400]
["Компьютерная техника","02.1.00.74080",null,"065/0701/02.1.00.74080/244",971,"Приобретение основных средств",475,"краевой бюджет",null,null,null,null,null,null,null,null,null,null,null,null,null,null,null,null,null,null,null,null,null,{"$f":"K161-Y161-Z161-AA161-AB161-AC161","v":0},null,0]
["Орг.техника","02.1.00.74080",null,null,971,"Приобретение основных средств",475,"краевой бюджет",null,null,null,null,null,null,null,null,null,null,null,null,null,null,null,null,null,null,null,null,null,{"$f":"K162-Y162-Z162-AA162-AB162-AC162","v":0},null,0]
["Мебель офисная","02.1.00.74080",null,null,971,"Приобретение основных средств",475,"краевой бюджет",null,null,null,null,null,null,null,null,null,null,null,null,null,null,null,null,null,null,null,null,null,{"$f":"K163-Y163-Z163-AA163-AB163-AC163","v":0},null,0]
["Итого:","02.1.00.74080",null,null,971,"Приобретение основных средств",475,"краевой бюджет",{"$f":"SUM(I161:I163)","v":0},0,0,0,0,0,{"$f":"SUM(O161:O163)","v":0},0,0,0,0,0,0,0,0,0,0,0,0,0,{"$f":"SUM(AC161:AC163)","v":0},0,{"$f":"AE8+AE23+AE140+AE146+AE154+AE158+AE160","v":0},0]
["ВСЕГО                                                                             приобретений ТМЦ в 2017 году","02.1.01.01110","Мероприятие: 1.1.1 Организация предоставления общедоступного и бесплатного дошкольного образования, создание условий для осуществления присмотра и ухода за детьми","065/0701/02 1 01 01110/244",985,"Приобретение мягкого инвентаря","000","местный бюджет ",null,null,{"$f":"K8","v":52300},52300,52300,0,0,0,0,0,0,0,0,0,0,0,0,0,0,0,0,52300,null,{"$f":"K165-N165-O165-P165-Q165-R165-S165-T165-U165-V165-W165-X165","v":52300}]
[null,null,null,null,981,"Приобретение расходных материалов","000","местный бюджет ",null,null,{"$f":"K23","v":398000},167800,167800,0,0,0,0,0,0,0,0,0,0,0,0,0,0,0,0,398000,null,398000]
[null,null,null,null,971,"Приобретение основных средств","000","местный бюджет ",{"$f":"I140","v":26},null,{"$f":"K140","v":345000},0,0,0,0,0,0,0,0,0,0,0,0,0,0,0,0,0,0,345000,null,345000]
[null,"02.1.00.75880","Субвенции бюджетам муниципальных образований на финансовое обеспечение государственных гарантий прав граждан на получение общедоступного и бесплатного дошкольного образования в муниципальных дошкольных образовательных организациях, общедоступного и бесплатного дошкольного образования, в муниципальных общеобразовательных организациях в рамках подпрограммы «Развитие дошкольного, общего и дополнительного образования детей» государственной программы Красноярского края «Развитие образования»","065/0701/02 1 00 75880/244",981,"Приобретение расходных материалов",475,"краевой бюджет",null,null,{"$f":"K146","v":148700},148700,148700,0,0,0,0,0,0,0,0,0,0,0,0,0,0,0,0,148700,null,148700]
[null,null,null,null,971,"Приобретение основных средств",475,"краевой бюджет",null,null,{"$f":"K154","v":276200},276200,276200,0,0,0,0,0,0,0,0,0,0,0,0,0,0,0,0,276200,null,276200]
[null,"02.1.00.74080","Субвенции бюджетам муниципальных образований на обеспечение государственных гарантий реализации прав на получение общедоступного и бесплатного дошкольного образования в муниципальных дошкольных образовательных организациях, общедоступного и бесплатного дошкольного образования в муниципальных общеобразовательных организациях в части обеспечения деятельности административного и учебно-вспомогательного персонала муниципальных дошкольных образовательных и общеобразовательных организаций в рамках подпрограммы «Развитие дошкольного, общего и дополнительного образования детей» государственной программы Красноярского края «Развитие образования»","065/0701/02.1.00.74080/244",981,"Приобретение расходных материалов",475,"краевой бюджет",null,null,{"$f":"K158","v":195900},195900,195900,0,0,0,0,0,0,0,0,0,0,0,0,0,0,0,0,195900,null,195900]
[null,null,null,null,982,"Приобретение медикаментов, перевязочных средств, изделий медицинского назначения и дезинфицирующих средств для медицинских целей",475,"краевой бюджет",null,null,30400,30400,30400,0,0,0,0,0,0,0,0,0,0,0,0,0,0,0,0,30400,null,30400]
[null,null,null,null,971,"Приобретение основных средств",475,"краевой бюджет",null,null,{"$f":"K164","v":0},{"$f":"L164","v":0},{"$f":"M164","v":0},{"$f":"N164","v":0},0,0,0,0,0,0,0,0,0,0,0,0,0,0,0,0,null,0]
[null,null,null,null,null,null,null,null,null,null,{"$f":"K165+K166+K167+K168+K169+K170+K172+K171","v":1446500},{"$f":"L165+L166+L167+L168+L169+L170+L172+L171","v":871300},{"$f":"M165+M166+M167+M168+M169+M170+M172+M171","v":871300},null,null,null,null,null,null,null,null,null,null,null,null,null,null,null,null,{"$f":"AD165+AD166+AD167+AD168+AD169+AD170+AD172+AD171","v":1446500}]

{"sheet":"340.981,985","index":18,"n_rows":34,"n_cols":15,"rows_kept":34,"cut":false,"hidden":false,"merged":[[0,0,0,12]]}
["СМЕТА приобретений товаров для организации присмотра и ухода воспитанников дошкольного образования на 2017-2019 гг.  за счет средств родительской платы.  МБДОУ \"ДС №  90 \"Цветик-семицветик\""]
["КБК 000 0000 0000000000 244 "]
[null,null,null,null,null,null,null,null,null,null,null,null,"руб."]
["Наименование товара","Единица измерения нормы","Доп КР","Наименование Доп КР","Доп ЭК ","Кол-во для детей раннего возраста в год (от 1.5 до 3 лет)","кол-во мес. планирования","Кол-во для детей дошкольного возраста в год (от 3 до 7 лет)","кол-во мес. планирования","Кол-во для детей дошкольного возраста в год круглосуточного пребывания (от 3 до 7 лет)","кол-во мес. планирования","Цена руб.","Сумма ассигнований на 2017-2019 гг.","Среднеявочная числ. детей раннего возраста в год (от 1.5 до 3 лет)","Среднеявочная числ. детей дошкольного возраста в год (от 3 до 7 лет)"]
[1,2,3,4,6,7,null,8,null,9,null,10,11,158,26]
["Мыло туалетное (100 гр.)","Шт.",981,"Приобретение расходных материалов",810,{"$f":"MROUND('[16]СВОД расчетный'!C5*N5,1)*G6","v":128},4,{"$f":"MROUND('[16]СВОД расчетный'!D5*O5,1)*I6","v":32},4,null,4,20.88,{"$f":"(F6+H6)*L6","v":3340.7999999999997}]
["Туалетная бумага  (54 м.)","Рулонов",981,"Приобретение расходных материалов",810,{"$f":"MROUND('[16]СВОД расчетный'!C6*N5,1)*G7","v":128},4,{"$f":"MROUND('[16]СВОД расчетный'!D6*O5,1)*I7","v":20},4,null,4,29,{"$f":"(F7+H7)*L7","v":4292}]
["Салфетка бумажная (четырехслойная 12см.* 12см.)-100шт. В пачке","Пачек",981,"Приобретение расходных материалов",810,{"$f":"MROUND('[16]СВОД расчетный'!C7*N5,1)*G8","v":632},4,{"$f":"MROUND('[16]СВОД расчетный'!D7*O5,1)*I8","v":88},4,null,4,41,{"$f":"(F8+H8)*L8","v":29520}]
["Тарелка мелкая фарфор","Шт.",981,"Приобретение расходных материалов",810,{"$f":"MROUND('[16]СВОД расчетный'!C8*N5,1)*G9","v":128},4,{"$f":"MROUND('[16]СВОД расчетный'!D8*O5,1)*I9","v":20},4,null,4,90,13320]
["Тарелка п/п глубокая фарфор","Шт.",981,"Приобретение расходных материалов",810,{"$f":"MROUND('[16]СВОД расчетный'!C9*N5,1)*G10","v":128},4,{"$f":"MROUND('[16]СВОД расчетный'!D9*O5,1)*I10","v":20},4,null,4,90,13320]
["Тарелка пирожковая мелкая фарфор","Шт.",981,"Приобретение расходных материалов",810,{"$f":"MROUND('[16]СВОД расчетный'!C10*N5,1)*G11","v":128},4,{"$f":"MROUND('[16]СВОД расчетный'!D10*O5,1)*I11","v":20},4,null,4,85.5,12654]
["Чайная пара фарфор","Шт.",981,"Приобретение расходных материалов",810,{"$f":"MROUND('[16]СВОД расчетный'!C11*N5,1)*G12","v":128},4,{"$f":"MROUND('[16]СВОД расчетный'!D11*O5,1)*I12","v":20},4,null,4,105,15540]
["Итого:",null,981,"Приобретение расходных материалов",810,{"$f":"SUM(F6:F12)","v":1400},null,{"$f":"SUM(H6:H12)","v":220},null,{"$f":"SUM(J6:J12)","v":0},null,null,{"$f":"SUM(M6:M12)","v":91986.8},{"$f":"M13/4*12","v":275960.40000000002}]
["Клеенка подкладочная","штук",985,"Приобретение мягкого инвентаря",810,{"$f":"MROUND('[16]СВОД расчетный'!C13*N5,1)*G14","v":8},2,{"$f":"MROUND('[16]СВОД расчетный'!D13*O5,1)*I14","v":2},2,null,2,200,{"$f":"(F14+H14)*L14","v":2000}]
["Полотенце махровое","штук",985,"Приобретение мягкого инвентаря",810,{"$f":"MROUND('[16]СВОД расчетный'!C14*N5,1)*G15","v":54},2,{"$f":"MROUND('[16]СВОД расчетный'!D14*O5,1)*I15","v":8},2,null,2,225,13950]
["Полотенце вафельное","штук",985,"Приобретение мягкого инвентаря",810,{"$f":"MROUND('[16]СВОД расчетный'!C15*N5,1)*G16","v":26},2,{"$f":"MROUND('[16]СВОД расчетный'!D15*O5,1)*I16","v":4},2,null,2,58,1740]
["Матрацовка (тик матрацовочный)","штук",985,"Приобретение мягкого инвентаря",810,{"$f":"MROUND('[16]СВОД расчетный'!C16*N5,1)*G17","v":26},2,{"$f":"MROUND('[16]СВОД расчетный'!D16*O5,1)*I17","v":4},2,null,2,350,10500]
["Пеленка фланелевая","штук",985,"Приобретение мягкого инвентаря",810,{"$f":"MROUND('[16]СВОД расчетный'!C17*N5,1)*G18","v":54},2,{"$f":"MROUND('[16]СВОД расчетный'!D17*O5,1)*I18","v":8},2,null,2,100,6200]
["Пижама детская (сорочка)","штук",985,"Приобретение мягкого инвентаря",810,{"$f":"MROUND('[16]СВОД расчетный'!C18*N5,1)*G19","v":54},2,{"$f":"MROUND('[16]СВОД расчетный'!D18*O5,1)*I19","v":8},2,null,2,550,34100]
["Наволочка верхняя                                                               (бязь белоземельная)","штук",985,"Приобретение мягкого инвентаря",810,{"$f":"MROUND('[16]СВОД расчетный'!C19*N5,1)*G20","v":26},2,{"$f":"MROUND('[16]СВОД расчетный'!D19*O5,1)*I20","v":4},2,null,2,100,3000]
["Наволочка нижняя (тик перовой)","штук",985,"Приобретение мягкого инвентаря",810,{"$f":"MROUND('[16]СВОД расчетный'!C20*N5,1)*G21","v":6},2,{"$f":"MROUND('[16]СВОД расчетный'!D20*O5,1)*I21","v":2},2,null,2,230,1840]
["Простыня (бязь белоземельная)","штук",985,"Приобретение мягкого инвентаря",810,{"$f":"MROUND('[16]СВОД расчетный'!C21*N5,1)*G22","v":18},2,{"$f":"MROUND('[16]СВОД расчетный'!D21*O5,1)*I22","v":4},2,null,2,250,5500]
["Пододеяльник (бязь белоземельная)","штук",985,"Приобретение мягкого инвентаря",810,{"$f":"MROUND('[16]СВОД расчетный'!C22*N5,1)*G23","v":18},2,{"$f":"MROUND('[16]СВОД расчетный'!D22*O5,1)*I23","v":4},2,null,2,450,9900]
["Подушка с искусственным наполнителем","штук",985,"Приобретение мягкого инвентаря",810,{"$f":"MROUND('[16]СВОД расчетный'!C23*N5,1)*G24","v":26},2,{"$f":"MROUND('[16]СВОД расчетный'!D23*O5,1)*I24","v":4},2,null,2,450,13500]
["Матрац ватный","штук",985,"Приобретение мягкого инвентаря",810,{"$f":"MROUND('[16]СВОД расчетный'!C24*N5,1)*G25","v":6},2,{"$f":"MROUND('[16]СВОД расчетный'!D24*O5,1)*I25","v":2},2,null,2,1350,10800]
["Одеяло теплое п./шерстяное","штук",985,"Приобретение мягкого инвентаря",810,{"$f":"MROUND('[16]СВОД расчетный'!C25*N5,1)*G26","v":6},2,{"$f":"MROUND('[16]СВОД расчетный'!D25*O5,1)*I26","v":2},2,null,2,1350,10800]
["Покрывало гобеленовое","штук",985,"Приобретение мягкого инвентаря",810,{"$f":"MROUND('[16]СВОД расчетный'!C26*N5,1)*G27","v":6},2,{"$f":"MROUND('[16]СВОД расчетный'!D26*O5,1)*I27","v":2},2,null,2,800,6400]
["Итого:",null,985,"Приобретение мягкого инвентаря",810,{"$f":"SUM(F14:F27)","v":334},null,{"$f":"SUM(H14:H27)","v":58},null,{"$f":"SUM(J14:J27)","v":0},null,null,{"$f":"SUM(M14:M27)","v":130230},{"$f":"M28*12","v":1562760}]
["ВСЕГО",null,981,"Приобретение мягкого инвентаря",810,{"$f":"F13","v":1400},null,220,null,{"$f":"J13","v":0},null,null,{"$f":"MROUND(M13,100)","v":92000}]
[null,null,985,"Приобретение расходных материалов",810,{"$f":"F28","v":334},null,58,null,{"$f":"J28","v":0},null,null,{"$f":"MROUND(M28,100)","v":130200}]
[null,null,null,null,null,null,null,null,null,null,null,null,{"$f":"MROUND(M29+M30,100)","v":222200},{"$f":"MROUND(N13+N28,100)","v":1838700}]
[]
["Исполнитель: Е.С. Миронова"]
["тел.  43 72 00*3224"]

{"sheet":"доходы 2017","index":19,"n_rows":5,"n_cols":126,"rows_kept":5,"cut":false,"hidden":false,"merged":[[0,0,0,17],[0,18,0,35],[0,36,0,53],[0,54,0,71],[0,72,0,89],[0,108,0,125],[1,71,2,71],[1,89,2,89],[1,107,2,107],[1,125,2,125],[0,90,0,107]]}
["Среднегодовая чсиленность 2012 год",null,null,null,null,null,null,null,null,null,null,null,null,null,null,null,null,null,"коэф. Роста численности в 2012 году",null,null,null,null,null,null,null,null,null,null,null,null,null,null,null,null,null,"Среднеявочная численность 2017 год",null,null,null,null,null,null,null,null,null,null,null,null,null,null,null,null,null,"Среднее количество дней посещения  2017 год",null,null,null,null,null,null,null,null,null,null,null,null,null,null,null,null,null,"Детодни  2017 год",null,null,null,null,null,null,null,null,null,null,null,null,null,null,null,null,null,"Средний размер родительской платы  в день 2017 год ",null,null,null,null,null,null,null,null,null,null,null,null,null,null,null,null,null,"ДОХОДЫ  2017 год"]
["№","январь","февраль ","март","1 квартал","апрель","май","июнь","2 квартал","июль","август","сентябрь","3 квартал","октябрь","ноябрь","декабрь","4 квартал","среднеявочная","№","январь","февраль ","март","1 квартал","апрель","май","июнь","2 квартал","июль","август","сентябрь","3 квартал","октябрь","ноябрь","декабрь","4 квартал","средний показатель","№","январь","февраль ","март","1 квартал","апрель","май","июнь","2 квартал","июль","август","сентябрь","3 квартал","октябрь","ноябрь","декабрь","4 квартал","среднеявочная","№","январь","февраль ","март","1 квартал","апрель","май","июнь","2 квартал","июль","август","сентябрь","3 квартал","октябрь","ноябрь","декабрь","4 квартал","Ср. кол-во дней пос. - 2017 год","№","январь","февраль ","март","1 квартал","апрель","май","июнь","2 квартал","июль","август","сентябрь","3 квартал","октябрь","ноябрь","декабрь","4 квартал","детодни - 2017 год","№","январь","февраль ","март","1 квартал","апрель","май","июнь","2 квартал","июль","август","сентябрь","3 квартал","октябрь","ноябрь","декабрь","4 квартал"," 2017 год","№","январь","февраль ","март","1 квартал","апрель","май","июнь","2 квартал","июль","август","сентябрь","3 квартал","октябрь","ноябрь","декабрь","4 квартал","доходы - 2017 год"]
[" д/у",null,null,null,null,null,null,null,null,null,null,null,null,null,null,null,null,null," д/у",null,null,null,null,null,null,null,null,null,null,null,null,null,null,null,null,null," д/у",null,null,null,null,null,null,null,null,null,null,null,null,null,null,null,null,null," д/у",null,null,null,null,null,null,null,null,null,null,null,null,null,null,null,null,null," д/у",null,null,null,null,null,null,null,null,null,null,null,null,null,null,null,null,null," д/у",null,null,null,null,null,null,null,null,null,null,null,null,null,null,null,null,null," д/у"]
[90,177.8,176,177.6,177.13333333333333,171,124,65,120,71,76,107,84.666666666666671,169.35999999999999,194.88,206.48,190.24,143.01,90,1.155,1.155,1.155,1.155,1.155,1.155,1.155,1.155,1.155,1.155,1.155,1.155,1,1,1,1,1.1162500000000002,90,222.62443438914028,229.02488687782807,219.50769230769231,223.71900452488686,207.23557692307693,161.08917525773194,116.184375,161.50304239360295,96.945454545454538,114.58946808510639,156.34974874371861,122.62822379142649,216.23870967741934,230.98475336322869,236.38567567567569,227.86971290544125,183.92999590383937,90,13.930723981900455,17.609782112676832,17.15969271153617,16.233399602037821,19.18253638253638,16.541406887782745,19.331597222222221,18.351846830847116,24.581212643228156,16.735912722621688,19.659999059371732,20.325708141740524,18.496683406097972,13.402048055685697,20.119823296891919,17.339518252891864,18.062618206879328,90,3101.3195471018207,4033.0783562990118,3766.6845478184318,10901.082451219265,3975.3039940828398,2664.6415931554889,2246.029541015625,8885.9751282539546,2383.0368329762277,1917.7593368039838,3073.8359132345145,7374.6320830147251,3999.6989530463593,3095.6687647046992,4756.0380245109973,11851.405742262055,39013.095404749998,90,200.59928086296443,178.12596006144392,181.84210526315789,186.85578206252208,159.50126262626262,196.62357794253109,139.5147845924366,165.21320838707678,144.3826473859844,171.62179094044484,82.583722860039757,132.86272039548967,187.4552218382635,156.25967488468515,137.41243827405847,160.3757783323357,161.32687229435604,90,622122.47087487974,718395.95421879168,684941.8480375096,2025460.273131181,634066.00637943775,523931.36398071848,313354.32760304416,1471351.6979632005,344069.16676341969,329129.29197505943,253848.81317579636,927047.27191427536,749764.45452957554,483728.1947234312,653538.78147219238,1887031.4307251992,6310900]
[null,null,null,null,null,null,null,null,null,null,null,null,null,null,null,null,null,null,null,null,null,null,null,null,null,null,null,null,null,null,null,null,null,null,null,null,null,null,null,null,null,null,null,null,null,null,null,null,null,null,null,null,null,null,null,null,null,null,null,null,null,null,null,null,null,null,null,null,null,null,null,null,null,null,null,null,null,null,null,null,null,null,null,null,null,null,null,null,null,null,null,null,null,null,null,null,null,null,null,null,null,null,null,null,null,null,null,null,null,null,null,null,null,null,null,null,null,null,null,null,null,null,null,null,null,{"$f":"'340.983 питание'!F4+'340.981,985'!M31","v":6310900}]

{"sheet":"платные услуги","index":20,"n_rows":63,"n_cols":5,"rows_kept":63,"cut":false,"hidden":false,"merged":[[49,0,49,1],[49,2,49,4],[6,0,6,1],[6,2,6,3],[7,0,7,1],[7,2,7,3],[8,0,8,1],[8,2,8,3],[9,0,9,1],[9,2,9,3],[30,2,30,3],[34,0,34,1],[34,2,34,4],[1,0,1,4],[2,0,2,4],[3,0,3,4],[4,0,4,1],[5,0,5,1],[5,2,5,3]]}
[]
["РАСЧЕТ"]
["цены платной дополнительной образовательной услуги"]
["МБДОУ \"Детский сад № 90 \"Цветик-семицветик\" на 2016-2017 учебный год"]
["в расчете на 1 группу"]
["Период обучения (октябрь-апрель)",null,"месяц",null,7]
["Число часов (астрономических)",null,"час",null,29]
["Численность обучающихся в группе",null,"чел.",null,10]
["Уровень рентабельности",null,"%",null,0.2]
["Количество групп (справочно)",null,"гр.",null,2]
[]
["№ п/п","Показатели","Единица измерения","Обозначение показателя","Спортивная секция \"Малыши-крепыши\" (обучение элементам спортивных игр)"]
["1.","Затраты, необходимые на выполнение услуги, всего (смета затрат) (п.1.3 + п.1.4 + п.1.5 + п.1.6), в том числе:","руб.","С",{"$f":"E16+E17+E18+E19","v":34056.164578819502}]
["1.1.","Начисленный совокупный доход педагогического персонала, непосредственно оказывающего платные дополнительные образовательные услуги","руб.",null,{"$f":"[17]пред.час.ставка!AB10","v":10143.90901240574}]
["1.2.","Сумма страховых взносов в государственные внебюджетные фонды по пункту 1.1","руб.",null,{"$f":"E14*0.271","v":2748.9993423619558}]
["1.3.","Затраты на оплату труда, всего (п.1.1 + п.1.2)","руб.","Зот.",{"$f":"E14+E15","v":12892.908354767696}]
["1.4.","Затраты на приобретение материальных ресурсов, направляемых на обеспечение образовательного процесса и потребляемых в процессе оказания платных дополнительных образовательных услуг","руб.","Змр.",{"$f":"[17]мат.затраты!F11","v":0}]
["1.5.","Сумма начисленной амортизации оборудования, используемого для оказания платной дополнительной образовательной услуги, приобретенного за счет средств от приносящей доход деятельности учреждения","руб.","Аоб.",0]
["1.6.","Накладные расходы, всего (п.1.6.1 + п.1.6.2), из них:","руб.",null,{"$f":"E20+E21","v":21163.256224051809}]
["1.6.1.","Накладные расходы муниципального образовательного учреждения, связанные с содержанием административно-управленческого персонала","руб.","Науп.",{"$f":"E16*'[17]Кн АУП'!$E$13","v":10579.975753335713}]
["1.6.2.","Накладные расходы муниципального образовательного учреждения, связанные с эксплуатацией недвижимого имущества","руб.","Нэксп.",{"$f":"'[17]сод.имущ. '!E19","v":10583.280470716096}]
["2.","Прибыль","руб.",null,{"$f":"E13*E9","v":6811.2329157639006}]
["3.","Стоимость курса обучения (п.1 + п.2)","руб.",null,{"$f":"E13+E22","v":40867.397494583405}]
["4.","Плата за дополнительную образовательную услугу за одного учащегося:"]
["4.1.","за весь курс обучения","руб.",null,{"$f":"E23/E8","v":4086.7397494583406}]
["4.2.","за месяц (на число месяцев обучения)","руб.",null,{"$f":"E25/E6","v":583.81996420833434}]
["4.3.","за час","руб.",null,{"$f":"E25/E7","v":140.92206032614968}]
[]
[]
["Начальник планово-экономического отдела",null,null,null,"В.В. Гоннова"]
[null,null,"(подпись)"]
["Засядько Н.В."]
["43-72-00*3225"]
[]
["План доходов первонач. (МП \"Развитие образования\")",null,"План доходов помесячно первонач."]
[955,{"$f":"$E$16*2+$E$20*2","v":46945.768216206823},2016,{"$f":"SUM(D37:D39)","v":35029.19785250006},{"$f":"SUM(E37:E39)","v":35029.19785250006}]
[981,{"$f":"$E$17*2","v":0},"октябрь",{"$f":"SUM(E37)","v":11676.399284166688},{"$f":"$E$23/$E$6*$E$10","v":11676.399284166688}]
[932,{"$f":"$E$21*2","v":21166.560941432192},"ноябрь",{"$f":"SUM(E38)","v":11676.399284166688},{"$f":"$E$23/$E$6*$E$10","v":11676.399284166688}]
["прибыль",{"$f":"$E$22*2","v":13622.465831527801},"декабрь",11676.399284166688,11676.399284166688]
[981,{"$f":"B39*0.75","v":10216.849373645851},2017,{"$f":"SUM(D41:D45)","v":46705.597136666751},{"$f":"SUM(E41:E45)","v":46705.597136666751}]
[991,{"$f":"B39-B40-B42","v":2679.4779369645553},"январь",{"$f":"SUM(E41)","v":11676.399284166688},{"$f":"$E$23/$E$6*$E$10","v":11676.399284166688}]
[992,{"$f":"(B39-B40)/127.1*27.1","v":726.13852091739454},"февраль",{"$f":"SUM(E42)","v":11676.399284166688},{"$f":"$E$23/$E$6*$E$10","v":11676.399284166688}]
["Итого",{"$f":"SUM(B36:B39)","v":81734.794989166825},"март",{"$f":"SUM(E43)","v":11676.399284166688},{"$f":"$E$23/$E$6*$E$10","v":11676.399284166688}]
["проверка",{"$f":"$E$23*2","v":81734.79498916681},"апрель",{"$f":"SUM(E44)","v":11676.399284166688},{"$f":"$E$23/$E$6*$E$10","v":11676.399284166688}]
[null,{"$f":"B43-B44","v":0},"май",{"$f":"SUM(E45)","v":0}]
[null,null,"Итого",{"$f":"SUM(D36,D40)","v":81734.79498916681},{"$f":"SUM(E36,E40)","v":81734.79498916681}]
[null,null,"проверка",{"$f":"SUM(E46)","v":81734.79498916681},{"$f":"$E$23*$E$10","v":81734.79498916681}]
[null,null,null,{"$f":"D46-D47","v":0}]
[]
["План доходов на 01.12.2016 (планы ФХД на 2017 год)",null,"План доходов помесячно на 01.12.2016"]
[955,{"$f":"$E$16*$E$10+$E$20*$E$10","v":46945.768216206823},2016,{"$f":"SUM(D52:D54)","v":35029.19785250006},{"$f":"SUM(E52:E54)","v":35029.19785250006}]
[981,{"$f":"$E$17*$E$10","v":0},"октябрь",{"$f":"SUM(E52)","v":11676.399284166688},{"$f":"$E$23/$E$6*$E$10","v":11676.399284166688}]
[932,{"$f":"$E$21*$E$10","v":21166.560941432192},"ноябрь",{"$f":"SUM(E53)","v":11676.399284166688},{"$f":"$E$23/$E$6*$E$10","v":11676.399284166688}]
["прибыль",{"$f":"$E$22*$E$10","v":13622.465831527801},"декабрь",11676.399284166688,11676.399284166688]
[981,{"$f":"B54*0.75","v":10216.849373645851},2017,{"$f":"SUM(D56:D60)","v":46705.597136666751},{"$f":"SUM(E56:E60)","v":46705.597136666751}]
[991,{"$f":"B54-B55-B57","v":2679.4779369645553},"январь",{"$f":"SUM(E56)","v":11676.399284166688},{"$f":"$E$23/$E$6*$E$10","v":11676.399284166688}]
[992,{"$f":"(B54-B55)/127.1*27.1","v":726.13852091739454},"февраль",{"$f":"SUM(E57)","v":11676.399284166688},{"$f":"$E$23/$E$6*$E$10","v":11676.399284166688}]
["Итого",{"$f":"SUM(B51:B54)","v":81734.794989166825},"март",{"$f":"SUM(E58)","v":11676.399284166688},{"$f":"$E$23/$E$6*$E$10","v":11676.399284166688}]
["проверка",{"$f":"$E$23*$E$10","v":81734.79498916681},"апрель",{"$f":"SUM(E59)","v":11676.399284166688},{"$f":"$E$23/$E$6*$E$10","v":11676.399284166688}]
[null,{"$f":"B58-B59","v":0},"май",{"$f":"SUM(E60)","v":0}]
[null,null,"Итого",{"$f":"SUM(D51,D55)","v":81734.79498916681},{"$f":"SUM(E51,E55)","v":81734.79498916681}]
[null,null,"проверка",{"$f":"SUM(E61)","v":81734.79498916681},{"$f":"$E$23*$E$10","v":81734.79498916681}]
[null,null,null,{"$f":"D61-D62","v":0}]

{"sheet":"платные услуги (с января)","index":21,"n_rows":48,"n_cols":5,"rows_kept":48,"cut":false,"hidden":false,"merged":[[1,0,1,4],[2,0,2,4],[3,0,3,4],[4,0,4,1],[5,0,5,1],[5,2,5,3],[6,0,6,1],[6,2,6,3],[7,0,7,1],[7,2,7,3],[8,0,8,1],[8,2,8,3],[9,0,9,1],[9,2,9,3],[30,2,30,3],[34,0,34,1],[34,2,34,4]]}
[]
["РАСЧЕТ"]
["цены платной дополнительной образовательной услуги"]
["МБДОУ \"Детский сад № 90 \"Цветик-семицветик\" на 2016-2017 учебный год"]
["в расчете на 1 группу"]
["Период обучения (январь-апрель)",null,"месяц",null,4]
["Число часов (астрономических)",null,"час",null,16]
["Численность обучающихся в группе",null,"чел.",null,10]
["Уровень рентабельности",null,"%",null,0.2]
["Количество групп (справочно)",null,"гр.",null,1]
[]
["№ п/п","Показатели","Единица измерения","Обозначение показателя","Спортивная секция \"Малыши-крепыши\" (обучение элементам спортивных игр)"]
["1.","Затраты, необходимые на выполнение услуги, всего (смета затрат) (п.1.3 + п.1.4 + п.1.5 + п.1.6), в том числе:","руб.","С",{"$f":"E16+E17+E18+E19","v":19163.837604058623}]
["1.1.","Начисленный совокупный доход педагогического персонала, непосредственно оказывающего платные дополнительные образовательные услуги","руб.",null,{"$f":"[18]пред.час.ставка!AB10","v":5758.3643882267088}]
["1.2.","Сумма страховых взносов в государственные внебюджетные фонды по пункту 1.1","руб.",null,{"$f":"E14*0.271","v":1560.5167492094381}]
["1.3.","Затраты на оплату труда, всего (п.1.1 + п.1.2)","руб.","Зот.",{"$f":"E14+E15","v":7318.8811374361467}]
["1.4.","Затраты на приобретение материальных ресурсов, направляемых на обеспечение образовательного процесса и потребляемых в процессе оказания платных дополнительных образовательных услуг","руб.","Змр.",{"$f":"[18]мат.затраты!F11","v":0}]
["1.5.","Сумма начисленной амортизации оборудования, используемого для оказания платной дополнительной образовательной услуги, приобретенного за счет средств от приносящей доход деятельности учреждения","руб.","Аоб.",0]
["1.6.","Накладные расходы, всего (п.1.6.1 + п.1.6.2), из них:","руб.",null,{"$f":"E20+E21","v":11844.956466622478}]
["1.6.1.","Накладные расходы муниципального образовательного учреждения, связанные с содержанием административно-управленческого персонала (Кн. = 0,82)","руб.","Науп.",{"$f":"E16*'[18]Кн АУП'!$E$13","v":6005.9051724342871}]
["1.6.2.","Накладные расходы муниципального образовательного учреждения, связанные с эксплуатацией недвижимого имущества","руб.","Нэксп.",{"$f":"'[18]сод.имущ. '!E19","v":5839.0512941881907}]
["2.","Прибыль","руб.",null,{"$f":"E13*E9","v":3832.7675208117248}]
["3.","Стоимость курса обучения (п.1 + п.2)","руб.",null,{"$f":"E13+E22","v":22996.605124870348}]
["4.","Плата за дополнительную образовательную услугу за одного учащегося:"]
["4.1.","за весь курс обучения","руб.",null,{"$f":"E23/E8","v":2299.6605124870348}]
["4.2.","за месяц (на число месяцев обучения)","руб.",null,{"$f":"E25/E6","v":574.9151281217587}]
["4.3.","за час","руб.",null,{"$f":"E25/E7","v":143.72878203043967}]
[]
[]
["Начальник планово-экономического отдела",null,null,null,"В.В. Гоннова"]
[null,null,"(подпись)"]
["Засядько Н.В."]
["43-72-00*3225"]
[]
["План доходов по доп.КР на 01.12.2016 (в план ФХД 2017)",null,"План доходов помесячно на 01.12.2016"]
[955,{"$f":"$E$16*$E$10+$E$20*$E$10","v":13324.786309870433},2016,{"$f":"SUM(D37:D39)","v":0},{"$f":"SUM(E37:E39)","v":0}]
[981,{"$f":"$E$17*$E$10","v":0},"октябрь",{"$f":"SUM(E37)","v":0}]
[932,{"$f":"$E$21*$E$10","v":5839.0512941881907},"ноябрь",{"$f":"SUM(E38)","v":0}]
["прибыль",{"$f":"$E$22*$E$10","v":3832.7675208117248},"декабрь",0]
[981,{"$f":"B39*0.75","v":2874.5756406087935},2017,{"$f":"SUM(D41:D45)","v":22996.605124870348},{"$f":"SUM(E41:E45)","v":22996.605124870348}]
[991,{"$f":"B39-B40-B42","v":753.88818269310093},"январь",{"$f":"SUM(E41)","v":5749.151281217587},{"$f":"$E$23/$E$6*$E$10","v":5749.151281217587}]
[992,{"$f":"(B39-B40)/127.1*27.1","v":204.30369750983039},"февраль",{"$f":"SUM(E42)","v":5749.151281217587},{"$f":"$E$23/$E$6*$E$10","v":5749.151281217587}]
["Итого",{"$f":"SUM(B36:B39)","v":22996.605124870348},"март",{"$f":"SUM(E43)","v":5749.151281217587},{"$f":"$E$23/$E$6*$E$10","v":5749.151281217587}]
["проверка",{"$f":"$E$23*$E$10","v":22996.605124870348},"апрель",{"$f":"SUM(E44)","v":5749.151281217587},{"$f":"$E$23/$E$6*$E$10","v":5749.151281217587}]
[null,{"$f":"B43-B44","v":0},"май",{"$f":"SUM(E45)","v":0}]
[null,null,"Итого",{"$f":"SUM(D36,D40)","v":22996.605124870348},{"$f":"SUM(E36,E40)","v":22996.605124870348}]
[null,null,"проверка",{"$f":"SUM(E46)","v":22996.605124870348},{"$f":"$E$23*$E$10","v":22996.605124870348}]
[null,null,null,{"$f":"D46-D47","v":0}]

{"sheet":"Разв. дошк. обр-я","index":22,"n_rows":12,"n_cols":13,"rows_kept":12,"cut":false,"hidden":false,"merged":[[5,0,5,12],[7,0,7,1],[0,0,1,12],[2,0,3,0],[2,1,3,1],[2,2,3,2],[2,3,2,5],[2,6,2,8],[2,9,2,11],[2,12,3,12]]}
["Расчет средств на реализацию мероприятий Бывшей ДМЦП \"Развитие дошкольного образования\""]
[]
["№\nп\\п","Программные мероприятия, \nобеспечивающие выполнение задачи","Ед.изм.","2017 год",null,null,"2018 год",null,null,"2019 год",null,null,"КБК"]
[null,null,null,"Натуральный показатель","Средняя цена 1 ед. категории, руб.","Денежный показатель, \nруб.","Натуральный показатель","Средняя цена 1 ед. категории, руб.","Денежный показатель, \nруб.","Натуральный показатель","Средняя цена 1 ед. категории, руб.","Денежный показатель, \nруб."]
[1,2,3,4,5,6,7,8,9,10,11,12,13]
["Мероприятие 1.1.1 Организация предоставления общедоступного и бесплатного дошкольного образования, создание условий для осуществления присмотра и ухода за детьми"]
[null,"в т.ч."]
["установка безопасного резинового покрытия ",null,null,{"$f":"SUM(D10:D10)","v":16},null,{"$f":"SUM(F10:F10)","v":102400},{"$f":"SUM(G10:G10)","v":16},null,{"$f":"SUM(I10:I10)","v":102400},{"$f":"SUM(J10:J10)","v":0},null,{"$f":"SUM(L10:L10)","v":0}]
[null,"в т.ч. "]
[null,"МБДОУ \"Детский сад № 90\"","м кв.",16,6400,{"$f":"D10*E10","v":102400},16,6400,{"$f":"G10*H10","v":102400},null,null,{"$f":"J10*K10","v":0},"КБК 06507010210101110244"]
[]
[null,"Бойко, тел. 43 72 00*3221"]

{"sheet":"Энергосбережение","index":23,"n_rows":9,"n_cols":14,"rows_kept":9,"cut":false,"hidden":false,"merged":[[0,1,0,13],[1,1,3,1],[1,2,1,7],[1,8,1,13],[2,2,2,3],[2,4,2,5],[2,6,2,7],[2,8,2,9],[2,10,2,11],[2,12,2,13]]}
[null,"Энергосбережение на 2017-2019 гг."]
["КБК","Наименование учреждения","Модернизация узлов учета ТЭР и воды с установкой приборов учета на горячую воду, замена расходомеров ВЭПС-ТИ, КМ, РМ на новую модификацию, доп.КР 941 (КБК 06507010440000120244)",null,null,null,null,null,"Установка теплообменников на ГВС на муниципальных объектах, \nдоп.КР 947 (КБК 06507010440000150244)"]
[null,null,2017,null,2018,null,2019,null,2017,null,2018,null,2019]
[null,null,"кол-во, ед.","сумма, руб.","кол-во, ед.","сумма, руб.","кол-во, ед.","сумма, руб.","кол-во, ед.","сумма, руб.","кол-во, ед.","сумма, руб.","кол-во, ед.","сумма, руб."]
[null,"МБДОУ № 90",null,null,1,119600,1,119600,null,null,1,650000]
[]
[]
[null,"Бойко Л.А."]
[null,"43-72-00*3225"]